{"text_format":"1","workbook":"xlsx","n_sheets":107,"sheets":["Simulateur Couverts","Trefle_pipolina_couv","Vesce_pourpre_couv","Vesce erigée_couv","Vesce commune_couv (2)","Trèfle_Violet_couv","Trèfle_Alexandrie_couv","Trèfle_blanc_couv","Tournesol_couv","Sarrasin_couv","Pois_proteagineux_couv","Pois_fourrager_couv","Niger_couv","Luzerne_couv","Lupin_bleu_couv","Lotier_couv","Lin_couv","Lentille_couv","Gesse_couv","Fenugrec_couv","Feverole_couv","Cameline_couv","Stratégies_herbicides","Composition_Colza","Caractéristiques_couverts_colza","Paramètres_Couverts","Aphano","Feuil1","Feuil3","Conseil_semis","Conseil_principes","Conseil_colza_asso","Conseil_colza_CP","BDD_colza","Acceuil","BDD","Aphano (2)","Composition","Indicateurs_Technique","Parametres_couverts (2)","Parametres_couverts","Culture-suivante_BDD","Choix_culture_suivante","Feuil4","Vesce N","Vesce V","Vesce P","Vesce C","Vesce E","Trefle V","Triticale","Trefle I","Trefle P","Trefle M","Trefle A","Trefle B","Mauve","Tournesol","Sorgho","Seigle Fou","Seigle For","Sarrasin","Sainfoin","RGI","Radis F","Radis C","Pois P","Pois F","Phacélie","Niger","Moutarde Abyssinie","Moutarde brune","Carthame","Moutarde blanche","Moha","Minette","Millet Perlé","Melilot","Luzerne","Lotier corniculer","Lin","Lentille","Gesse","Feverole","Fenugrec","Colza","Chia","Cameline","Avoine fourragere","Avoine bresilienne","Alpistre des canaries","Notice_VF","Notice","Feuil6","Feuil7","Feuil8","Feuil9","Simulation_Economique","Lexique_Melange","Indicateurs_Technique (3)","Aide _au_choix","Implantation","Choix_des_couvert","Choix_engrais","Choix_Herbi","BDD_Travaildusol","Feuil2"],"not_rendered":{"charts":21,"images":106,"macros":1,"external_links":0,"defined_names":5,"comments":0,"pivot_tables":0},"unopened":[],"bounds":{"document_bytes":16777216,"sheet_cells":100000,"rows_first":2000,"rows_last":500,"rows_between":2000,"halvings":0,"cell_chars":16384,"cell_head_chars":4096},"cells_cut":0,"cells_raw":0,"read":"whole","date_system":"1900"}

{"sheet":"Simulateur Couverts","index":0,"n_rows":58,"n_cols":53,"rows_kept":58,"cut":false,"hidden":false,"merged":[[0,11,0,21],[3,16,3,21],[7,0,7,1],[7,2,7,3],[7,4,7,5],[7,6,7,7]]}
[null,null,null,null,null,null,null,null,null,null,null,"INDICATEURS TECHNIQUES DU MELANGE CHOISIS"]
[]
[]
[null,null,null,null,null,null,null,null,null,null,null,null,null,null,null,null,"COMPLEMENTARITE DES COUVERTS"]
[]
[]
[]
["CHOISIR SES COUVERTS",null,"REFERENCES",null,"DOSE CONSEILLEE",null,"AJUSTER VOS DOSES",null,null,null,null,null,null,null,null,null,"%",null,null,null,null,null,null,null,null,null,null,null,null,null,null,null,null,null,null,null,null,null,"Conseillé",null,null,null,null,"Ajusté",null,null,null,"PMG","NB pieds Conseillé","NB ajusté"]
[null,"Couvert","Dose unitaire (kg/ha)","Coût unitaire (€/kg)","Dose conseillée (kg/ha)","Coût (€/ha)","Dose ajustée (kg/ha)","Coût (€/ha)","Type","Hauteur","Racine",null,null,null,null,null,{"$f":"E53","v":0},null,null,null,null,null,null,null,"Conseillé Biomasse","Dose","Note","Conseillé Azote","Dose","Note","Ajusté Biomasse","Dose","Note","Ajusté max","Ajustée Azote","Dose","Note",null,null,"Graminées","Legumineuse","Crucifères","Autres","Graminées","Legumineuse","Crucifères","Autres",null,null,null,null,"Couvert","NB Pieds"]
[1,"Avoine bresilienne",{"$f":"IF(B10=\"\",\"\",VLOOKUP(B10,Feuil1!$A$5:$I$47,9,0))","v":35},{"$f":"IF(C10=\"\",\"\",VLOOKUP(B10,Feuil1!$A$5:$I$47,8,0))","v":1.7},{"$f":"IF(B10=\"\",\"\",C10/$B$25)","v":35},{"$f":"IF(B10=\"\",\"\",E10*D10)","v":59.5},50,{"$f":"IF(B10=\"\",\"\",G10*D10)","v":85},{"$f":"IF(B10=\"\",\"\",VLOOKUP(B10,Feuil1!$A$5:$I$47,2,0))","v":"graminée"},{"$f":"IF(B10=\"\",\"\",VLOOKUP(B10,Feuil1!$A$5:$I$47,3,0))","v":2},{"$f":"IF(B10=\"\",\"\",VLOOKUP(B10,Feuil1!$A$5:$I$47,4,0))","v":2},null,null,null,null,null,null,null,null,null,null,null,null,null,{"$f":"IF(B10=\"\",\"\",VLOOKUP(B10,Feuil1!$A$5:$I$47,5,0))","v":1.8},{"$f":"E10","v":35},{"$f":"IF(B10=\"\", \"\", Y10*Z10)","v":63},{"$f":"IF(B10=\"\",\"\",VLOOKUP(B10,Feuil1!$A$5:$I$47,7,0))","v":2.5},{"$f":"E10","v":35},{"$f":"IF(B10=\"\", \"\", AB10*AC10)","v":87.5},{"$f":"IF(B10=\"\", \"\", G10*Y10)","v":90},{"$f":"G10","v":50},{"$f":"IF(B10=\"\", \"\", AF10*Y10)","v":90},{"$f":"IF(B10=\"\", \"\", G10*4)","v":200},{"$f":"IF(B10=\"\", \"\", G10*AB10)","v":125},{"$f":"AF10","v":50},null,null,{"$f":"IF(B10=\"\",\"\",VLOOKUP(B10,Feuil1!$A$5:$I$47,2,0))","v":"graminée"},{"$f":"IF(AM10=\"graminée\", E10, \"\")","v":35},{"$f":"IF(AM10=\"Légumineuse\", E10, \"\")","v":""},{"$f":"IF(AM10=\"Crucifère\", E10, \"\")","v":""},{"$f":"IF(SUM(AN10:AP10)>0, \"\", E10)","v":""},{"$f":"IF(AM10=\"graminée\", G10, \"\")","v":50},{"$f":"IF(AM10=\"Légumineuse\", G10, \"\")","v":""},{"$f":"IF(AM10=\"Crucifère\", G10, \"\")","v":""},{"$f":"IF(SUM(AR10:AT10)>0, \"\", G10)","v":""},{"$f":"IF(B10=\"\",\"\",VLOOKUP(B10,Feuil1!$A$5:$J$47,10,0))","v":35},{"$f":"IF(B10=\"\", \"\", (E10*100)/AV10)","v":100},{"$f":"IF(B10= \"\", \"\", (G10*100)/AV10)","v":142.85714285714286},null,{"$f":"IF(B10=\"\", \"\", B10)","v":"Avoine bresilienne"},{"$f":"IF($Y$28=TRUE, AX10, AW10)","v":142.85714285714286}]
[2,null,{"$f":"IF(B11=\"\",\"\",VLOOKUP(B11,Feuil1!$A$5:$I$47,9,0))","v":""},{"$f":"IF(C11=\"\",\"\",VLOOKUP(B11,Feuil1!$A$5:$I$47,8,0))","v":""},{"$f":"IF(B11=\"\",\"\",C11/$B$25)","v":""},{"$f":"IF(B11=\"\",\"\",E11*D11)","v":""},null,{"$f":"IF(B11=\"\",\"\",G11*D11)","v":""},{"$f":"IF(B11=\"\",\"\",VLOOKUP(B11,Feuil1!$A$5:$I$47,2,0))","v":""},{"$f":"IF(B11=\"\",\"\",VLOOKUP(B11,Feuil1!$A$5:$I$47,3,0))","v":""},{"$f":"IF(B11=\"\",\"\",VLOOKUP(B11,Feuil1!$A$5:$I$47,4,0))","v":""},null,null,null,null,null,null,null,null,null,null,null,null,null,{"$f":"IF(B11=\"\",\"\",VLOOKUP(B11,Feuil1!$A$5:$I$47,5,0))","v":""},{"$f":"E11","v":""},{"$f":"IF(B11=\"\", \"\", Y11*Z11)","v":""},{"$f":"IF(B11=\"\",\"\",VLOOKUP(B11,Feuil1!$A$5:$I$47,7,0))","v":""},{"$f":"E11","v":""},{"$f":"IF(B11=\"\", \"\", AB11*AC11)","v":""},{"$f":"IF(B11=\"\", \"\", G11*Y11)","v":""},{"$f":"G11","v":0},{"$f":"IF(B11=\"\", \"\", AF11*Y11)","v":""},{"$f":"IF(B11=\"\", \"\", G11*4)","v":""},"",{"$f":"AF11","v":0},null,null,{"$f":"IF(B11=\"\",\"\",VLOOKUP(B11,Feuil1!$A$5:$I$47,2,0))","v":""},{"$f":"IF(AM11=\"graminée\", E11, \"\")","v":""},{"$f":"IF(AM11=\"Légumineuse\", E11, \"\")","v":""},{"$f":"IF(AM11=\"Crucifère\", E11, \"\")","v":""},{"$f":"IF(SUM(AN11:AP11)>0, \"\", E11)","v":""},{"$f":"IF(AM11=\"graminée\", G11, \"\")","v":""},{"$f":"IF(AM11=\"Légumineuse\", G11, \"\")","v":""},{"$f":"IF(AM11=\"Crucifère\", G11, \"\")","v":""},{"$f":"IF(SUM(AR11:AT11)>0, \"\", G11)","v":0},{"$f":"IF(B11=\"\",\"\",VLOOKUP(B11,Feuil1!$A$5:$J$47,10,0))","v":""},{"$f":"IF(B11=\"\", \"\", (E11*100)/AV11)","v":""},{"$f":"IF(B11= \"\", \"\", (G11*100)/AV11)","v":""},null,{"$f":"IF(B11=\"\", \"\", B11)","v":""},{"$f":"IF($Y$28=TRUE, AX11, AW11)","v":""}]
[3,null,{"$f":"IF(B12=\"\",\"\",VLOOKUP(B12,Feuil1!$A$5:$I$47,9,0))","v":""},{"$f":"IF(C12=\"\",\"\",VLOOKUP(B12,Feuil1!$A$5:$I$47,8,0))","v":""},"","",null,"",{"$f":"IF(B12=\"\",\"\",VLOOKUP(B12,Feuil1!$A$5:$I$47,2,0))","v":""},{"$f":"IF(B12=\"\",\"\",VLOOKUP(B12,Feuil1!$A$5:$I$47,3,0))","v":""},{"$f":"IF(B12=\"\",\"\",VLOOKUP(B12,Feuil1!$A$5:$I$47,4,0))","v":""},null,null,null,null,null,null,null,null,null,null,null,null,null,{"$f":"IF(B12=\"\",\"\",VLOOKUP(B12,Feuil1!$A$5:$I$47,5,0))","v":""},"","",{"$f":"IF(B12=\"\",\"\",VLOOKUP(B12,Feuil1!$A$5:$I$47,7,0))","v":""},"","","",0,"","","",0,null,null,{"$f":"IF(B12=\"\",\"\",VLOOKUP(B12,Feuil1!$A$5:$I$47,2,0))","v":""},"","","","","","","",0,{"$f":"IF(B12=\"\",\"\",VLOOKUP(B12,Feuil1!$A$5:$J$47,10,0))","v":""},"","",null,"",""]
[4,null,{"$f":"IF(B13=\"\",\"\",VLOOKUP(B13,Feuil1!$A$5:$I$47,9,0))","v":""},{"$f":"IF(C13=\"\",\"\",VLOOKUP(B13,Feuil1!$A$5:$I$47,8,0))","v":""},"","",null,"",{"$f":"IF(B13=\"\",\"\",VLOOKUP(B13,Feuil1!$A$5:$I$47,2,0))","v":""},{"$f":"IF(B13=\"\",\"\",VLOOKUP(B13,Feuil1!$A$5:$I$47,3,0))","v":""},{"$f":"IF(B13=\"\",\"\",VLOOKUP(B13,Feuil1!$A$5:$I$47,4,0))","v":""},null,null,null,null,null,{"$f":"E52","v":100},null,null,null,null,null,null,null,{"$f":"IF(B13=\"\",\"\",VLOOKUP(B13,Feuil1!$A$5:$I$47,5,0))","v":""},"","",{"$f":"IF(B13=\"\",\"\",VLOOKUP(B13,Feuil1!$A$5:$I$47,7,0))","v":""},"","","",0,"","","",0,null,null,{"$f":"IF(B13=\"\",\"\",VLOOKUP(B13,Feuil1!$A$5:$I$47,2,0))","v":""},"","","","","","","",0,{"$f":"IF(B13=\"\",\"\",VLOOKUP(B13,Feuil1!$A$5:$J$47,10,0))","v":""},"","",null,"",""]
[5,null,{"$f":"IF(B14=\"\",\"\",VLOOKUP(B14,Feuil1!$A$5:$I$47,9,0))","v":""},{"$f":"IF(C14=\"\",\"\",VLOOKUP(B14,Feuil1!$A$5:$I$47,8,0))","v":""},"","",null,"",{"$f":"IF(B14=\"\",\"\",VLOOKUP(B14,Feuil1!$A$5:$I$47,2,0))","v":""},{"$f":"IF(B14=\"\",\"\",VLOOKUP(B14,Feuil1!$A$5:$I$47,3,0))","v":""},{"$f":"IF(B14=\"\",\"\",VLOOKUP(B14,Feuil1!$A$5:$I$47,4,0))","v":""},null,null,null,null,null,null,null,null,null,null,null,null,null,{"$f":"IF(B14=\"\",\"\",VLOOKUP(B14,Feuil1!$A$5:$I$47,5,0))","v":""},"","",{"$f":"IF(B14=\"\",\"\",VLOOKUP(B14,Feuil1!$A$5:$I$47,7,0))","v":""},"","","",0,"","","",0,null,null,{"$f":"IF(B14=\"\",\"\",VLOOKUP(B14,Feuil1!$A$5:$I$47,2,0))","v":""},"","","","","","","",0,{"$f":"IF(B14=\"\",\"\",VLOOKUP(B14,Feuil1!$A$5:$J$47,10,0))","v":""},"","",null,"",""]
[6,null,{"$f":"IF(B15=\"\",\"\",VLOOKUP(B15,Feuil1!$A$5:$I$47,9,0))","v":""},{"$f":"IF(C15=\"\",\"\",VLOOKUP(B15,Feuil1!$A$5:$I$47,8,0))","v":""},"","",null,"",{"$f":"IF(B15=\"\",\"\",VLOOKUP(B15,Feuil1!$A$5:$I$47,2,0))","v":""},{"$f":"IF(B15=\"\",\"\",VLOOKUP(B15,Feuil1!$A$5:$I$47,3,0))","v":""},{"$f":"IF(B15=\"\",\"\",VLOOKUP(B15,Feuil1!$A$5:$I$47,4,0))","v":""},null,null,null,null,null,null,null,null,null,null,null,null,null,{"$f":"IF(B15=\"\",\"\",VLOOKUP(B15,Feuil1!$A$5:$I$47,5,0))","v":""},"","",{"$f":"IF(B15=\"\",\"\",VLOOKUP(B15,Feuil1!$A$5:$I$47,7,0))","v":""},"","","",0,"","","",0,null,null,{"$f":"IF(B15=\"\",\"\",VLOOKUP(B15,Feuil1!$A$5:$I$47,2,0))","v":""},"","","","","","","",0,{"$f":"IF(B15=\"\",\"\",VLOOKUP(B15,Feuil1!$A$5:$J$47,10,0))","v":""},"","",null,"",""]
[7,null,{"$f":"IF(B16=\"\",\"\",VLOOKUP(B16,Feuil1!$A$5:$I$47,9,0))","v":""},{"$f":"IF(C16=\"\",\"\",VLOOKUP(B16,Feuil1!$A$5:$I$47,8,0))","v":""},"","",null,"",{"$f":"IF(B16=\"\",\"\",VLOOKUP(B16,Feuil1!$A$5:$I$47,2,0))","v":""},{"$f":"IF(B16=\"\",\"\",VLOOKUP(B16,Feuil1!$A$5:$I$47,3,0))","v":""},{"$f":"IF(B16=\"\",\"\",VLOOKUP(B16,Feuil1!$A$5:$I$47,4,0))","v":""},null,null,null,null,null,{"$f":"E51","v":0},null,null,null,null,null,null,null,{"$f":"IF(B16=\"\",\"\",VLOOKUP(B16,Feuil1!$A$5:$I$47,5,0))","v":""},"","",{"$f":"IF(B16=\"\",\"\",VLOOKUP(B16,Feuil1!$A$5:$I$47,7,0))","v":""},"","","",0,"","","",0,null,null,{"$f":"IF(B16=\"\",\"\",VLOOKUP(B16,Feuil1!$A$5:$I$47,2,0))","v":""},"","","","","","","",0,{"$f":"IF(B16=\"\",\"\",VLOOKUP(B16,Feuil1!$A$5:$J$47,10,0))","v":""},"","",null,"",""]
[8,null,{"$f":"IF(B17=\"\",\"\",VLOOKUP(B17,Feuil1!$A$5:$I$47,9,0))","v":""},{"$f":"IF(C17=\"\",\"\",VLOOKUP(B17,Feuil1!$A$5:$I$47,8,0))","v":""},"","",null,"",{"$f":"IF(B17=\"\",\"\",VLOOKUP(B17,Feuil1!$A$5:$I$47,2,0))","v":""},{"$f":"IF(B17=\"\",\"\",VLOOKUP(B17,Feuil1!$A$5:$I$47,3,0))","v":""},{"$f":"IF(B17=\"\",\"\",VLOOKUP(B17,Feuil1!$A$5:$I$47,4,0))","v":""},null,null,null,null,null,null,null,null,null,null,null,null,null,{"$f":"IF(B17=\"\",\"\",VLOOKUP(B17,Feuil1!$A$5:$I$47,5,0))","v":""},"","",{"$f":"IF(B17=\"\",\"\",VLOOKUP(B17,Feuil1!$A$5:$I$47,7,0))","v":""},"","","",0,"","","",0,null,null,{"$f":"IF(B17=\"\",\"\",VLOOKUP(B17,Feuil1!$A$5:$I$47,2,0))","v":""},"","","","","","","",0,{"$f":"IF(B17=\"\",\"\",VLOOKUP(B17,Feuil1!$A$5:$J$47,10,0))","v":""},"","",null,"",""]
[9,null,{"$f":"IF(B18=\"\",\"\",VLOOKUP(B18,Feuil1!$A$5:$I$47,9,0))","v":""},{"$f":"IF(C18=\"\",\"\",VLOOKUP(B18,Feuil1!$A$5:$I$47,8,0))","v":""},"","",null,"",{"$f":"IF(B18=\"\",\"\",VLOOKUP(B18,Feuil1!$A$5:$I$47,2,0))","v":""},{"$f":"IF(B18=\"\",\"\",VLOOKUP(B18,Feuil1!$A$5:$I$47,3,0))","v":""},{"$f":"IF(B18=\"\",\"\",VLOOKUP(B18,Feuil1!$A$5:$I$47,4,0))","v":""},null,null,null,null,null,{"$f":"E56","v":0},null,null,null,null,null,null,null,{"$f":"IF(B18=\"\",\"\",VLOOKUP(B18,Feuil1!$A$5:$I$47,5,0))","v":""},"","",{"$f":"IF(B18=\"\",\"\",VLOOKUP(B18,Feuil1!$A$5:$I$47,7,0))","v":""},"","","",0,"","","",0,null,null,{"$f":"IF(B18=\"\",\"\",VLOOKUP(B18,Feuil1!$A$5:$I$47,2,0))","v":""},"","","","","","","",0,{"$f":"IF(B18=\"\",\"\",VLOOKUP(B18,Feuil1!$A$5:$J$47,10,0))","v":""},"","",null,"",""]
[10,null,{"$f":"IF(B19=\"\",\"\",VLOOKUP(B19,Feuil1!$A$5:$I$47,9,0))","v":""},{"$f":"IF(C19=\"\",\"\",VLOOKUP(B19,Feuil1!$A$5:$I$47,8,0))","v":""},"","",null,"",{"$f":"IF(B19=\"\",\"\",VLOOKUP(B19,Feuil1!$A$5:$I$47,2,0))","v":""},{"$f":"IF(B19=\"\",\"\",VLOOKUP(B19,Feuil1!$A$5:$I$47,3,0))","v":""},{"$f":"IF(B19=\"\",\"\",VLOOKUP(B19,Feuil1!$A$5:$I$47,4,0))","v":""},null,null,null,null,null,null,null,null,null,null,null,null,null,{"$f":"IF(B19=\"\",\"\",VLOOKUP(B19,Feuil1!$A$5:$I$47,5,0))","v":""},"","",{"$f":"IF(B19=\"\",\"\",VLOOKUP(B19,Feuil1!$A$5:$I$47,7,0))","v":""},"","","",0,"","","",0,null,null,{"$f":"IF(B19=\"\",\"\",VLOOKUP(B19,Feuil1!$A$5:$I$47,2,0))","v":""},"","","","","","","",0,{"$f":"IF(B19=\"\",\"\",VLOOKUP(B19,Feuil1!$A$5:$J$47,10,0))","v":""},"","",null,"",""]
[11,null,{"$f":"IF(B20=\"\",\"\",VLOOKUP(B20,Feuil1!$A$5:$I$47,9,0))","v":""},{"$f":"IF(C20=\"\",\"\",VLOOKUP(B20,Feuil1!$A$5:$I$47,8,0))","v":""},"","",null,"",{"$f":"IF(B20=\"\",\"\",VLOOKUP(B20,Feuil1!$A$5:$I$47,2,0))","v":""},{"$f":"IF(B20=\"\",\"\",VLOOKUP(B20,Feuil1!$A$5:$I$47,3,0))","v":""},{"$f":"IF(B20=\"\",\"\",VLOOKUP(B20,Feuil1!$A$5:$I$47,4,0))","v":""},null,null,null,null,null,null,null,null,null,null,null,null,null,{"$f":"IF(B20=\"\",\"\",VLOOKUP(B20,Feuil1!$A$5:$I$47,5,0))","v":""},"","",{"$f":"IF(B20=\"\",\"\",VLOOKUP(B20,Feuil1!$A$5:$I$47,7,0))","v":""},"","","",0,"","","",0,null,null,{"$f":"IF(B20=\"\",\"\",VLOOKUP(B20,Feuil1!$A$5:$I$47,2,0))","v":""},"","","","","","","",0,{"$f":"IF(B20=\"\",\"\",VLOOKUP(B20,Feuil1!$A$5:$J$47,10,0))","v":""},"","",null,"",""]
[12,null,{"$f":"IF(B21=\"\",\"\",VLOOKUP(B21,Feuil1!$A$5:$I$47,9,0))","v":""},{"$f":"IF(C21=\"\",\"\",VLOOKUP(B21,Feuil1!$A$5:$I$47,8,0))","v":""},"","",null,"",{"$f":"IF(B21=\"\",\"\",VLOOKUP(B21,Feuil1!$A$5:$I$47,2,0))","v":""},{"$f":"IF(B21=\"\",\"\",VLOOKUP(B21,Feuil1!$A$5:$I$47,3,0))","v":""},{"$f":"IF(B21=\"\",\"\",VLOOKUP(B21,Feuil1!$A$5:$I$47,4,0))","v":""},null,null,null,null,null,{"$f":"E57","v":100},null,null,null,null,null,null,null,{"$f":"IF(B21=\"\",\"\",VLOOKUP(B21,Feuil1!$A$5:$I$47,5,0))","v":""},"","",{"$f":"IF(B21=\"\",\"\",VLOOKUP(B21,Feuil1!$A$5:$I$47,7,0))","v":""},"","","",0,"","","",0,null,null,{"$f":"IF(B21=\"\",\"\",VLOOKUP(B21,Feuil1!$A$5:$I$47,2,0))","v":""},"","","","","","","",0,{"$f":"IF(B21=\"\",\"\",VLOOKUP(B21,Feuil1!$A$5:$J$47,10,0))","v":""},"","",null,"",""]
[13,null,{"$f":"IF(B22=\"\",\"\",VLOOKUP(B22,Feuil1!$A$5:$I$47,9,0))","v":""},{"$f":"IF(C22=\"\",\"\",VLOOKUP(B22,Feuil1!$A$5:$I$47,8,0))","v":""},"","",null,"",{"$f":"IF(B22=\"\",\"\",VLOOKUP(B22,Feuil1!$A$5:$I$47,2,0))","v":""},{"$f":"IF(B22=\"\",\"\",VLOOKUP(B22,Feuil1!$A$5:$I$47,3,0))","v":""},{"$f":"IF(B22=\"\",\"\",VLOOKUP(B22,Feuil1!$A$5:$I$47,4,0))","v":""},null,null,null,null,null,null,null,null,null,null,null,null,null,{"$f":"IF(B22=\"\",\"\",VLOOKUP(B22,Feuil1!$A$5:$I$47,5,0))","v":""},"","",{"$f":"IF(B22=\"\",\"\",VLOOKUP(B22,Feuil1!$A$5:$I$47,7,0))","v":""},"","","",0,"","","",0,null,null,{"$f":"IF(B22=\"\",\"\",VLOOKUP(B22,Feuil1!$A$5:$I$47,2,0))","v":""},"","","","","","","",0,{"$f":"IF(B22=\"\",\"\",VLOOKUP(B22,Feuil1!$A$5:$J$47,10,0))","v":""},"","",null,"",""]
[14,null,{"$f":"IF(B23=\"\",\"\",VLOOKUP(B23,Feuil1!$A$5:$I$47,9,0))","v":""},{"$f":"IF(C23=\"\",\"\",VLOOKUP(B23,Feuil1!$A$5:$I$47,8,0))","v":""},"","",null,"",{"$f":"IF(B23=\"\",\"\",VLOOKUP(B23,Feuil1!$A$5:$I$47,2,0))","v":""},{"$f":"IF(B23=\"\",\"\",VLOOKUP(B23,Feuil1!$A$5:$I$47,3,0))","v":""},{"$f":"IF(B23=\"\",\"\",VLOOKUP(B23,Feuil1!$A$5:$I$47,4,0))","v":""},null,null,null,null,null,{"$f":"E58","v":0},null,null,null,null,null,null,null,{"$f":"IF(B23=\"\",\"\",VLOOKUP(B23,Feuil1!$A$5:$I$47,5,0))","v":""},"","",{"$f":"IF(B23=\"\",\"\",VLOOKUP(B23,Feuil1!$A$5:$I$47,7,0))","v":""},"","","",0,"","","",0,null,null,{"$f":"IF(B23=\"\",\"\",VLOOKUP(B23,Feuil1!$A$5:$I$47,2,0))","v":""},"","","","","","","",0,{"$f":"IF(B23=\"\",\"\",VLOOKUP(B23,Feuil1!$A$5:$J$47,10,0))","v":""},"","",null,"",""]
[15,null,{"$f":"IF(B24=\"\",\"\",VLOOKUP(B24,Feuil1!$A$5:$I$47,9,0))","v":""},{"$f":"IF(C24=\"\",\"\",VLOOKUP(B24,Feuil1!$A$5:$I$47,8,0))","v":""},"","",null,"",{"$f":"IF(B24=\"\",\"\",VLOOKUP(B24,Feuil1!$A$5:$I$47,2,0))","v":""},{"$f":"IF(B24=\"\",\"\",VLOOKUP(B24,Feuil1!$A$5:$I$47,3,0))","v":""},{"$f":"IF(B24=\"\",\"\",VLOOKUP(B24,Feuil1!$A$5:$I$47,4,0))","v":""},null,null,null,null,null,null,null,null,null,null,null,null,null,{"$f":"IF(B24=\"\",\"\",VLOOKUP(B24,Feuil1!$A$5:$I$47,5,0))","v":""},"","",{"$f":"IF(B24=\"\",\"\",VLOOKUP(B24,Feuil1!$A$5:$I$47,7,0))","v":""},"","","",0,"","","",0,null,null,{"$f":"IF(B24=\"\",\"\",VLOOKUP(B24,Feuil1!$A$5:$I$47,2,0))","v":""},"","","","","","","",0,{"$f":"IF(B24=\"\",\"\",VLOOKUP(B24,Feuil1!$A$5:$J$47,10,0))","v":""},"","",null,"",""]
[null,{"$f":"IF(B10=\"\",1, COUNTA(B10:B24))","v":1},null,"TOTAL",{"$f":"SUM(E10:E24)","v":35},{"$f":"SUM(F10:F24)","v":59.5},{"$f":"SUM(G10:G24)","v":50},85,null,null,null,null,null,null,null,null,null,null,null,null,null,null,null,"Total",{"$f":"SUM(Y10:Y24)","v":1.8},{"$f":"SUM(Z10:Z24)","v":35},63,{"$f":"SUM(AB10:AB24)","v":2.5},{"$f":"SUM(AC10:AC24)","v":35},87.5,90,null,{"$f":"SUM(AG10:AG24)","v":90},200,{"$f":"SUM(AI10:AI24)","v":125},null,null,null,"SOMME",{"$f":"SUM(AN10:AN24)","v":35},{"$f":"SUM(AO10:AO24)","v":0},0,0,50,0,0,0]
[null,null,null,null,null,null,null,null,null,null,null,null,null,null,null,null,null,null,null,null,null,null,null,"Maximum",{"$f":"4*$B$25","v":4},200,null,{"$f":"4*$B$25","v":4},200,null,200,null,null,null,{"$f":"G25*4","v":200},null,null,null,"Maximum",{"$f":"$E$25","v":35},{"$f":"$E$25","v":35},35,35,{"$f":"$G$25","v":50},{"$f":"$G$25","v":50},50,50]
[null,null,null,null,null,null,null,null,null,null,null,null,null,null,null,null,null,null,null,null,null,null,null,"%",{"$f":"(Y25*100)/Y26","v":45},null,{"$f":"IF(AA25<Z26, (AA25*100)/Z26, 99)","v":31.5},{"$f":"(AB25*100)/AB26","v":62.5},null,{"$f":"IF(AD25<AC26, IF(B10=\"\", 0, (AD25*100)/AC26), 99)","v":43.75},{"$f":"(AE25*100)/AH25","v":45},null,{"$f":"IF(AG25<AH25, (AG25*100)/AE26, 99)","v":45},null,{"$f":"IF(AI25<AH25, (AI25*100)/AH25, 99)","v":62.5},null,null,null,"%",{"$f":"(AN25*100)/AN26","v":100},{"$f":"(AO25*100)/AO26","v":0},0,0,100,0,0,0]
[null,null,null,null,null,null,null,null,null,null,null,null,null,null,null,null,null,null,null,null,null,null,null,null,true]
[]
[]
[]
[]
[]
[]
[]
[]
[]
[]
[]
[]
[]
[]
[]
[null,null,"TYPE","NB","%","NB conseillé","NB Ajusté"]
[null,null,"Graminées",{"$f":"IF($Y$28=FALSE, F45,G45)","v":100},{"$f":"D45","v":100},{"$f":"AN27","v":100},{"$f":"AR27","v":100}]
[null,null,"Légumineuses",{"$f":"IF($Y$28=FALSE, F46,G46)","v":0},{"$f":"D46","v":0},{"$f":"AO27","v":0},{"$f":"AS27","v":0}]
[null,null,"Crucifères",{"$f":"IF($Y$28=FALSE, F47,G47)","v":0},0,{"$f":"AP27","v":0},{"$f":"AT27","v":0}]
[null,null,"Autres",{"$f":"IF($Y$28=FALSE, F48,G48)","v":0},0,{"$f":"AQ27","v":0},{"$f":"AU27","v":0}]
[]
[null,null,"HAUTEUR","NB","%"]
[null,null,"Basse",{"$f":"COUNTIFS($J$10:$J$24,\"1\")","v":0},{"$f":"(D51*100)/$B$25","v":0}]
[null,null,"Intermédiaire",{"$f":"COUNTIFS($J$10:$J$24,\"2\")","v":1},{"$f":"(D52*100)/$B$25","v":100}]
[null,null,"Haute",{"$f":"COUNTIFS($J$10:$J$24,\"3\")","v":0},0]
[]
[null,null,"RACINES","NB","%"]
[null,null,"Superficiel",{"$f":"COUNTIFS($K$10:$K$24,\"1\")","v":0},{"$f":"(D56*100)/$B$25","v":0}]
[null,null,"Intermédiaire",{"$f":"COUNTIFS($K$10:$K$24,\"2\")","v":1},{"$f":"(D57*100)/$B$25","v":100}]
[null,null,"Profonde",{"$f":"COUNTIFS($K$10:$K$24,\"3\")","v":0},0]

{"sheet":"Trefle_pipolina_couv","index":1,"n_rows":27,"n_cols":26,"rows_kept":27,"cut":false,"hidden":false,"merged":[[1,6,1,14],[4,6,6,14],[12,0,24,4]]}
[]
[null,null,null,null,null,null,"CARACTERISTIQUES DES COUVERTS"]
[]
[]
[null,null,null,null,null,null,"TREFLE PIPOLINA"]
[]
[]
[null,null,null,null,null,null,null,null,null,null,null,null,"Famille botanique",{"$f":"U27","v":"Légumineuse"}]
[]
[null,null,null,null,null,null,"Dose de semis (kg/ha)",{"$f":"H27","v":2},null,null,"Pérennité",{"$f":"T27","v":"Pluri-annuel"}]
[null,null,null,null,null,null,"Coût (€/kg)",{"$f":"J27","v":0}]
[null,null,null,null,null,null,"PMG (g)",{"$f":"K27","v":0}]
["Notre avis :\nMicro trèfle nain. Variété très stolonifère qui confère une bonne couverture du sol.\n\nBiomasse et enracinement plus faible que les autres trèfles.\n\nExpérimentations en cours pour évaluer la variété."]
[]
[null,null,null,null,null,null,"Vitesse d'installation",{"$f":"L27","v":1},null,null,"Profondeur de semis (cm)"]
[null,null,null,null,null,null,"Concurrence adventice",{"$f":"M27","v":1},null,null,"Mini",{"$f":"V27","v":1}]
[null,null,null,null,null,null,"Sensibilité au gel",{"$f":"X27","v":">-10°C"},null,null,"Maxi",{"$f":"W27","v":2}]
[]
[null,null,null,null,null,null,"Type de port de plante",{"$f":"Q27","v":"Dréssé"}]
[]
[null,null,null,null,null,null,"Adaptation sol acide",{"$f":"Y27","v":3}]
[null,null,null,null,null,null,"Risque aphanomyces",{"$f":"Z27","v":1}]
[]
[]
[]
[]
[null,null,null,null,null,null,"Trèfle blanc PIPOLINA",2,null,null,null,1,1,2,1,null,"Dréssé",1,2,"Pluri-annuel","Légumineuse",1,2,">-10°C",3,1]

{"sheet":"Vesce_pourpre_couv","index":2,"n_rows":27,"n_cols":26,"rows_kept":27,"cut":false,"hidden":false,"merged":[[1,6,1,14],[4,6,6,14],[12,0,24,4]]}
[]
[null,null,null,null,null,null,"CARACTERISTIQUES DES COUVERTS"]
[]
[]
[null,null,null,null,null,null,"VESCE POURPRE"]
[]
[]
[null,null,null,null,null,null,null,null,null,null,null,null,"Famille botanique",{"$f":"U27","v":"Légumineuse"}]
[]
[null,null,null,null,null,null,"Dose de semis (kg/ha)",{"$f":"H27","v":10},null,null,"Pérennité",{"$f":"T27","v":"Annuel"}]
[null,null,null,null,null,null,"Coût (€/kg)",{"$f":"J27","v":1.99}]
[null,null,null,null,null,null,"PMG (g)",{"$f":"K27","v":60}]
["Notre avis :\nBonne plante compagne avec le colza. \n\nBonne croissance à l'automne. Intérêt dans la maitrise des adventices si semée précocement.\n\nCouvert parmi les moins sensibles aux herbicides racinaires.\n\nAttention à sa moindre sensibilité au gel.\n\nIntérêt dans l'alimentation des auxiliaires de culture à l'automne (nectar extra-floraux).\n"]
[]
[null,null,null,null,null,null,"Vitesse d'installation",{"$f":"L27","v":2},null,null,"Profondeur de semis (cm)"]
[null,null,null,null,null,null,"Concurrence adventice",{"$f":"M27","v":3},null,null,"Mini",{"$f":"V27","v":2}]
[null,null,null,null,null,null,"Sensibilité au gel",{"$f":"X27","v":"-10°C"},null,null,"Maxi",{"$f":"W27","v":3}]
[]
[null,null,null,null,null,null,"Type de port de plante",{"$f":"Q27","v":"Etalé"}]
[]
[null,null,null,null,null,null,"Adaptation sol acide",{"$f":"Y27","v":3}]
[null,null,null,null,null,null,"Risque aphanomyces",{"$f":"Z27","v":2}]
[]
[]
[]
[]
[null,null,null,null,null,null,"Vesce pourpre",10,15,1.99,60,2,3,1,3,"-10°C","Etalé",2,3,"Annuel","Légumineuse",2,3,"-10°C",3,2]

{"sheet":"Vesce erigée_couv","index":3,"n_rows":27,"n_cols":26,"rows_kept":27,"cut":false,"hidden":false,"merged":[[1,6,1,14],[4,6,6,14],[12,0,24,4]]}
[]
[null,null,null,null,null,null,"CARACTERISTIQUES DES COUVERTS"]
[]
[]
[null,null,null,null,null,null,"VESCE ERIGEE"]
[]
[]
[null,null,null,null,null,null,null,null,null,null,null,null,"Famille botanique",{"$f":"U27","v":"Légumineuse"}]
[]
[null,null,null,null,null,null,"Dose de semis (kg/ha)",{"$f":"H27","v":0},null,null,"Pérennité",{"$f":"T27","v":"Annuel"}]
[null,null,null,null,null,null,"Coût (€/kg)",{"$f":"J27","v":0}]
[null,null,null,null,null,null,"PMG (g)",{"$f":"K27","v":0}]
["Notre avis :\nBonne association avec le colza.\n\nProduction de biomasse légèrement supérieure à celle de la lentille.\n\nPlus sensible au gel que les autres vesces (-4°C).\n\nCommercialisé en association evec le fenugrec."]
[]
[null,null,null,null,null,null,"Vitesse d'installation",{"$f":"L27","v":2},null,null,"Profondeur de semis (cm)"]
[null,null,null,null,null,null,"Concurrence adventice",{"$f":"M27","v":3},null,null,"Mini",{"$f":"V27","v":2}]
[null,null,null,null,null,null,"Sensibilité au gel",{"$f":"X27","v":"-4°C"},null,null,"Maxi",{"$f":"W27","v":3}]
[]
[null,null,null,null,null,null,"Type de port de plante",{"$f":"Q27","v":"Dressé"}]
[]
[null,null,null,null,null,null,"Adaptation sol acide",{"$f":"Y27","v":3}]
[null,null,null,null,null,null,"Risque aphanomyces",{"$f":"Z27","v":2}]
[]
[]
[]
[]
[null,null,null,null,null,null,"Vesce érigée",null,15,null,null,2,3,1,3,"-4°C","Dressé",2,null,"Annuel","Légumineuse",2,3,"-4°C",3,2]

{"sheet":"Vesce commune_couv (2)","index":4,"n_rows":27,"n_cols":26,"rows_kept":27,"cut":false,"hidden":false,"merged":[[1,6,1,14],[4,6,6,14],[12,0,24,4]]}
[]
[null,null,null,null,null,null,"CARACTERISTIQUES DES COUVERTS"]
[]
[]
[null,null,null,null,null,null,"VESCE COMMUNE"]
[]
[]
[null,null,null,null,null,null,null,null,null,null,null,null,"Famille botanique",{"$f":"U27","v":"Légumineuse"}]
[]
[null,null,null,null,null,null,"Dose de semis (kg/ha)",{"$f":"H27","v":10},null,null,"Pérennité",{"$f":"T27","v":"Annuel"}]
[null,null,null,null,null,null,"Coût (€/kg)",{"$f":"J27","v":1.85}]
[null,null,null,null,null,null,"PMG (g)",{"$f":"K27","v":60}]
["Notre avis :\nCouvert intéressant pour sa couverture du sol et la maitrise des adventices.\n\nCouvert intéressant pour amener de l'azote après destruction. Couvert parmi les moins sensibles aux herbicides racinaires.\n\nAttention , sa moindre sensibilité au gel est un frein dans les secteurs les moins gélifs en hiver.\n\nIntérêt dans l'alimentation des auxiliaires de culture à l'automne (nectar extra-floraux)."]
[]
[null,null,null,null,null,null,"Vitesse d'installation",{"$f":"L27","v":2},null,null,"Profondeur de semis (cm)"]
[null,null,null,null,null,null,"Concurrence adventice",{"$f":"M27","v":3},null,null,"Mini",{"$f":"V27","v":2}]
[null,null,null,null,null,null,"Sensibilité au gel",{"$f":"X27","v":"-10°C"},null,null,"Maxi",{"$f":"W27","v":3}]
[]
[null,null,null,null,null,null,"Type de port de plante",{"$f":"Q27","v":"Etalé"}]
[]
[null,null,null,null,null,null,"Adaptation sol acide",{"$f":"Y27","v":3}]
[null,null,null,null,null,null,"Risque aphanomyces",{"$f":"Z27","v":2}]
[]
[]
[]
[]
[null,null,null,null,null,null,"Vesce commune",10,15,1.85,60,2,3,1,3,"-10°C","Etalé",2,3,"Annuel","Légumineuse",2,3,"-10°C",3,2]

{"sheet":"Trèfle_Violet_couv","index":5,"n_rows":27,"n_cols":26,"rows_kept":27,"cut":false,"hidden":false,"merged":[[1,6,1,14],[4,6,6,14],[12,0,24,4]]}
[]
[null,null,null,null,null,null,"CARACTERISTIQUES DES COUVERTS"]
[]
[]
[null,null,null,null,null,null,"TREFLE VIOLET"]
[]
[]
[null,null,null,null,null,null,null,null,null,null,null,null,"Famille botanique",{"$f":"U27","v":"Légumineuse"}]
[]
[null,null,null,null,null,null,"Dose de semis (kg/ha)",{"$f":"H27","v":7},null,null,"Pérennité",{"$f":"T27","v":"Pluri-annuel"}]
[null,null,null,null,null,null,"Coût (€/kg)",{"$f":"J27","v":5.8}]
[null,null,null,null,null,null,"PMG (g)",{"$f":"K27","v":1.9}]
["Notre avis :\nLegumineuse pluri-annuelle adaptée à de nombreux types de sols (notamment les sols acides et/ou hydromorphes). Pérennité de 2-3 ans.\n\nBonne couverture du sol.\n\nProduction de fourrage possible en interculture.\n\nAttention au risque aphanomyces selon les variétés."]
[]
[null,null,null,null,null,null,"Vitesse d'installation",{"$f":"L27","v":1},null,null,"Profondeur de semis (cm)"]
[null,null,null,null,null,null,"Concurrence adventice",{"$f":"M27","v":1},null,null,"Mini",{"$f":"V27","v":0}]
[null,null,null,null,null,null,"Sensibilité au gel",{"$f":"X27","v":">-10°C"},null,null,"Maxi",{"$f":"W27","v":0}]
[]
[null,null,null,null,null,null,"Type de port de plante",{"$f":"Q27","v":"Dressé"}]
[]
[null,null,null,null,null,null,"Adaptation sol acide",{"$f":"Y27","v":3}]
[null,null,null,null,null,null,"Risque aphanomyces",{"$f":"Z27","v":2}]
[]
[]
[]
[]
[null,null,null,null,null,null,"Trèfle violet",7,500,5.8,1.9,1,1,2,1,"-10°C","Dressé",1,2,"Pluri-annuel","Légumineuse",null,null,">-10°C",3,2]

{"sheet":"Trèfle_Alexandrie_couv","index":6,"n_rows":27,"n_cols":26,"rows_kept":27,"cut":false,"hidden":false,"merged":[[1,6,1,14],[4,6,6,14],[12,0,24,4]]}
[]
[null,null,null,null,null,null,"CARACTERISTIQUES DES COUVERTS"]
[]
[]
[null,null,null,null,null,null,"TREFLE D'ALEXANDRIE"]
[]
[]
[null,null,null,null,null,null,null,null,null,null,null,null,"Famille botanique",{"$f":"U27","v":"Légumineuse"}]
[]
[null,null,null,null,null,null,"Dose de semis (kg/ha)",{"$f":"H27","v":5},null,null,"Pérennité",{"$f":"T27","v":"Annuel"}]
[null,null,null,null,null,null,"Coût (€/kg)",{"$f":"J27","v":3.1}]
[null,null,null,null,null,null,"PMG (g)",{"$f":"K27","v":2.5}]
["Notre avis :\nBon partenaire pour le colza.\n\nInstallation rapide. Bonne production de biomasse à l'automne.\n\nPrivilégier les variétés monocoupes et gélives.\nPlante bien adaptée à de nombreux types de sol, y compris les sols à tendance acide."]
[]
[null,null,null,null,null,null,"Vitesse d'installation",{"$f":"L27","v":3},null,null,"Profondeur de semis (cm)"]
[null,null,null,null,null,null,"Concurrence adventice",{"$f":"M27","v":2},null,null,"Mini",{"$f":"V27","v":1}]
[null,null,null,null,null,null,"Sensibilité au gel",{"$f":"X27","v":"-5°C"},null,null,"Maxi",{"$f":"W27","v":2}]
[]
[null,null,null,null,null,null,"Type de port de plante",{"$f":"Q27","v":"Dressé"}]
[]
[null,null,null,null,null,null,"Adaptation sol acide",{"$f":"Y27","v":3}]
[null,null,null,null,null,null,"Risque aphanomyces",{"$f":"Z27","v":3}]
[]
[]
[]
[]
[null,null,null,null,null,null,"Trèfle d'Alexandrie",5,120,3.1,2.5,3,2,1,3,"-4°C","Dressé",3,2,"Annuel","Légumineuse",1,2,"-5°C",3,3]

{"sheet":"Trèfle_blanc_couv","index":7,"n_rows":27,"n_cols":26,"rows_kept":27,"cut":false,"hidden":false,"merged":[[1,6,1,14],[4,6,6,14],[12,0,24,4]]}
[]
[null,null,null,null,null,null,"CARACTERISTIQUES DES COUVERTS"]
[]
[]
[null,null,null,null,null,null,"TREFLE BLANC"]
[]
[]
[null,null,null,null,null,null,null,null,null,null,null,null,"Famille botanique",{"$f":"U27","v":"Légumineuse"}]
[]
[null,null,null,null,null,null,"Dose de semis (kg/ha)",{"$f":"H27","v":3},null,null,"Pérennité",{"$f":"T27","v":"Pluri-annuel"}]
[null,null,null,null,null,null,"Coût (€/kg)",{"$f":"J27","v":5.8}]
[null,null,null,null,null,null,"PMG (g)",{"$f":"K27","v":0.6}]
["Notre avis :\nLégumineuse pluri-annuel adaptée à de nombreux types de sol.\n\nBonne couverture du sol après la culture du colza grâce à ses stolons.\n\nEnracinement superficiel : attention à la concurrence vis-à-vis dans les cultures notamment dans les sols les plus superficiels.\n\nSensibilité aphanomyces selon les variétés.\n\nEspèce à petit PMG : privilégier les semis à faible profondeur (1 -2 cm max)."]
[]
[null,null,null,null,null,null,"Vitesse d'installation",{"$f":"L27","v":1},null,null,"Profondeur de semis (cm)"]
[null,null,null,null,null,null,"Concurrence adventice",{"$f":"M27","v":1},null,null,"Mini",{"$f":"V27","v":1}]
[null,null,null,null,null,null,"Sensibilité au gel",{"$f":"X27","v":">-10°C"},null,null,"Maxi",{"$f":"W27","v":2}]
[]
[null,null,null,null,null,null,"Type de port de plante",{"$f":"Q27","v":"Dressé"}]
[]
[null,null,null,null,null,null,"Adaptation sol acide",{"$f":"Y27","v":3}]
[null,null,null,null,null,null,"Risque aphanomyces",{"$f":"Z27","v":1}]
[]
[]
[]
[]
[null,null,null,null,null,null,"Trèfle Blanc",3,500,5.8,0.6,1,1,2,1,"-10°C","Dressé",1,2,"Pluri-annuel","Légumineuse",1,2,">-10°C",3,1]

{"sheet":"Tournesol_couv","index":8,"n_rows":27,"n_cols":26,"rows_kept":27,"cut":false,"hidden":false,"merged":[[1,6,1,14],[4,6,6,14],[12,0,24,4]]}
[]
[null,null,null,null,null,null,"CARACTERISTIQUES DES COUVERTS"]
[]
[]
[null,null,null,null,null,null,"TOURNESOL"]
[]
[]
[null,null,null,null,null,null,null,null,null,null,null,null,"Famille botanique",{"$f":"U27","v":"Composée"}]
[]
[null,null,null,null,null,null,"Dose de semis (kg/ha)",{"$f":"H27","v":10},null,null,"Pérennité",{"$f":"T27","v":"Annuel"}]
[null,null,null,null,null,null,"Coût (€/kg)",{"$f":"J27","v":0.2}]
[null,null,null,null,null,null,"PMG (g)",{"$f":"K27","v":60}]
["Notre avis :\nCouvert avec un système pivotant (effet structure). \nBonne vigueur notamment en conditions sèches.\nBonne production de biomasse à l'automne.\n\nPlante très sensible au gel (-2°C).\n\nAttention à l'effet négatif sur le colza (concurrence d'azote à l'automne). Viser 1 à 2 kg/ha maximum. \n\nIntérêt dans l'alimentation des auxiliaires de culture à l'automne.\nAttention au risue sclérotinia dans la rotation."]
[]
[null,null,null,null,null,null,"Vitesse d'installation",{"$f":"L27","v":2},null,null,"Profondeur de semis (cm)"]
[null,null,null,null,null,null,"Concurrence adventice",{"$f":"M27","v":2},null,null,"Mini",{"$f":"V27","v":2}]
[null,null,null,null,null,null,"Sensibilité au gel",{"$f":"X27","v":"-2°C"},null,null,"Maxi",{"$f":"W27","v":3}]
[]
[null,null,null,null,null,null,"Type de port de plante",{"$f":"Q27","v":"Dressé"}]
[]
[null,null,null,null,null,null,"Adaptation sol acide",{"$f":"Y27","v":2}]
[null,null,null,null,null,null,"Risque aphanomyces",{"$f":"Z27","v":3}]
[]
[]
[]
[]
[null,null,null,null,null,null,"Tournesol",10,3,0.2,60,2,2,3,3,"-4°C","Dressé",0.5,2,"Annuel","Composée",2,3,"-2°C",2,3]

{"sheet":"Sarrasin_couv","index":9,"n_rows":27,"n_cols":26,"rows_kept":27,"cut":false,"hidden":false,"merged":[[1,6,1,14],[4,6,6,14],[12,0,24,4]]}
[]
[null,null,null,null,null,null,"CARACTERISTIQUES DES COUVERTS"]
[]
[]
[null,null,null,null,null,null,"SARRASIN"]
[]
[]
[null,null,null,null,null,null,null,null,null,null,null,null,"Famille botanique",{"$f":"U27","v":"Polygonacée"}]
[]
[null,null,null,null,null,null,"Dose de semis (kg/ha)",{"$f":"H27","v":40},null,null,"Pérennité",{"$f":"T27","v":"Annuel"}]
[null,null,null,null,null,null,"Coût (€/kg)",{"$f":"J27","v":2.1}]
[null,null,null,null,null,null,"PMG (g)",{"$f":"K27","v":25}]
["Notre avis :\nBonne vigueur notamment en conditions sèches.\n\nBonne concurrence vis à vis des adventices. Bonne croissance à l'automne.\n\nDouble culture possible si semé à 40 kg/ha. Dans ce cas, semis au plus tard le 10 juillet. Attention au risque d'egrenage. Forte concurrence sur le colza (consommation d'azote et réduction de biomasse).\n\nIntérêt dans l'alimentation des auxiliaires de culture à l'automne."]
[]
[null,null,null,null,null,null,"Vitesse d'installation",{"$f":"L27","v":3},null,null,"Profondeur de semis (cm)"]
[null,null,null,null,null,null,"Concurrence adventice",{"$f":"M27","v":3},null,null,"Mini",{"$f":"V27","v":2}]
[null,null,null,null,null,null,"Sensibilité au gel",{"$f":"X27","v":"-2°C"},null,null,"Maxi",{"$f":"W27","v":3}]
[]
[null,null,null,null,null,null,"Type de port de plante",{"$f":"Q27","v":"Dressé"}]
[]
[null,null,null,null,null,null,"Adaptation sol acide",{"$f":"Y27","v":2}]
[null,null,null,null,null,null,"Risque aphanomyces",{"$f":"Z27","v":3}]
[]
[]
[]
[]
[null,null,null,null,null,null,"Sarrasin",40,180,2.1,25,3,3,3,3,"-1°C","Dressé",1,3,"Annuel","Polygonacée",2,3,"-2°C",2,3]

{"sheet":"Pois_proteagineux_couv","index":10,"n_rows":27,"n_cols":26,"rows_kept":27,"cut":false,"hidden":false,"merged":[[1,6,1,14],[4,6,6,14],[12,0,24,4]]}
[]
[null,null,null,null,null,null,"CARACTERISTIQUES DES COUVERTS"]
[]
[]
[null,null,null,null,null,null,"POIS PROTEAGINEUX"]
[]
[]
[null,null,null,null,null,null,null,null,null,null,null,null,"Famille botanique",{"$f":"U27","v":"Légumineuse"}]
[]
[null,null,null,null,null,null,"Dose de semis (kg/ha)",{"$f":"H27","v":50},null,null,"Pérennité",{"$f":"T27","v":"Annuel"}]
[null,null,null,null,null,null,"Coût (€/kg)",{"$f":"J27","v":0.2}]
[null,null,null,null,null,null,"PMG (g)",{"$f":"K27","v":200}]
["Notre avis :\nCouvert permettant un bonne biomasse à l'automne.\n\nAttention à l'effet pénalisant sur la dynamique du colza (le couvert se couche au sol durant l'hiver). Couvert déconseillé."]
[]
[null,null,null,null,null,null,"Vitesse d'installation",{"$f":"L27","v":2},null,null,"Profondeur de semis (cm)"]
[null,null,null,null,null,null,"Concurrence adventice",{"$f":"M27","v":1},null,null,"Mini",{"$f":"V27","v":2}]
[null,null,null,null,null,null,"Sensibilité au gel",{"$f":"X27","v":"-10°C"},null,null,"Maxi",{"$f":"W27","v":3}]
[]
[null,null,null,null,null,null,"Type de port de plante",{"$f":"Q27","v":"Dressé"}]
[]
[null,null,null,null,null,null,"Adaptation sol acide",{"$f":"Y27","v":2}]
[null,null,null,null,null,null,"Risque aphanomyces",{"$f":"Z27","v":1}]
[]
[]
[]
[]
[null,null,null,null,null,null,"Pois protéagineux",50,18,0.2,200,2,1,3,2,"-10°C","Dressé",2,2,"Annuel","Légumineuse",2,3,"-10°C",2,1]

{"sheet":"Pois_fourrager_couv","index":11,"n_rows":27,"n_cols":26,"rows_kept":27,"cut":false,"hidden":false,"merged":[[1,6,1,14],[4,6,6,14],[12,0,24,4]]}
[]
[null,null,null,null,null,null,"CARACTERISTIQUES DES COUVERTS"]
[]
[]
[null,null,null,null,null,null,"POIS FOURRAGER"]
[]
[]
[null,null,null,null,null,null,null,null,null,null,null,null,"Famille botanique",{"$f":"U27","v":"Légumineuse"}]
[]
[null,null,null,null,null,null,"Dose de semis (kg/ha)",{"$f":"H27","v":20},null,null,"Pérennité",{"$f":"T27","v":"Annuel"}]
[null,null,null,null,null,null,"Coût (€/kg)",{"$f":"J27","v":1.49}]
[null,null,null,null,null,null,"PMG (g)",{"$f":"K27","v":100}]
["Notre avis :\nCouvert permettant une forte biomasse à l'automne.\n\nAttention à l'impact sur le comportement du colza (le pois fourrager se couche au sol durant l'hiver et pénalise le développement du colza, notamment la reprise de sortie hiver). Couvert déconseillé."]
[]
[null,null,null,null,null,null,"Vitesse d'installation",{"$f":"L27","v":3},null,null,"Profondeur de semis (cm)"]
[null,null,null,null,null,null,"Concurrence adventice",{"$f":"M27","v":3},null,null,"Mini",{"$f":"V27","v":2}]
[null,null,null,null,null,null,"Sensibilité au gel",{"$f":"X27","v":"-15°C"},null,null,"Maxi",{"$f":"W27","v":3}]
[]
[null,null,null,null,null,null,"Type de port de plante",{"$f":"Q27","v":"Dressé"}]
[]
[null,null,null,null,null,null,"Adaptation sol acide",{"$f":"Y27","v":3}]
[null,null,null,null,null,null,"Risque aphanomyces",{"$f":"Z27","v":1}]
[]
[]
[]
[]
[null,null,null,null,null,null,"Pois fourrager",20,17,1.49,100,3,3,3,3,"-10°C","Dressé",2,2,"Annuel","Légumineuse",2,3,"-15°C",3,1]

{"sheet":"Niger_couv","index":12,"n_rows":27,"n_cols":26,"rows_kept":27,"cut":false,"hidden":false,"merged":[[1,6,1,14],[4,6,6,14],[12,0,24,4]]}
[]
[null,null,null,null,null,null,"CARACTERISTIQUES DES COUVERTS"]
[]
[]
[null,null,null,null,null,null,"NIGER"]
[]
[]
[null,null,null,null,null,null,null,null,null,null,null,null,"Famille botanique",{"$f":"U27","v":"Composée"}]
[]
[null,null,null,null,null,null,"Dose de semis (kg/ha)",{"$f":"H27","v":2},null,null,"Pérennité",{"$f":"T27","v":"Annuel"}]
[null,null,null,null,null,null,"Coût (€/kg)",{"$f":"J27","v":4.0999999999999996}]
[null,null,null,null,null,null,"PMG (g)",{"$f":"K27","v":3}]
["Notre avis :\nCouvert avec un système pivotant (effet structure). \nBonne vigueur notamment en conditions sèches.\nBonne production de biomasse à l'automne.\n\nPlante très sensible au gel (-1°C).\n\nAttention à l'effet négatif sur le colza (concurrence d'azote à l'automne). Viser 1 à 2 kg/ha maximum. \n\nIntérêt dans l'alimentation des auxiliaires de culture à l'automne.\nAttention au risque sclérotinia dans la rotation."]
[]
[null,null,null,null,null,null,"Vitesse d'installation",{"$f":"L27","v":2},null,null,"Profondeur de semis (cm)"]
[null,null,null,null,null,null,"Concurrence adventice",{"$f":"M27","v":3},null,null,"Mini",{"$f":"V27","v":1}]
[null,null,null,null,null,null,"Sensibilité au gel",{"$f":"X27","v":"-1°C"},null,null,"Maxi",{"$f":"W27","v":1.5}]
[]
[null,null,null,null,null,null,"Type de port de plante",{"$f":"Q27","v":"Dressé"}]
[]
[null,null,null,null,null,null,"Adaptation sol acide",{"$f":"Y27","v":2}]
[null,null,null,null,null,null,"Risque aphanomyces",{"$f":"Z27","v":3}]
[]
[]
[]
[]
[null,null,null,null,null,null,"Niger",2,67,4.0999999999999996,3,2,3,2,3,"-1°C","Dressé",0.5,2,"Annuel","Composée",1,1.5,"-1°C",2,3]

{"sheet":"Luzerne_couv","index":13,"n_rows":27,"n_cols":26,"rows_kept":27,"cut":false,"hidden":false,"merged":[[1,6,1,14],[4,6,6,14],[12,0,24,4]]}
[]
[null,null,null,null,null,null,"CARACTERISTIQUES DES COUVERTS"]
[]
[]
[null,null,null,null,null,null,"LUZERNE FLAMANDE"]
[]
[]
[null,null,null,null,null,null,null,null,null,null,null,null,"Famille botanique",{"$f":"U27","v":"Légumineuse"}]
[]
[null,null,null,null,null,null,"Dose de semis (kg/ha)",{"$f":"H27","v":10},null,null,"Pérennité",{"$f":"T27","v":"Pluri-annuel"}]
[null,null,null,null,null,null,"Coût (€/kg)",{"$f":"J27","v":5.69}]
[null,null,null,null,null,null,"PMG (g)",{"$f":"K27","v":2}]
["Notre avis :\nLégumineuse pluri-annuelle bien adaptée en sol sain et basique (pH>7).\n\nIntérêt pour la production de fourrage en interculture.\n\nSystème racinaire pivotant profond. Déconseillé dans les parcelles drainées.\n\nRégulation nécessaire en sortie hiver dans les parcelles avec des colzas peu couvrants.\nA semer très superficiellement pour assurer la réussite de l'implantation."]
[]
[null,null,null,null,null,null,"Vitesse d'installation",{"$f":"L27","v":1},null,null,"Profondeur de semis (cm)"]
[null,null,null,null,null,null,"Concurrence adventice",{"$f":"M27","v":1},null,null,"Mini",{"$f":"V27","v":0.5}]
[null,null,null,null,null,null,"Sensibilité au gel",{"$f":"X27","v":">-15°C"},null,null,"Maxi",{"$f":"W27","v":1.5}]
[]
[null,null,null,null,null,null,"Type de port de plante",{"$f":"Q27","v":"Dressé"}]
[]
[null,null,null,null,null,null,"Adaptation sol acide",{"$f":"Y27","v":3}]
[null,null,null,null,null,null,"Risque aphanomyces",{"$f":"Z27","v":1}]
[]
[]
[]
[]
[null,null,null,null,null,null,"Luzerne Flamande",10,500,5.69,2,1,1,1,1,"-10°C","Dressé",1,2,"Pluri-annuel","Légumineuse",0.5,1.5,">-15°C",3,1]

{"sheet":"Lupin_bleu_couv","index":14,"n_rows":27,"n_cols":15,"rows_kept":27,"cut":false,"hidden":false,"merged":[[1,6,1,14],[4,6,6,14],[12,0,24,4]]}
[]
[null,null,null,null,null,null,"CARACTERISTIQUES DES COUVERTS"]
[]
[]
[null,null,null,null,null,null,"LUPIN BLEU"]
[]
[]
[null,null,null,null,null,null,null,null,null,null,null,null,"Famille botanique",{"$f":"U27","v":0}]
[]
[null,null,null,null,null,null,"Dose de semis (kg/ha)",40,null,null,"Pérennité",{"$f":"T27","v":0}]
[null,null,null,null,null,null,"Coût (€/kg)",2.4500000000000002]
[null,null,null,null,null,null,"PMG (g)",200]
["Notre avis :\nCouvert adapté au sol à tendance acide.\nPeu sensible aux maladies (ascochytose notamment).\n\nRacine pivotante.\n\nExpérimentation en cours."]
[]
[null,null,null,null,null,null,"Vitesse d'installation",{"$f":"L27","v":0},null,null,"Profondeur de semis (cm)"]
[null,null,null,null,null,null,"Concurrence adventice",{"$f":"M27","v":0},null,null,"Mini",{"$f":"V27","v":0}]
[null,null,null,null,null,null,"Sensibilité au gel",{"$f":"X27","v":0},null,null,"Maxi",{"$f":"W27","v":0}]
[]
[null,null,null,null,null,null,"Type de port de plante",{"$f":"Q27","v":0}]
[]
[null,null,null,null,null,null,"Adaptation sol acide",{"$f":"Y27","v":0}]
[null,null,null,null,null,null,"Risque aphanomyces",{"$f":"Z27","v":0}]
[]
[]
[]
[]
[null,null,null,null,null,null,"Lupin bleu",null,null,null,null,null,null,null,2]

{"sheet":"Lotier_couv","index":15,"n_rows":27,"n_cols":26,"rows_kept":27,"cut":false,"hidden":false,"merged":[[1,6,1,14],[4,6,6,14],[12,0,24,4]]}
[]
[null,null,null,null,null,null,"CARACTERISTIQUES DES COUVERTS"]
[]
[]
[null,null,null,null,null,null,"LOTIER CORNICULE"]
[]
[]
[null,null,null,null,null,null,null,null,null,null,null,null,"Famille botanique",{"$f":"U27","v":"Légumineuse"}]
[]
[null,null,null,null,null,null,"Dose de semis (kg/ha)",{"$f":"H27","v":10},null,null,"Pérennité",{"$f":"T27","v":"Pluri-annuel"}]
[null,null,null,null,null,null,"Coût (€/kg)",{"$f":"J27","v":6.1}]
[null,null,null,null,null,null,"PMG (g)",{"$f":"K27","v":1.1000000000000001}]
["Notre avis :\nLégumineuse pluri-annuel adaptée à de nombreux types de sols, hormis les sols hydromorphes.\n\nDynamique de croissance lente. Système racinaire profond (identique à la luzerne) mais racine plus fine. A suivre en sol drainé.\n\nFaible production de fourrage en interculture. Davantage adaptée pour du paturage que pour de l'enrubannage.\n\nA semer très superficiellement pour assurer la réussite de l'implantation."]
[]
[null,null,null,null,null,null,"Vitesse d'installation",{"$f":"L27","v":1},null,null,"Profondeur de semis (cm)"]
[null,null,null,null,null,null,"Concurrence adventice",{"$f":"M27","v":1},null,null,"Mini",{"$f":"V27","v":1}]
[null,null,null,null,null,null,"Sensibilité au gel",{"$f":"X27","v":">-15°C"},null,null,"Maxi",{"$f":"W27","v":2}]
[]
[null,null,null,null,null,null,"Type de port de plante",{"$f":"Q27","v":"Dressé"}]
[]
[null,null,null,null,null,null,"Adaptation sol acide",{"$f":"Y27","v":3}]
[null,null,null,null,null,null,"Risque aphanomyces",{"$f":"Z27","v":3}]
[]
[]
[]
[]
[null,null,null,null,null,null,"Lotier Corniculé",10,900,6.1,1.1000000000000001,1,1,1,1,"-10°C","Dressé",1,2,"Pluri-annuel","Légumineuse",1,2,">-15°C",3,3]

{"sheet":"Lin_couv","index":16,"n_rows":27,"n_cols":26,"rows_kept":27,"cut":false,"hidden":false,"merged":[[1,6,1,14],[4,6,6,14],[12,0,24,4]]}
[]
[null,null,null,null,null,null,"CARACTERISTIQUES DES COUVERTS"]
[]
[]
[null,null,null,null,null,null,"LIN"]
[]
[]
[null,null,null,null,null,null,null,null,null,null,null,null,"Famille botanique",{"$f":"U27","v":"Linacée"}]
[]
[null,null,null,null,null,null,"Dose de semis (kg/ha)",{"$f":"H27","v":20},null,null,"Pérennité",{"$f":"T27","v":"Annuel"}]
[null,null,null,null,null,null,"Coût (€/kg)",{"$f":"J27","v":1.25}]
[null,null,null,null,null,null,"PMG (g)",{"$f":"K27","v":7}]
["Notre avis :\nCouvert intéressant pour son effet \"bouche-trou\".\n\nSystème racinaire peu profond.\nBonne production de biomasse à l'automne.\n\nPlante assez sensible au gel (-4°C).\nPlante non légumineuse : peuplement à limiter pour ne pas trop concurrencer le colza (consommation d'azote).\nDose de semis recommandée : 1 à 2 kg/ha."]
[]
[null,null,null,null,null,null,"Vitesse d'installation",{"$f":"L27","v":3},null,null,"Profondeur de semis (cm)"]
[null,null,null,null,null,null,"Concurrence adventice",{"$f":"M27","v":2},null,null,"Mini",{"$f":"V27","v":1}]
[null,null,null,null,null,null,"Sensibilité au gel",{"$f":"X27","v":"-4°C"},null,null,"Maxi",{"$f":"W27","v":1.5}]
[]
[null,null,null,null,null,null,"Type de port de plante",{"$f":"Q27","v":"Dressé"}]
[]
[null,null,null,null,null,null,"Adaptation sol acide",{"$f":"Y27","v":2}]
[null,null,null,null,null,null,"Risque aphanomyces",{"$f":"Z27","v":3}]
[]
[]
[]
[]
[null,null,null,null,null,null,"Lin",20,14,1.25,7,3,2,1,1,"-2°C","Dressé",0.5,2,"Annuel","Linacée",1,1.5,"-4°C",2,3]

{"sheet":"Lentille_couv","index":17,"n_rows":27,"n_cols":26,"rows_kept":27,"cut":false,"hidden":false,"merged":[[4,6,6,14],[12,0,24,4],[1,6,1,14]]}
[]
[null,null,null,null,null,null,"CARACTERISTIQUES DES COUVERTS"]
[]
[]
[null,null,null,null,null,null,"LENTILLE"]
[]
[]
[null,null,null,null,null,null,null,null,null,null,null,null,"Famille botanique",{"$f":"U27","v":"Légumineuse"}]
[]
[null,null,null,null,null,null,"Dose de semis (kg/ha)",{"$f":"H27","v":20},null,null,"Pérennité",{"$f":"T27","v":"Annuel"}]
[null,null,null,null,null,null,"Coût (€/kg)",{"$f":"J27","v":2.4}]
[null,null,null,null,null,null,"PMG (g)",22]
["Notre avis :\nTrès bon partenaire pour le colza.\n\nImplantation et croissance rapide. \nSensible aux herbicides. Privilégier les applications de post-levée.\n\nDéconseillé en sol acide.\n\nSensible aphanomyces. Attention dans les rotations avec des cultures sensibles (pois / lentille)."]
[]
[null,null,null,null,null,null,"Vitesse d'installation",{"$f":"L27","v":3},null,null,"Profondeur de semis (cm)"]
[null,null,null,null,null,null,"Concurrence adventice",{"$f":"M27","v":2},null,null,"Mini",{"$f":"V27","v":2}]
[null,null,null,null,null,null,"Sensibilité au gel",{"$f":"X27","v":"-7°C"},null,null,"Maxi",{"$f":"W27","v":3}]
[]
[null,null,null,null,null,null,"Type de port de plante",{"$f":"Q27","v":"Etalé"}]
[]
[null,null,null,null,null,null,"Adaptation sol acide",{"$f":"Y27","v":1}]
[null,null,null,null,null,null,"Risque aphanomyces",{"$f":"Z27","v":1}]
[]
[]
[]
[]
[null,null,null,null,null,null,"Lentille",20,65,2.4,22,3,2,1,2,"-7°C","Etalé",3,2,"Annuel","Légumineuse",2,3,"-7°C",1,1]

{"sheet":"Gesse_couv","index":18,"n_rows":27,"n_cols":26,"rows_kept":27,"cut":false,"hidden":false,"merged":[[1,6,1,14],[4,6,6,14],[12,0,24,4]]}
[]
[null,null,null,null,null,null,"CARACTERISTIQUES DES COUVERTS"]
[]
[]
[null,null,null,null,null,null,"GESSE"]
[]
[]
[null,null,null,null,null,null,null,null,null,null,null,null,"Famille botanique",{"$f":"U27","v":"Légumineuse"}]
[]
[null,null,null,null,null,null,"Dose de semis (kg/ha)",{"$f":"H27","v":10},null,null,"Pérennité",{"$f":"T27","v":"Annuel"}]
[null,null,null,null,null,null,"Coût (€/kg)",{"$f":"J27","v":1.52}]
[null,null,null,null,null,null,"PMG (g)",{"$f":"K27","v":180}]
["Notre avis :\nCouvert intéresssant pour sa production de biomasse à l'automne.\n\nBonne concurrence vis-à-vis des adventices.\n\nPeu sensible au gel : attention au hiver doux. Une intervention herbicide sera justifiée pour le détruire."]
[]
[null,null,null,null,null,null,"Vitesse d'installation",{"$f":"L27","v":1},null,null,"Profondeur de semis (cm)"]
[null,null,null,null,null,null,"Concurrence adventice",{"$f":"M27","v":2},null,null,"Mini",{"$f":"V27","v":3}]
[null,null,null,null,null,null,"Sensibilité au gel",{"$f":"X27","v":"-10°C"},null,null,"Maxi",{"$f":"W27","v":4}]
[]
[null,null,null,null,null,null,"Type de port de plante",{"$f":"Q27","v":"Etalé"}]
[]
[null,null,null,null,null,null,"Adaptation sol acide",{"$f":"Y27","v":2}]
[null,null,null,null,null,null,"Risque aphanomyces",{"$f":"Z27","v":3}]
[]
[]
[]
[]
[null,null,null,null,null,null,"Gesse",10,10,1.52,180,1,2,1,2,"-10°C","Etalé",3,2,"Annuel","Légumineuse",3,4,"-10°C",2,3]

{"sheet":"Fenugrec_couv","index":19,"n_rows":27,"n_cols":26,"rows_kept":27,"cut":false,"hidden":false,"merged":[[1,6,1,14],[4,6,6,14],[12,0,24,4]]}
[]
[null,null,null,null,null,null,"CARACTERISTIQUES DES COUVERTS"]
[]
[]
[null,null,null,null,null,null,"FENUGREC"]
[]
[]
[null,null,null,null,null,null,null,null,null,null,null,null,"Famille botanique",{"$f":"U27","v":"Légumineuse"}]
[]
[null,null,null,null,null,null,"Dose de semis (kg/ha)",{"$f":"H27","v":20},null,null,"Pérennité",{"$f":"T27","v":"Annuel"}]
[null,null,null,null,null,null,"Coût (€/kg)",{"$f":"J27","v":2.6}]
[null,null,null,null,null,null,"PMG (g)",{"$f":"K27","v":22}]
["Notre avis :\nBonne plante compagne pour le colza. Bonne couverture du sol.\nPlus lent en développement que la lentille.\n\nTolérant aphanomyces, le fenugrec trouvera sa place dans les rotations avec pois ou lentille.\n\nOdeur caractéristique.\n\nCouvert aux propriétés répulsives pour les lapins, elle a l'inconvénient d'être appétente pour les cerfs."]
[]
[null,null,null,null,null,null,"Vitesse d'installation",{"$f":"L27","v":3},null,null,"Profondeur de semis (cm)"]
[null,null,null,null,null,null,"Concurrence adventice",{"$f":"M27","v":2},null,null,"Mini",{"$f":"V27","v":2}]
[null,null,null,null,null,null,"Sensibilité au gel",{"$f":"X27","v":"-7°C"},null,null,"Maxi",{"$f":"W27","v":3}]
[]
[null,null,null,null,null,null,"Type de port de plante",{"$f":"Q27","v":"Dressé"}]
[]
[null,null,null,null,null,null,"Adaptation sol acide",{"$f":"Y27","v":2}]
[null,null,null,null,null,null,"Risque aphanomyces",{"$f":"Z27","v":3}]
[]
[]
[]
[]
[null,null,null,null,null,null,"Fenugrec",20,65,2.6,22,3,2,1,2,"-7°C","Dressé",2,2,"Annuel","Légumineuse",2,3,"-7°C",2,3]

{"sheet":"Feverole_couv","index":20,"n_rows":27,"n_cols":26,"rows_kept":27,"cut":false,"hidden":false,"merged":[[1,6,1,14],[4,6,6,14],[12,0,24,4]]}
[]
[null,null,null,null,null,null,"CARACTERISTIQUES DES COUVERTS"]
[]
[]
[null,null,null,null,null,null,"FEVEROLE"]
[]
[]
[null,null,null,null,null,null,null,null,null,null,null,null,"Famille botanique",{"$f":"U27","v":"Légumineuse"}]
[]
[null,null,null,null,null,null,"Dose de semis (kg/ha)",{"$f":"H27","v":80},null,null,"Pérennité",{"$f":"T27","v":"Annuel"}]
[null,null,null,null,null,null,"Coût (€/kg)",{"$f":"J27","v":0.26}]
[null,null,null,null,null,null,"PMG (g)",{"$f":"K27","v":500}]
["Notre avis :\nTrès bonne complémentarité avec le colza (aérien et racinaire).\n\nEffet répulsif supposé sur les insectes d'automne. Adapté à de nombreux types de sol, y compris les sols à tendance acide.\n\nSystème racinaire pivotant, bénéfique en sol humide pour améliorer le drainage.\nIntérêt dans l'alimentation des auxiliaires de culture à l'automne (nectar extra-floraux).\nGrosse graine : nécessite un semoir adapté et une humidité suffisante pour germer (inconvénient en automne sec)."]
[]
[null,null,null,null,null,null,"Vitesse d'installation",{"$f":"L27","v":2},null,null,"Profondeur de semis (cm)"]
[null,null,null,null,null,null,"Concurrence adventice",{"$f":"M27","v":1},null,null,"Mini",{"$f":"V27","v":2}]
[null,null,null,null,null,null,"Sensibilité au gel",{"$f":"X27","v":"-5°C"},null,null,"Maxi",{"$f":"W27","v":3}]
[]
[null,null,null,null,null,null,"Type de port de plante",{"$f":"Q27","v":"Dressé"}]
[]
[null,null,null,null,null,null,"Adaptation sol acide",{"$f":"Y27","v":3}]
[null,null,null,null,null,null,"Risque aphanomyces",{"$f":"Z27","v":3}]
[]
[]
[]
[]
[null,null,null,null,null,null,"Feverole",80,15,0.26,500,2,1,1,3,"-5°C","Dressé",1,3,"Annuel","Légumineuse",2,3,"-5°C",3,3]

{"sheet":"Cameline_couv","index":21,"n_rows":27,"n_cols":26,"rows_kept":27,"cut":false,"hidden":false,"merged":[[1,6,1,14],[4,6,6,14],[12,0,24,4]]}
[]
[null,null,null,null,null,null,"CARACTERISTIQUES DES COUVERTS"]
[]
[]
[null,null,null,null,null,null,"CAMELINE"]
[]
[]
[null,null,null,null,null,null,null,null,null,null,null,null,"Famille botanique",{"$f":"U27","v":"Crucifère"}]
[]
[null,null,null,null,null,null,"Dose de semis (kg/ha)",{"$f":"H27","v":3},null,null,"Pérennité",{"$f":"T27","v":"Annuel"}]
[null,null,null,null,null,null,"Coût (€/kg)",{"$f":"J27","v":5.7}]
[null,null,null,null,null,null,"PMG (g)",{"$f":"K27","v":1.2}]
["Notre avis :\nCouvert intéressant pour son effet de couverture du sol et de maîtrise des adventices.\nAttention à la densité pour ne pas pénaliser l'implantation et le développement du colza (consommation d'azote au détriment du colza).\n\nN'apprécie pas les sols lourds (argile).\n\nAttention, au risque sclérotinia dans la rotation (crucifère)."]
[]
[null,null,null,null,null,null,"Vitesse d'installation",{"$f":"L27","v":3},null,null,"Profondeur de semis (cm)"]
[null,null,null,null,null,null,"Concurrence adventice",{"$f":"M27","v":3},null,null,"Mini",{"$f":"V27","v":1}]
[null,null,null,null,null,null,"Sensibilité au gel",{"$f":"X27","v":"-10°C"},null,null,"Maxi",{"$f":"W27","v":1.5}]
[]
[null,null,null,null,null,null,"Type de port de plante",{"$f":"Q27","v":"Dressé"}]
[]
[null,null,null,null,null,null,"Adaptation sol acide",{"$f":"Y27","v":2}]
[null,null,null,null,null,null,"Risque aphanomyces",{"$f":"Z27","v":3}]
[]
[]
[]
[]
[null,null,null,null,null,null,"Cameline",3,15,5.7,1.2,3,3,2,1,"-10°C","Dressé",0.5,2,"Annuel","Crucifère",1,1.5,"-10°C",2,3]

{"sheet":"Stratégies_herbicides","index":22,"n_rows":58,"n_cols":5,"rows_kept":58,"cut":false,"hidden":false,"merged":[]}
[]
[]
[]
[]
[]
[]
[]
[]
[]
[]
[]
[]
[]
[]
[]
[]
[]
[]
[]
[]
[]
[]
[]
[]
[]
[]
[]
[]
[]
[]
[]
[]
[]
[]
[]
[]
[]
[]
[]
[]
[]
[]
[]
[]
[]
[]
[]
[]
[null,null,1]
[null,null,2,"COLZAMID 2 l","METAZACHLORE 1.2 l"]
[null,null,null,null,"COLZOR TRIO 3 l"]
[null,null,null,null,"AXTER 1.5 l"]
[null,null,null,null,"ALABAMA 1 l"]
[null,null,null,null,"ALABAMA 1.5 l"]
[null,null,null,null,"SPRINGBOK 1 l"]
[null,null,null,null,"NOVALL 1 l"]
[null,null,null,null,"NOVALL 1.5 l"]
[null,null,null,null,"NOVALL + CENTIUM 36 CS 0.16 l"]

{"sheet":"Composition_Colza","index":23,"n_rows":64,"n_cols":25,"rows_kept":64,"cut":false,"hidden":false,"merged":[]}
[]
[]
[]
[]
[]
[]
[]
[]
[]
[]
[null,null,null,"Couvert","Dose de semis en pur (kg/ha)","Objectif de densité en pur (pieds/m²)","Dose de semis (kg/ha)","Densité de semis (pieds/m²)","Coût indicatif (€/ha)","Adapatation en sol acide","Risque aphanomyces","Impact culture","Sensibilité au gel","type botanique","Type de plante",null,{"$f":"H11","v":"Densité de semis (pieds/m²)"},null,null,"Concurrence adventice","Minéralisation","Biomasse","Concurrence","Minéralisation","Biomasse"]
[null,null,1,3,{"$f":"IF(D12=1, \"\", VLOOKUP(D12,BDD_colza!$B$6:$D$27,3,TRUE))","v":10},{"$f":"IF(D12=1, \"\", VLOOKUP(D12,BDD_colza!$B$6:$V$27,4,TRUE))","v":40},10,{"$f":"IF(G12=\"\", \"\",G12*1000/(IF(D12=1, \"\", VLOOKUP(D12,BDD_colza!$B$6:$W$27,6,TRUE)))/10)","v":40},{"$f":"IF(D12=1, \"\", G12*VLOOKUP(D12,BDD_colza!$B$6:$W$27,5,TRUE))","v":26},{"$f":"IF(D12=1, \"\", VLOOKUP(D12,BDD_colza!$B$6:$V$27,20,TRUE))","v":2},{"$f":"IF(D12=1, \"\", VLOOKUP(D12,BDD_colza!$B$6:$V$27,21,TRUE))","v":3},{"$f":"IF(D12=1, \"\", VLOOKUP(D12,BDD_colza!$B$6:$V$27,9,TRUE))","v":3},{"$f":"IF(D12=1, \"\", VLOOKUP(D12,BDD_colza!$B$6:$W$27,19,TRUE))","v":"-7°C"},{"$f":"IF(D12=1, \"\", VLOOKUP(D12,BDD_colza!$B$6:$W$27,15,TRUE))","v":"Annuel"},{"$f":"IF(D12=1, \"\", VLOOKUP(D12,BDD_colza!$B$6:$W$27,16,TRUE))","v":"Légumineuse"},{"$f":"IF(D10=1,\"\",VLOOKUP(D12,BDD_colza!$B$6:$C$27,2))","v":"Fenugrec"},{"$f":"H12","v":40},null,{"$f":"IF(N12=$E$59,H12,\"\")","v":40},{"$f":"IF(D12=1, \"\", VLOOKUP(D12,BDD_colza!$B$6:$W$27,8,TRUE))","v":2},{"$f":"IF(D12=1, \"\", VLOOKUP(D12,BDD_colza!$B$6:$W$27,13,TRUE))","v":2},{"$f":"IF(D12=1, \"\", VLOOKUP(D12,BDD_colza!$B$6:$W$27,10,TRUE))","v":2},{"$f":"IF(S12=\"\",\"\",(G12)/E12)","v":1},{"$f":"W12","v":1},{"$f":"W12","v":1}]
[null,null,2,18,{"$f":"IF(D13=1, \"\", VLOOKUP(D13,BDD_colza!$B$6:$D$27,3,TRUE))","v":5},{"$f":"IF(D13=1, \"\", VLOOKUP(D13,BDD_colza!$B$6:$V$27,4,TRUE))","v":120},5,{"$f":"IF(G13=\"\", \"\",G13*1000/(IF(D13=1, \"\", VLOOKUP(D13,BDD_colza!$B$6:$W$27,6,TRUE)))/10)","v":200},{"$f":"IF(D13=1, \"\", G13*VLOOKUP(D13,BDD_colza!$B$6:$W$27,5,TRUE))","v":15.5},{"$f":"IF(D13=1, \"\", VLOOKUP(D13,BDD_colza!$B$6:$V$27,20,TRUE))","v":3},{"$f":"IF(D13=1, \"\", VLOOKUP(D13,BDD_colza!$B$6:$V$27,21,TRUE))","v":3},{"$f":"IF(D13=1, \"\", VLOOKUP(D13,BDD_colza!$B$6:$V$27,9,TRUE))","v":2},{"$f":"IF(D13=1, \"\", VLOOKUP(D13,BDD_colza!$B$6:$W$27,19,TRUE))","v":"-5°C"},{"$f":"IF(D13=1, \"\", VLOOKUP(D13,BDD_colza!$B$6:$W$27,15,TRUE))","v":"Annuel"},{"$f":"IF(D13=1, \"\", VLOOKUP(D13,BDD_colza!$B$6:$W$27,16,TRUE))","v":"Légumineuse"},{"$f":"IF(D11=1,\"\",VLOOKUP(D13,BDD_colza!$B$6:$C$27,2))","v":"Trèfle d'Alexandrie"},200,null,{"$f":"IF(N13=$E$59,H13,\"\")","v":200},{"$f":"IF(D13=1, \"\", VLOOKUP(D13,BDD_colza!$B$6:$W$27,8,TRUE))","v":2},{"$f":"IF(D13=1, \"\", VLOOKUP(D13,BDD_colza!$B$6:$W$27,13,TRUE))","v":2},{"$f":"IF(D13=1, \"\", VLOOKUP(D13,BDD_colza!$B$6:$W$27,10,TRUE))","v":3},{"$f":"IF(S13=\"\",\"\",(G13)/E13)","v":1},{"$f":"W13","v":1},{"$f":"W13","v":1}]
[null,null,3,1,{"$f":"IF(D14=1, \"\", VLOOKUP(D14,BDD_colza!$B$6:$D$27,3,TRUE))","v":""},{"$f":"IF(D14=1, \"\", VLOOKUP(D14,BDD_colza!$B$6:$V$27,4,TRUE))","v":""},null,{"$f":"IF(G14=\"\", \"\",G14*1000/(IF(D14=1, \"\", VLOOKUP(D14,BDD_colza!$B$6:$W$27,6,TRUE)))/10)","v":""},{"$f":"IF(D14=1, \"\", G14*VLOOKUP(D14,BDD_colza!$B$6:$W$27,5,TRUE))","v":""},{"$f":"IF(D14=1, \"\", VLOOKUP(D14,BDD_colza!$B$6:$V$27,20,TRUE))","v":""},{"$f":"IF(D14=1, \"\", VLOOKUP(D14,BDD_colza!$B$6:$V$27,21,TRUE))","v":""},{"$f":"IF(D14=1, \"\", VLOOKUP(D14,BDD_colza!$B$6:$V$27,9,TRUE))","v":""},{"$f":"IF(D14=1, \"\", VLOOKUP(D14,BDD_colza!$B$6:$W$27,19,TRUE))","v":""},{"$f":"IF(D14=1, \"\", VLOOKUP(D14,BDD_colza!$B$6:$W$27,15,TRUE))","v":""},{"$f":"IF(D14=1, \"\", VLOOKUP(D14,BDD_colza!$B$6:$W$27,16,TRUE))","v":""},{"$f":"IF(D12=1,\"\",VLOOKUP(D14,BDD_colza!$B$6:$C$27,2))","v":0},"",null,"",{"$f":"IF(D14=1, \"\", VLOOKUP(D14,BDD_colza!$B$6:$W$27,8,TRUE))","v":""},{"$f":"IF(D14=1, \"\", VLOOKUP(D14,BDD_colza!$B$6:$W$27,13,TRUE))","v":""},{"$f":"IF(D14=1, \"\", VLOOKUP(D14,BDD_colza!$B$6:$W$27,10,TRUE))","v":""},"","",""]
[null,null,4,1,{"$f":"IF(D15=1, \"\", VLOOKUP(D15,BDD_colza!$B$6:$D$27,3,TRUE))","v":""},{"$f":"IF(D15=1, \"\", VLOOKUP(D15,BDD_colza!$B$6:$V$27,4,TRUE))","v":""},null,{"$f":"IF(G15=\"\", \"\",G15*1000/(IF(D15=1, \"\", VLOOKUP(D15,BDD_colza!$B$6:$W$27,6,TRUE)))/10)","v":""},{"$f":"IF(D15=1, \"\", G15*VLOOKUP(D15,BDD_colza!$B$6:$W$27,5,TRUE))","v":""},{"$f":"IF(D15=1, \"\", VLOOKUP(D15,BDD_colza!$B$6:$V$27,20,TRUE))","v":""},{"$f":"IF(D15=1, \"\", VLOOKUP(D15,BDD_colza!$B$6:$V$27,21,TRUE))","v":""},{"$f":"IF(D15=1, \"\", VLOOKUP(D15,BDD_colza!$B$6:$V$27,9,TRUE))","v":""},{"$f":"IF(D15=1, \"\", VLOOKUP(D15,BDD_colza!$B$6:$W$27,19,TRUE))","v":""},{"$f":"IF(D15=1, \"\", VLOOKUP(D15,BDD_colza!$B$6:$W$27,15,TRUE))","v":""},{"$f":"IF(D15=1, \"\", VLOOKUP(D15,BDD_colza!$B$6:$W$27,16,TRUE))","v":""},{"$f":"IF(D13=1,\"\",VLOOKUP(D15,BDD_colza!$B$6:$C$27,2))","v":0},"",null,"",{"$f":"IF(D15=1, \"\", VLOOKUP(D15,BDD_colza!$B$6:$W$27,8,TRUE))","v":""},{"$f":"IF(D15=1, \"\", VLOOKUP(D15,BDD_colza!$B$6:$W$27,13,TRUE))","v":""},{"$f":"IF(D15=1, \"\", VLOOKUP(D15,BDD_colza!$B$6:$W$27,10,TRUE))","v":""},"","",""]
[null,null,5,1,{"$f":"IF(D16=1, \"\", VLOOKUP(D16,BDD_colza!$B$6:$D$27,3,TRUE))","v":""},{"$f":"IF(D16=1, \"\", VLOOKUP(D16,BDD_colza!$B$6:$V$27,4,TRUE))","v":""},null,{"$f":"IF(G16=\"\", \"\",G16*1000/(IF(D16=1, \"\", VLOOKUP(D16,BDD_colza!$B$6:$W$27,6,TRUE)))/10)","v":""},{"$f":"IF(D16=1, \"\", G16*VLOOKUP(D16,BDD_colza!$B$6:$W$27,5,TRUE))","v":""},{"$f":"IF(D16=1, \"\", VLOOKUP(D16,BDD_colza!$B$6:$V$27,20,TRUE))","v":""},{"$f":"IF(D16=1, \"\", VLOOKUP(D16,BDD_colza!$B$6:$V$27,21,TRUE))","v":""},{"$f":"IF(D16=1, \"\", VLOOKUP(D16,BDD_colza!$B$6:$V$27,9,TRUE))","v":""},{"$f":"IF(D16=1, \"\", VLOOKUP(D16,BDD_colza!$B$6:$W$27,19,TRUE))","v":""},{"$f":"IF(D16=1, \"\", VLOOKUP(D16,BDD_colza!$B$6:$W$27,15,TRUE))","v":""},{"$f":"IF(D16=1, \"\", VLOOKUP(D16,BDD_colza!$B$6:$W$27,16,TRUE))","v":""},{"$f":"IF(D14=1,\"\",VLOOKUP(D16,BDD_colza!$B$6:$C$27,2))","v":""},"",null,"",{"$f":"IF(D16=1, \"\", VLOOKUP(D16,BDD_colza!$B$6:$W$27,8,TRUE))","v":""},{"$f":"IF(D16=1, \"\", VLOOKUP(D16,BDD_colza!$B$6:$W$27,13,TRUE))","v":""},{"$f":"IF(D16=1, \"\", VLOOKUP(D16,BDD_colza!$B$6:$W$27,10,TRUE))","v":""},"","",""]
[null,null,6,1,{"$f":"IF(D17=1, \"\", VLOOKUP(D17,BDD_colza!$B$6:$D$27,3,TRUE))","v":""},{"$f":"IF(D17=1, \"\", VLOOKUP(D17,BDD_colza!$B$6:$V$27,4,TRUE))","v":""},null,{"$f":"IF(G17=\"\", \"\",G17*1000/(IF(D17=1, \"\", VLOOKUP(D17,BDD_colza!$B$6:$W$27,6,TRUE)))/10)","v":""},{"$f":"IF(D17=1, \"\", G17*VLOOKUP(D17,BDD_colza!$B$6:$W$27,5,TRUE))","v":""},{"$f":"IF(D17=1, \"\", VLOOKUP(D17,BDD_colza!$B$6:$V$27,20,TRUE))","v":""},{"$f":"IF(D17=1, \"\", VLOOKUP(D17,BDD_colza!$B$6:$V$27,21,TRUE))","v":""},{"$f":"IF(D17=1, \"\", VLOOKUP(D17,BDD_colza!$B$6:$V$27,9,TRUE))","v":""},{"$f":"IF(D17=1, \"\", VLOOKUP(D17,BDD_colza!$B$6:$W$27,19,TRUE))","v":""},{"$f":"IF(D17=1, \"\", VLOOKUP(D17,BDD_colza!$B$6:$W$27,15,TRUE))","v":""},{"$f":"IF(D17=1, \"\", VLOOKUP(D17,BDD_colza!$B$6:$W$27,16,TRUE))","v":""},{"$f":"IF(D15=1,\"\",VLOOKUP(D17,BDD_colza!$B$6:$C$27,2))","v":""},"",null,"",{"$f":"IF(D17=1, \"\", VLOOKUP(D17,BDD_colza!$B$6:$W$27,8,TRUE))","v":""},{"$f":"IF(D17=1, \"\", VLOOKUP(D17,BDD_colza!$B$6:$W$27,13,TRUE))","v":""},{"$f":"IF(D17=1, \"\", VLOOKUP(D17,BDD_colza!$B$6:$W$27,10,TRUE))","v":""},"","",""]
[null,null,7,1,{"$f":"IF(D18=1, \"\", VLOOKUP(D18,BDD_colza!$B$6:$D$27,3,TRUE))","v":""},{"$f":"IF(D18=1, \"\", VLOOKUP(D18,BDD_colza!$B$6:$V$27,4,TRUE))","v":""},null,{"$f":"IF(G18=\"\", \"\",G18*1000/(IF(D18=1, \"\", VLOOKUP(D18,BDD_colza!$B$6:$W$27,6,TRUE)))/10)","v":""},{"$f":"IF(D18=1, \"\", G18*VLOOKUP(D18,BDD_colza!$B$6:$W$27,5,TRUE))","v":""},{"$f":"IF(D18=1, \"\", VLOOKUP(D18,BDD_colza!$B$6:$V$27,20,TRUE))","v":""},{"$f":"IF(D18=1, \"\", VLOOKUP(D18,BDD_colza!$B$6:$V$27,21,TRUE))","v":""},{"$f":"IF(D18=1, \"\", VLOOKUP(D18,BDD_colza!$B$6:$V$27,9,TRUE))","v":""},{"$f":"IF(D18=1, \"\", VLOOKUP(D18,BDD_colza!$B$6:$W$27,19,TRUE))","v":""},{"$f":"IF(D18=1, \"\", VLOOKUP(D18,BDD_colza!$B$6:$W$27,15,TRUE))","v":""},{"$f":"IF(D18=1, \"\", VLOOKUP(D18,BDD_colza!$B$6:$W$27,16,TRUE))","v":""},{"$f":"IF(D16=1,\"\",VLOOKUP(D18,BDD_colza!$B$6:$C$27,2))","v":""},"",null,"",{"$f":"IF(D18=1, \"\", VLOOKUP(D18,BDD_colza!$B$6:$W$27,8,TRUE))","v":""},{"$f":"IF(D18=1, \"\", VLOOKUP(D18,BDD_colza!$B$6:$W$27,13,TRUE))","v":""},{"$f":"IF(D18=1, \"\", VLOOKUP(D18,BDD_colza!$B$6:$W$27,10,TRUE))","v":""},"","",""]
[null,null,8,1,{"$f":"IF(D19=1, \"\", VLOOKUP(D19,BDD_colza!$B$6:$D$27,3,TRUE))","v":""},{"$f":"IF(D19=1, \"\", VLOOKUP(D19,BDD_colza!$B$6:$V$27,4,TRUE))","v":""},null,{"$f":"IF(G19=\"\", \"\",G19*1000/(IF(D19=1, \"\", VLOOKUP(D19,BDD_colza!$B$6:$W$27,6,TRUE)))/10)","v":""},{"$f":"IF(D19=1, \"\", G19*VLOOKUP(D19,BDD_colza!$B$6:$W$27,5,TRUE))","v":""},{"$f":"IF(D19=1, \"\", VLOOKUP(D19,BDD_colza!$B$6:$V$27,20,TRUE))","v":""},{"$f":"IF(D19=1, \"\", VLOOKUP(D19,BDD_colza!$B$6:$V$27,21,TRUE))","v":""},{"$f":"IF(D19=1, \"\", VLOOKUP(D19,BDD_colza!$B$6:$V$27,9,TRUE))","v":""},{"$f":"IF(D19=1, \"\", VLOOKUP(D19,BDD_colza!$B$6:$W$27,19,TRUE))","v":""},{"$f":"IF(D19=1, \"\", VLOOKUP(D19,BDD_colza!$B$6:$W$27,15,TRUE))","v":""},{"$f":"IF(D19=1, \"\", VLOOKUP(D19,BDD_colza!$B$6:$W$27,16,TRUE))","v":""},{"$f":"IF(D17=1,\"\",VLOOKUP(D19,BDD_colza!$B$6:$C$27,2))","v":""},"",null,"",{"$f":"IF(D19=1, \"\", VLOOKUP(D19,BDD_colza!$B$6:$W$27,8,TRUE))","v":""},{"$f":"IF(D19=1, \"\", VLOOKUP(D19,BDD_colza!$B$6:$W$27,13,TRUE))","v":""},{"$f":"IF(D19=1, \"\", VLOOKUP(D19,BDD_colza!$B$6:$W$27,10,TRUE))","v":""},"","",""]
[null,null,9,1,{"$f":"IF(D20=1, \"\", VLOOKUP(D20,BDD_colza!$B$6:$D$27,3,TRUE))","v":""},{"$f":"IF(D20=1, \"\", VLOOKUP(D20,BDD_colza!$B$6:$V$27,4,TRUE))","v":""},null,{"$f":"IF(G20=\"\", \"\",G20*1000/(IF(D20=1, \"\", VLOOKUP(D20,BDD_colza!$B$6:$W$27,6,TRUE)))/10)","v":""},{"$f":"IF(D20=1, \"\", G20*VLOOKUP(D20,BDD_colza!$B$6:$W$27,5,TRUE))","v":""},{"$f":"IF(D20=1, \"\", VLOOKUP(D20,BDD_colza!$B$6:$V$27,20,TRUE))","v":""},{"$f":"IF(D20=1, \"\", VLOOKUP(D20,BDD_colza!$B$6:$V$27,21,TRUE))","v":""},{"$f":"IF(D20=1, \"\", VLOOKUP(D20,BDD_colza!$B$6:$V$27,9,TRUE))","v":""},{"$f":"IF(D20=1, \"\", VLOOKUP(D20,BDD_colza!$B$6:$W$27,19,TRUE))","v":""},{"$f":"IF(D20=1, \"\", VLOOKUP(D20,BDD_colza!$B$6:$W$27,15,TRUE))","v":""},{"$f":"IF(D20=1, \"\", VLOOKUP(D20,BDD_colza!$B$6:$W$27,16,TRUE))","v":""},{"$f":"IF(D18=1,\"\",VLOOKUP(D20,BDD_colza!$B$6:$C$27,2))","v":""},"",null,"",{"$f":"IF(D20=1, \"\", VLOOKUP(D20,BDD_colza!$B$6:$W$27,8,TRUE))","v":""},{"$f":"IF(D20=1, \"\", VLOOKUP(D20,BDD_colza!$B$6:$W$27,13,TRUE))","v":""},{"$f":"IF(D20=1, \"\", VLOOKUP(D20,BDD_colza!$B$6:$W$27,10,TRUE))","v":""},"","",""]
[null,null,10,1,{"$f":"IF(D21=1, \"\", VLOOKUP(D21,BDD_colza!$B$6:$D$27,3,TRUE))","v":""},{"$f":"IF(D21=1, \"\", VLOOKUP(D21,BDD_colza!$B$6:$V$27,4,TRUE))","v":""},null,{"$f":"IF(G21=\"\", \"\",G21*1000/(IF(D21=1, \"\", VLOOKUP(D21,BDD_colza!$B$6:$W$27,6,TRUE)))/10)","v":""},{"$f":"IF(D21=1, \"\", G21*VLOOKUP(D21,BDD_colza!$B$6:$W$27,5,TRUE))","v":""},{"$f":"IF(D21=1, \"\", VLOOKUP(D21,BDD_colza!$B$6:$V$27,20,TRUE))","v":""},{"$f":"IF(D21=1, \"\", VLOOKUP(D21,BDD_colza!$B$6:$V$27,21,TRUE))","v":""},{"$f":"IF(D21=1, \"\", VLOOKUP(D21,BDD_colza!$B$6:$V$27,9,TRUE))","v":""},{"$f":"IF(D21=1, \"\", VLOOKUP(D21,BDD_colza!$B$6:$W$27,19,TRUE))","v":""},{"$f":"IF(D21=1, \"\", VLOOKUP(D21,BDD_colza!$B$6:$W$27,15,TRUE))","v":""},{"$f":"IF(D21=1, \"\", VLOOKUP(D21,BDD_colza!$B$6:$W$27,16,TRUE))","v":""},{"$f":"IF(D19=1,\"\",VLOOKUP(D21,BDD_colza!$B$6:$C$27,2))","v":""},"",null,"",{"$f":"IF(D21=1, \"\", VLOOKUP(D21,BDD_colza!$B$6:$W$27,8,TRUE))","v":""},{"$f":"IF(D21=1, \"\", VLOOKUP(D21,BDD_colza!$B$6:$W$27,13,TRUE))","v":""},{"$f":"IF(D21=1, \"\", VLOOKUP(D21,BDD_colza!$B$6:$W$27,10,TRUE))","v":""},"","",""]
[null,null,null,null,null,"TOTAL",{"$f":"SUM(G12:G21)","v":15},{"$f":"SUM(H12:H21)","v":240},{"$f":"SUM(I12:I21)","v":41.5},null,null,null,null,null,null,null,null,null,{"$f":"SUM(S12:S21)","v":240},{"$f":"SUMPRODUCT(S12:S21,T12:T21)/S22","v":2},{"$f":"SUMPRODUCT(S12:S21,U12:U21)/S22","v":2},{"$f":"SUMPRODUCT(S12:S21,V12:V21)/S22","v":2.8333333333333335}]
[]
[null,null,null,null,null,null,null,null,null,null,null,null,null,null,null,null,null,null,null,null,null,"Somme",{"$f":"SUM(W12:W21)","v":2},{"$f":"SUM(X12:X21)","v":2},2]
[null,null,null,null,null,null,null,null,null,null,null,null,null,null,null,null,null,null,null,null,null,"Sommeprod",{"$f":"SUMPRODUCT(T12:T21,W12:W21)","v":4},{"$f":"SUMPRODUCT(U12:U21,X12:X21)","v":4},5]
[null,null,null,null,null,null,null,null,null,null,null,null,null,"Nombre de pieds/m²",null,null,null,null,null,null,null,"Moyenne",{"$f":"W25/W24","v":2},{"$f":"X25/X24","v":2},2.5]
[null,null,null,null,null,null,null,null,null,null,null,null,null,null,"Annuel",{"$f":"S22","v":240},null,null,null,null,null,"Max",5,5,5]
[null,null,null,null,null,null,null,null,null,null,null,null,null,null,"Pluri-annuel",{"$f":"H22-S22","v":0},null,null,null,null,null,"%",{"$f":"IF((W25*100)/W27>90,90,(W25*100)/W27)","v":80},{"$f":"IF((X25*100)/X27>90,90,(X25*100)/X27)","v":80},{"$f":"IF((Y25*100)/Y27>90,90,(Y25*100)/Y27)","v":90}]
[]
[]
[]
[]
[]
[]
[]
[]
[]
[]
[]
[]
[]
[]
[]
[]
[null,null,null,"Concurrence Adventice",null,null,"Concurrence Adventice",null,null,"Impact CULTURE"]
[null,null,null,"Vert",33,null,"Vert",33,null,"Vert",33]
[null,null,null,"Orange",33,null,"Orange",33,null,"Orange",33]
[null,null,null,"Rouge",33,null,"Rouge",33,null,"Rouge",33]
[null,null,null,"Invisible",{"$f":"SUM(E46:E48)","v":99},null,"Invisible",{"$f":"SUM(H46:H48)","v":99},null,"Invisible",{"$f":"SUM(K46:K48)","v":99}]
[]
[null,null,null,"Valeur aiguille",{"$f":"W28","v":80},null,"Valeur aiguille",{"$f":"X28","v":80},null,"Valeur aiguille",{"$f":"Y28","v":90}]
[null,null,null,"Largeur aiguille",2,null,"Largeur aiguille",2,null,"Largeur aiguille",2]
[null,null,null,"Invisible",{"$f":"SUM(E46:E49)-E51-E52","v":116},null,"Invisible",{"$f":"SUM(H46:H49)-H51-H52","v":116},null,"Invisible",{"$f":"SUM(K46:K49)-K51-K52","v":106}]
[]
[null,null,null,"Valeur de 0 à 97"]
[]
[]
[null,null,null,null,"Type botanique",null,null,"Famille Plante","NB"]
[null,null,null,null,"Annuel",{"$f":"COUNTIF(N12:N21,\"annuel\")","v":2},null,"Légumineuses",{"$f":"COUNTIF($O$12:$O$21,\"Légumineuse\")","v":2}]
[null,null,null,null,"Puri-annuel",{"$f":"COUNTIF(N12:N21,\"Pluri-annuel\")","v":0},null,"Autres",{"$f":"SUM(I61:I64)","v":0}]
[null,null,null,null,null,null,null,"Crucifère",{"$f":"COUNTIF($O$12:$O$21,\"Crucifère\")","v":0}]
[null,null,null,null,null,null,null,"Linacée",{"$f":"COUNTIF($O$12:$O$21,\"Linacée\")","v":0}]
[null,null,null,null,null,null,null,"Composée",{"$f":"COUNTIF($O$12:$O$21,\"Composée\")","v":0}]
[null,null,null,null,null,null,null,"Polygonacée",{"$f":"COUNTIF($O$12:$O$21,\"Polygonacée\")","v":0}]

{"sheet":"Caractéristiques_couverts_colza","index":24,"n_rows":32,"n_cols":14,"rows_kept":32,"cut":false,"hidden":false,"merged":[]}
[]
[]
[]
[]
[]
[]
[]
[]
[]
[null,null,null,null,null,null,"TOURNESOL",null,null,null,"LIN",null,null,"CAMELINE"]
[null,null,null,"ANNUELLES",null,null,"NIGER"]
[null,null,null,"LENTILLE"]
[null,null,null,"FENUGREC"]
[null,null,null,"TREFLE D'ALEXANDRIE"]
[null,null,null,"FEVEROLE"]
[null,null,null,"VESCE COMMUNE",null,null,"SARRASIN"]
[null,null,null,"VESCE POURPRE"]
[null,null,null,"VESCE ERIGEE"]
[null,null,null,"GESSE"]
[null,null,null,"LUPIN BLEU"]
[null,null,null,"POIS FOURRAGER"]
[null,null,null,"POIS PROTEAGINEUX"]
[]
[null,null,null,"PLURI-ANNUELLES"]
[null,null,null,"LUZERNE"]
[null,null,null,"LOTIER CORNICULE"]
[null,null,null,"TREFLE BLANC"]
[null,null,null,"TREFLE VIOLET"]
[null,null,null,"TREFLE BLANC PIPOLINA"]
[]
[]
[null,null,null,"Sensibilité aphanomyces selon les variétés"]

{"sheet":"Paramètres_Couverts","index":25,"n_rows":29,"n_cols":7,"rows_kept":29,"cut":false,"hidden":false,"merged":[]}
[]
["PARAMETRES DES COUVERTS ASSOCIES"]
[]
[null,null,null,null,null,null,"Retour"]
[]
[]
[null,"Dose de semis (kg/ha)","Densité de pieds/m² objectif","Coût (€/ha)","PMG"]
[]
["Cameline",3,250,5.7,1.2]
["Fenugrec",10,40,2.6,25]
["Feverole",80,15,0.26,500]
["Gesse",20,10,1.52,180]
["Lentille",10,40,2.4,25]
["Lin",20,14,1.25,7]
["Lotier Corniculé",10,900,6.1,1.1000000000000001]
["Lupin bleu",40,20,2.4500000000000002,200]
["Luzerne Flamande",10,500,5.69,2]
["Niger",2,67,4.0999999999999996,3]
["Pois fourrager",20,17,1.49,100]
["Pois protéagineux",50,18,0.2,200]
["Sarrasin",40,180,2.1,22]
["Tournesol",10,3,0.2,60]
["Trèfle Blanc",3,500,5.8,0.6]
["Trèfle blanc PIPOLINA",2,500,24,0.6]
["Trèfle d'Alexandrie",5,120,3.1,2.5]
["Trèfle violet",7,500,5.8,1.9]
["Vesce commune",10,15,1.85,50]
["Vesce érigée",40,50,1.9,23]
["Vesce pourpre",10,15,1.99,50]

{"sheet":"Aphano","index":26,"n_rows":3,"n_cols":15,"rows_kept":3,"cut":false,"hidden":false,"merged":[]}
[]
[null,null,null,null,null,null,null,null,null,null,null,null,null,"Source : Terres Inovia"]
[null,null,null,null,null,null,null,null,null,null,null,null,null,null,"Retour"]

{"sheet":"Feuil1","index":27,"n_rows":47,"n_cols":14,"rows_kept":47,"cut":false,"hidden":false,"merged":[]}
[]
[]
[]
["Couvert","Type","Hauteur","Racine","Biomasse","Piégeage N","Fourniture N","Coût","Dose/ha","PMG (g)"]
[]
["Avoine bresilienne","graminée",2,2,1.8,2,2.5,1.7,35,35,{"$f":"I6*G6","v":87.5},null,null,{"$f":"E6*I6","v":63}]
["Avoine de printemps","graminée",2,2,1,2,1.5,0.25,60,20,{"$f":"I7*G7","v":90},null,null,{"$f":"E7*I7","v":60}]
["Avoine d'hiver","graminée",2,2,1,2,1.5,0.25,60,20,90,null,null,60]
["Cameline","Crucifère",1,1,6,3,7,5.7,5,1.2,35,null,null,30]
["Colza","Crucifère",2,3,20,3,7,2.4900000000000002,5,6,35,null,null,100]
["Fénugrec","Légumineuse",1,1,1.5,null,4,2.6,30,22,120,null,null,45]
["Féverole","Légumineuse",3,3,0.4,null,1.5,0.26,180,500,270,null,null,72]
["Gesse","Légumineuse",1,2,1.2,null,3,2.2000000000000002,50,180,150,null,null,60]
["Lentille fourragère","Légumineuse",1,1,1.2,null,3,2.75,45,22,135,null,null,54]
["Lin","Linacée",1,1,1,2,1,1.25,40,7,40,null,null,40]
["Lotier Corniculé","Légumineuse",1,3,7,null,14,9,10,1.1000000000000001,140,null,null,70]
["Luzerne Flamande","Légumineuse",1,3,9,null,20,5.69,8,2,160,null,null,72]
["Mélilot","Légumineuse",1,3,3.5,null,7,4.95,20,2,140,null,null,70]
["Millet perlé","Graminée",3,3,5,1,6,2.99,15,8,90,null,null,75]
["Minette","Légumineuse",1,2,7,null,14,4.9000000000000004,10,1.7,140,null,null,70]
["Moha fourrager","graminée",3,3,3,2,4.5,1.49,20,5,90,null,null,60]
["Moutarde blanche","Crucifère",3,3,12,3,5,1.65,8,7,40,null,null,96]
["Moutarde brune","Crucifère",3,3,28,3,14,8.4,3,2.5,42,null,null,84]
["Moutarde d'Abyssinie","Crucifère",3,3,14,3,7,5.15,6,6,42,null,null,84]
["Niger","Composée",2,2,6,2,11,4.0999999999999996,8,3,88,null,null,48]
["Phacélie","Hydrophyllacée",2,2,6,2,4,3.59,10,2,40,null,null,60]
["Pois fourrager","Légumineuse",2,2,0.8,null,1.5,1.49,100,100,150,null,null,80]
["Pois protéagineux","Légumineuse",2,2,0.2,null,0.55000000000000004,0.2,200,200,110.00000000000001,null,null,40]
["Radis chinois","Crucifère",2,3,6,3,3.5,5.0999999999999996,10,8,35,null,null,60]
["Radis fourrager","Crucifère",3,3,10,3,3,2.99,12,9,36,null,null,120]
["Ray-grass Italien","graminée",2,2,10,3,4.5,2.0499999999999998,20,2,90,null,null,200]
["Sainfoin (cosse)","Légumineuse",1,3,0.7,null,1,1.99,130,22,130,null,null,91]
["Sainfoin (décortiqué)","Légumineuse",1,3,2,null,3.2,2.79,40,22,128,null,null,80]
["Sarrasin","Polygonacée",2,1,2,3,2.5,2.1,35,25,87.5,null,null,70]
["Seigle forestier","graminée",3,3,3,1,3.5,1.1000000000000001,25,30,87.5,null,null,75]
["Seigle fourrager","graminée",3,3,1.2,2,1.5,1.5,60,45,90,null,null,72]
["Sorgho fourrager","graminée",3,3,6.2,3,6,4.74,15,30,90,null,null,93]
["Tournesol","Composée",3,3,1.5,3,1.8,0.2,50,60,90,null,null,75]
["Trèfle Blanc","Légumineuse",1,2,18,null,40,5.8,4,0.6,160,null,null,72]
["Trèfle d'Alexandrie","Légumineuse",1,2,3.5,null,10,2.39,15,2.5,150,null,null,52.5]
["Trèfle de Micheli","Légumineuse",1,2,7,null,15,3.99,10,0.8,150,null,null,70]
["Trèfle de perse","Légumineuse",1,2,3,null,6,5.85,20,2,120,null,null,60]
["Trèfle incarnat","Légumineuse",1,2,6,null,10,2.69,15,2.5,150,null,null,90]
["Trèfle violet","Légumineuse",1,2,4,null,10,5.8,15,1.9,150,null,null,60]
["Vesce commune","Légumineuse",1,2,1,null,3,1.85,50,60,150,null,null,50]
["Vesce pourpre","Légumineuse",1,2,2.2000000000000002,null,3.8,1.99,40,60,152,null,null,88]
["Vesce velue","Légumineuse",1,2,2.5,null,4.3,3.13,35,60,150.5,null,null,87.5]

{"sheet":"Feuil3","index":28,"n_rows":16,"n_cols":6,"rows_kept":16,"cut":false,"hidden":false,"merged":[]}
[]
[]
[null,"AZOTE",null,null,"BIOMASSE"]
[null,"verte",33,null,"verte",33]
[null,"orange",33,null,"orange",33]
[null,"rouge",33,null,"rouge",33]
[null,"invisible",{"$f":"SUM(C4:C6)","v":99},null,"invisible",{"$f":"SUM(F4:F6)","v":99}]
[]
[]
[null,"Aiguille",{"$f":"IF(Composition!AA28=FALSE, Feuil3!B15, Feuil3!B16)","v":21.67},null,"Aiguille",{"$f":"IF(Composition!AA28=FALSE, Feuil3!E15, Feuil3!E16)","v":36.900000000000006}]
[null,"Largeur",2,null,"Largeur",2]
[null,"Invisible",{"$f":"SUM(C4:C7)-(C10+C11)","v":174.32999999999998},null,"Invisible",{"$f":"SUM(F4:F7)-(F10+F11)","v":159.1}]
[]
[]
["Conseillé",{"$f":"Composition!AF27","v":21.67},null,null,{"$f":"Composition!AC27","v":36.900000000000006}]
["Ajusté",{"$f":"Composition!AK27","v":0},null,null,{"$f":"Composition!AI27","v":0}]

{"sheet":"Conseil_semis","index":29,"n_rows":64,"n_cols":25,"rows_kept":64,"cut":false,"hidden":false,"merged":[]}
[]
[]
[]
[]
[]
[]
[]
[]
[]
[]
[null,null,null,null,null,"Profondeur mini (cm)","Profondeur maxi (cm)",null,null,null,null,null,null,null,null,null,{"$f":"H11","v":0},null,null,"Concurrence adventice","Minéralisation","Biomasse","Concurrence","Minéralisation","Biomasse"]
[null,null,{"$f":"Composition_Colza!D12","v":3},{"$f":"IF(C12=1,\"\", VLOOKUP(C12,BDD_colza!$B$6:$C$27,2))","v":"Fenugrec"},0,{"$f":"IF(C12=1, \"\", VLOOKUP(C12,BDD_colza!$B$6:$S$27,17))","v":2},{"$f":"IF(C12=1,\"\",H12-F12)","v":1},3,null,null,null,null,null,null,null,null,null,null,{"$f":"IF(N12=$E$59,#REF!,\"\")","v":""},{"$f":"IF(D12=1, \"\", VLOOKUP(D12,BDD_colza!$B$6:$W$27,8,TRUE))","v":{"$error":"#N/A"}},{"$f":"IF(D12=1, \"\", VLOOKUP(D12,BDD_colza!$B$6:$W$27,13,TRUE))","v":{"$error":"#N/A"}},{"$f":"IF(D12=1, \"\", VLOOKUP(D12,BDD_colza!$B$6:$W$27,10,TRUE))","v":{"$error":"#N/A"}},{"$f":"IF(S12=\"\",\"\",(#REF!)/F12)","v":""},{"$f":"W12","v":""},{"$f":"W12","v":""}]
[null,null,{"$f":"Composition_Colza!D13","v":18},{"$f":"IF(C13=1,\"\", VLOOKUP(C13,BDD_colza!$B$6:$C$27,2))","v":"Trèfle d'Alexandrie"},0,{"$f":"IF(C13=1, \"\", VLOOKUP(C13,BDD_colza!$B$6:$S$27,17))","v":1},{"$f":"IF(C13=1,\"\",H13-F13)","v":1},{"$f":"IF(C13=1, \"\", VLOOKUP(C13,BDD_colza!$B$6:$S$27,18))","v":2},null,null,null,null,null,null,null,null,null,null,{"$f":"IF(N13=$E$59,#REF!,\"\")","v":""},{"$f":"IF(D13=1, \"\", VLOOKUP(D13,BDD_colza!$B$6:$W$27,8,TRUE))","v":{"$error":"#N/A"}},{"$f":"IF(D13=1, \"\", VLOOKUP(D13,BDD_colza!$B$6:$W$27,13,TRUE))","v":{"$error":"#N/A"}},{"$f":"IF(D13=1, \"\", VLOOKUP(D13,BDD_colza!$B$6:$W$27,10,TRUE))","v":{"$error":"#N/A"}},{"$f":"IF(S13=\"\",\"\",(#REF!)/F13)","v":""},{"$f":"W13","v":""},{"$f":"W13","v":""}]
[null,null,{"$f":"Composition_Colza!D14","v":1},{"$f":"IF(C14=1,\"\", VLOOKUP(C14,BDD_colza!$B$6:$C$27,2))","v":""},0,{"$f":"IF(C14=1, \"\", VLOOKUP(C14,BDD_colza!$B$6:$S$27,17))","v":""},"",{"$f":"IF(C14=1, \"\", VLOOKUP(C14,BDD_colza!$B$6:$S$27,18))","v":""},null,null,null,null,null,null,null,null,null,null,{"$f":"IF(N14=$E$59,#REF!,\"\")","v":""},{"$f":"IF(D14=1, \"\", VLOOKUP(D14,BDD_colza!$B$6:$W$27,8,TRUE))","v":{"$error":"#N/A"}},{"$f":"IF(D14=1, \"\", VLOOKUP(D14,BDD_colza!$B$6:$W$27,13,TRUE))","v":{"$error":"#N/A"}},{"$f":"IF(D14=1, \"\", VLOOKUP(D14,BDD_colza!$B$6:$W$27,10,TRUE))","v":{"$error":"#N/A"}},{"$f":"IF(S14=\"\",\"\",(#REF!)/F14)","v":""},"",""]
[null,null,{"$f":"Composition_Colza!D15","v":1},{"$f":"IF(C15=1,\"\", VLOOKUP(C15,BDD_colza!$B$6:$C$27,2))","v":""},0,{"$f":"IF(C15=1, \"\", VLOOKUP(C15,BDD_colza!$B$6:$S$27,17))","v":""},"",{"$f":"IF(C15=1, \"\", VLOOKUP(C15,BDD_colza!$B$6:$S$27,18))","v":""},null,null,null,null,null,null,null,null,null,null,{"$f":"IF(N15=$E$59,#REF!,\"\")","v":""},{"$f":"IF(D15=1, \"\", VLOOKUP(D15,BDD_colza!$B$6:$W$27,8,TRUE))","v":{"$error":"#N/A"}},{"$f":"IF(D15=1, \"\", VLOOKUP(D15,BDD_colza!$B$6:$W$27,13,TRUE))","v":{"$error":"#N/A"}},{"$f":"IF(D15=1, \"\", VLOOKUP(D15,BDD_colza!$B$6:$W$27,10,TRUE))","v":{"$error":"#N/A"}},{"$f":"IF(S15=\"\",\"\",(#REF!)/F15)","v":""},"",""]
[null,null,{"$f":"Composition_Colza!D16","v":1},{"$f":"IF(C16=1,\"\", VLOOKUP(C16,BDD_colza!$B$6:$C$27,2))","v":""},0,{"$f":"IF(C16=1, \"\", VLOOKUP(C16,BDD_colza!$B$6:$S$27,17))","v":""},"",{"$f":"IF(C16=1, \"\", VLOOKUP(C16,BDD_colza!$B$6:$S$27,18))","v":""},null,null,null,null,null,null,null,null,null,null,{"$f":"IF(N16=$E$59,#REF!,\"\")","v":""},{"$f":"IF(D16=1, \"\", VLOOKUP(D16,BDD_colza!$B$6:$W$27,8,TRUE))","v":{"$error":"#N/A"}},{"$f":"IF(D16=1, \"\", VLOOKUP(D16,BDD_colza!$B$6:$W$27,13,TRUE))","v":{"$error":"#N/A"}},{"$f":"IF(D16=1, \"\", VLOOKUP(D16,BDD_colza!$B$6:$W$27,10,TRUE))","v":{"$error":"#N/A"}},{"$f":"IF(S16=\"\",\"\",(#REF!)/F16)","v":""},"",""]
[null,null,{"$f":"Composition_Colza!D17","v":1},{"$f":"IF(C17=1,\"\", VLOOKUP(C17,BDD_colza!$B$6:$C$27,2))","v":""},0,{"$f":"IF(C17=1, \"\", VLOOKUP(C17,BDD_colza!$B$6:$S$27,17))","v":""},"",{"$f":"IF(C17=1, \"\", VLOOKUP(C17,BDD_colza!$B$6:$S$27,18))","v":""},null,null,null,null,null,null,null,null,null,null,{"$f":"IF(N17=$E$59,#REF!,\"\")","v":""},{"$f":"IF(D17=1, \"\", VLOOKUP(D17,BDD_colza!$B$6:$W$27,8,TRUE))","v":{"$error":"#N/A"}},{"$f":"IF(D17=1, \"\", VLOOKUP(D17,BDD_colza!$B$6:$W$27,13,TRUE))","v":{"$error":"#N/A"}},{"$f":"IF(D17=1, \"\", VLOOKUP(D17,BDD_colza!$B$6:$W$27,10,TRUE))","v":{"$error":"#N/A"}},{"$f":"IF(S17=\"\",\"\",(#REF!)/F17)","v":""},"",""]
[null,null,{"$f":"Composition_Colza!D18","v":1},{"$f":"IF(C18=1,\"\", VLOOKUP(C18,BDD_colza!$B$6:$C$27,2))","v":""},0,{"$f":"IF(C18=1, \"\", VLOOKUP(C18,BDD_colza!$B$6:$S$27,17))","v":""},"",{"$f":"IF(C18=1, \"\", VLOOKUP(C18,BDD_colza!$B$6:$S$27,18))","v":""},null,null,null,null,null,null,null,null,null,null,{"$f":"IF(N18=$E$59,#REF!,\"\")","v":""},{"$f":"IF(D18=1, \"\", VLOOKUP(D18,BDD_colza!$B$6:$W$27,8,TRUE))","v":{"$error":"#N/A"}},{"$f":"IF(D18=1, \"\", VLOOKUP(D18,BDD_colza!$B$6:$W$27,13,TRUE))","v":{"$error":"#N/A"}},{"$f":"IF(D18=1, \"\", VLOOKUP(D18,BDD_colza!$B$6:$W$27,10,TRUE))","v":{"$error":"#N/A"}},{"$f":"IF(S18=\"\",\"\",(#REF!)/F18)","v":""},"",""]
[null,null,{"$f":"Composition_Colza!D19","v":1},{"$f":"IF(C19=1,\"\", VLOOKUP(C19,BDD_colza!$B$6:$C$27,2))","v":""},0,{"$f":"IF(C19=1, \"\", VLOOKUP(C19,BDD_colza!$B$6:$S$27,17))","v":""},"",{"$f":"IF(C19=1, \"\", VLOOKUP(C19,BDD_colza!$B$6:$S$27,18))","v":""},null,null,null,null,null,null,null,null,null,null,{"$f":"IF(N19=$E$59,#REF!,\"\")","v":""},{"$f":"IF(D19=1, \"\", VLOOKUP(D19,BDD_colza!$B$6:$W$27,8,TRUE))","v":{"$error":"#N/A"}},{"$f":"IF(D19=1, \"\", VLOOKUP(D19,BDD_colza!$B$6:$W$27,13,TRUE))","v":{"$error":"#N/A"}},{"$f":"IF(D19=1, \"\", VLOOKUP(D19,BDD_colza!$B$6:$W$27,10,TRUE))","v":{"$error":"#N/A"}},{"$f":"IF(S19=\"\",\"\",(#REF!)/F19)","v":""},"",""]
[null,null,{"$f":"Composition_Colza!D20","v":1},{"$f":"IF(C20=1,\"\", VLOOKUP(C20,BDD_colza!$B$6:$C$27,2))","v":""},0,{"$f":"IF(C20=1, \"\", VLOOKUP(C20,BDD_colza!$B$6:$S$27,17))","v":""},"",{"$f":"IF(C20=1, \"\", VLOOKUP(C20,BDD_colza!$B$6:$S$27,18))","v":""},null,null,null,null,null,null,null,null,null,null,{"$f":"IF(N20=$E$59,#REF!,\"\")","v":""},{"$f":"IF(D20=1, \"\", VLOOKUP(D20,BDD_colza!$B$6:$W$27,8,TRUE))","v":{"$error":"#N/A"}},{"$f":"IF(D20=1, \"\", VLOOKUP(D20,BDD_colza!$B$6:$W$27,13,TRUE))","v":{"$error":"#N/A"}},{"$f":"IF(D20=1, \"\", VLOOKUP(D20,BDD_colza!$B$6:$W$27,10,TRUE))","v":{"$error":"#N/A"}},{"$f":"IF(S20=\"\",\"\",(#REF!)/F20)","v":""},"",""]
[null,null,{"$f":"Composition_Colza!D21","v":1},{"$f":"IF(C21=1,\"\", VLOOKUP(C21,BDD_colza!$B$6:$C$27,2))","v":""},0,{"$f":"IF(C21=1, \"\", VLOOKUP(C21,BDD_colza!$B$6:$S$27,17))","v":""},"",{"$f":"IF(C21=1, \"\", VLOOKUP(C21,BDD_colza!$B$6:$S$27,18))","v":""},null,null,null,null,null,null,null,null,null,null,{"$f":"IF(N21=$E$59,#REF!,\"\")","v":""},{"$f":"IF(D21=1, \"\", VLOOKUP(D21,BDD_colza!$B$6:$W$27,8,TRUE))","v":{"$error":"#N/A"}},{"$f":"IF(D21=1, \"\", VLOOKUP(D21,BDD_colza!$B$6:$W$27,13,TRUE))","v":{"$error":"#N/A"}},{"$f":"IF(D21=1, \"\", VLOOKUP(D21,BDD_colza!$B$6:$W$27,10,TRUE))","v":{"$error":"#N/A"}},{"$f":"IF(S21=\"\",\"\",(#REF!)/F21)","v":""},"",""]
[null,null,null,null,null,null,null,null,null,null,null,null,null,null,null,null,null,null,{"$f":"SUM(S12:S21)","v":0},{"$f":"SUMPRODUCT(S12:S21,T12:T21)/S22","v":{"$error":"#N/A"}},{"$f":"SUMPRODUCT(S12:S21,U12:U21)/S22","v":{"$error":"#N/A"}},{"$f":"SUMPRODUCT(S12:S21,V12:V21)/S22","v":{"$error":"#N/A"}}]
[]
[null,null,null,null,null,null,null,null,null,null,null,null,null,null,null,null,null,null,null,null,null,"Somme",{"$f":"SUM(W12:W21)","v":0},{"$f":"SUM(X12:X21)","v":0},0]
[null,null,null,null,null,null,null,null,null,null,null,null,null,null,null,null,null,null,null,null,null,"Sommeprod",{"$f":"SUMPRODUCT(T12:T21,W12:W21)","v":{"$error":"#N/A"}},{"$f":"SUMPRODUCT(U12:U21,X12:X21)","v":{"$error":"#N/A"}},{"$error":"#N/A"}]
[null,null,null,null,null,null,null,null,null,null,null,null,null,null,null,null,null,null,null,null,null,"Moyenne",{"$f":"W25/W24","v":{"$error":"#N/A"}},{"$f":"X25/X24","v":{"$error":"#N/A"}},{"$error":"#N/A"}]
[null,null,null,null,null,null,null,null,null,null,null,null,null,null,null,null,null,null,null,null,null,"Max",5,5,5]
[null,null,null,null,null,null,null,null,null,null,null,null,null,null,null,null,null,null,null,null,null,"%",{"$f":"IF((W25*100)/W27>90,90,(W25*100)/W27)","v":{"$error":"#N/A"}},{"$f":"IF((X25*100)/X27>90,90,(X25*100)/X27)","v":{"$error":"#N/A"}},{"$f":"IF((Y25*100)/Y27>90,90,(Y25*100)/Y27)","v":{"$error":"#N/A"}}]
[]
[]
[]
[]
[]
[]
[]
[]
[]
[]
[]
[]
[]
[]
[]
[]
[null,null,null,"Concurrence Adventice",null,null,"Concurrence Adventice",null,null,"Impact CULTURE"]
[null,null,null,"Vert",33,null,"Vert",33,null,"Vert",33]
[null,null,null,"Orange",33,null,"Orange",33,null,"Orange",33]
[null,null,null,"Rouge",33,null,"Rouge",33,null,"Rouge",33]
[null,null,null,"Invisible",{"$f":"SUM(E46:E48)","v":99},null,"Invisible",{"$f":"SUM(H46:H48)","v":99},null,"Invisible",{"$f":"SUM(K46:K48)","v":99}]
[]
[null,null,null,"Valeur aiguille",{"$f":"W28","v":{"$error":"#N/A"}},null,"Valeur aiguille",{"$f":"X28","v":{"$error":"#N/A"}},null,"Valeur aiguille",{"$f":"Y28","v":{"$error":"#N/A"}}]
[null,null,null,"Largeur aiguille",2,null,"Largeur aiguille",2,null,"Largeur aiguille",2]
[null,null,null,"Invisible",{"$f":"SUM(E46:E49)-E51-E52","v":{"$error":"#N/A"}},null,"Invisible",{"$f":"SUM(H46:H49)-H51-H52","v":{"$error":"#N/A"}},null,"Invisible",{"$f":"SUM(K46:K49)-K51-K52","v":{"$error":"#N/A"}}]
[]
[null,null,null,"Valeur de 0 à 97"]
[]
[]
[null,null,null,null,"Type botanique",null,null,"Famille Plante","NB"]
[null,null,null,null,"Annuel",{"$f":"COUNTIF(N12:N21,\"annuel\")","v":0},null,"Légumineuses",{"$f":"COUNTIF($O$12:$O$21,\"Légumineuse\")","v":0}]
[null,null,null,null,"Puri-annuel",{"$f":"COUNTIF(N12:N21,\"Pluri-annuel\")","v":0},null,"Autres",{"$f":"SUM(I61:I64)","v":0}]
[null,null,null,null,null,null,null,"Crucifère",{"$f":"COUNTIF($O$12:$O$21,\"Crucifère\")","v":0}]
[null,null,null,null,null,null,null,"Linacée",{"$f":"COUNTIF($O$12:$O$21,\"Linacée\")","v":0}]
[null,null,null,null,null,null,null,"Composée",{"$f":"COUNTIF($O$12:$O$21,\"Composée\")","v":0}]
[null,null,null,null,null,null,null,"Polygonacée",{"$f":"COUNTIF($O$12:$O$21,\"Polygonacée\")","v":0}]

{"sheet":"Conseil_principes","index":30,"n_rows":64,"n_cols":25,"rows_kept":64,"cut":false,"hidden":false,"merged":[]}
[]
[]
[]
[]
[]
[]
[]
[]
[]
[]
[null,null,null,null,null,null,null,null,null,null,null,null,null,null,null,null,{"$f":"H11","v":0},null,null,"Concurrence adventice","Minéralisation","Biomasse","Concurrence","Minéralisation","Biomasse"]
[null,null,null,null,null,null,null,null,null,null,null,null,null,null,null,null,null,null,{"$f":"IF(N12=$E$59,#REF!,\"\")","v":""},{"$f":"IF(D12=1, \"\", VLOOKUP(D12,BDD_colza!$B$6:$W$27,8,TRUE))","v":{"$error":"#N/A"}},{"$f":"IF(D12=1, \"\", VLOOKUP(D12,BDD_colza!$B$6:$W$27,13,TRUE))","v":{"$error":"#N/A"}},{"$f":"IF(D12=1, \"\", VLOOKUP(D12,BDD_colza!$B$6:$W$27,10,TRUE))","v":{"$error":"#N/A"}},{"$f":"IF(S12=\"\",\"\",(#REF!)/F12)","v":""},{"$f":"W12","v":""},{"$f":"W12","v":""}]
[null,null,null,null,null,null,null,null,null,null,null,null,null,null,null,null,null,null,{"$f":"IF(N13=$E$59,#REF!,\"\")","v":""},{"$f":"IF(D13=1, \"\", VLOOKUP(D13,BDD_colza!$B$6:$W$27,8,TRUE))","v":{"$error":"#N/A"}},{"$f":"IF(D13=1, \"\", VLOOKUP(D13,BDD_colza!$B$6:$W$27,13,TRUE))","v":{"$error":"#N/A"}},{"$f":"IF(D13=1, \"\", VLOOKUP(D13,BDD_colza!$B$6:$W$27,10,TRUE))","v":{"$error":"#N/A"}},{"$f":"IF(S13=\"\",\"\",(#REF!)/F13)","v":""},{"$f":"W13","v":""},{"$f":"W13","v":""}]
[null,null,null,null,null,null,null,null,null,null,null,null,null,null,null,null,null,null,{"$f":"IF(N14=$E$59,#REF!,\"\")","v":""},{"$f":"IF(D14=1, \"\", VLOOKUP(D14,BDD_colza!$B$6:$W$27,8,TRUE))","v":{"$error":"#N/A"}},{"$f":"IF(D14=1, \"\", VLOOKUP(D14,BDD_colza!$B$6:$W$27,13,TRUE))","v":{"$error":"#N/A"}},{"$f":"IF(D14=1, \"\", VLOOKUP(D14,BDD_colza!$B$6:$W$27,10,TRUE))","v":{"$error":"#N/A"}},{"$f":"IF(S14=\"\",\"\",(#REF!)/F14)","v":""},"",""]
[null,null,null,null,null,null,null,null,null,null,null,null,null,null,null,null,null,null,{"$f":"IF(N15=$E$59,#REF!,\"\")","v":""},{"$f":"IF(D15=1, \"\", VLOOKUP(D15,BDD_colza!$B$6:$W$27,8,TRUE))","v":{"$error":"#N/A"}},{"$f":"IF(D15=1, \"\", VLOOKUP(D15,BDD_colza!$B$6:$W$27,13,TRUE))","v":{"$error":"#N/A"}},{"$f":"IF(D15=1, \"\", VLOOKUP(D15,BDD_colza!$B$6:$W$27,10,TRUE))","v":{"$error":"#N/A"}},{"$f":"IF(S15=\"\",\"\",(#REF!)/F15)","v":""},"",""]
[null,null,null,null,null,null,null,null,null,null,null,null,null,null,null,null,null,null,{"$f":"IF(N16=$E$59,#REF!,\"\")","v":""},{"$f":"IF(D16=1, \"\", VLOOKUP(D16,BDD_colza!$B$6:$W$27,8,TRUE))","v":{"$error":"#N/A"}},{"$f":"IF(D16=1, \"\", VLOOKUP(D16,BDD_colza!$B$6:$W$27,13,TRUE))","v":{"$error":"#N/A"}},{"$f":"IF(D16=1, \"\", VLOOKUP(D16,BDD_colza!$B$6:$W$27,10,TRUE))","v":{"$error":"#N/A"}},{"$f":"IF(S16=\"\",\"\",(#REF!)/F16)","v":""},"",""]
[null,null,null,null,null,null,null,null,null,null,null,null,null,null,null,null,null,null,{"$f":"IF(N17=$E$59,#REF!,\"\")","v":""},{"$f":"IF(D17=1, \"\", VLOOKUP(D17,BDD_colza!$B$6:$W$27,8,TRUE))","v":{"$error":"#N/A"}},{"$f":"IF(D17=1, \"\", VLOOKUP(D17,BDD_colza!$B$6:$W$27,13,TRUE))","v":{"$error":"#N/A"}},{"$f":"IF(D17=1, \"\", VLOOKUP(D17,BDD_colza!$B$6:$W$27,10,TRUE))","v":{"$error":"#N/A"}},{"$f":"IF(S17=\"\",\"\",(#REF!)/F17)","v":""},"",""]
[null,null,null,null,null,null,null,null,null,null,null,null,null,null,null,null,null,null,{"$f":"IF(N18=$E$59,#REF!,\"\")","v":""},{"$f":"IF(D18=1, \"\", VLOOKUP(D18,BDD_colza!$B$6:$W$27,8,TRUE))","v":{"$error":"#N/A"}},{"$f":"IF(D18=1, \"\", VLOOKUP(D18,BDD_colza!$B$6:$W$27,13,TRUE))","v":{"$error":"#N/A"}},{"$f":"IF(D18=1, \"\", VLOOKUP(D18,BDD_colza!$B$6:$W$27,10,TRUE))","v":{"$error":"#N/A"}},{"$f":"IF(S18=\"\",\"\",(#REF!)/F18)","v":""},"",""]
[null,null,null,null,null,null,null,null,null,null,null,null,null,null,null,null,null,null,{"$f":"IF(N19=$E$59,#REF!,\"\")","v":""},{"$f":"IF(D19=1, \"\", VLOOKUP(D19,BDD_colza!$B$6:$W$27,8,TRUE))","v":{"$error":"#N/A"}},{"$f":"IF(D19=1, \"\", VLOOKUP(D19,BDD_colza!$B$6:$W$27,13,TRUE))","v":{"$error":"#N/A"}},{"$f":"IF(D19=1, \"\", VLOOKUP(D19,BDD_colza!$B$6:$W$27,10,TRUE))","v":{"$error":"#N/A"}},{"$f":"IF(S19=\"\",\"\",(#REF!)/F19)","v":""},"",""]
[null,null,null,null,null,null,null,null,null,null,null,null,null,null,null,null,null,null,{"$f":"IF(N20=$E$59,#REF!,\"\")","v":""},{"$f":"IF(D20=1, \"\", VLOOKUP(D20,BDD_colza!$B$6:$W$27,8,TRUE))","v":{"$error":"#N/A"}},{"$f":"IF(D20=1, \"\", VLOOKUP(D20,BDD_colza!$B$6:$W$27,13,TRUE))","v":{"$error":"#N/A"}},{"$f":"IF(D20=1, \"\", VLOOKUP(D20,BDD_colza!$B$6:$W$27,10,TRUE))","v":{"$error":"#N/A"}},{"$f":"IF(S20=\"\",\"\",(#REF!)/F20)","v":""},"",""]
[null,null,null,null,null,null,null,null,null,null,null,null,null,null,null,null,null,null,{"$f":"IF(N21=$E$59,#REF!,\"\")","v":""},{"$f":"IF(D21=1, \"\", VLOOKUP(D21,BDD_colza!$B$6:$W$27,8,TRUE))","v":{"$error":"#N/A"}},{"$f":"IF(D21=1, \"\", VLOOKUP(D21,BDD_colza!$B$6:$W$27,13,TRUE))","v":{"$error":"#N/A"}},{"$f":"IF(D21=1, \"\", VLOOKUP(D21,BDD_colza!$B$6:$W$27,10,TRUE))","v":{"$error":"#N/A"}},{"$f":"IF(S21=\"\",\"\",(#REF!)/F21)","v":""},"",""]
[null,null,null,null,null,null,null,null,null,null,null,null,null,null,null,null,null,null,{"$f":"SUM(S12:S21)","v":0},{"$f":"SUMPRODUCT(S12:S21,T12:T21)/S22","v":{"$error":"#N/A"}},{"$f":"SUMPRODUCT(S12:S21,U12:U21)/S22","v":{"$error":"#N/A"}},{"$f":"SUMPRODUCT(S12:S21,V12:V21)/S22","v":{"$error":"#N/A"}}]
[]
[null,null,null,null,null,null,null,null,null,null,null,null,null,null,null,null,null,null,null,null,null,"Somme",{"$f":"SUM(W12:W21)","v":0},{"$f":"SUM(X12:X21)","v":0},0]
[null,null,null,null,null,null,null,null,null,null,null,null,null,null,null,null,null,null,null,null,null,"Sommeprod",{"$f":"SUMPRODUCT(T12:T21,W12:W21)","v":{"$error":"#N/A"}},{"$f":"SUMPRODUCT(U12:U21,X12:X21)","v":{"$error":"#N/A"}},{"$error":"#N/A"}]
[null,null,null,null,null,null,null,null,null,null,null,null,null,null,null,null,null,null,null,null,null,"Moyenne",{"$f":"W25/W24","v":{"$error":"#N/A"}},{"$f":"X25/X24","v":{"$error":"#N/A"}},{"$error":"#N/A"}]
[null,null,null,null,null,null,null,null,null,null,null,null,null,null,null,null,null,null,null,null,null,"Max",5,5,5]
[null,null,null,null,null,null,null,null,null,null,null,null,null,null,null,null,null,null,null,null,null,"%",{"$f":"IF((W25*100)/W27>90,90,(W25*100)/W27)","v":{"$error":"#N/A"}},{"$f":"IF((X25*100)/X27>90,90,(X25*100)/X27)","v":{"$error":"#N/A"}},{"$f":"IF((Y25*100)/Y27>90,90,(Y25*100)/Y27)","v":{"$error":"#N/A"}}]
[]
[]
[]
[]
[]
[]
[]
[]
[]
[]
[]
[]
[]
[]
[]
[]
[null,null,null,"Concurrence Adventice",null,null,"Concurrence Adventice",null,null,"Impact CULTURE"]
[null,null,null,"Vert",33,null,"Vert",33,null,"Vert",33]
[null,null,null,"Orange",33,null,"Orange",33,null,"Orange",33]
[null,null,null,"Rouge",33,null,"Rouge",33,null,"Rouge",33]
[null,null,null,"Invisible",{"$f":"SUM(E46:E48)","v":99},null,"Invisible",{"$f":"SUM(H46:H48)","v":99},null,"Invisible",{"$f":"SUM(K46:K48)","v":99}]
[]
[null,null,null,"Valeur aiguille",{"$f":"W28","v":{"$error":"#N/A"}},null,"Valeur aiguille",{"$f":"X28","v":{"$error":"#N/A"}},null,"Valeur aiguille",{"$f":"Y28","v":{"$error":"#N/A"}}]
[null,null,null,"Largeur aiguille",2,null,"Largeur aiguille",2,null,"Largeur aiguille",2]
[null,null,null,"Invisible",{"$f":"SUM(E46:E49)-E51-E52","v":{"$error":"#N/A"}},null,"Invisible",{"$f":"SUM(H46:H49)-H51-H52","v":{"$error":"#N/A"}},null,"Invisible",{"$f":"SUM(K46:K49)-K51-K52","v":{"$error":"#N/A"}}]
[]
[null,null,null,"Valeur de 0 à 97"]
[]
[]
[null,null,null,null,"Type botanique",null,null,"Famille Plante","NB"]
[null,null,null,null,"Annuel",{"$f":"COUNTIF(N12:N21,\"annuel\")","v":0},null,"Légumineuses",{"$f":"COUNTIF($O$12:$O$21,\"Légumineuse\")","v":0}]
[null,null,null,null,"Puri-annuel",{"$f":"COUNTIF(N12:N21,\"Pluri-annuel\")","v":0},null,"Autres",{"$f":"SUM(I61:I64)","v":0}]
[null,null,null,null,null,null,null,"Crucifère",{"$f":"COUNTIF($O$12:$O$21,\"Crucifère\")","v":0}]
[null,null,null,null,null,null,null,"Linacée",{"$f":"COUNTIF($O$12:$O$21,\"Linacée\")","v":0}]
[null,null,null,null,null,null,null,"Composée",{"$f":"COUNTIF($O$12:$O$21,\"Composée\")","v":0}]
[null,null,null,null,null,null,null,"Polygonacée",{"$f":"COUNTIF($O$12:$O$21,\"Polygonacée\")","v":0}]

{"sheet":"Conseil_colza_asso","index":31,"n_rows":64,"n_cols":25,"rows_kept":64,"cut":false,"hidden":false,"merged":[]}
[]
[]
[]
[]
[]
[]
[]
[]
[]
[]
[null,null,null,null,null,null,null,null,null,null,null,null,null,null,null,null,{"$f":"H11","v":0},null,null,"Concurrence adventice","Minéralisation","Biomasse","Concurrence","Minéralisation","Biomasse"]
[null,null,null,null,null,null,null,null,null,null,null,null,null,null,null,null,null,null,{"$f":"IF(N12=$E$59,#REF!,\"\")","v":""},{"$f":"IF(D12=1, \"\", VLOOKUP(D12,BDD_colza!$B$6:$W$27,8,TRUE))","v":{"$error":"#N/A"}},{"$f":"IF(D12=1, \"\", VLOOKUP(D12,BDD_colza!$B$6:$W$27,13,TRUE))","v":{"$error":"#N/A"}},{"$f":"IF(D12=1, \"\", VLOOKUP(D12,BDD_colza!$B$6:$W$27,10,TRUE))","v":{"$error":"#N/A"}},{"$f":"IF(S12=\"\",\"\",(#REF!)/F12)","v":""},{"$f":"W12","v":""},{"$f":"W12","v":""}]
[null,null,null,null,null,null,null,null,null,null,null,null,null,null,null,null,null,null,{"$f":"IF(N13=$E$59,#REF!,\"\")","v":""},{"$f":"IF(D13=1, \"\", VLOOKUP(D13,BDD_colza!$B$6:$W$27,8,TRUE))","v":{"$error":"#N/A"}},{"$f":"IF(D13=1, \"\", VLOOKUP(D13,BDD_colza!$B$6:$W$27,13,TRUE))","v":{"$error":"#N/A"}},{"$f":"IF(D13=1, \"\", VLOOKUP(D13,BDD_colza!$B$6:$W$27,10,TRUE))","v":{"$error":"#N/A"}},{"$f":"IF(S13=\"\",\"\",(#REF!)/F13)","v":""},{"$f":"W13","v":""},{"$f":"W13","v":""}]
[null,null,null,null,null,null,null,null,null,null,null,null,null,null,null,null,null,null,{"$f":"IF(N14=$E$59,#REF!,\"\")","v":""},{"$f":"IF(D14=1, \"\", VLOOKUP(D14,BDD_colza!$B$6:$W$27,8,TRUE))","v":{"$error":"#N/A"}},{"$f":"IF(D14=1, \"\", VLOOKUP(D14,BDD_colza!$B$6:$W$27,13,TRUE))","v":{"$error":"#N/A"}},{"$f":"IF(D14=1, \"\", VLOOKUP(D14,BDD_colza!$B$6:$W$27,10,TRUE))","v":{"$error":"#N/A"}},{"$f":"IF(S14=\"\",\"\",(#REF!)/F14)","v":""},"",""]
[null,null,null,null,null,null,null,null,null,null,null,null,null,null,null,null,null,null,{"$f":"IF(N15=$E$59,#REF!,\"\")","v":""},{"$f":"IF(D15=1, \"\", VLOOKUP(D15,BDD_colza!$B$6:$W$27,8,TRUE))","v":{"$error":"#N/A"}},{"$f":"IF(D15=1, \"\", VLOOKUP(D15,BDD_colza!$B$6:$W$27,13,TRUE))","v":{"$error":"#N/A"}},{"$f":"IF(D15=1, \"\", VLOOKUP(D15,BDD_colza!$B$6:$W$27,10,TRUE))","v":{"$error":"#N/A"}},{"$f":"IF(S15=\"\",\"\",(#REF!)/F15)","v":""},"",""]
[null,null,null,null,null,null,null,null,null,null,null,null,null,null,null,null,null,null,{"$f":"IF(N16=$E$59,#REF!,\"\")","v":""},{"$f":"IF(D16=1, \"\", VLOOKUP(D16,BDD_colza!$B$6:$W$27,8,TRUE))","v":{"$error":"#N/A"}},{"$f":"IF(D16=1, \"\", VLOOKUP(D16,BDD_colza!$B$6:$W$27,13,TRUE))","v":{"$error":"#N/A"}},{"$f":"IF(D16=1, \"\", VLOOKUP(D16,BDD_colza!$B$6:$W$27,10,TRUE))","v":{"$error":"#N/A"}},{"$f":"IF(S16=\"\",\"\",(#REF!)/F16)","v":""},"",""]
[null,null,null,null,null,null,null,null,null,null,null,null,null,null,null,null,null,null,{"$f":"IF(N17=$E$59,#REF!,\"\")","v":""},{"$f":"IF(D17=1, \"\", VLOOKUP(D17,BDD_colza!$B$6:$W$27,8,TRUE))","v":{"$error":"#N/A"}},{"$f":"IF(D17=1, \"\", VLOOKUP(D17,BDD_colza!$B$6:$W$27,13,TRUE))","v":{"$error":"#N/A"}},{"$f":"IF(D17=1, \"\", VLOOKUP(D17,BDD_colza!$B$6:$W$27,10,TRUE))","v":{"$error":"#N/A"}},{"$f":"IF(S17=\"\",\"\",(#REF!)/F17)","v":""},"",""]
[null,null,null,null,null,null,null,null,null,null,null,null,null,null,null,null,null,null,{"$f":"IF(N18=$E$59,#REF!,\"\")","v":""},{"$f":"IF(D18=1, \"\", VLOOKUP(D18,BDD_colza!$B$6:$W$27,8,TRUE))","v":{"$error":"#N/A"}},{"$f":"IF(D18=1, \"\", VLOOKUP(D18,BDD_colza!$B$6:$W$27,13,TRUE))","v":{"$error":"#N/A"}},{"$f":"IF(D18=1, \"\", VLOOKUP(D18,BDD_colza!$B$6:$W$27,10,TRUE))","v":{"$error":"#N/A"}},{"$f":"IF(S18=\"\",\"\",(#REF!)/F18)","v":""},"",""]
[null,null,null,null,null,null,null,null,null,null,null,null,null,null,null,null,null,null,{"$f":"IF(N19=$E$59,#REF!,\"\")","v":""},{"$f":"IF(D19=1, \"\", VLOOKUP(D19,BDD_colza!$B$6:$W$27,8,TRUE))","v":{"$error":"#N/A"}},{"$f":"IF(D19=1, \"\", VLOOKUP(D19,BDD_colza!$B$6:$W$27,13,TRUE))","v":{"$error":"#N/A"}},{"$f":"IF(D19=1, \"\", VLOOKUP(D19,BDD_colza!$B$6:$W$27,10,TRUE))","v":{"$error":"#N/A"}},{"$f":"IF(S19=\"\",\"\",(#REF!)/F19)","v":""},"",""]
[null,null,null,null,null,null,null,null,null,null,null,null,null,null,null,null,null,null,{"$f":"IF(N20=$E$59,#REF!,\"\")","v":""},{"$f":"IF(D20=1, \"\", VLOOKUP(D20,BDD_colza!$B$6:$W$27,8,TRUE))","v":{"$error":"#N/A"}},{"$f":"IF(D20=1, \"\", VLOOKUP(D20,BDD_colza!$B$6:$W$27,13,TRUE))","v":{"$error":"#N/A"}},{"$f":"IF(D20=1, \"\", VLOOKUP(D20,BDD_colza!$B$6:$W$27,10,TRUE))","v":{"$error":"#N/A"}},{"$f":"IF(S20=\"\",\"\",(#REF!)/F20)","v":""},"",""]
[null,null,null,null,null,null,null,null,null,null,null,null,null,null,null,null,null,null,{"$f":"IF(N21=$E$59,#REF!,\"\")","v":""},{"$f":"IF(D21=1, \"\", VLOOKUP(D21,BDD_colza!$B$6:$W$27,8,TRUE))","v":{"$error":"#N/A"}},{"$f":"IF(D21=1, \"\", VLOOKUP(D21,BDD_colza!$B$6:$W$27,13,TRUE))","v":{"$error":"#N/A"}},{"$f":"IF(D21=1, \"\", VLOOKUP(D21,BDD_colza!$B$6:$W$27,10,TRUE))","v":{"$error":"#N/A"}},{"$f":"IF(S21=\"\",\"\",(#REF!)/F21)","v":""},"",""]
[null,null,null,null,null,null,null,null,null,null,null,null,null,null,null,null,null,null,{"$f":"SUM(S12:S21)","v":0},{"$f":"SUMPRODUCT(S12:S21,T12:T21)/S22","v":{"$error":"#N/A"}},{"$f":"SUMPRODUCT(S12:S21,U12:U21)/S22","v":{"$error":"#N/A"}},{"$f":"SUMPRODUCT(S12:S21,V12:V21)/S22","v":{"$error":"#N/A"}}]
[]
[null,null,null,null,null,null,null,null,null,null,null,null,null,null,null,null,null,null,null,null,null,"Somme",{"$f":"SUM(W12:W21)","v":0},{"$f":"SUM(X12:X21)","v":0},0]
[null,null,null,null,null,null,null,null,null,null,null,null,null,null,null,null,null,null,null,null,null,"Sommeprod",{"$f":"SUMPRODUCT(T12:T21,W12:W21)","v":{"$error":"#N/A"}},{"$f":"SUMPRODUCT(U12:U21,X12:X21)","v":{"$error":"#N/A"}},{"$error":"#N/A"}]
[null,null,null,null,null,null,null,null,null,null,null,null,null,null,null,null,null,null,null,null,null,"Moyenne",{"$f":"W25/W24","v":{"$error":"#N/A"}},{"$f":"X25/X24","v":{"$error":"#N/A"}},{"$error":"#N/A"}]
[null,null,null,null,null,null,null,null,null,null,null,null,null,null,null,null,null,null,null,null,null,"Max",5,5,5]
[null,null,null,null,null,null,null,null,null,null,null,null,null,null,null,null,null,null,null,null,null,"%",{"$f":"IF((W25*100)/W27>90,90,(W25*100)/W27)","v":{"$error":"#N/A"}},{"$f":"IF((X25*100)/X27>90,90,(X25*100)/X27)","v":{"$error":"#N/A"}},{"$f":"IF((Y25*100)/Y27>90,90,(Y25*100)/Y27)","v":{"$error":"#N/A"}}]
[]
[]
[]
[]
[]
[]
[]
[]
[]
[]
[]
[]
[]
[]
[]
[]
[null,null,null,"Concurrence Adventice",null,null,"Concurrence Adventice",null,null,"Impact CULTURE"]
[null,null,null,"Vert",33,null,"Vert",33,null,"Vert",33]
[null,null,null,"Orange",33,null,"Orange",33,null,"Orange",33]
[null,null,null,"Rouge",33,null,"Rouge",33,null,"Rouge",33]
[null,null,null,"Invisible",{"$f":"SUM(E46:E48)","v":99},null,"Invisible",{"$f":"SUM(H46:H48)","v":99},null,"Invisible",{"$f":"SUM(K46:K48)","v":99}]
[]
[null,null,null,"Valeur aiguille",{"$f":"W28","v":{"$error":"#N/A"}},null,"Valeur aiguille",{"$f":"X28","v":{"$error":"#N/A"}},null,"Valeur aiguille",{"$f":"Y28","v":{"$error":"#N/A"}}]
[null,null,null,"Largeur aiguille",2,null,"Largeur aiguille",2,null,"Largeur aiguille",2]
[null,null,null,"Invisible",{"$f":"SUM(E46:E49)-E51-E52","v":{"$error":"#N/A"}},null,"Invisible",{"$f":"SUM(H46:H49)-H51-H52","v":{"$error":"#N/A"}},null,"Invisible",{"$f":"SUM(K46:K49)-K51-K52","v":{"$error":"#N/A"}}]
[]
[null,null,null,"Valeur de 0 à 97"]
[]
[]
[null,null,null,null,"Type botanique",null,null,"Famille Plante","NB"]
[null,null,null,null,"Annuel",{"$f":"COUNTIF(N12:N21,\"annuel\")","v":0},null,"Légumineuses",{"$f":"COUNTIF($O$12:$O$21,\"Légumineuse\")","v":0}]
[null,null,null,null,"Puri-annuel",{"$f":"COUNTIF(N12:N21,\"Pluri-annuel\")","v":0},null,"Autres",{"$f":"SUM(I61:I64)","v":0}]
[null,null,null,null,null,null,null,"Crucifère",{"$f":"COUNTIF($O$12:$O$21,\"Crucifère\")","v":0}]
[null,null,null,null,null,null,null,"Linacée",{"$f":"COUNTIF($O$12:$O$21,\"Linacée\")","v":0}]
[null,null,null,null,null,null,null,"Composée",{"$f":"COUNTIF($O$12:$O$21,\"Composée\")","v":0}]
[null,null,null,null,null,null,null,"Polygonacée",{"$f":"COUNTIF($O$12:$O$21,\"Polygonacée\")","v":0}]

{"sheet":"Conseil_colza_CP","index":32,"n_rows":64,"n_cols":25,"rows_kept":64,"cut":false,"hidden":false,"merged":[]}
[]
[]
[]
[]
[]
[]
[]
[]
[]
[]
[null,null,null,null,null,null,null,null,null,null,null,null,null,null,null,null,{"$f":"H11","v":0},null,null,"Concurrence adventice","Minéralisation","Biomasse","Concurrence","Minéralisation","Biomasse"]
[null,null,null,null,null,null,null,null,null,null,null,null,null,null,null,null,null,null,{"$f":"IF(N12=$E$59,#REF!,\"\")","v":""},{"$f":"IF(D12=1, \"\", VLOOKUP(D12,BDD_colza!$B$6:$W$27,8,TRUE))","v":{"$error":"#N/A"}},{"$f":"IF(D12=1, \"\", VLOOKUP(D12,BDD_colza!$B$6:$W$27,13,TRUE))","v":{"$error":"#N/A"}},{"$f":"IF(D12=1, \"\", VLOOKUP(D12,BDD_colza!$B$6:$W$27,10,TRUE))","v":{"$error":"#N/A"}},{"$f":"IF(S12=\"\",\"\",(#REF!)/F12)","v":""},{"$f":"W12","v":""},{"$f":"W12","v":""}]
[null,null,null,null,null,null,null,null,null,null,null,null,null,null,null,null,null,null,{"$f":"IF(N13=$E$59,#REF!,\"\")","v":""},{"$f":"IF(D13=1, \"\", VLOOKUP(D13,BDD_colza!$B$6:$W$27,8,TRUE))","v":{"$error":"#N/A"}},{"$f":"IF(D13=1, \"\", VLOOKUP(D13,BDD_colza!$B$6:$W$27,13,TRUE))","v":{"$error":"#N/A"}},{"$f":"IF(D13=1, \"\", VLOOKUP(D13,BDD_colza!$B$6:$W$27,10,TRUE))","v":{"$error":"#N/A"}},{"$f":"IF(S13=\"\",\"\",(#REF!)/F13)","v":""},{"$f":"W13","v":""},{"$f":"W13","v":""}]
[null,null,null,null,null,null,null,null,null,null,null,null,null,null,null,null,null,null,{"$f":"IF(N14=$E$59,#REF!,\"\")","v":""},{"$f":"IF(D14=1, \"\", VLOOKUP(D14,BDD_colza!$B$6:$W$27,8,TRUE))","v":{"$error":"#N/A"}},{"$f":"IF(D14=1, \"\", VLOOKUP(D14,BDD_colza!$B$6:$W$27,13,TRUE))","v":{"$error":"#N/A"}},{"$f":"IF(D14=1, \"\", VLOOKUP(D14,BDD_colza!$B$6:$W$27,10,TRUE))","v":{"$error":"#N/A"}},{"$f":"IF(S14=\"\",\"\",(#REF!)/F14)","v":""},"",""]
[null,null,null,null,null,null,null,null,null,null,null,null,null,null,null,null,null,null,{"$f":"IF(N15=$E$59,#REF!,\"\")","v":""},{"$f":"IF(D15=1, \"\", VLOOKUP(D15,BDD_colza!$B$6:$W$27,8,TRUE))","v":{"$error":"#N/A"}},{"$f":"IF(D15=1, \"\", VLOOKUP(D15,BDD_colza!$B$6:$W$27,13,TRUE))","v":{"$error":"#N/A"}},{"$f":"IF(D15=1, \"\", VLOOKUP(D15,BDD_colza!$B$6:$W$27,10,TRUE))","v":{"$error":"#N/A"}},{"$f":"IF(S15=\"\",\"\",(#REF!)/F15)","v":""},"",""]
[null,null,null,null,null,null,null,null,null,null,null,null,null,null,null,null,null,null,{"$f":"IF(N16=$E$59,#REF!,\"\")","v":""},{"$f":"IF(D16=1, \"\", VLOOKUP(D16,BDD_colza!$B$6:$W$27,8,TRUE))","v":{"$error":"#N/A"}},{"$f":"IF(D16=1, \"\", VLOOKUP(D16,BDD_colza!$B$6:$W$27,13,TRUE))","v":{"$error":"#N/A"}},{"$f":"IF(D16=1, \"\", VLOOKUP(D16,BDD_colza!$B$6:$W$27,10,TRUE))","v":{"$error":"#N/A"}},{"$f":"IF(S16=\"\",\"\",(#REF!)/F16)","v":""},"",""]
[null,null,null,null,null,null,null,null,null,null,null,null,null,null,null,null,null,null,{"$f":"IF(N17=$E$59,#REF!,\"\")","v":""},{"$f":"IF(D17=1, \"\", VLOOKUP(D17,BDD_colza!$B$6:$W$27,8,TRUE))","v":{"$error":"#N/A"}},{"$f":"IF(D17=1, \"\", VLOOKUP(D17,BDD_colza!$B$6:$W$27,13,TRUE))","v":{"$error":"#N/A"}},{"$f":"IF(D17=1, \"\", VLOOKUP(D17,BDD_colza!$B$6:$W$27,10,TRUE))","v":{"$error":"#N/A"}},{"$f":"IF(S17=\"\",\"\",(#REF!)/F17)","v":""},"",""]
[null,null,null,null,null,null,null,null,null,null,null,null,null,null,null,null,null,null,{"$f":"IF(N18=$E$59,#REF!,\"\")","v":""},{"$f":"IF(D18=1, \"\", VLOOKUP(D18,BDD_colza!$B$6:$W$27,8,TRUE))","v":{"$error":"#N/A"}},{"$f":"IF(D18=1, \"\", VLOOKUP(D18,BDD_colza!$B$6:$W$27,13,TRUE))","v":{"$error":"#N/A"}},{"$f":"IF(D18=1, \"\", VLOOKUP(D18,BDD_colza!$B$6:$W$27,10,TRUE))","v":{"$error":"#N/A"}},{"$f":"IF(S18=\"\",\"\",(#REF!)/F18)","v":""},"",""]
[null,null,null,null,null,null,null,null,null,null,null,null,null,null,null,null,null,null,{"$f":"IF(N19=$E$59,#REF!,\"\")","v":""},{"$f":"IF(D19=1, \"\", VLOOKUP(D19,BDD_colza!$B$6:$W$27,8,TRUE))","v":{"$error":"#N/A"}},{"$f":"IF(D19=1, \"\", VLOOKUP(D19,BDD_colza!$B$6:$W$27,13,TRUE))","v":{"$error":"#N/A"}},{"$f":"IF(D19=1, \"\", VLOOKUP(D19,BDD_colza!$B$6:$W$27,10,TRUE))","v":{"$error":"#N/A"}},{"$f":"IF(S19=\"\",\"\",(#REF!)/F19)","v":""},"",""]
[null,null,null,null,null,null,null,null,null,null,null,null,null,null,null,null,null,null,{"$f":"IF(N20=$E$59,#REF!,\"\")","v":""},{"$f":"IF(D20=1, \"\", VLOOKUP(D20,BDD_colza!$B$6:$W$27,8,TRUE))","v":{"$error":"#N/A"}},{"$f":"IF(D20=1, \"\", VLOOKUP(D20,BDD_colza!$B$6:$W$27,13,TRUE))","v":{"$error":"#N/A"}},{"$f":"IF(D20=1, \"\", VLOOKUP(D20,BDD_colza!$B$6:$W$27,10,TRUE))","v":{"$error":"#N/A"}},{"$f":"IF(S20=\"\",\"\",(#REF!)/F20)","v":""},"",""]
[null,null,null,null,null,null,null,null,null,null,null,null,null,null,null,null,null,null,{"$f":"IF(N21=$E$59,#REF!,\"\")","v":""},{"$f":"IF(D21=1, \"\", VLOOKUP(D21,BDD_colza!$B$6:$W$27,8,TRUE))","v":{"$error":"#N/A"}},{"$f":"IF(D21=1, \"\", VLOOKUP(D21,BDD_colza!$B$6:$W$27,13,TRUE))","v":{"$error":"#N/A"}},{"$f":"IF(D21=1, \"\", VLOOKUP(D21,BDD_colza!$B$6:$W$27,10,TRUE))","v":{"$error":"#N/A"}},{"$f":"IF(S21=\"\",\"\",(#REF!)/F21)","v":""},"",""]
[null,null,null,null,null,null,null,null,null,null,null,null,null,null,null,null,null,null,{"$f":"SUM(S12:S21)","v":0},{"$f":"SUMPRODUCT(S12:S21,T12:T21)/S22","v":{"$error":"#N/A"}},{"$f":"SUMPRODUCT(S12:S21,U12:U21)/S22","v":{"$error":"#N/A"}},{"$f":"SUMPRODUCT(S12:S21,V12:V21)/S22","v":{"$error":"#N/A"}}]
[]
[null,null,null,null,null,null,null,null,null,null,null,null,null,null,null,null,null,null,null,null,null,"Somme",{"$f":"SUM(W12:W21)","v":0},{"$f":"SUM(X12:X21)","v":0},0]
[null,null,null,null,null,null,null,null,null,null,null,null,null,null,null,null,null,null,null,null,null,"Sommeprod",{"$f":"SUMPRODUCT(T12:T21,W12:W21)","v":{"$error":"#N/A"}},{"$f":"SUMPRODUCT(U12:U21,X12:X21)","v":{"$error":"#N/A"}},{"$error":"#N/A"}]
[null,null,null,null,null,null,null,null,null,null,null,null,null,null,null,null,null,null,null,null,null,"Moyenne",{"$f":"W25/W24","v":{"$error":"#N/A"}},{"$f":"X25/X24","v":{"$error":"#N/A"}},{"$error":"#N/A"}]
[null,null,null,null,null,null,null,null,null,null,null,null,null,null,null,null,null,null,null,null,null,"Max",5,5,5]
[null,null,null,null,null,null,null,null,null,null,null,null,null,null,null,null,null,null,null,null,null,"%",{"$f":"IF((W25*100)/W27>90,90,(W25*100)/W27)","v":{"$error":"#N/A"}},{"$f":"IF((X25*100)/X27>90,90,(X25*100)/X27)","v":{"$error":"#N/A"}},{"$f":"IF((Y25*100)/Y27>90,90,(Y25*100)/Y27)","v":{"$error":"#N/A"}}]
[]
[]
[]
[]
[]
[]
[]
[]
[]
[]
[]
[]
[]
[]
[]
[]
[null,null,null,"Concurrence Adventice",null,null,"Concurrence Adventice",null,null,"Impact CULTURE"]
[null,null,null,"Vert",33,null,"Vert",33,null,"Vert",33]
[null,null,null,"Orange",33,null,"Orange",33,null,"Orange",33]
[null,null,null,"Rouge",33,null,"Rouge",33,null,"Rouge",33]
[null,null,null,"Invisible",{"$f":"SUM(E46:E48)","v":99},null,"Invisible",{"$f":"SUM(H46:H48)","v":99},null,"Invisible",{"$f":"SUM(K46:K48)","v":99}]
[]
[null,null,null,"Valeur aiguille",{"$f":"W28","v":{"$error":"#N/A"}},null,"Valeur aiguille",{"$f":"X28","v":{"$error":"#N/A"}},null,"Valeur aiguille",{"$f":"Y28","v":{"$error":"#N/A"}}]
[null,null,null,"Largeur aiguille",2,null,"Largeur aiguille",2,null,"Largeur aiguille",2]
[null,null,null,"Invisible",{"$f":"SUM(E46:E49)-E51-E52","v":{"$error":"#N/A"}},null,"Invisible",{"$f":"SUM(H46:H49)-H51-H52","v":{"$error":"#N/A"}},null,"Invisible",{"$f":"SUM(K46:K49)-K51-K52","v":{"$error":"#N/A"}}]
[]
[null,null,null,"Valeur de 0 à 97"]
[]
[]
[null,null,null,null,"Type botanique",null,null,"Famille Plante","NB"]
[null,null,null,null,"Annuel",{"$f":"COUNTIF(N12:N21,\"annuel\")","v":0},null,"Légumineuses",{"$f":"COUNTIF($O$12:$O$21,\"Légumineuse\")","v":0}]
[null,null,null,null,"Puri-annuel",{"$f":"COUNTIF(N12:N21,\"Pluri-annuel\")","v":0},null,"Autres",{"$f":"SUM(I61:I64)","v":0}]
[null,null,null,null,null,null,null,"Crucifère",{"$f":"COUNTIF($O$12:$O$21,\"Crucifère\")","v":0}]
[null,null,null,null,null,null,null,"Linacée",{"$f":"COUNTIF($O$12:$O$21,\"Linacée\")","v":0}]
[null,null,null,null,null,null,null,"Composée",{"$f":"COUNTIF($O$12:$O$21,\"Composée\")","v":0}]
[null,null,null,null,null,null,null,"Polygonacée",{"$f":"COUNTIF($O$12:$O$21,\"Polygonacée\")","v":0}]

{"sheet":"BDD_colza","index":33,"n_rows":40,"n_cols":22,"rows_kept":40,"cut":false,"hidden":false,"merged":[]}
[]
[]
[]
[]
[null,null,null,"Dose de semis (kg/ha)","Densité de pieds/m² objectif","Coût (€/ha)","PMG","Vitesse d'installation","Concurrence adventices","Impact cultures","Biomasse automne","Sensibilité au gel","Type de port de plante","Minéralisation","Sensibilité herbicides","Perennité","Famille botanique","Profondeur de semis mini","Profondeur de semis maxi","Sensibilité au gel","Sol acide","Risque aphanomyces"]
[null,1]
[null,2,"Cameline",{"$f":"Paramètres_Couverts!B9","v":3},{"$f":"Paramètres_Couverts!C9","v":250},{"$f":"Paramètres_Couverts!D9","v":5.7},{"$f":"Paramètres_Couverts!E9","v":1.2},3,3,1,1,"-10°C","Dressé",0.5,2,"Annuel","Crucifère",1,1.5,"-10°C",2,3]
[null,3,"Fenugrec",{"$f":"Paramètres_Couverts!B10","v":10},{"$f":"Paramètres_Couverts!C10","v":40},{"$f":"Paramètres_Couverts!D10","v":2.6},{"$f":"Paramètres_Couverts!E10","v":25},3,2,3,2,"-7°C","Dressé",2,2,"Annuel","Légumineuse",2,3,"-7°C",2,3]
[null,4,"Feverole",{"$f":"Paramètres_Couverts!B11","v":80},{"$f":"Paramètres_Couverts!C11","v":15},{"$f":"Paramètres_Couverts!D11","v":0.26},{"$f":"Paramètres_Couverts!E11","v":500},2,1,3,3,"-5°C","Dressé",0.5,3,"Annuel","Légumineuse",2,3,"-5°C",3,3]
[null,5,"Gesse",{"$f":"Paramètres_Couverts!B12","v":20},{"$f":"Paramètres_Couverts!C12","v":10},{"$f":"Paramètres_Couverts!D12","v":1.52},{"$f":"Paramètres_Couverts!E12","v":180},1,2,3,2,"-10°C","Etalé",2,2,"Annuel","Légumineuse",3,4,"-10°C",2,3]
[null,6,"Lentille",{"$f":"Paramètres_Couverts!B13","v":10},{"$f":"Paramètres_Couverts!C13","v":40},{"$f":"Paramètres_Couverts!D13","v":2.4},{"$f":"Paramètres_Couverts!E13","v":25},3,2,3,2,"-7°C","Etalé",2,2,"Annuel","Légumineuse",2,3,"-7°C",1,1]
[null,7,"Lin",{"$f":"Paramètres_Couverts!B14","v":20},{"$f":"Paramètres_Couverts!C14","v":14},{"$f":"Paramètres_Couverts!D14","v":1.25},{"$f":"Paramètres_Couverts!E14","v":7},3,2,1,1,"-2°C","Dressé",0.5,2,"Annuel","Linacée",1,1.5,"-4°C",2,3]
[null,8,"Lotier Corniculé",{"$f":"Paramètres_Couverts!B15","v":10},{"$f":"Paramètres_Couverts!C15","v":900},{"$f":"Paramètres_Couverts!D15","v":6.1},{"$f":"Paramètres_Couverts!E15","v":1.1000000000000001},1,0,3,1,"-10°C","Dressé",0,2,"Pluri-annuel","Légumineuse",0.5,1.5,">-15°C",3,3]
[null,9,"Lupin bleu",{"$f":"Paramètres_Couverts!B16","v":40},{"$f":"Paramètres_Couverts!C16","v":20},{"$f":"Paramètres_Couverts!D16","v":2.4500000000000002},{"$f":"Paramètres_Couverts!E16","v":200},2,2,3,2,"-10°C","Dressé",0.5,2,"Annuel","Légumineuse",2,3,"-10°C",3,3]
[null,10,"Luzerne Flamande",{"$f":"Paramètres_Couverts!B17","v":10},{"$f":"Paramètres_Couverts!C17","v":500},{"$f":"Paramètres_Couverts!D17","v":5.69},{"$f":"Paramètres_Couverts!E17","v":2},1,0,2,1,"-10°C","Dressé",0,2,"Pluri-annuel","Légumineuse",0.5,1.5,">-15°C",3,1]
[null,11,"Niger",{"$f":"Paramètres_Couverts!B18","v":2},{"$f":"Paramètres_Couverts!C18","v":67},{"$f":"Paramètres_Couverts!D18","v":4.0999999999999996},{"$f":"Paramètres_Couverts!E18","v":3},2,0,1,3,"-1°C","Dressé",0.5,2,"Annuel","Composée",1,1.5,"-1°C",2,3]
[null,12,"Pois fourrager",{"$f":"Paramètres_Couverts!B19","v":20},{"$f":"Paramètres_Couverts!C19","v":17},{"$f":"Paramètres_Couverts!D19","v":1.49},{"$f":"Paramètres_Couverts!E19","v":100},3,3,1,3,"-10°C","Dressé",1,2,"Annuel","Légumineuse",2,3,"-15°C",3,1]
[null,13,"Pois protéagineux",{"$f":"Paramètres_Couverts!B20","v":50},{"$f":"Paramètres_Couverts!C20","v":18},{"$f":"Paramètres_Couverts!D20","v":0.2},{"$f":"Paramètres_Couverts!E20","v":200},2,1,1,2,"-10°C","Dressé",1,2,"Annuel","Légumineuse",2,3,"-10°C",2,1]
[null,14,"Sarrasin",{"$f":"Paramètres_Couverts!B21","v":40},{"$f":"Paramètres_Couverts!C21","v":180},{"$f":"Paramètres_Couverts!D21","v":2.1},{"$f":"Paramètres_Couverts!E21","v":22},3,3,1,3,"-1°C","Dressé",1,3,"Annuel","Polygonacée",2,3,"-2°C",2,3]
[null,15,"Tournesol",{"$f":"Paramètres_Couverts!B22","v":10},{"$f":"Paramètres_Couverts!C22","v":3},{"$f":"Paramètres_Couverts!D22","v":0.2},{"$f":"Paramètres_Couverts!E22","v":60},2,1,1,3,"-4°C","Dressé",0.5,2,"Annuel","Composée",2,3,"-2°C",2,3]
[null,16,"Trèfle Blanc",{"$f":"Paramètres_Couverts!B23","v":3},{"$f":"Paramètres_Couverts!C23","v":500},{"$f":"Paramètres_Couverts!D23","v":5.8},{"$f":"Paramètres_Couverts!E23","v":0.6},1,0,2,1,"-10°C","Dressé",1,2,"Pluri-annuel","Légumineuse",0.5,1.5,">-10°C",3,1]
[null,17,"Trèfle blanc PIPOLINA",{"$f":"Paramètres_Couverts!B24","v":2},{"$f":"Paramètres_Couverts!C24","v":500},{"$f":"Paramètres_Couverts!D24","v":24},{"$f":"Paramètres_Couverts!E24","v":0.6},1,0,2,1,null,"Dréssé",1,2,"Pluri-annuel","Légumineuse",0.5,1.5,">-10°C",3,1]
[null,18,"Trèfle d'Alexandrie",{"$f":"Paramètres_Couverts!B25","v":5},{"$f":"Paramètres_Couverts!C25","v":120},{"$f":"Paramètres_Couverts!D25","v":3.1},{"$f":"Paramètres_Couverts!E25","v":2.5},3,2,2,3,"-4°C","Dressé",2,2,"Annuel","Légumineuse",1,2,"-5°C",3,3]
[null,19,"Trèfle violet",{"$f":"Paramètres_Couverts!B26","v":7},{"$f":"Paramètres_Couverts!C26","v":500},{"$f":"Paramètres_Couverts!D26","v":5.8},{"$f":"Paramètres_Couverts!E26","v":1.9},1,0,2,1,"-10°C","Dressé",1,2,"Pluri-annuel","Légumineuse",0.5,1,">-10°C",3,2]
[null,20,"Vesce commune",{"$f":"Paramètres_Couverts!B27","v":10},{"$f":"Paramètres_Couverts!C27","v":15},{"$f":"Paramètres_Couverts!D27","v":1.85},{"$f":"Paramètres_Couverts!E27","v":50},2,3,2,3,"-10°C","Etalé",2,3,"Annuel","Légumineuse",2,3,"-10°C",3,2]
[null,21,"Vesce érigée",{"$f":"Paramètres_Couverts!B28","v":40},{"$f":"Paramètres_Couverts!C28","v":50},{"$f":"Paramètres_Couverts!D28","v":1.9},{"$f":"Paramètres_Couverts!E28","v":23},2,2,3,3,"-4°C","Dressé",2,null,"Annuel","Légumineuse",2,3,"-4°C",3,2]
[null,22,"Vesce pourpre",{"$f":"Paramètres_Couverts!B29","v":10},{"$f":"Paramètres_Couverts!C29","v":15},{"$f":"Paramètres_Couverts!D29","v":1.99},{"$f":"Paramètres_Couverts!E29","v":50},2,3,2,3,"-10°C","Etalé",2,3,"Annuel","Légumineuse",2,3,"-10°C",3,2]
[]
[]
[]
[]
[]
[]
[null,null,null,null,null,"Qualite d'implantation "]
[null,null,null,null,null,null,"profondeur de semis"]
[null,null,null,null,null,null,"Vitesse d'installation"]
[null,null,null,null,null,null,"Levee en condition seche"]
[]
[null,null,null,null,null,"Mineralisation"]
[null,null,null,null,null,"Type de port de plante"]

{"sheet":"Acceuil","index":34,"n_rows":0,"n_cols":0,"rows_kept":0,"cut":false,"hidden":false,"merged":[]}

{"sheet":"BDD","index":35,"n_rows":91,"n_cols":31,"rows_kept":91,"cut":false,"hidden":false,"merged":[]}
[]
[null,null,null,null,null,null,null,null,null,null,"Fourniture"]
[null,null,null,null,null,null,null,null,null,null,null,null,null,"Biomasse"]
["Couvert","Type","Hauteur","Racine","Biomasse","Piégeage N","Fourniture N","Coût","Dose/ha","PMG (g)",null,"Interculture","Numéro couvert",null,"Type de couvert","Profondeur de semis","Profondeur de semis","Appetence limace","Vitesse de développement","Sensibilité au gel","Avant le 05 août","Du 05 au 25 août","Après le 25 août","Type cynegetique","Méllifères","Semis à la volée","Travail du sol","Semis direct","Fourrage","Maitrise adventice","Observation"]
[null,null,null,null,null,null,null,null,null,null,null,null,0]
["Alpiste des canaries","graminée",2,2,3,1,1,{"$f":"'Parametres_couverts (2)'!B9","v":2.5},{"$f":"'Parametres_couverts (2)'!C9","v":15},{"$f":"'Parametres_couverts (2)'!D9","v":6},{"$f":"I6*G6","v":15},"courte",1,{"$f":"E6*I6","v":45},"annuel",1,2,"Faible","Rapide","-4 à -6°C",1,1,1,"Gazon","non",3,1,1,"oui",2,"Intérêt pour sa rusticité vis-à-vis des maladies"]
["Aneth","Ombéllifères",2,2,4,1,2,{"$f":"'Parametres_couverts (2)'!B10","v":3.5},{"$f":"'Parametres_couverts (2)'!C10","v":8},{"$f":"'Parametres_couverts (2)'!D10","v":1.8},{"$f":"I7*G7","v":16},"Courte",2,{"$f":"E7*I7","v":32},"Annuel",0.5,1.5,"Moyen","Rapide","-3°C",1,1,2,"Parapluie","oui",3,1,2,"non",2,"Plante intéressante pour les auxiliaires de cultures"]
["Avoine bresilienne","graminée",2,2,5,2,1.5,{"$f":"'Parametres_couverts (2)'!B11","v":1.6},{"$f":"'Parametres_couverts (2)'!C11","v":35},{"$f":"'Parametres_couverts (2)'!D11","v":16},{"$f":"I8*G8","v":52.5},"courte",3,{"$f":"E8*I8","v":175},"annuel",2,3,"Faible","Rapide","-7 à -10°C",1,2,3,"Gazon","non",3,1,1,"oui",2,"Bonne production de biomasse"]
["Avoine de printemps","graminée",2,2,1,2,0.25,{"$f":"'Parametres_couverts (2)'!B12","v":0.85},{"$f":"'Parametres_couverts (2)'!C12","v":60},{"$f":"'Parametres_couverts (2)'!D12","v":35},{"$f":"I9*G9","v":15},"courte",4,{"$f":"E9*I9","v":60},"annuel",2,3,"Faible","Rapide","-3°C",1,2,3,"Jungle","non",3,1,1,"oui",2,"Attention aux maladies et pucerons"]
["Avoine d'hiver","graminée",2,2,1,2,0.25,{"$f":"'Parametres_couverts (2)'!B13","v":0.25},{"$f":"'Parametres_couverts (2)'!C13","v":60},{"$f":"'Parametres_couverts (2)'!D13","v":20},15,"longue",5,60,"annuel",2,3,"Faible","Rapide","-7 à -10°C",3,2,1,"Jungle","non",3,1,1,"oui",2,"A privilégier avant tournesol ou soja"]
["Cameline","Crucifère",1,1,6,3,7,{"$f":"'Parametres_couverts (2)'!B14","v":0.25},{"$f":"'Parametres_couverts (2)'!C14","v":4},{"$f":"'Parametres_couverts (2)'!D14","v":1.2},28,"longue",6,24,"annuel",1,1.5,"Faible","Rapide","-10°C",1,1,1,"Parapluie","non",3,1,1,"non",2,"Bon effet étouffant des adventices"]
["Carthame","Composée",3,3,3,2,2,{"$f":"'Parametres_couverts (2)'!B15","v":5.45},{"$f":"'Parametres_couverts (2)'!C15","v":15},{"$f":"'Parametres_couverts (2)'!D15","v":50},30,"Courte",7,45,"annuel",1.5,2.5,"Faible","Rapide","-5°C",1,1,3,"Parapluie","oui",3,1,1,"non",3,"Bon effet structure du sol"]
["Chia","Lamiacée",1,1,3,1,3,{"$f":"'Parametres_couverts (2)'!B16","v":5},{"$f":"'Parametres_couverts (2)'!C16","v":5},{"$f":"'Parametres_couverts (2)'!D16","v":1.3},{"$f":"I13*G13","v":15},"Courte",8,{"$f":"E13*I13","v":15},"annuel",0.5,1,"Moyen","Rapide","-1°C",1,1,2,"Jungle","oui",2,1,2,"non",2,"Bon comportement en conditions sèches"]
["Colza","Crucifère",2,3,30,3,7,{"$f":"'Parametres_couverts (2)'!B17","v":2.4900000000000002},{"$f":"'Parametres_couverts (2)'!C17","v":5},{"$f":"'Parametres_couverts (2)'!D17","v":6},35,"longue",9,150,"annuel",1,2,"Fort","Rapide","-10°C",1,1,2,"Parapluie","oui",1,1,2,"oui",2,"Attention à l'effet limaces"]
["Crotalaire","Légumineuse",1,2,0.5,null,0.7,{"$f":"'Parametres_couverts (2)'!B18","v":3.6},{"$f":"'Parametres_couverts (2)'!C18","v":60},{"$f":"'Parametres_couverts (2)'!D18","v":33},42,"Courte",10,30,"annuel",1.5,2.5,"Faible","Rapide","0°C",1,2,3,"Jungle","Oui",3,1,2,"non",1,"Effet structure du sol"]
["Cowpea","Légumineuse",2,2,4,null,4,{"$f":"'Parametres_couverts (2)'!B19","v":3.5},{"$f":"'Parametres_couverts (2)'!C19","v":12},{"$f":"'Parametres_couverts (2)'!D19","v":66},48,"Courte",11,48,"Annuel",2,4,"Moyen","Moyen","-4°C",1,1,2,"Jungle","oui",3,1,2,"oui",2,"Sensible altise"]
["Dactyle","Graminée",2,2,3,3,0.75,{"$f":"'Parametres_couverts (2)'!B20","v":4.2},{"$f":"'Parametres_couverts (2)'!C20","v":20},{"$f":"'Parametres_couverts (2)'!D20","v":1.2},15,"Longue",12,60,"Permanent",0.5,1,"Moyen","Moyen",">-15°C",1,1,2,"Jungle","non",3,1,1,"oui",2,"Risque d'asséchement du sol"]
["Fénugrec","Légumineuse",1,1,1.5,null,4,{"$f":"'Parametres_couverts (2)'!B21","v":4.2},{"$f":"'Parametres_couverts (2)'!C21","v":15},{"$f":"'Parametres_couverts (2)'!D21","v":1.2},60,"courte",13,22.5,"annuel",2,3,"Faible","Rapide","-7°C",1,1,2,"Jungle","oui",1,1,1,"oui",2,"Intérêt en interculture courte"]
["Fetuque élevée","graminée",2,2,3,3,1.8,{"$f":"'Parametres_couverts (2)'!B22","v":3.9},{"$f":"'Parametres_couverts (2)'!C22","v":18},{"$f":"'Parametres_couverts (2)'!D22","v":2},32.4,"Longue",14,54,"Permanent",0.5,1,"Moyen","Moyen",">-15°C",1,1,2,"Jungle","non",3,1,1,"oui",2,"Risque d'asséchement du sol"]
["Féverole","Légumineuse",3,2,0.4,null,0.5,{"$f":"'Parametres_couverts (2)'!B23","v":1.1499999999999999},{"$f":"'Parametres_couverts (2)'!C23","v":180},{"$f":"'Parametres_couverts (2)'!D23","v":500},90,"courte",15,72,"annuel",2,3,"Faible","Moyen","-5°C",1,1,2,"Phare","oui",3,1,1,"oui",2,"Base des couverts d'interculture !"]
["Gesse","Légumineuse",1,2,0.7,null,1.5,{"$f":"'Parametres_couverts (2)'!B24","v":3.9},{"$f":"'Parametres_couverts (2)'!C24","v":50},{"$f":"'Parametres_couverts (2)'!D24","v":170},75,"courte",16,35,"annuel",3,4,"Faible","Moyen","-10°C",1,1,2,"Jungle","oui",3,1,1,"oui",3,"Bonne fourniture d'azote"]
["Lentille fourragère","Légumineuse",1,1,1.4,null,4,{"$f":"'Parametres_couverts (2)'!B25","v":0.26},{"$f":"'Parametres_couverts (2)'!C25","v":15},{"$f":"'Parametres_couverts (2)'!D25","v":20},60,"courte",17,21,"annuel",2,3,"Faible","Rapide","-7°C",1,1,2,"Jungle","oui",2,1,1,"oui",2,"Bon effet \"bouche trou\""]
["Lin","Linacée",1,1,0.5,2,0.5,{"$f":"'Parametres_couverts (2)'!B26","v":1.52},{"$f":"'Parametres_couverts (2)'!C26","v":50},{"$f":"'Parametres_couverts (2)'!D26","v":5.5},25,"courte",18,25,"annuel",1,1.5,"Faible","Rapide","-4°C",1,1,2,"Phare","oui",1,1,1,"non",1,"Bon effet \"bouche trou\""]
["Lotier Corniculé","Légumineuse",1,3,5,null,15,{"$f":"'Parametres_couverts (2)'!B27","v":2.4},{"$f":"'Parametres_couverts (2)'!C27","v":10},{"$f":"'Parametres_couverts (2)'!D27","v":1.1000000000000001},150,"longue",19,50,"Permanent",1,2,"Moyen","Lent","> -15°C",1,1,2,"Jungle","oui",1,1,1,"oui",2,"Intérêt en couvert permanent"]
["Luzerne Flamande","Légumineuse",3,3,7,null,8,{"$f":"'Parametres_couverts (2)'!B28","v":1.25},{"$f":"'Parametres_couverts (2)'!C28","v":20},{"$f":"'Parametres_couverts (2)'!D28","v":2},160,"longue",20,140,"Permanent",0.5,1.5,"Moyen","Moyen","> -15°C",1,1,2,"Jungle","oui",1,1,1,"oui",2,"Intérêt en couvert permanent"]
["Mauve","Malvacée",2,2,6,null,5,{"$f":"'Parametres_couverts (2)'!B29","v":0},{"$f":"'Parametres_couverts (2)'!C29","v":5},{"$f":"'Parametres_couverts (2)'!D29","v":2},25,"Courte",21,30,"annuel",0.5,1.5,"Moyen","Moyen","-5°C",1,1,2,"Jungle","oui",2,1,2,"non",2,"Effet structure du sol"]
["Mélilot","Légumineuse",2,3,3.5,null,9,{"$f":"'Parametres_couverts (2)'!B30","v":6.1},{"$f":"'Parametres_couverts (2)'!C30","v":10},{"$f":"'Parametres_couverts (2)'!D30","v":1.1000000000000001},90,"longue",22,35,"Permanent",1,3,"Moyen à Fort","Lent","-15°C",1,1,2,"Jungle","oui",1,1,1,"oui",2,"Intérêt en couvert permanent"]
["Millet perlé","Graminée",3,3,5,1,6,{"$f":"'Parametres_couverts (2)'!B31","v":3.1},{"$f":"'Parametres_couverts (2)'!C31","v":15},{"$f":"'Parametres_couverts (2)'!D31","v":2},90,"courte",23,75,"annuel",1,2,"Faible","Lent","-1°C",1,2,3,"Parapluie","non",1,1,1,"oui",2,"Bonne production de biomasse"]
["Minette","Légumineuse",1,2,5,null,5,{"$f":"'Parametres_couverts (2)'!B32","v":4.95},{"$f":"'Parametres_couverts (2)'!C32","v":20},{"$f":"'Parametres_couverts (2)'!D32","v":2},100,"longue",24,100,"Permanent",2,3,"Moyen à Fort","Lent","-15°C",1,1,2,"Jungle","oui",1,1,1,"oui",2,"Intérêt en couvert permanent"]
["Moha fourrager","graminée",3,3,6,2,1.2,{"$f":"'Parametres_couverts (2)'!B33","v":2.99},{"$f":"'Parametres_couverts (2)'!C33","v":15},{"$f":"'Parametres_couverts (2)'!D33","v":2.2999999999999998},18,"courte",25,90,"annuel",1,1.5,"Fort","Rapide","0°C",1,3,3,"Jungle","non",1,1,1,"oui",3,"Bonne production de biomasse"]
["Moutarde blanche","Crucifère",3,3,10,3,3,{"$f":"'Parametres_couverts (2)'!B34","v":4.9000000000000004},{"$f":"'Parametres_couverts (2)'!C34","v":10},{"$f":"'Parametres_couverts (2)'!D34","v":1.7},30,"courte",26,100,"annuel",1,2,"Faible","Rapide","-7°C",2,1,2,"Parapluie","oui",1,1,1,"oui",3,"Risque de mise à graine à l'automne"]
["Moutarde brune","Crucifère",3,3,70,3,15,{"$f":"'Parametres_couverts (2)'!B35","v":1.49},{"$f":"'Parametres_couverts (2)'!C35","v":2},{"$f":"'Parametres_couverts (2)'!D35","v":3},30,"courte",27,140,"annuel",1,2,"Faible","Rapide","-7°C",1,1,2,"Parapluie","oui",1,1,1,"oui",3,"Bonne production de biomasse"]
["Moutarde d'Abyssinie","Crucifère",3,3,14,3,3.7,{"$f":"'Parametres_couverts (2)'!B36","v":1.65},{"$f":"'Parametres_couverts (2)'!C36","v":6},{"$f":"'Parametres_couverts (2)'!D36","v":5},22.200000000000003,"courte",28,84,"annuel",1,2,"Faible","Rapide","-10°C",1,1,1,"Parapluie","oui",1,1,1,"oui",3,"Tardive à floraison"]
["Navette","Crucifère",3,3,24,3,10,{"$f":"'Parametres_couverts (2)'!B37","v":4},{"$f":"'Parametres_couverts (2)'!C37","v":5},{"$f":"'Parametres_couverts (2)'!D37","v":3.9},50,"longue",29,120,"annuel",1,2,"Faible","Rapide","-10°C",1,1,1,"Parapluie","oui",1,1,1,"oui",3,"Tardif à floraison"]
["Niger","Composée",2,2,10,2,7,{"$f":"'Parametres_couverts (2)'!B38","v":8.4},{"$f":"'Parametres_couverts (2)'!C38","v":3},{"$f":"'Parametres_couverts (2)'!D38","v":2.5},21,"courte",30,30,"annuel",1,1.5,"Fort","Rapide","-1°C",1,2,3,"Parapluie","oui",1,1,1,"oui",3,"Intérêt en interculture courte"]
["Phacélie","Hydrophyllacée",2,2,6,2,4,{"$f":"'Parametres_couverts (2)'!B39","v":5.15},{"$f":"'Parametres_couverts (2)'!C39","v":8},{"$f":"'Parametres_couverts (2)'!D39","v":2},32,"courte",31,48,"annuel",2,3,"Faible","Rapide","-10°C",2,1,3,"Jungle","oui",2,1,1,"oui",3,"Famille botanique différente"]
["Pois fourrager","Légumineuse",2,2,0.5,null,0.6,{"$f":"'Parametres_couverts (2)'!B40","v":4.0999999999999996},{"$f":"'Parametres_couverts (2)'!C40","v":100},{"$f":"'Parametres_couverts (2)'!D40","v":182},60,"courte",32,50,"annuel",2,3,"Moyen","Lent","-15°C",1,1,2,"Jungle","oui",3,1,1,"oui",3,"Bonne production d'azote"]
["Pois protéagineux","Légumineuse",2,2,0.2,null,0.35,{"$f":"'Parametres_couverts (2)'!B41","v":3.59},{"$f":"'Parametres_couverts (2)'!C41","v":180},{"$f":"'Parametres_couverts (2)'!D41","v":280},62.999999999999993,"longue",33,36,"annuel",2,3,"Moyen à Fort","Rapide","-10°C",1,1,2,"Jungle","oui",3,1,1,"oui",1,"A réserver aux intercultures longues"]
["Radis chinois","Crucifère",2,3,12,3,3.5,{"$f":"'Parametres_couverts (2)'!B42","v":1.49},{"$f":"'Parametres_couverts (2)'!C42","v":8},{"$f":"'Parametres_couverts (2)'!D42","v":14},28,"courte",34,96,"annuel",1,2,"Faible","Rapide","-8°C",1,1,2,"Parapluie","oui",1,1,1,"oui",3,"Intérêt dans la lutte contre les adventices"]
["Radis fourrager","Crucifère",3,3,15,3,3,{"$f":"'Parametres_couverts (2)'!B43","v":0.2},{"$f":"'Parametres_couverts (2)'!C43","v":8},{"$f":"'Parametres_couverts (2)'!D43","v":17},24,"courte",35,120,"annuel",1,2,"Faible","Rapide","-13°C",2,1,3,"Parapluie","oui",1,1,1,"oui",3,"Bon effet structure"]
["Ray-grass Italien","graminée",2,2,15,3,1.5,{"$f":"'Parametres_couverts (2)'!B44","v":2.99},{"$f":"'Parametres_couverts (2)'!C44","v":12},{"$f":"'Parametres_couverts (2)'!D44","v":12},18,"longue",36,180,"annuel",1,1.5,"Moyen","Rapide","> -15°C",1,1,2,"Jungle","non",2,1,1,"oui",2,"Risque d'asséchement du sol"]
["Sainfoin (cosse)","Légumineuse",2,3,2,null,4,{"$f":"'Parametres_couverts (2)'!B45","v":2.0499999999999998},{"$f":"'Parametres_couverts (2)'!C45","v":20},{"$f":"'Parametres_couverts (2)'!D45","v":21},80,"longue",37,40,"Permanent",2,3,"Moyen à Fort","Moyen","> -15°C",1,1,2,"Jungle","oui",1,1,1,"oui",2,"Intérêt en couvert permanent"]
["Sainfoin (décortiqué)","Légumineuse",2,3,0.3,null,0.6,{"$f":"'Parametres_couverts (2)'!B46","v":1.99},{"$f":"'Parametres_couverts (2)'!C46","v":130},{"$f":"'Parametres_couverts (2)'!D46","v":22},78,"longue",38,39,"Permanent",2,3,"Moyen à Fort","Moyen","> -15°C",1,1,2,"Jungle","oui",1,1,1,"oui",2,"Intérêt en couvert permanent"]
["Sarrasin","Polygonacée",2,2,1.5,3,0.4,{"$f":"'Parametres_couverts (2)'!B47","v":2.1},{"$f":"'Parametres_couverts (2)'!C47","v":40},{"$f":"'Parametres_couverts (2)'!D47","v":22},16,"courte",39,60,"annuel",2,3,"Moyen","Rapide","-2°C",1,2,3,"Parapluie","oui",1,1,1,"non",3,"Intérêt en condition sèche"]
["Seigle forestier","graminée",3,3,3,1,0.5,{"$f":"'Parametres_couverts (2)'!B48","v":2.1},{"$f":"'Parametres_couverts (2)'!C48","v":25},{"$f":"'Parametres_couverts (2)'!D48","v":15},12.5,"longue",40,75,"annuel",2,3,"Faible","Lent","-15°C",1,1,2,"Jungle","non",3,1,1,"oui",2,"Attenition à l'effet dépressif"]
["Seigle fourrager","graminée",3,3,4,2,0.7,{"$f":"'Parametres_couverts (2)'!B49","v":1.1000000000000001},{"$f":"'Parametres_couverts (2)'!C49","v":60},{"$f":"'Parametres_couverts (2)'!D49","v":32},42,"longue",41,240,"annuel",2,3,"Faible","Lent","> -15°C",1,1,2,"Jungle","non",3,1,1,"oui",2,"Attenition à l'effet dépressif"]
["Sorgho fourrager","graminée",3,3,1.8,3,0.3,{"$f":"'Parametres_couverts (2)'!B50","v":1.5},{"$f":"'Parametres_couverts (2)'!C50","v":20},{"$f":"'Parametres_couverts (2)'!D50","v":15},6,"courte",42,36,"annuel",1.5,2.5,"Moyen","Lent","0°C",1,3,3,"Parapluie","non",2,1,1,"oui",2,"Bon production de biomasse"]
["Tournesol","Composée",3,3,8,3,1.2,{"$f":"'Parametres_couverts (2)'!B51","v":4.74},{"$f":"'Parametres_couverts (2)'!C51","v":15},{"$f":"'Parametres_couverts (2)'!D51","v":40},18,"courte",43,120,"annuel",2,3,"Fort","Rapide","-2°C",1,1,3,"Phare","oui",2,1,1,"non",2,"Bon effet structure"]
["Trèfle Blanc","Légumineuse",1,2,10,null,20,{"$f":"'Parametres_couverts (2)'!B52","v":0.2},{"$f":"'Parametres_couverts (2)'!C52","v":3},{"$f":"'Parametres_couverts (2)'!D52","v":0.6},60,"longue",44,30,"Permanent",1,2,"Faible","Lent","-10°C",1,1,2,"Gazon","oui",1,1,1,"oui",3,"Intérêt en couvert permanent"]
["Trèfle d'Alexandrie","Légumineuse",2,2,8,null,15,{"$f":"'Parametres_couverts (2)'!B53","v":5.8},{"$f":"'Parametres_couverts (2)'!C53","v":4},{"$f":"'Parametres_couverts (2)'!D53","v":3.1},60,"courte",45,32,"annuel",1,2,"Moyen","Rapide","-5°C",1,1,2,"Jungle","oui",1,1,1,"oui",2,"Intérêt en interculture courte"]
["Trèfle de Micheli","Légumineuse",2,2,3,null,5.5,{"$f":"'Parametres_couverts (2)'!B54","v":3.1},{"$f":"'Parametres_couverts (2)'!C54","v":10},{"$f":"'Parametres_couverts (2)'!D54","v":0.82},55,"longue",46,30,"annuel",1,2,"Moyen à Fort","Lent","-10°C",1,2,1,"Jungle","oui",1,1,1,"oui",2,"Intérêt en interculture longue"]
["Trèfle de perse","Légumineuse",2,2,3,null,6,{"$f":"'Parametres_couverts (2)'!B55","v":3.99},{"$f":"'Parametres_couverts (2)'!C55","v":10},{"$f":"'Parametres_couverts (2)'!D55","v":0.8},60,"courte",47,30,"annuel",1,2,"Moyen à Fort","Lent","-10°C",1,2,1,"Parapluie","oui",1,1,1,"oui",2,"Intérêt en interculture courte"]
["Trèfle incarnat","Légumineuse",1,2,1.8,null,3.5,{"$f":"'Parametres_couverts (2)'!B56","v":5.85},{"$f":"'Parametres_couverts (2)'!C56","v":18},{"$f":"'Parametres_couverts (2)'!D56","v":3.5},63,"longue",48,32.4,"annuel",1,2,"Moyen à Fort","Lent","-10°C",1,2,1,"Gazon","oui",1,1,1,"oui",2,"Intérêt en interculture longue"]
["Trèfle squarrosum","Légumineuse",1,2,1.5,null,2.5,{"$f":"'Parametres_couverts (2)'!B57","v":2.6},{"$f":"'Parametres_couverts (2)'!C57","v":25},{"$f":"'Parametres_couverts (2)'!D57","v":4.2},62.5,"Courte",49,37.5,"annuel",0.5,1.5,"Moyen","Rapide","-7°C",1,2,1,"Gazon","oui",1,1,1,"oui",2,"Profil proche de celui du trèfle d'Alexandrie"]
["Triticale","graminée",3,3,0.4,2,0.1,{"$f":"'Parametres_couverts (2)'!B58","v":0.3},{"$f":"'Parametres_couverts (2)'!C58","v":150},{"$f":"'Parametres_couverts (2)'!D58","v":45},15,"longue",50,60,"annuel",2,3,"Moyen","Lent","> -15°C",2,1,1,"Jungle","non",3,1,1,"oui",2,"Intérêt en méteil"]
["Trèfle vesiculeux","Légumineuse",1,2,3,null,6,{"$f":"'Parametres_couverts (2)'!B59","v":3.5},{"$f":"'Parametres_couverts (2)'!C59","v":10},{"$f":"'Parametres_couverts (2)'!D59","v":1.5},60,null,51,30,"annuel",1.5,2.5,"Moyen","Rapide","-10°C",1,2,1,"Gazon","oui",1,1,1,"oui",2,"Bien adapté en conditions sèches"]
["Trèfle violet","Légumineuse",2,2,6,null,7,{"$f":"'Parametres_couverts (2)'!B60","v":0.3},{"$f":"'Parametres_couverts (2)'!C60","v":15},{"$f":"'Parametres_couverts (2)'!D60","v":2},105,"longue",52,90,"Permanent",1,2,"Moyen","Rapide","-10°C",1,1,2,"Gazon","oui",1,1,1,"oui",2,"Intérêt en couvert permanent"]
["Vesce commune","Légumineuse",2,2,0.9,null,1.3,{"$f":"'Parametres_couverts (2)'!B61","v":5.8},{"$f":"'Parametres_couverts (2)'!C61","v":40},{"$f":"'Parametres_couverts (2)'!D61","v":40},{"$f":"I58*G58","v":52},"courte",53,{"$f":"E58*I58","v":36},"annuel",2,3,"Faible","Lent","-10°C",1,1,2,"Jungle","oui",1,1,1,"oui",3,"A semer tôt"]
["Vesce érigée","Légumineuse",2,2,0.9,null,1.3,{"$f":"'Parametres_couverts (2)'!B62","v":0},{"$f":"'Parametres_couverts (2)'!C62","v":40},{"$f":"'Parametres_couverts (2)'!D62","v":23},{"$f":"I59*G59","v":52},"Courte",54,{"$f":"E59*I59","v":36},"annuel",1,1.5,"Faible","Rapide","-4°C",1,1,1,"Jungle","oui",3,1,1,"oui",2,"Sensible au gel"]
["Vesce de Narbonne","Légumineuse",2,2,0.3,null,0.45,{"$f":"'Parametres_couverts (2)'!B63","v":0.3},{"$f":"'Parametres_couverts (2)'!C63","v":120},{"$f":"'Parametres_couverts (2)'!D63","v":200},54,"Longue",55,36,"annuel",2,3,"Faible","Moyen","-5°C",1,1,2,"Phare","oui",3,1,1,"oui",2,"Profil proche de celui de la féverole"]
["Vesce de Pannonie","Légumineuse",2,2,0.6,null,1,{"$f":"'Parametres_couverts (2)'!B64","v":2.5},{"$f":"'Parametres_couverts (2)'!C64","v":50},{"$f":"'Parametres_couverts (2)'!D64","v":38},50,"Courte",56,30,"annuel",1.5,2.5,"Faible","Moyen","-17°C",1,1,1,"Jungle","oui",1,1,2,"oui",2,"Bien en sol lourd argileux"]
["Vesce pourpre","Légumineuse",2,2,0.6,null,1,{"$f":"'Parametres_couverts (2)'!B65","v":1.85},{"$f":"'Parametres_couverts (2)'!C65","v":50},{"$f":"'Parametres_couverts (2)'!D65","v":60},50,"courte",57,30,"annuel",2,3,"Faible","Lent","-10°C",1,1,2,"Jungle","oui",1,1,1,"oui",3,"A semer tôt"]
["Vesce velue","Légumineuse",2,2,1,null,1.3,{"$f":"'Parametres_couverts (2)'!B66","v":1.99},{"$f":"'Parametres_couverts (2)'!C66","v":40},{"$f":"'Parametres_couverts (2)'!D66","v":60},52,"longue",58,40,"annuel",2,3,"Faible","Lent","> -15°C",1,1,2,"Jungle","oui",2,1,1,"oui",3,"Destruction mécanique compliquée"]
[null,null,null,null,null,null,null,{"$f":"Parametres_couverts!B57","v":3.13},{"$f":"Parametres_couverts!C57","v":35},{"$f":"Parametres_couverts!D57","v":60}]
[null,null,null,null,null,null,null,{"$f":"Parametres_couverts!B58","v":0},{"$f":"Parametres_couverts!C58","v":0},{"$f":"Parametres_couverts!D58","v":0}]
[null,null,null,null,null,null,null,{"$f":"Parametres_couverts!B59","v":0},{"$f":"Parametres_couverts!C59","v":0},{"$f":"Parametres_couverts!D59","v":0}]
[null,null,null,null,null,null,null,{"$f":"Parametres_couverts!B60","v":0},{"$f":"Parametres_couverts!C60","v":0},{"$f":"Parametres_couverts!D60","v":0}]
[]
[]
[]
[]
[]
[]
[]
[]
[]
[]
[]
[]
[]
[null,null,null,"Choisir",1000]
[null,null,null,"Maïs",1]
[null,null,null,"Tournesol",2]
[null,null,null,"Soja",3]
[null,null,null,"Pois",4]
[null,null,null,"Feverole",5]
[null,null,null,"Lentille",6]
[null,null,null,"Pois Chiche",7]
[null,null,null,"Betterave",8]
[null,null,null,"Chanvre",9]
[null,null,null,"Orge de printemps",10]

{"sheet":"Aphano (2)","index":36,"n_rows":3,"n_cols":15,"rows_kept":3,"cut":false,"hidden":false,"merged":[]}
[]
[null,null,null,null,null,null,null,null,null,null,null,null,null,"Source : Terres Inovia"]
[null,null,null,null,null,null,null,null,null,null,null,null,null,null,"Retour"]

{"sheet":"Composition","index":37,"n_rows":61,"n_cols":58,"rows_kept":61,"cut":false,"hidden":false,"merged":[[0,12,0,22],[3,17,3,22],[7,1,7,2],[7,3,7,4],[7,5,7,6],[7,7,7,8]]}
[]
[]
[]
[]
[]
[]
[]
[null,"CHOISIR SES COUVERTS",null,"REFERENCES",null,"DOSE CONSEILLEE",null,"AJUSTER VOS DOSES",null,null,null,null,null,null,null,null,null,null,null,null,null,null,null,null,null,null,null,null,null,null,null,null,null,null,null,null,null,null,null,null,"Conseillé",null,null,null,null,"Ajusté",null,null,null,"PMG","NB pieds Conseillé","NB ajusté"]
[null,null,"Couvert","Dose unitaire (kg/ha)","Coût unitaire (€/kg)","Dose conseillée (kg/ha)","Coût (€/ha)","Dose ajustée (kg/ha)","Coût (€/ha)","Type","Hauteur","Racine",null,null,null,null,null,null,null,null,null,null,null,null,null,null,"Conseillé Biomasse","Dose","Note","Conseillé Azote","Dose","Note","Ajusté Biomasse","Dose","Note","Ajusté max","Ajustée Azote","Dose","Note",null,null,"Graminées","Legumineuse","Crucifères","Autres","Graminées","Legumineuse","Crucifères","Autres",null,null,null,null,"Couvert","NB Pieds","GNIS","Méllifères"]
[null,1,"Moutarde d'Abyssinie",{"$f":"IF(C10=\"\",\"\",VLOOKUP(C10,BDD!$A$5:$I$63,9,0))","v":6},{"$f":"IF(D10=\"\",\"\",VLOOKUP(C10,BDD!$A$5:$I$63,8,0))","v":1.65},{"$f":"IF(C10=\"\",\"\",D10/O47)","v":1.2},{"$f":"IF(C10=\"\",\"\",F10*E10)","v":1.9799999999999998},null,{"$f":"IF(C10=\"\",\"\",H10*E10)","v":0},{"$f":"IF(C10=\"\",\"\",VLOOKUP(C10,BDD!$A$5:$I$63,2,0))","v":"Crucifère"},{"$f":"IF(C10=\"\",\"\",VLOOKUP(C10,BDD!$A$5:$I$63,3,0))","v":3},{"$f":"IF(C10=\"\",\"\",VLOOKUP(C10,BDD!$A$5:$I$63,4,0))","v":3},null,null,null,null,null,null,null,null,{"$f":"V10","v":1},{"$f":"VLOOKUP(C10,BDD!$A$6:$Q$63,16)","v":1},{"$f":"VLOOKUP(C10,BDD!$A$6:$Q$63,17)","v":2},{"$f":"W10","v":2},{"$f":"IF(C10=\"\",\"\",VLOOKUP(C10,BDD!$A$5:$S$63,15,0))","v":"annuel"},{"$f":"IF(D10=\"\",\"\",VLOOKUP(C10,BDD!$A$5:$S$63,12,0))","v":"courte"},{"$f":"IF(C10=\"\",\"\",VLOOKUP(C10,BDD!$A$5:$I$63,5,0))","v":14},{"$f":"F10","v":1.2},{"$f":"IF(C10=\"\", \"\", AA10*AB10)","v":16.8},{"$f":"IF(C10=\"\",\"\",VLOOKUP(C10,BDD!$A$5:$I$63,7,0))","v":3.7},{"$f":"F10","v":1.2},{"$f":"IF(C10=\"\", \"\", AD10*AE10)","v":4.4400000000000004},{"$f":"IF(C10=\"\", \"\", H10*AA10)","v":0},{"$f":"H10","v":0},{"$f":"IF(C10=\"\", \"\", AH10*AA10)","v":0},{"$f":"IF(C10=\"\", \"\", H10*4)","v":0},{"$f":"IF(C10=\"\", \"\", H10*AD10)","v":0},{"$f":"AH10","v":0},null,null,{"$f":"IF(C10=\"\",\"\",VLOOKUP(C10,BDD!$A$5:$I$63,2,0))","v":"Crucifère"},{"$f":"IF(AO10=\"graminée\", F10, \"\")","v":""},{"$f":"IF(AO10=\"Légumineuse\", F10, \"\")","v":""},{"$f":"IF(AO10=\"Crucifère\", F10, \"\")","v":1.2},{"$f":"IF(SUM(AP10:AR10)>0, \"\", F10)","v":""},{"$f":"IF(AO10=\"graminée\", H10, \"\")","v":""},{"$f":"IF(AO10=\"Légumineuse\", H10, \"\")","v":""},{"$f":"IF(AO10=\"Crucifère\", H10, \"\")","v":0},{"$f":"IF(SUM(AT10:AV10)>0, \"\", H10)","v":0},{"$f":"IF(C10=\"\",\"\",VLOOKUP(C10,BDD!$A$5:$J$63,10,0))","v":5},{"$f":"IF(C10=\"\", \"\", (F10*100)/AX10)","v":24},{"$f":"IF(C10= \"\", \"\", (H10*100)/AX10)","v":0},null,{"$f":"IF(C10=\"\", \"\", C10)","v":"Moutarde d'Abyssinie"},{"$f":"IF($AA$28=TRUE, AZ10, AY10)","v":24},{"$f":"IF(C10=\"\",\"\",VLOOKUP(C10,BDD!$A$5:$X$63,24,0))","v":"Parapluie"},{"$f":"IF(C10=\"\",\"\",VLOOKUP(C10,BDD!$A$5:$Y$63,25,0))","v":"oui"}]
[null,2,"Vesce pourpre",{"$f":"IF(C11=\"\",\"\",VLOOKUP(C11,BDD!$A$5:$I$63,9,0))","v":50},{"$f":"IF(D11=\"\",\"\",VLOOKUP(C11,BDD!$A$5:$I$63,8,0))","v":1.85},10,{"$f":"IF(C11=\"\",\"\",F11*E11)","v":18.5},null,{"$f":"IF(C11=\"\",\"\",H11*E11)","v":0},{"$f":"IF(C11=\"\",\"\",VLOOKUP(C11,BDD!$A$5:$I$63,2,0))","v":"Légumineuse"},{"$f":"IF(C11=\"\",\"\",VLOOKUP(C11,BDD!$A$5:$I$63,3,0))","v":2},{"$f":"IF(C11=\"\",\"\",VLOOKUP(C11,BDD!$A$5:$I$63,4,0))","v":2},null,null,null,null,null,null,null,null,{"$f":"V11","v":2},{"$f":"VLOOKUP(C11,BDD!$A$6:$Q$63,16)","v":2},{"$f":"VLOOKUP(C11,BDD!$A$6:$Q$63,17)","v":3},{"$f":"W11","v":3},{"$f":"IF(C11=\"\",\"\",VLOOKUP(C11,BDD!$A$5:$S$63,15,0))","v":"annuel"},{"$f":"IF(D11=\"\",\"\",VLOOKUP(C11,BDD!$A$5:$S$63,12,0))","v":"courte"},{"$f":"IF(C11=\"\",\"\",VLOOKUP(C11,BDD!$A$5:$I$63,5,0))","v":0.6},{"$f":"F11","v":10},{"$f":"IF(C11=\"\", \"\", AA11*AB11)","v":6},{"$f":"IF(C11=\"\",\"\",VLOOKUP(C11,BDD!$A$5:$I$63,7,0))","v":1},{"$f":"F11","v":10},{"$f":"IF(C11=\"\", \"\", AD11*AE11)","v":10},{"$f":"IF(C11=\"\", \"\", H11*AA11)","v":0},{"$f":"H11","v":0},{"$f":"IF(C11=\"\", \"\", AH11*AA11)","v":0},{"$f":"IF(C11=\"\", \"\", H11*4)","v":0},0,{"$f":"AH11","v":0},null,null,{"$f":"IF(C11=\"\",\"\",VLOOKUP(C11,BDD!$A$5:$I$63,2,0))","v":"Légumineuse"},{"$f":"IF(AO11=\"graminée\", F11, \"\")","v":""},{"$f":"IF(AO11=\"Légumineuse\", F11, \"\")","v":10},{"$f":"IF(AO11=\"Crucifère\", F11, \"\")","v":""},{"$f":"IF(SUM(AP11:AR11)>0, \"\", F11)","v":""},{"$f":"IF(AO11=\"graminée\", H11, \"\")","v":""},{"$f":"IF(AO11=\"Légumineuse\", H11, \"\")","v":0},{"$f":"IF(AO11=\"Crucifère\", H11, \"\")","v":""},{"$f":"IF(SUM(AT11:AV11)>0, \"\", H11)","v":0},{"$f":"IF(C11=\"\",\"\",VLOOKUP(C11,BDD!$A$5:$J$63,10,0))","v":60},{"$f":"IF(C11=\"\", \"\", (F11*100)/AX11)","v":16.666666666666668},{"$f":"IF(C11= \"\", \"\", (H11*100)/AX11)","v":0},null,{"$f":"IF(C11=\"\", \"\", C11)","v":"Vesce pourpre"},{"$f":"IF($AA$28=TRUE, AZ11, AY11)","v":16.666666666666668},{"$f":"IF(C11=\"\",\"\",VLOOKUP(C11,BDD!$A$5:$X$63,24,0))","v":"Jungle"},{"$f":"IF(C11=\"\",\"\",VLOOKUP(C11,BDD!$A$5:$Y$63,25,0))","v":"oui"}]
[null,3,"Trèfle d'Alexandrie",{"$f":"IF(C12=\"\",\"\",VLOOKUP(C12,BDD!$A$5:$I$63,9,0))","v":4},{"$f":"IF(D12=\"\",\"\",VLOOKUP(C12,BDD!$A$5:$I$63,8,0))","v":5.8},0.8,4.6399999999999997,null,0,{"$f":"IF(C12=\"\",\"\",VLOOKUP(C12,BDD!$A$5:$I$63,2,0))","v":"Légumineuse"},{"$f":"IF(C12=\"\",\"\",VLOOKUP(C12,BDD!$A$5:$I$63,3,0))","v":2},{"$f":"IF(C12=\"\",\"\",VLOOKUP(C12,BDD!$A$5:$I$63,4,0))","v":2},null,null,null,null,null,null,null,null,1,{"$f":"VLOOKUP(C12,BDD!$A$6:$Q$63,16)","v":1},{"$f":"VLOOKUP(C12,BDD!$A$6:$Q$63,17)","v":2},2,{"$f":"IF(C12=\"\",\"\",VLOOKUP(C12,BDD!$A$5:$S$63,15,0))","v":"annuel"},{"$f":"IF(D12=\"\",\"\",VLOOKUP(C12,BDD!$A$5:$S$63,12,0))","v":"courte"},{"$f":"IF(C12=\"\",\"\",VLOOKUP(C12,BDD!$A$5:$I$63,5,0))","v":8},0.8,6.4,{"$f":"IF(C12=\"\",\"\",VLOOKUP(C12,BDD!$A$5:$I$63,7,0))","v":15},0.8,12,0,0,0,0,0,0,null,null,{"$f":"IF(C12=\"\",\"\",VLOOKUP(C12,BDD!$A$5:$I$63,2,0))","v":"Légumineuse"},"",0.8,"","","",0,"",0,{"$f":"IF(C12=\"\",\"\",VLOOKUP(C12,BDD!$A$5:$J$63,10,0))","v":3.1},25.806451612903224,0,null,"Trèfle d'Alexandrie",25.806451612903224,{"$f":"IF(C12=\"\",\"\",VLOOKUP(C12,BDD!$A$5:$X$63,24,0))","v":"Jungle"},{"$f":"IF(C12=\"\",\"\",VLOOKUP(C12,BDD!$A$5:$Y$63,25,0))","v":"oui"}]
[null,4,"Phacélie",{"$f":"IF(C13=\"\",\"\",VLOOKUP(C13,BDD!$A$5:$I$63,9,0))","v":8},{"$f":"IF(D13=\"\",\"\",VLOOKUP(C13,BDD!$A$5:$I$63,8,0))","v":5.15},1.6,8.24,null,0,{"$f":"IF(C13=\"\",\"\",VLOOKUP(C13,BDD!$A$5:$I$63,2,0))","v":"Hydrophyllacée"},{"$f":"IF(C13=\"\",\"\",VLOOKUP(C13,BDD!$A$5:$I$63,3,0))","v":2},{"$f":"IF(C13=\"\",\"\",VLOOKUP(C13,BDD!$A$5:$I$63,4,0))","v":2},null,null,null,null,null,null,null,null,2,{"$f":"VLOOKUP(C13,BDD!$A$6:$Q$63,16)","v":2},{"$f":"VLOOKUP(C13,BDD!$A$6:$Q$63,17)","v":3},3,{"$f":"IF(C13=\"\",\"\",VLOOKUP(C13,BDD!$A$5:$S$63,15,0))","v":"annuel"},{"$f":"IF(D13=\"\",\"\",VLOOKUP(C13,BDD!$A$5:$S$63,12,0))","v":"courte"},{"$f":"IF(C13=\"\",\"\",VLOOKUP(C13,BDD!$A$5:$I$63,5,0))","v":6},1.6,9.6000000000000014,{"$f":"IF(C13=\"\",\"\",VLOOKUP(C13,BDD!$A$5:$I$63,7,0))","v":4},1.6,6.4,0,0,0,0,0,0,null,null,{"$f":"IF(C13=\"\",\"\",VLOOKUP(C13,BDD!$A$5:$I$63,2,0))","v":"Hydrophyllacée"},"","","",1.6,"","","",0,{"$f":"IF(C13=\"\",\"\",VLOOKUP(C13,BDD!$A$5:$J$63,10,0))","v":2},80,0,null,"Phacélie",80,{"$f":"IF(C13=\"\",\"\",VLOOKUP(C13,BDD!$A$5:$X$63,24,0))","v":"Jungle"},{"$f":"IF(C13=\"\",\"\",VLOOKUP(C13,BDD!$A$5:$Y$63,25,0))","v":"oui"}]
[null,5,"Avoine bresilienne",{"$f":"IF(C14=\"\",\"\",VLOOKUP(C14,BDD!$A$5:$I$63,9,0))","v":35},{"$f":"IF(D14=\"\",\"\",VLOOKUP(C14,BDD!$A$5:$I$63,8,0))","v":1.6},7,11.200000000000001,null,0,{"$f":"IF(C14=\"\",\"\",VLOOKUP(C14,BDD!$A$5:$I$63,2,0))","v":"graminée"},{"$f":"IF(C14=\"\",\"\",VLOOKUP(C14,BDD!$A$5:$I$63,3,0))","v":2},{"$f":"IF(C14=\"\",\"\",VLOOKUP(C14,BDD!$A$5:$I$63,4,0))","v":2},null,null,null,null,null,null,null,null,2,{"$f":"VLOOKUP(C14,BDD!$A$6:$Q$63,16)","v":2},{"$f":"VLOOKUP(C14,BDD!$A$6:$Q$63,17)","v":3},3,{"$f":"IF(C14=\"\",\"\",VLOOKUP(C14,BDD!$A$5:$S$63,15,0))","v":"annuel"},{"$f":"IF(D14=\"\",\"\",VLOOKUP(C14,BDD!$A$5:$S$63,12,0))","v":"courte"},{"$f":"IF(C14=\"\",\"\",VLOOKUP(C14,BDD!$A$5:$I$63,5,0))","v":5},7,35,{"$f":"IF(C14=\"\",\"\",VLOOKUP(C14,BDD!$A$5:$I$63,7,0))","v":1.5},7,10.5,0,0,0,0,0,0,null,null,{"$f":"IF(C14=\"\",\"\",VLOOKUP(C14,BDD!$A$5:$I$63,2,0))","v":"graminée"},7,"","","",0,"","",0,{"$f":"IF(C14=\"\",\"\",VLOOKUP(C14,BDD!$A$5:$J$63,10,0))","v":16},43.75,0,null,"Avoine bresilienne",43.75,{"$f":"IF(C14=\"\",\"\",VLOOKUP(C14,BDD!$A$5:$X$63,24,0))","v":"Gazon"},{"$f":"IF(C14=\"\",\"\",VLOOKUP(C14,BDD!$A$5:$Y$63,25,0))","v":"non"}]
[null,6,null,{"$f":"IF(C15=\"\",\"\",VLOOKUP(C15,BDD!$A$5:$I$63,9,0))","v":""},{"$f":"IF(D15=\"\",\"\",VLOOKUP(C15,BDD!$A$5:$I$63,8,0))","v":""},"","",null,"",{"$f":"IF(C15=\"\",\"\",VLOOKUP(C15,BDD!$A$5:$I$63,2,0))","v":""},{"$f":"IF(C15=\"\",\"\",VLOOKUP(C15,BDD!$A$5:$I$63,3,0))","v":""},{"$f":"IF(C15=\"\",\"\",VLOOKUP(C15,BDD!$A$5:$I$63,4,0))","v":""},null,null,null,null,null,null,null,null,{"$error":"#N/A"},{"$f":"VLOOKUP(C15,BDD!$A$6:$Q$63,16)","v":{"$error":"#N/A"}},{"$f":"VLOOKUP(C15,BDD!$A$6:$Q$63,17)","v":{"$error":"#N/A"}},{"$error":"#N/A"},{"$f":"IF(C15=\"\",\"\",VLOOKUP(C15,BDD!$A$5:$S$63,15,0))","v":""},{"$f":"IF(D15=\"\",\"\",VLOOKUP(C15,BDD!$A$5:$S$63,12,0))","v":""},{"$f":"IF(C15=\"\",\"\",VLOOKUP(C15,BDD!$A$5:$I$63,5,0))","v":""},"","",{"$f":"IF(C15=\"\",\"\",VLOOKUP(C15,BDD!$A$5:$I$63,7,0))","v":""},"","","",0,"","","",0,null,null,{"$f":"IF(C15=\"\",\"\",VLOOKUP(C15,BDD!$A$5:$I$63,2,0))","v":""},"","","","","","","",0,{"$f":"IF(C15=\"\",\"\",VLOOKUP(C15,BDD!$A$5:$J$63,10,0))","v":""},"","",null,"","",{"$f":"IF(C15=\"\",\"\",VLOOKUP(C15,BDD!$A$5:$X$63,24,0))","v":""},{"$f":"IF(C15=\"\",\"\",VLOOKUP(C15,BDD!$A$5:$Y$63,25,0))","v":""}]
[null,7,null,{"$f":"IF(C16=\"\",\"\",VLOOKUP(C16,BDD!$A$5:$I$63,9,0))","v":""},{"$f":"IF(D16=\"\",\"\",VLOOKUP(C16,BDD!$A$5:$I$63,8,0))","v":""},"","",null,"",{"$f":"IF(C16=\"\",\"\",VLOOKUP(C16,BDD!$A$5:$I$63,2,0))","v":""},{"$f":"IF(C16=\"\",\"\",VLOOKUP(C16,BDD!$A$5:$I$63,3,0))","v":""},{"$f":"IF(C16=\"\",\"\",VLOOKUP(C16,BDD!$A$5:$I$63,4,0))","v":""},null,null,null,null,null,null,null,null,{"$error":"#N/A"},{"$f":"VLOOKUP(C16,BDD!$A$6:$Q$63,16)","v":{"$error":"#N/A"}},{"$f":"VLOOKUP(C16,BDD!$A$6:$Q$63,17)","v":{"$error":"#N/A"}},{"$error":"#N/A"},{"$f":"IF(C16=\"\",\"\",VLOOKUP(C16,BDD!$A$5:$S$63,15,0))","v":""},{"$f":"IF(D16=\"\",\"\",VLOOKUP(C16,BDD!$A$5:$S$63,12,0))","v":""},{"$f":"IF(C16=\"\",\"\",VLOOKUP(C16,BDD!$A$5:$I$63,5,0))","v":""},"","",{"$f":"IF(C16=\"\",\"\",VLOOKUP(C16,BDD!$A$5:$I$63,7,0))","v":""},"","","",0,"","","",0,null,null,{"$f":"IF(C16=\"\",\"\",VLOOKUP(C16,BDD!$A$5:$I$63,2,0))","v":""},"","","","","","","",0,{"$f":"IF(C16=\"\",\"\",VLOOKUP(C16,BDD!$A$5:$J$63,10,0))","v":""},"","",null,"","",{"$f":"IF(C16=\"\",\"\",VLOOKUP(C16,BDD!$A$5:$X$63,24,0))","v":""},{"$f":"IF(C16=\"\",\"\",VLOOKUP(C16,BDD!$A$5:$Y$63,25,0))","v":""}]
[null,8,null,{"$f":"IF(C17=\"\",\"\",VLOOKUP(C17,BDD!$A$5:$I$63,9,0))","v":""},{"$f":"IF(D17=\"\",\"\",VLOOKUP(C17,BDD!$A$5:$I$63,8,0))","v":""},"","",null,"",{"$f":"IF(C17=\"\",\"\",VLOOKUP(C17,BDD!$A$5:$I$63,2,0))","v":""},{"$f":"IF(C17=\"\",\"\",VLOOKUP(C17,BDD!$A$5:$I$63,3,0))","v":""},{"$f":"IF(C17=\"\",\"\",VLOOKUP(C17,BDD!$A$5:$I$63,4,0))","v":""},null,null,null,null,null,null,null,null,{"$error":"#N/A"},{"$f":"VLOOKUP(C17,BDD!$A$6:$Q$63,16)","v":{"$error":"#N/A"}},{"$f":"VLOOKUP(C17,BDD!$A$6:$Q$63,17)","v":{"$error":"#N/A"}},{"$error":"#N/A"},{"$f":"IF(C17=\"\",\"\",VLOOKUP(C17,BDD!$A$5:$S$63,15,0))","v":""},{"$f":"IF(D17=\"\",\"\",VLOOKUP(C17,BDD!$A$5:$S$63,12,0))","v":""},{"$f":"IF(C17=\"\",\"\",VLOOKUP(C17,BDD!$A$5:$I$63,5,0))","v":""},"","",{"$f":"IF(C17=\"\",\"\",VLOOKUP(C17,BDD!$A$5:$I$63,7,0))","v":""},"","","",0,"","","",0,null,null,{"$f":"IF(C17=\"\",\"\",VLOOKUP(C17,BDD!$A$5:$I$63,2,0))","v":""},"","","","","","","",0,{"$f":"IF(C17=\"\",\"\",VLOOKUP(C17,BDD!$A$5:$J$63,10,0))","v":""},"","",null,"","",{"$f":"IF(C17=\"\",\"\",VLOOKUP(C17,BDD!$A$5:$X$63,24,0))","v":""},{"$f":"IF(C17=\"\",\"\",VLOOKUP(C17,BDD!$A$5:$Y$63,25,0))","v":""}]
[null,9,null,{"$f":"IF(C18=\"\",\"\",VLOOKUP(C18,BDD!$A$5:$I$63,9,0))","v":""},{"$f":"IF(D18=\"\",\"\",VLOOKUP(C18,BDD!$A$5:$I$63,8,0))","v":""},"","",null,"",{"$f":"IF(C18=\"\",\"\",VLOOKUP(C18,BDD!$A$5:$I$63,2,0))","v":""},{"$f":"IF(C18=\"\",\"\",VLOOKUP(C18,BDD!$A$5:$I$63,3,0))","v":""},{"$f":"IF(C18=\"\",\"\",VLOOKUP(C18,BDD!$A$5:$I$63,4,0))","v":""},null,null,null,null,null,null,null,null,{"$error":"#N/A"},{"$f":"VLOOKUP(C18,BDD!$A$6:$Q$63,16)","v":{"$error":"#N/A"}},{"$f":"VLOOKUP(C18,BDD!$A$6:$Q$63,17)","v":{"$error":"#N/A"}},{"$error":"#N/A"},{"$f":"IF(C18=\"\",\"\",VLOOKUP(C18,BDD!$A$5:$S$63,15,0))","v":""},{"$f":"IF(D18=\"\",\"\",VLOOKUP(C18,BDD!$A$5:$S$63,12,0))","v":""},{"$f":"IF(C18=\"\",\"\",VLOOKUP(C18,BDD!$A$5:$I$63,5,0))","v":""},"","",{"$f":"IF(C18=\"\",\"\",VLOOKUP(C18,BDD!$A$5:$I$63,7,0))","v":""},"","","",0,"","","",0,null,null,{"$f":"IF(C18=\"\",\"\",VLOOKUP(C18,BDD!$A$5:$I$63,2,0))","v":""},"","","","","","","",0,{"$f":"IF(C18=\"\",\"\",VLOOKUP(C18,BDD!$A$5:$J$63,10,0))","v":""},"","",null,"","",{"$f":"IF(C18=\"\",\"\",VLOOKUP(C18,BDD!$A$5:$X$63,24,0))","v":""},{"$f":"IF(C18=\"\",\"\",VLOOKUP(C18,BDD!$A$5:$Y$63,25,0))","v":""}]
[null,10,null,{"$f":"IF(C19=\"\",\"\",VLOOKUP(C19,BDD!$A$5:$I$63,9,0))","v":""},{"$f":"IF(D19=\"\",\"\",VLOOKUP(C19,BDD!$A$5:$I$63,8,0))","v":""},"","",null,"",{"$f":"IF(C19=\"\",\"\",VLOOKUP(C19,BDD!$A$5:$I$63,2,0))","v":""},{"$f":"IF(C19=\"\",\"\",VLOOKUP(C19,BDD!$A$5:$I$63,3,0))","v":""},{"$f":"IF(C19=\"\",\"\",VLOOKUP(C19,BDD!$A$5:$I$63,4,0))","v":""},null,null,null,null,null,null,null,null,{"$error":"#N/A"},{"$f":"VLOOKUP(C19,BDD!$A$6:$Q$63,16)","v":{"$error":"#N/A"}},{"$f":"VLOOKUP(C19,BDD!$A$6:$Q$63,17)","v":{"$error":"#N/A"}},{"$error":"#N/A"},{"$f":"IF(C19=\"\",\"\",VLOOKUP(C19,BDD!$A$5:$S$63,15,0))","v":""},{"$f":"IF(D19=\"\",\"\",VLOOKUP(C19,BDD!$A$5:$S$63,12,0))","v":""},{"$f":"IF(C19=\"\",\"\",VLOOKUP(C19,BDD!$A$5:$I$63,5,0))","v":""},"","",{"$f":"IF(C19=\"\",\"\",VLOOKUP(C19,BDD!$A$5:$I$63,7,0))","v":""},"","","",0,"","","",0,null,null,{"$f":"IF(C19=\"\",\"\",VLOOKUP(C19,BDD!$A$5:$I$63,2,0))","v":""},"","","","","","","",0,{"$f":"IF(C19=\"\",\"\",VLOOKUP(C19,BDD!$A$5:$J$63,10,0))","v":""},"","",null,"","",{"$f":"IF(C19=\"\",\"\",VLOOKUP(C19,BDD!$A$5:$X$63,24,0))","v":""},{"$f":"IF(C19=\"\",\"\",VLOOKUP(C19,BDD!$A$5:$Y$63,25,0))","v":""}]
[null,11,null,{"$f":"IF(C20=\"\",\"\",VLOOKUP(C20,BDD!$A$5:$I$63,9,0))","v":""},{"$f":"IF(D20=\"\",\"\",VLOOKUP(C20,BDD!$A$5:$I$63,8,0))","v":""},"","",null,"",{"$f":"IF(C20=\"\",\"\",VLOOKUP(C20,BDD!$A$5:$I$63,2,0))","v":""},{"$f":"IF(C20=\"\",\"\",VLOOKUP(C20,BDD!$A$5:$I$63,3,0))","v":""},{"$f":"IF(C20=\"\",\"\",VLOOKUP(C20,BDD!$A$5:$I$63,4,0))","v":""},null,null,null,null,null,null,null,null,{"$error":"#N/A"},{"$f":"VLOOKUP(C20,BDD!$A$6:$Q$63,16)","v":{"$error":"#N/A"}},{"$f":"VLOOKUP(C20,BDD!$A$6:$Q$63,17)","v":{"$error":"#N/A"}},{"$error":"#N/A"},{"$f":"IF(C20=\"\",\"\",VLOOKUP(C20,BDD!$A$5:$S$63,15,0))","v":""},{"$f":"IF(D20=\"\",\"\",VLOOKUP(C20,BDD!$A$5:$S$63,12,0))","v":""},{"$f":"IF(C20=\"\",\"\",VLOOKUP(C20,BDD!$A$5:$I$63,5,0))","v":""},"","",{"$f":"IF(C20=\"\",\"\",VLOOKUP(C20,BDD!$A$5:$I$63,7,0))","v":""},"","","",0,"","","",0,null,null,{"$f":"IF(C20=\"\",\"\",VLOOKUP(C20,BDD!$A$5:$I$63,2,0))","v":""},"","","","","","","",0,{"$f":"IF(C20=\"\",\"\",VLOOKUP(C20,BDD!$A$5:$J$63,10,0))","v":""},"","",null,"","",{"$f":"IF(C20=\"\",\"\",VLOOKUP(C20,BDD!$A$5:$X$63,24,0))","v":""},{"$f":"IF(C20=\"\",\"\",VLOOKUP(C20,BDD!$A$5:$Y$63,25,0))","v":""}]
[null,12,null,{"$f":"IF(C21=\"\",\"\",VLOOKUP(C21,BDD!$A$5:$I$63,9,0))","v":""},{"$f":"IF(D21=\"\",\"\",VLOOKUP(C21,BDD!$A$5:$I$63,8,0))","v":""},"","",null,"",{"$f":"IF(C21=\"\",\"\",VLOOKUP(C21,BDD!$A$5:$I$63,2,0))","v":""},{"$f":"IF(C21=\"\",\"\",VLOOKUP(C21,BDD!$A$5:$I$63,3,0))","v":""},{"$f":"IF(C21=\"\",\"\",VLOOKUP(C21,BDD!$A$5:$I$63,4,0))","v":""},null,null,null,null,null,null,null,null,{"$error":"#N/A"},{"$f":"VLOOKUP(C21,BDD!$A$6:$Q$63,16)","v":{"$error":"#N/A"}},{"$f":"VLOOKUP(C21,BDD!$A$6:$Q$63,17)","v":{"$error":"#N/A"}},{"$error":"#N/A"},{"$f":"IF(C21=\"\",\"\",VLOOKUP(C21,BDD!$A$5:$S$63,15,0))","v":""},{"$f":"IF(D21=\"\",\"\",VLOOKUP(C21,BDD!$A$5:$S$63,12,0))","v":""},{"$f":"IF(C21=\"\",\"\",VLOOKUP(C21,BDD!$A$5:$I$63,5,0))","v":""},"","",{"$f":"IF(C21=\"\",\"\",VLOOKUP(C21,BDD!$A$5:$I$63,7,0))","v":""},"","","",0,"","","",0,null,null,{"$f":"IF(C21=\"\",\"\",VLOOKUP(C21,BDD!$A$5:$I$63,2,0))","v":""},"","","","","","","",0,{"$f":"IF(C21=\"\",\"\",VLOOKUP(C21,BDD!$A$5:$J$63,10,0))","v":""},"","",null,"","",{"$f":"IF(C21=\"\",\"\",VLOOKUP(C21,BDD!$A$5:$X$63,24,0))","v":""},{"$f":"IF(C21=\"\",\"\",VLOOKUP(C21,BDD!$A$5:$Y$63,25,0))","v":""}]
[null,13,null,{"$f":"IF(C22=\"\",\"\",VLOOKUP(C22,BDD!$A$5:$I$63,9,0))","v":""},{"$f":"IF(D22=\"\",\"\",VLOOKUP(C22,BDD!$A$5:$I$63,8,0))","v":""},"","",null,"",{"$f":"IF(C22=\"\",\"\",VLOOKUP(C22,BDD!$A$5:$I$63,2,0))","v":""},{"$f":"IF(C22=\"\",\"\",VLOOKUP(C22,BDD!$A$5:$I$63,3,0))","v":""},{"$f":"IF(C22=\"\",\"\",VLOOKUP(C22,BDD!$A$5:$I$63,4,0))","v":""},null,null,null,null,null,null,null,null,{"$error":"#N/A"},{"$f":"VLOOKUP(C22,BDD!$A$6:$Q$63,16)","v":{"$error":"#N/A"}},{"$f":"VLOOKUP(C22,BDD!$A$6:$Q$63,17)","v":{"$error":"#N/A"}},{"$error":"#N/A"},{"$f":"IF(C22=\"\",\"\",VLOOKUP(C22,BDD!$A$5:$S$63,15,0))","v":""},{"$f":"IF(D22=\"\",\"\",VLOOKUP(C22,BDD!$A$5:$S$63,12,0))","v":""},{"$f":"IF(C22=\"\",\"\",VLOOKUP(C22,BDD!$A$5:$I$63,5,0))","v":""},"","",{"$f":"IF(C22=\"\",\"\",VLOOKUP(C22,BDD!$A$5:$I$63,7,0))","v":""},"","","",0,"","","",0,null,null,{"$f":"IF(C22=\"\",\"\",VLOOKUP(C22,BDD!$A$5:$I$63,2,0))","v":""},"","","","","","","",0,{"$f":"IF(C22=\"\",\"\",VLOOKUP(C22,BDD!$A$5:$J$63,10,0))","v":""},"","",null,"","",{"$f":"IF(C22=\"\",\"\",VLOOKUP(C22,BDD!$A$5:$X$63,24,0))","v":""},{"$f":"IF(C22=\"\",\"\",VLOOKUP(C22,BDD!$A$5:$Y$63,25,0))","v":""}]
[null,14,null,{"$f":"IF(C23=\"\",\"\",VLOOKUP(C23,BDD!$A$5:$I$63,9,0))","v":""},{"$f":"IF(D23=\"\",\"\",VLOOKUP(C23,BDD!$A$5:$I$63,8,0))","v":""},"","",null,"",{"$f":"IF(C23=\"\",\"\",VLOOKUP(C23,BDD!$A$5:$I$63,2,0))","v":""},{"$f":"IF(C23=\"\",\"\",VLOOKUP(C23,BDD!$A$5:$I$63,3,0))","v":""},{"$f":"IF(C23=\"\",\"\",VLOOKUP(C23,BDD!$A$5:$I$63,4,0))","v":""},null,null,null,null,null,null,null,null,{"$error":"#N/A"},{"$f":"VLOOKUP(C23,BDD!$A$6:$Q$63,16)","v":{"$error":"#N/A"}},{"$f":"VLOOKUP(C23,BDD!$A$6:$Q$63,17)","v":{"$error":"#N/A"}},{"$error":"#N/A"},{"$f":"IF(C23=\"\",\"\",VLOOKUP(C23,BDD!$A$5:$S$63,15,0))","v":""},{"$f":"IF(D23=\"\",\"\",VLOOKUP(C23,BDD!$A$5:$S$63,12,0))","v":""},{"$f":"IF(C23=\"\",\"\",VLOOKUP(C23,BDD!$A$5:$I$63,5,0))","v":""},"","",{"$f":"IF(C23=\"\",\"\",VLOOKUP(C23,BDD!$A$5:$I$63,7,0))","v":""},"","","",0,"","","",0,null,null,{"$f":"IF(C23=\"\",\"\",VLOOKUP(C23,BDD!$A$5:$I$63,2,0))","v":""},"","","","","","","",0,{"$f":"IF(C23=\"\",\"\",VLOOKUP(C23,BDD!$A$5:$J$63,10,0))","v":""},"","",null,"","",{"$f":"IF(C23=\"\",\"\",VLOOKUP(C23,BDD!$A$5:$X$63,24,0))","v":""},{"$f":"IF(C23=\"\",\"\",VLOOKUP(C23,BDD!$A$5:$Y$63,25,0))","v":""}]
[null,15,null,{"$f":"IF(C24=\"\",\"\",VLOOKUP(C24,BDD!$A$5:$I$63,9,0))","v":""},{"$f":"IF(D24=\"\",\"\",VLOOKUP(C24,BDD!$A$5:$I$63,8,0))","v":""},"","",null,"",{"$f":"IF(C24=\"\",\"\",VLOOKUP(C24,BDD!$A$5:$I$63,2,0))","v":""},{"$f":"IF(C24=\"\",\"\",VLOOKUP(C24,BDD!$A$5:$I$63,3,0))","v":""},{"$f":"IF(C24=\"\",\"\",VLOOKUP(C24,BDD!$A$5:$I$63,4,0))","v":""},null,null,null,null,null,null,null,null,{"$error":"#N/A"},{"$f":"VLOOKUP(C24,BDD!$A$6:$Q$63,16)","v":{"$error":"#N/A"}},{"$f":"VLOOKUP(C24,BDD!$A$6:$Q$63,17)","v":{"$error":"#N/A"}},{"$error":"#N/A"},{"$f":"IF(C24=\"\",\"\",VLOOKUP(C24,BDD!$A$5:$S$63,15,0))","v":""},{"$f":"IF(D24=\"\",\"\",VLOOKUP(C24,BDD!$A$5:$S$63,12,0))","v":""},{"$f":"IF(C24=\"\",\"\",VLOOKUP(C24,BDD!$A$5:$I$63,5,0))","v":""},"","",{"$f":"IF(C24=\"\",\"\",VLOOKUP(C24,BDD!$A$5:$I$63,7,0))","v":""},"","","",0,"","","",0,null,null,{"$f":"IF(C24=\"\",\"\",VLOOKUP(C24,BDD!$A$5:$I$63,2,0))","v":""},"","","","","","","",0,{"$f":"IF(C24=\"\",\"\",VLOOKUP(C24,BDD!$A$5:$J$63,10,0))","v":""},"","",null,"","",{"$f":"IF(C24=\"\",\"\",VLOOKUP(C24,BDD!$A$5:$X$63,24,0))","v":""},{"$f":"IF(C24=\"\",\"\",VLOOKUP(C24,BDD!$A$5:$Y$63,25,0))","v":""}]
[null,null,{"$f":"IF(C10=\"\",1, COUNTA(C10:C24))","v":5},null,"TOTAL",{"$f":"SUM(F10:F24)","v":20.6},{"$f":"SUM(G10:G24)","v":44.56},{"$f":"SUM(H10:H24)","v":0},0,null,null,null,null,null,null,null,null,null,null,null,null,null,null,null,"Total",null,{"$f":"SUM(AA10:AA24)","v":33.6},{"$f":"SUM(AB10:AB24)","v":20.6},73.800000000000011,{"$f":"SUM(AD10:AD24)","v":25.2},{"$f":"SUM(AE10:AE24)","v":20.6},43.34,0,null,{"$f":"SUM(AI10:AI24)","v":0},200,{"$f":"SUM(AK10:AK24)","v":0},null,null,null,"SOMME",{"$f":"SUM(AP10:AP24)","v":7},{"$f":"SUM(AQ10:AQ24)","v":10.8},1.2,1.6,0,0,0,0,null,null,null,null,null,{"$f":"SUM(BC10:BC24)","v":190.22311827956989}]
[null,null,null,null,null,null,null,null,null,null,null,null,null,null,null,null,null,null,null,null,null,null,null,null,"Maximum",null,{"$f":"4*$C$25","v":20},200,null,{"$f":"4*$C$25","v":20},200,null,200,null,null,null,{"$f":"H25*4","v":0},null,null,null,"Maximum",{"$f":"$F$25","v":20.6},{"$f":"$F$25","v":20.6},20.6,20.6,{"$f":"$H$25","v":0},{"$f":"$H$25","v":0},0,0,null,null,null,null,null,null,"Gazon",{"$f":"COUNTIF(BD10:BD24,BD26)","v":1},{"$f":"(BE26*100)/$BE$30","v":20}]
[null,"Pour aller plus loin",null,null,null,null,null,null,null,null,null,null,null,null,null,null,"Nombre total de pieds/m²",null,{"$f":"BC25","v":190.22311827956989},null,null,null,null,null,"%",null,{"$f":"(AA25*100)/AA26","v":168},null,{"$f":"IF(AC25<AB26, (AC25*100)/AB26, 99)","v":36.900000000000006},{"$f":"(AD25*100)/AD26","v":126},null,{"$f":"IF(AF25<AE26, IF(C10=\"\", 0, (AF25*100)/AE26), 99)","v":21.67},{"$f":"(AG25*100)/AJ25","v":0},null,{"$f":"IF(AI25<AJ25, (AI25*100)/AG26, 99)","v":0},null,{"$f":"IF(AK25<AJ25, (AK25*100)/AJ25, 99)","v":0},null,null,null,"%",{"$f":"(AP25*100)/AP26","v":33.980582524271846},{"$f":"(AQ25*100)/AQ26","v":52.427184466019412},5.8252427184466011,7.7669902912621351,{"$error":"#DIV/0!"},{"$error":"#DIV/0!"},{"$error":"#DIV/0!"},{"$error":"#DIV/0!"},null,null,null,null,null,null,"Jungle",{"$f":"COUNTIF(BD10:BD24, BD27)","v":3},{"$f":"(BE27*100)/$BE$30","v":60}]
[null,null,null,null,null,null,null,null,null,null,null,null,null,null,null,null,null,null,null,null,null,null,null,null,null,null,false,null,null,null,null,null,null,null,null,null,null,null,null,null,null,null,null,null,null,null,null,null,null,null,null,null,null,null,null,"Phare",{"$f":"COUNTIF(BD10:BD24, BD28)","v":0},0]
[null,null,null,null,null,null,null,null,null,null,null,null,null,null,null,null,null,null,null,null,null,null,null,null,null,null,null,null,null,null,null,null,null,null,null,null,null,null,null,null,null,null,null,null,null,null,null,null,null,null,null,null,null,null,null,"Parapluie",{"$f":"COUNTIF(BD10:BD24, BD29)","v":1},20]
[null,null,null,null,null,null,null,null,null,null,null,null,null,null,null,null,null,null,null,null,null,null,null,null,null,null,null,null,null,null,null,null,null,null,null,null,null,null,null,null,null,null,null,null,null,null,null,null,null,null,null,null,null,null,null,"Somme",{"$f":"SUM(BE26:BE29)","v":5},100]
[]
[]
[null,null,null,null,null,null,null,null,null,null,null,null,null,null,null,null,null,null,null,null,null,null,null,null,{"$f":"COUNTIF(Y10:Y24,AB33)","v":5},{"$f":"COUNTIF(Z10:Z24,AB35)","v":5},null,"annuel",null,null,null,null,null,null,null,null,null,null,null,null,null,null,null,null,null,null,null,null,null,null,null,null,null,null,null,"oui",{"$f":"COUNTIF(BE10:BE24, BD33)","v":4},{"$f":"(BE33*100)/BE35","v":80}]
[null,"% de couvert annuel",null,{"$f":"((Y33*100)/Y35)","v":100},null,null,null,null,null,null,null,null,null,null,null,null,null,null,null,null,null,null,null,null,{"$f":"COUNTIF(Y10:Y24,AB34)","v":0},{"$f":"COUNTIF(Z10:Z24,AB36)","v":0},null,"Permanent",null,null,null,null,null,null,null,null,null,null,null,null,null,null,null,null,null,null,null,null,null,null,null,null,null,null,null,"non",{"$f":"COUNTIF(BE10:BE24, BD34)","v":1},{"$f":"(BE34*100)/BE35","v":20}]
[null,"% de couvert permanent",null,{"$f":"100-D34","v":0},null,null,null,null,null,null,null,null,null,null,null,null,null,null,null,null,null,null,null,"Total",{"$f":"SUM(Y33:Y34)","v":5},{"$f":"SUM(Z33:Z34)","v":5},null,"courte",{"$f":"(Z33*100)/Z35","v":100},null,null,null,null,null,null,null,null,null,null,null,null,null,null,null,null,null,null,null,null,null,null,null,null,null,null,"Somme",{"$f":"SUM(BE33:BE34)","v":5}]
[null,null,null,null,null,null,null,null,null,null,null,null,null,null,null,null,null,null,null,null,null,null,null,null,null,null,null,"longue",{"$f":"(Z34*100)/Z35","v":0}]
[null,null,{"$f":"COUNTIF(Y10:Y24, AB33)","v":5},"annuel"]
[null,null,{"$f":"COUNTIF(Y10:Y24, AB34)","v":0},"permanent"]
[]
[]
[]
[]
[]
[null,null,null,"TYPE","NB","%","NB conseillé","NB Ajusté"]
[null,null,null,"Graminées",{"$f":"IF($AA$28=FALSE, G45,H45)","v":33.980582524271846},{"$f":"E45","v":33.980582524271846},{"$f":"AP27","v":33.980582524271846},{"$f":"AT27","v":{"$error":"#DIV/0!"}}]
[null,null,null,"Légumineuses",{"$f":"IF($AA$28=FALSE, G46,H46)","v":52.427184466019412},{"$f":"E46","v":52.427184466019412},{"$f":"AQ27","v":52.427184466019412},{"$f":"AU27","v":{"$error":"#DIV/0!"}}]
[null,null,null,"Crucifères",{"$f":"IF($AA$28=FALSE, G47,H47)","v":5.8252427184466011},5.8252427184466011,{"$f":"AR27","v":5.8252427184466011},{"$f":"AV27","v":{"$error":"#DIV/0!"}},null,null,null,null,null,{"$f":"C10","v":"Moutarde d'Abyssinie"},{"$f":"IF(Y10=$D$37,$C$37,$C$38)","v":5}]
[null,null,null,"Autres",{"$f":"IF($AA$28=FALSE, G48,H48)","v":7.7669902912621351},7.7669902912621351,{"$f":"AS27","v":7.7669902912621351},{"$f":"AW27","v":{"$error":"#DIV/0!"}},null,null,null,null,null,{"$f":"C11","v":"Vesce pourpre"},{"$f":"IF(Y11=$D$37,$C$37,$C$38)","v":5}]
[null,null,null,null,null,null,null,null,null,null,null,null,null,"Trèfle d'Alexandrie",5]
[null,null,null,"HAUTEUR","NB","%",null,null,null,null,null,null,null,"Phacélie",5]
[null,null,null,"Basse",{"$f":"COUNTIFS($K$10:$K$24,\"1\")","v":0},{"$f":"(E51*100)/$C$25","v":0},null,null,null,null,null,null,null,"Avoine bresilienne",5]
[null,null,null,"Intermédiaire",{"$f":"COUNTIFS($K$10:$K$24,\"2\")","v":4},{"$f":"(E52*100)/$C$25","v":80},null,null,null,null,null,null,null,0,0]
[null,null,null,"Haute",{"$f":"COUNTIFS($K$10:$K$24,\"3\")","v":1},20,null,null,null,null,null,null,null,0,0]
[null,null,null,null,null,null,null,null,null,null,null,null,null,0,0]
[null,null,null,"RACINES","NB","%",null,null,null,null,null,null,null,0,0]
[null,null,null,"Superficiel",{"$f":"COUNTIFS($L$10:$L$24,\"1\")","v":0},{"$f":"(E56*100)/$C$25","v":0},null,null,null,null,null,null,null,0,0]
[null,null,null,"Intermédiaire",{"$f":"COUNTIFS($L$10:$L$24,\"2\")","v":4},{"$f":"(E57*100)/$C$25","v":80},null,null,null,null,null,null,null,0,0]
[null,null,null,"Profonde",{"$f":"COUNTIFS($L$10:$L$24,\"3\")","v":1},20,null,null,null,null,null,null,null,0,0]
[null,null,null,null,null,null,null,null,null,null,null,null,null,0,0]
[null,null,null,null,null,null,null,null,null,null,null,null,null,0,0]
[null,null,null,null,null,null,null,null,null,null,null,null,null,0,0]

{"sheet":"Indicateurs_Technique","index":38,"n_rows":58,"n_cols":54,"rows_kept":58,"cut":false,"hidden":false,"merged":[[30,6,30,7],[31,6,31,7],[32,6,32,7],[33,6,33,7],[26,6,26,7],[27,6,27,7],[28,6,28,7],[12,6,12,7],[29,6,29,7],[21,6,21,7],[22,6,22,7],[23,6,23,7],[24,6,24,7],[25,6,25,7],[0,12,0,22],[3,17,3,22],[59,1,59,2],[59,3,59,4],[59,5,59,6],[59,7,59,8],[12,3,13,3],[12,4,13,4],[12,5,13,5],[14,6,14,7],[15,6,15,7],[16,6,16,7],[17,6,17,7],[18,6,18,7],[19,6,19,7],[20,6,20,7]]}
[]
[]
[]
[null,null,null,null,null,null,null,null,null,null,null,null,"en %"]
[]
[null,null,null,null,null,null,null,null,null,null,null,null,{"$f":"Composition!F53","v":20}]
[]
[null,null,null,null,null,null,null,null,null,null,null,null,null,null,null,null,null,null,null,null,null,null,null,null,null,null,null,null,null,null,null,null,null,null,null,null,null,null,null,"Conseillé",null,null,null,null,"Ajusté",null,null,null,"PMG","NB pieds Conseillé","NB ajusté"]
[null,null,null,null,null,null,null,null,null,"Type","Hauteur","Racine",null,null,null,null,null,null,null,null,null,null,null,null,null,"Conseillé Biomasse","Dose","Note","Conseillé Azote","Dose","Note","Ajusté Biomasse","Dose","Note","Ajusté max","Ajustée Azote","Dose","Note",null,null,"Graminées","Legumineuse","Crucifères","Autres","Graminées","Legumineuse","Crucifères","Autres",null,null,null,null,"Couvert","NB Pieds"]
[null,null,null,null,null,null,null,null,null,{"$f":"IF(C62=\"\",\"\",VLOOKUP(C62,BDD!$A$5:$I$63,2,0))","v":""},{"$f":"IF(C62=\"\",\"\",VLOOKUP(C62,BDD!$A$5:$I$63,3,0))","v":""},{"$f":"IF(C62=\"\",\"\",VLOOKUP(C62,BDD!$A$5:$I$63,4,0))","v":""},null,null,null,null,null,null,null,null,null,null,null,null,null,{"$f":"IF(C62=\"\",\"\",VLOOKUP(C62,BDD!$A$5:$I$63,5,0))","v":""},{"$f":"F62","v":0},{"$f":"IF(C62=\"\", \"\", Z10*AA10)","v":""},{"$f":"IF(C62=\"\",\"\",VLOOKUP(C62,BDD!$A$5:$I$63,7,0))","v":""},{"$f":"F62","v":0},{"$f":"IF(C62=\"\", \"\", AC10*AD10)","v":""},{"$f":"IF(C62=\"\", \"\", H62*Z10)","v":""},{"$f":"H62","v":0},{"$f":"IF(C62=\"\", \"\", AG10*Z10)","v":""},{"$f":"IF(C62=\"\", \"\", H62*4)","v":""},{"$f":"IF(C62=\"\", \"\", H62*AC10)","v":""},{"$f":"AG10","v":0},null,null,{"$f":"IF(C62=\"\",\"\",VLOOKUP(C62,BDD!$A$5:$I$63,2,0))","v":""},{"$f":"IF(AN10=\"graminée\", F62, \"\")","v":""},{"$f":"IF(AN10=\"Légumineuse\", F62, \"\")","v":""},{"$f":"IF(AN10=\"Crucifère\", F62, \"\")","v":""},{"$f":"IF(SUM(AO10:AQ10)>0, \"\", F62)","v":0},{"$f":"IF(AN10=\"graminée\", H62, \"\")","v":""},{"$f":"IF(AN10=\"Légumineuse\", H62, \"\")","v":""},{"$f":"IF(AN10=\"Crucifère\", H62, \"\")","v":""},{"$f":"IF(SUM(AS10:AU10)>0, \"\", H62)","v":0},{"$f":"IF(C62=\"\",\"\",VLOOKUP(C62,BDD!$A$5:$J$63,10,0))","v":""},{"$f":"IF(C62=\"\", \"\", (F62*100)/AW10)","v":""},{"$f":"IF(C62= \"\", \"\", (H62*100)/AW10)","v":""},null,{"$f":"IF(C62=\"\", \"\", C62)","v":""},{"$f":"IF($Z$28=TRUE, AY10, AX10)","v":""}]
[null,null,null,null,null,null,null,null,null,{"$f":"IF(C63=\"\",\"\",VLOOKUP(C63,BDD!$A$5:$I$63,2,0))","v":""},{"$f":"IF(C63=\"\",\"\",VLOOKUP(C63,BDD!$A$5:$I$63,3,0))","v":""},{"$f":"IF(C63=\"\",\"\",VLOOKUP(C63,BDD!$A$5:$I$63,4,0))","v":""},null,null,null,null,null,null,null,null,null,null,null,null,null,{"$f":"IF(C63=\"\",\"\",VLOOKUP(C63,BDD!$A$5:$I$63,5,0))","v":""},0,"",{"$f":"IF(C63=\"\",\"\",VLOOKUP(C63,BDD!$A$5:$I$63,7,0))","v":""},0,"","",0,"","","",{"$f":"AG11","v":0},null,null,{"$f":"IF(C63=\"\",\"\",VLOOKUP(C63,BDD!$A$5:$I$63,2,0))","v":""},"","","",0,"","","",0,{"$f":"IF(C63=\"\",\"\",VLOOKUP(C63,BDD!$A$5:$J$63,10,0))","v":""},"","",null,"",{"$f":"IF($Z$28=TRUE, AY11, AX11)","v":""}]
[null,null,null,null,null,null,null,null,null,{"$f":"IF(C64=\"\",\"\",VLOOKUP(C64,BDD!$A$5:$I$63,2,0))","v":""},{"$f":"IF(C64=\"\",\"\",VLOOKUP(C64,BDD!$A$5:$I$63,3,0))","v":""},{"$f":"IF(C64=\"\",\"\",VLOOKUP(C64,BDD!$A$5:$I$63,4,0))","v":""},{"$f":"Composition!F52","v":80},null,null,null,null,null,null,null,null,null,null,null,null,{"$f":"IF(C64=\"\",\"\",VLOOKUP(C64,BDD!$A$5:$I$63,5,0))","v":""},0,"",{"$f":"IF(C64=\"\",\"\",VLOOKUP(C64,BDD!$A$5:$I$63,7,0))","v":""},0,"","",0,"","","",0,null,null,{"$f":"IF(C64=\"\",\"\",VLOOKUP(C64,BDD!$A$5:$I$63,2,0))","v":""},"","","",0,"","","",0,{"$f":"IF(C64=\"\",\"\",VLOOKUP(C64,BDD!$A$5:$J$63,10,0))","v":""},"","",null,"",""]
[null,null,null,"Appétence limaces","Vitesse de croissance","Sensibilité au gel","Maitrise des adventices",null,null,{"$f":"IF(C65=\"\",\"\",VLOOKUP(C65,BDD!$A$5:$I$63,2,0))","v":""},{"$f":"IF(C65=\"\",\"\",VLOOKUP(C65,BDD!$A$5:$I$63,3,0))","v":""},{"$f":"IF(C65=\"\",\"\",VLOOKUP(C65,BDD!$A$5:$I$63,4,0))","v":""},null,null,null,null,null,null,null,null,null,null,null,null,null,{"$f":"IF(C65=\"\",\"\",VLOOKUP(C65,BDD!$A$5:$I$63,5,0))","v":""},0,"",{"$f":"IF(C65=\"\",\"\",VLOOKUP(C65,BDD!$A$5:$I$63,7,0))","v":""},0,"","",0,"","","",0,null,null,{"$f":"IF(C65=\"\",\"\",VLOOKUP(C65,BDD!$A$5:$I$63,2,0))","v":""},"","","",0,"","","",0,{"$f":"IF(C65=\"\",\"\",VLOOKUP(C65,BDD!$A$5:$J$63,10,0))","v":""},"","",null,"",""]
[null,null,null,null,null,null,null,null,null,{"$f":"IF(C66=\"\",\"\",VLOOKUP(C66,BDD!$A$5:$I$63,2,0))","v":""},{"$f":"IF(C66=\"\",\"\",VLOOKUP(C66,BDD!$A$5:$I$63,3,0))","v":""},{"$f":"IF(C66=\"\",\"\",VLOOKUP(C66,BDD!$A$5:$I$63,4,0))","v":""},null,null,null,null,null,null,null,null,null,null,null,null,null,{"$f":"IF(C66=\"\",\"\",VLOOKUP(C66,BDD!$A$5:$I$63,5,0))","v":""},0,"",{"$f":"IF(C66=\"\",\"\",VLOOKUP(C66,BDD!$A$5:$I$63,7,0))","v":""},0,"","",0,"","","",0,null,null,{"$f":"IF(C66=\"\",\"\",VLOOKUP(C66,BDD!$A$5:$I$63,2,0))","v":""},"","","",0,"","","",0,{"$f":"IF(C66=\"\",\"\",VLOOKUP(C66,BDD!$A$5:$J$63,10,0))","v":""},"","",null,"",""]
[null,null,{"$f":"IF(Composition!C10<>\"\", Composition!C10, \"\")","v":"Moutarde d'Abyssinie"},{"$f":"IF(C15=\"\",\"\",VLOOKUP(C15,BDD!$A$5:$S$63,18,0))","v":"Faible"},{"$f":"IF(C15=\"\",\"\",VLOOKUP(C15,BDD!$A$5:$S$63,19,0))","v":"Rapide"},{"$f":"IF(C15=\"\",\"\",VLOOKUP(C15,BDD!$A$5:$AC$63,20,0))","v":"-10°C"},{"$f":"IF(C15=\"\",\"\",VLOOKUP(C15,BDD!$A$5:$AD$63,30,0))","v":3},{"$f":"IF(E15=\"\",\"\",VLOOKUP(E15,BDD!$A$5:$AC$63,29,0))","v":{"$error":"#N/A"}},null,{"$f":"IF(C67=\"\",\"\",VLOOKUP(C67,BDD!$A$5:$I$63,2,0))","v":""},{"$f":"IF(C67=\"\",\"\",VLOOKUP(C67,BDD!$A$5:$I$63,3,0))","v":""},{"$f":"IF(C67=\"\",\"\",VLOOKUP(C67,BDD!$A$5:$I$63,4,0))","v":""},null,null,null,null,null,null,null,null,null,null,null,null,null,{"$f":"IF(C67=\"\",\"\",VLOOKUP(C67,BDD!$A$5:$I$63,5,0))","v":""},0,"",{"$f":"IF(C67=\"\",\"\",VLOOKUP(C67,BDD!$A$5:$I$63,7,0))","v":""},0,"","",0,"","","",0,null,null,{"$f":"IF(C67=\"\",\"\",VLOOKUP(C67,BDD!$A$5:$I$63,2,0))","v":""},"","","",0,"","","",0,{"$f":"IF(C67=\"\",\"\",VLOOKUP(C67,BDD!$A$5:$J$63,10,0))","v":""},"","",null,"",""]
[null,null,{"$f":"IF(Composition!C11<>\"\", Composition!C11, \"\")","v":"Vesce pourpre"},{"$f":"IF(C16=\"\",\"\",VLOOKUP(C16,BDD!$A$5:$S$63,18,0))","v":"Faible"},{"$f":"IF(C16=\"\",\"\",VLOOKUP(C16,BDD!$A$5:$S$63,19,0))","v":"Lent"},{"$f":"IF(C16=\"\",\"\",VLOOKUP(C16,BDD!$A$5:$AC$63,20,0))","v":"-10°C"},{"$f":"IF(C16=\"\",\"\",VLOOKUP(C16,BDD!$A$5:$AD$63,30,0))","v":3},{"$f":"IF(E16=\"\",\"\",VLOOKUP(E16,BDD!$A$5:$AC$63,29,0))","v":{"$error":"#N/A"}},null,{"$f":"IF(C68=\"\",\"\",VLOOKUP(C68,BDD!$A$5:$I$63,2,0))","v":""},{"$f":"IF(C68=\"\",\"\",VLOOKUP(C68,BDD!$A$5:$I$63,3,0))","v":""},{"$f":"IF(C68=\"\",\"\",VLOOKUP(C68,BDD!$A$5:$I$63,4,0))","v":""},null,null,null,null,null,null,null,null,null,null,null,null,null,{"$f":"IF(C68=\"\",\"\",VLOOKUP(C68,BDD!$A$5:$I$63,5,0))","v":""},0,"",{"$f":"IF(C68=\"\",\"\",VLOOKUP(C68,BDD!$A$5:$I$63,7,0))","v":""},0,"","",0,"","","",0,null,null,{"$f":"IF(C68=\"\",\"\",VLOOKUP(C68,BDD!$A$5:$I$63,2,0))","v":""},"","","",0,"","","",0,{"$f":"IF(C68=\"\",\"\",VLOOKUP(C68,BDD!$A$5:$J$63,10,0))","v":""},"","",null,"",""]
[null,null,{"$f":"IF(Composition!C12<>\"\", Composition!C12, \"\")","v":"Trèfle d'Alexandrie"},{"$f":"IF(C17=\"\",\"\",VLOOKUP(C17,BDD!$A$5:$S$63,18,0))","v":"Moyen"},{"$f":"IF(C17=\"\",\"\",VLOOKUP(C17,BDD!$A$5:$S$63,19,0))","v":"Rapide"},{"$f":"IF(C17=\"\",\"\",VLOOKUP(C17,BDD!$A$5:$AC$63,20,0))","v":"-5°C"},{"$f":"IF(C17=\"\",\"\",VLOOKUP(C17,BDD!$A$5:$AD$63,30,0))","v":2},{"$f":"IF(E17=\"\",\"\",VLOOKUP(E17,BDD!$A$5:$AC$63,29,0))","v":{"$error":"#N/A"}},null,{"$f":"IF(C69=\"\",\"\",VLOOKUP(C69,BDD!$A$5:$I$63,2,0))","v":""},{"$f":"IF(C69=\"\",\"\",VLOOKUP(C69,BDD!$A$5:$I$63,3,0))","v":""},{"$f":"IF(C69=\"\",\"\",VLOOKUP(C69,BDD!$A$5:$I$63,4,0))","v":""},{"$f":"Composition!F51","v":0},null,null,null,null,null,null,null,null,null,null,null,null,{"$f":"IF(C69=\"\",\"\",VLOOKUP(C69,BDD!$A$5:$I$63,5,0))","v":""},0,"",{"$f":"IF(C69=\"\",\"\",VLOOKUP(C69,BDD!$A$5:$I$63,7,0))","v":""},0,"","",0,"","","",0,null,null,{"$f":"IF(C69=\"\",\"\",VLOOKUP(C69,BDD!$A$5:$I$63,2,0))","v":""},"","","",0,"","","",0,{"$f":"IF(C69=\"\",\"\",VLOOKUP(C69,BDD!$A$5:$J$63,10,0))","v":""},"","",null,"",""]
[null,null,{"$f":"IF(Composition!C13<>\"\", Composition!C13, \"\")","v":"Phacélie"},{"$f":"IF(C18=\"\",\"\",VLOOKUP(C18,BDD!$A$5:$S$63,18,0))","v":"Faible"},{"$f":"IF(C18=\"\",\"\",VLOOKUP(C18,BDD!$A$5:$S$63,19,0))","v":"Rapide"},{"$f":"IF(C18=\"\",\"\",VLOOKUP(C18,BDD!$A$5:$AC$63,20,0))","v":"-10°C"},{"$f":"IF(C18=\"\",\"\",VLOOKUP(C18,BDD!$A$5:$AD$63,30,0))","v":3},{"$f":"IF(E18=\"\",\"\",VLOOKUP(E18,BDD!$A$5:$AC$63,29,0))","v":{"$error":"#N/A"}},null,{"$f":"IF(C70=\"\",\"\",VLOOKUP(C70,BDD!$A$5:$I$63,2,0))","v":""},{"$f":"IF(C70=\"\",\"\",VLOOKUP(C70,BDD!$A$5:$I$63,3,0))","v":""},{"$f":"IF(C70=\"\",\"\",VLOOKUP(C70,BDD!$A$5:$I$63,4,0))","v":""},null,null,null,null,null,null,null,null,null,null,null,null,null,{"$f":"IF(C70=\"\",\"\",VLOOKUP(C70,BDD!$A$5:$I$63,5,0))","v":""},0,"",{"$f":"IF(C70=\"\",\"\",VLOOKUP(C70,BDD!$A$5:$I$63,7,0))","v":""},0,"","",0,"","","",0,null,null,{"$f":"IF(C70=\"\",\"\",VLOOKUP(C70,BDD!$A$5:$I$63,2,0))","v":""},"","","",0,"","","",0,{"$f":"IF(C70=\"\",\"\",VLOOKUP(C70,BDD!$A$5:$J$63,10,0))","v":""},"","",null,"",""]
[null,null,{"$f":"IF(Composition!C14<>\"\", Composition!C14, \"\")","v":"Avoine bresilienne"},{"$f":"IF(C19=\"\",\"\",VLOOKUP(C19,BDD!$A$5:$S$63,18,0))","v":"Faible"},{"$f":"IF(C19=\"\",\"\",VLOOKUP(C19,BDD!$A$5:$S$63,19,0))","v":"Rapide"},{"$f":"IF(C19=\"\",\"\",VLOOKUP(C19,BDD!$A$5:$AC$63,20,0))","v":"-7 à -10°C"},{"$f":"IF(C19=\"\",\"\",VLOOKUP(C19,BDD!$A$5:$AD$63,30,0))","v":2},{"$f":"IF(E19=\"\",\"\",VLOOKUP(E19,BDD!$A$5:$AC$63,29,0))","v":{"$error":"#N/A"}},null,{"$f":"IF(C71=\"\",\"\",VLOOKUP(C71,BDD!$A$5:$I$63,2,0))","v":""},{"$f":"IF(C71=\"\",\"\",VLOOKUP(C71,BDD!$A$5:$I$63,3,0))","v":""},{"$f":"IF(C71=\"\",\"\",VLOOKUP(C71,BDD!$A$5:$I$63,4,0))","v":""},null,null,null,null,null,null,null,null,null,null,null,null,null,{"$f":"IF(C71=\"\",\"\",VLOOKUP(C71,BDD!$A$5:$I$63,5,0))","v":""},0,"",{"$f":"IF(C71=\"\",\"\",VLOOKUP(C71,BDD!$A$5:$I$63,7,0))","v":""},0,"","",0,"","","",0,null,null,{"$f":"IF(C71=\"\",\"\",VLOOKUP(C71,BDD!$A$5:$I$63,2,0))","v":""},"","","",0,"","","",0,{"$f":"IF(C71=\"\",\"\",VLOOKUP(C71,BDD!$A$5:$J$63,10,0))","v":""},"","",null,"",""]
[null,null,{"$f":"IF(Composition!C15<>\"\", Composition!C15, \"\")","v":""},{"$f":"IF(C20=\"\",\"\",VLOOKUP(C20,BDD!$A$5:$S$63,18,0))","v":""},{"$f":"IF(C20=\"\",\"\",VLOOKUP(C20,BDD!$A$5:$S$63,19,0))","v":""},{"$f":"IF(C20=\"\",\"\",VLOOKUP(C20,BDD!$A$5:$AC$63,20,0))","v":""},{"$f":"IF(C20=\"\",\"\",VLOOKUP(C20,BDD!$A$5:$AD$63,30,0))","v":""},{"$f":"IF(E20=\"\",\"\",VLOOKUP(E20,BDD!$A$5:$AC$63,29,0))","v":""},null,{"$f":"IF(C72=\"\",\"\",VLOOKUP(C72,BDD!$A$5:$I$63,2,0))","v":""},{"$f":"IF(C72=\"\",\"\",VLOOKUP(C72,BDD!$A$5:$I$63,3,0))","v":""},{"$f":"IF(C72=\"\",\"\",VLOOKUP(C72,BDD!$A$5:$I$63,4,0))","v":""},{"$f":"Composition!F56","v":0},null,null,null,null,null,null,null,null,null,null,null,null,{"$f":"IF(C72=\"\",\"\",VLOOKUP(C72,BDD!$A$5:$I$63,5,0))","v":""},0,"",{"$f":"IF(C72=\"\",\"\",VLOOKUP(C72,BDD!$A$5:$I$63,7,0))","v":""},0,"","",0,"","","",0,null,null,{"$f":"IF(C72=\"\",\"\",VLOOKUP(C72,BDD!$A$5:$I$63,2,0))","v":""},"","","",0,"","","",0,{"$f":"IF(C72=\"\",\"\",VLOOKUP(C72,BDD!$A$5:$J$63,10,0))","v":""},"","",null,"",""]
[null,null,{"$f":"IF(Composition!C16<>\"\", Composition!C16, \"\")","v":""},{"$f":"IF(C21=\"\",\"\",VLOOKUP(C21,BDD!$A$5:$S$63,18,0))","v":""},{"$f":"IF(C21=\"\",\"\",VLOOKUP(C21,BDD!$A$5:$S$63,19,0))","v":""},{"$f":"IF(C21=\"\",\"\",VLOOKUP(C21,BDD!$A$5:$AC$63,20,0))","v":""},{"$f":"IF(C21=\"\",\"\",VLOOKUP(C21,BDD!$A$5:$AD$63,30,0))","v":""},{"$f":"IF(E21=\"\",\"\",VLOOKUP(E21,BDD!$A$5:$AC$63,29,0))","v":""},null,{"$f":"IF(C73=\"\",\"\",VLOOKUP(C73,BDD!$A$5:$I$63,2,0))","v":""},{"$f":"IF(C73=\"\",\"\",VLOOKUP(C73,BDD!$A$5:$I$63,3,0))","v":""},{"$f":"IF(C73=\"\",\"\",VLOOKUP(C73,BDD!$A$5:$I$63,4,0))","v":""},null,null,null,null,null,null,null,null,null,null,null,null,null,{"$f":"IF(C73=\"\",\"\",VLOOKUP(C73,BDD!$A$5:$I$63,5,0))","v":""},0,"",{"$f":"IF(C73=\"\",\"\",VLOOKUP(C73,BDD!$A$5:$I$63,7,0))","v":""},0,"","",0,"","","",0,null,null,{"$f":"IF(C73=\"\",\"\",VLOOKUP(C73,BDD!$A$5:$I$63,2,0))","v":""},"","","",0,"","","",0,{"$f":"IF(C73=\"\",\"\",VLOOKUP(C73,BDD!$A$5:$J$63,10,0))","v":""},"","",null,"",""]
[null,null,{"$f":"IF(Composition!C17<>\"\", Composition!C17, \"\")","v":""},{"$f":"IF(C22=\"\",\"\",VLOOKUP(C22,BDD!$A$5:$S$63,18,0))","v":""},{"$f":"IF(C22=\"\",\"\",VLOOKUP(C22,BDD!$A$5:$S$63,19,0))","v":""},{"$f":"IF(C22=\"\",\"\",VLOOKUP(C22,BDD!$A$5:$AC$63,20,0))","v":""},{"$f":"IF(C22=\"\",\"\",VLOOKUP(C22,BDD!$A$5:$AD$63,30,0))","v":""},{"$f":"IF(E22=\"\",\"\",VLOOKUP(E22,BDD!$A$5:$AC$63,29,0))","v":""},null,{"$f":"IF(C74=\"\",\"\",VLOOKUP(C74,BDD!$A$5:$I$63,2,0))","v":""},{"$f":"IF(C74=\"\",\"\",VLOOKUP(C74,BDD!$A$5:$I$63,3,0))","v":""},{"$f":"IF(C74=\"\",\"\",VLOOKUP(C74,BDD!$A$5:$I$63,4,0))","v":""},null,null,null,null,null,null,null,null,null,null,null,null,null,{"$f":"IF(C74=\"\",\"\",VLOOKUP(C74,BDD!$A$5:$I$63,5,0))","v":""},0,"",{"$f":"IF(C74=\"\",\"\",VLOOKUP(C74,BDD!$A$5:$I$63,7,0))","v":""},0,"","",0,"","","",0,null,null,{"$f":"IF(C74=\"\",\"\",VLOOKUP(C74,BDD!$A$5:$I$63,2,0))","v":""},"","","",0,"","","",0,{"$f":"IF(C74=\"\",\"\",VLOOKUP(C74,BDD!$A$5:$J$63,10,0))","v":""},"","",null,"",""]
[null,null,{"$f":"IF(Composition!C18<>\"\", Composition!C18, \"\")","v":""},{"$f":"IF(C23=\"\",\"\",VLOOKUP(C23,BDD!$A$5:$S$63,18,0))","v":""},{"$f":"IF(C23=\"\",\"\",VLOOKUP(C23,BDD!$A$5:$S$63,19,0))","v":""},{"$f":"IF(C23=\"\",\"\",VLOOKUP(C23,BDD!$A$5:$AC$63,20,0))","v":""},{"$f":"IF(C23=\"\",\"\",VLOOKUP(C23,BDD!$A$5:$AD$63,30,0))","v":""},{"$f":"IF(E23=\"\",\"\",VLOOKUP(E23,BDD!$A$5:$AC$63,29,0))","v":""},null,{"$f":"IF(C75=\"\",\"\",VLOOKUP(C75,BDD!$A$5:$I$63,2,0))","v":""},{"$f":"IF(C75=\"\",\"\",VLOOKUP(C75,BDD!$A$5:$I$63,3,0))","v":""},{"$f":"IF(C75=\"\",\"\",VLOOKUP(C75,BDD!$A$5:$I$63,4,0))","v":""},null,null,null,null,null,null,null,null,null,null,null,null,null,{"$f":"IF(C75=\"\",\"\",VLOOKUP(C75,BDD!$A$5:$I$63,5,0))","v":""},0,"",{"$f":"IF(C75=\"\",\"\",VLOOKUP(C75,BDD!$A$5:$I$63,7,0))","v":""},0,"","",0,"","","",0,null,null,{"$f":"IF(C75=\"\",\"\",VLOOKUP(C75,BDD!$A$5:$I$63,2,0))","v":""},"","","",0,"","","",0,{"$f":"IF(C75=\"\",\"\",VLOOKUP(C75,BDD!$A$5:$J$63,10,0))","v":""},"","",null,"",""]
[null,null,{"$f":"IF(Composition!C19<>\"\", Composition!C19, \"\")","v":""},{"$f":"IF(C24=\"\",\"\",VLOOKUP(C24,BDD!$A$5:$S$63,18,0))","v":""},{"$f":"IF(C24=\"\",\"\",VLOOKUP(C24,BDD!$A$5:$S$63,19,0))","v":""},{"$f":"IF(C24=\"\",\"\",VLOOKUP(C24,BDD!$A$5:$AC$63,20,0))","v":""},{"$f":"IF(C24=\"\",\"\",VLOOKUP(C24,BDD!$A$5:$AD$63,30,0))","v":""},{"$f":"IF(E24=\"\",\"\",VLOOKUP(E24,BDD!$A$5:$AC$63,29,0))","v":""},null,{"$f":"IF(C76=\"\",\"\",VLOOKUP(C76,BDD!$A$5:$I$63,2,0))","v":""},{"$f":"IF(C76=\"\",\"\",VLOOKUP(C76,BDD!$A$5:$I$63,3,0))","v":""},{"$f":"IF(C76=\"\",\"\",VLOOKUP(C76,BDD!$A$5:$I$63,4,0))","v":""},{"$f":"Composition!F57","v":80},null,null,null,null,null,null,null,null,null,null,null,null,{"$f":"IF(C76=\"\",\"\",VLOOKUP(C76,BDD!$A$5:$I$63,5,0))","v":""},0,"",{"$f":"IF(C76=\"\",\"\",VLOOKUP(C76,BDD!$A$5:$I$63,7,0))","v":""},0,"","",0,"","","",0,null,null,{"$f":"IF(C76=\"\",\"\",VLOOKUP(C76,BDD!$A$5:$I$63,2,0))","v":""},"","","",0,"","","",0,{"$f":"IF(C76=\"\",\"\",VLOOKUP(C76,BDD!$A$5:$J$63,10,0))","v":""},"","",null,"",""]
[null,null,{"$f":"IF(Composition!C20<>\"\", Composition!C20, \"\")","v":""},{"$f":"IF(C25=\"\",\"\",VLOOKUP(C25,BDD!$A$5:$S$63,18,0))","v":""},{"$f":"IF(C25=\"\",\"\",VLOOKUP(C25,BDD!$A$5:$S$63,19,0))","v":""},{"$f":"IF(C25=\"\",\"\",VLOOKUP(C25,BDD!$A$5:$AC$63,20,0))","v":""},{"$f":"IF(C25=\"\",\"\",VLOOKUP(C25,BDD!$A$5:$AD$63,30,0))","v":""},{"$f":"IF(E25=\"\",\"\",VLOOKUP(E25,BDD!$A$5:$AC$63,29,0))","v":""},null,null,null,null,null,null,null,null,null,null,null,null,null,null,null,null,"Total",{"$f":"SUM(Z10:Z24)","v":0},{"$f":"SUM(AA10:AA24)","v":0},0,{"$f":"SUM(AC10:AC24)","v":0},{"$f":"SUM(AD10:AD24)","v":0},0,0,null,{"$f":"SUM(AH10:AH24)","v":0},200,{"$f":"SUM(AJ10:AJ24)","v":0},null,null,null,"SOMME",{"$f":"SUM(AO10:AO24)","v":0},{"$f":"SUM(AP10:AP24)","v":0},0,0,0,0,0,0]
[null,null,{"$f":"IF(Composition!C21<>\"\", Composition!C21, \"\")","v":""},{"$f":"IF(C26=\"\",\"\",VLOOKUP(C26,BDD!$A$5:$S$63,18,0))","v":""},{"$f":"IF(C26=\"\",\"\",VLOOKUP(C26,BDD!$A$5:$S$63,19,0))","v":""},{"$f":"IF(C26=\"\",\"\",VLOOKUP(C26,BDD!$A$5:$AC$63,20,0))","v":""},{"$f":"IF(C26=\"\",\"\",VLOOKUP(C26,BDD!$A$5:$AD$63,30,0))","v":""},{"$f":"IF(E26=\"\",\"\",VLOOKUP(E26,BDD!$A$5:$AC$63,29,0))","v":""},null,null,null,null,null,null,null,null,null,null,null,null,null,null,null,null,"Maximum",{"$f":"4*$C$77","v":0},200,null,{"$f":"4*$C$77","v":0},200,null,200,null,null,null,{"$f":"H77*4","v":0},null,null,null,"Maximum",{"$f":"$F$77","v":0},{"$f":"$F$77","v":0},{"$f":"$F$77","v":0},{"$f":"$F$77","v":0},{"$f":"$H$77","v":0},{"$f":"$H$77","v":0},{"$f":"$H$77","v":0},{"$f":"$H$77","v":0}]
[null,null,{"$f":"IF(Composition!C22<>\"\", Composition!C22, \"\")","v":""},{"$f":"IF(C27=\"\",\"\",VLOOKUP(C27,BDD!$A$5:$S$63,18,0))","v":""},{"$f":"IF(C27=\"\",\"\",VLOOKUP(C27,BDD!$A$5:$S$63,19,0))","v":""},{"$f":"IF(C27=\"\",\"\",VLOOKUP(C27,BDD!$A$5:$AC$63,20,0))","v":""},{"$f":"IF(C27=\"\",\"\",VLOOKUP(C27,BDD!$A$5:$AD$63,30,0))","v":""},{"$f":"IF(E27=\"\",\"\",VLOOKUP(E27,BDD!$A$5:$AC$63,29,0))","v":""},null,null,null,null,{"$f":"Composition!F58","v":20},null,null,null,null,null,null,null,null,null,null,null,"%",{"$f":"(Z25*100)/Z26","v":{"$error":"#DIV/0!"}},null,{"$f":"IF(AB25<AA26, (AB25*100)/AA26, 99)","v":0},{"$f":"(AC25*100)/AC26","v":{"$error":"#DIV/0!"}},null,{"$f":"IF(AE25<AD26, IF(C62=\"\", 0, (AE25*100)/AD26), 99)","v":0},{"$f":"(AF25*100)/AI25","v":0},null,{"$f":"IF(AH25<AI25, (AH25*100)/AF26, 99)","v":0},null,{"$f":"IF(AJ25<AI25, (AJ25*100)/AI25, 99)","v":0},null,null,null,"%",{"$f":"(AO25*100)/AO26","v":{"$error":"#DIV/0!"}},{"$f":"(AP25*100)/AP26","v":{"$error":"#DIV/0!"}},{"$error":"#DIV/0!"},{"$error":"#DIV/0!"},{"$error":"#DIV/0!"},{"$error":"#DIV/0!"},{"$error":"#DIV/0!"},{"$error":"#DIV/0!"}]
[null,null,{"$f":"IF(Composition!C23<>\"\", Composition!C23, \"\")","v":""},{"$f":"IF(C28=\"\",\"\",VLOOKUP(C28,BDD!$A$5:$S$63,18,0))","v":""},{"$f":"IF(C28=\"\",\"\",VLOOKUP(C28,BDD!$A$5:$S$63,19,0))","v":""},{"$f":"IF(C28=\"\",\"\",VLOOKUP(C28,BDD!$A$5:$AC$63,20,0))","v":""},{"$f":"IF(C28=\"\",\"\",VLOOKUP(C28,BDD!$A$5:$AD$63,30,0))","v":""},{"$f":"IF(E28=\"\",\"\",VLOOKUP(E28,BDD!$A$5:$AC$63,29,0))","v":""},null,null,null,null,null,null,null,null,null,null,null,null,null,null,null,null,null,true]
[null,null,{"$f":"IF(Composition!C24<>\"\", Composition!C24, \"\")","v":""},{"$f":"IF(C29=\"\",\"\",VLOOKUP(C29,BDD!$A$5:$S$63,18,0))","v":""},{"$f":"IF(C29=\"\",\"\",VLOOKUP(C29,BDD!$A$5:$S$63,19,0))","v":""},{"$f":"IF(C29=\"\",\"\",VLOOKUP(C29,BDD!$A$5:$AC$63,20,0))","v":""},{"$f":"IF(C29=\"\",\"\",VLOOKUP(C29,BDD!$A$5:$AD$63,30,0))","v":""},{"$f":"IF(E29=\"\",\"\",VLOOKUP(E29,BDD!$A$5:$AC$63,29,0))","v":""}]
[null,null,null,null,null,null,{"$f":"IF(C30=\"\",\"\",VLOOKUP(C30,BDD!$A$5:$AD$63,30,0))","v":""},{"$f":"IF(E30=\"\",\"\",VLOOKUP(E30,BDD!$A$5:$AC$63,29,0))","v":""}]
[null,null,null,null,null,null,{"$f":"IF(C31=\"\",\"\",VLOOKUP(C31,BDD!$A$5:$AD$63,30,0))","v":""},{"$f":"IF(E31=\"\",\"\",VLOOKUP(E31,BDD!$A$5:$AC$63,29,0))","v":""}]
[null,null,null,null,null,null,1,{"$f":"IF(E32=\"\",\"\",VLOOKUP(E32,BDD!$A$5:$AC$63,29,0))","v":""}]
[null,null,null,null,null,null,2,{"$f":"IF(E33=\"\",\"\",VLOOKUP(E33,BDD!$A$5:$AC$63,29,0))","v":""}]
[null,null,null,null,null,null,3,{"$f":"IF(E34=\"\",\"\",VLOOKUP(E34,BDD!$A$5:$AC$63,29,0))","v":""}]
[]
[]
[]
[]
[]
[]
[]
[]
[]
[null,null,null,"TYPE","NB","%","NB conseillé","NB Ajusté"]
[null,null,null,"Graminées",{"$f":"IF($Z$28=FALSE, G45,H45)","v":{"$error":"#DIV/0!"}},{"$f":"E45","v":{"$error":"#DIV/0!"}},{"$f":"AO27","v":{"$error":"#DIV/0!"}},{"$f":"AS27","v":{"$error":"#DIV/0!"}}]
[null,null,null,"Légumineuses",{"$f":"IF($Z$28=FALSE, G46,H46)","v":{"$error":"#DIV/0!"}},{"$f":"E46","v":{"$error":"#DIV/0!"}},{"$f":"AP27","v":{"$error":"#DIV/0!"}},{"$f":"AT27","v":{"$error":"#DIV/0!"}}]
[null,null,null,"Crucifères",{"$f":"IF($Z$28=FALSE, G47,H47)","v":{"$error":"#DIV/0!"}},{"$error":"#DIV/0!"},{"$f":"AQ27","v":{"$error":"#DIV/0!"}},{"$f":"AU27","v":{"$error":"#DIV/0!"}}]
[null,null,null,"Autres",{"$f":"IF($Z$28=FALSE, G48,H48)","v":{"$error":"#DIV/0!"}},{"$error":"#DIV/0!"},{"$f":"AR27","v":{"$error":"#DIV/0!"}},{"$f":"AV27","v":{"$error":"#DIV/0!"}}]
[]
[null,null,null,"HAUTEUR","NB","%"]
[null,null,null,"Basse",{"$f":"COUNTIFS($K$10:$K$24,\"1\")","v":0},{"$f":"(E51*100)/$C$77","v":{"$error":"#DIV/0!"}}]
[null,null,null,"Intermédiaire",{"$f":"COUNTIFS($K$10:$K$24,\"2\")","v":0},{"$f":"(E52*100)/$C$77","v":{"$error":"#DIV/0!"}}]
[null,null,null,"Haute",{"$f":"COUNTIFS($K$10:$K$24,\"3\")","v":0},{"$f":"(E53*100)/$C$77","v":{"$error":"#DIV/0!"}}]
[]
[null,null,null,"RACINES","NB","%"]
[null,null,null,"Superficiel",{"$f":"COUNTIFS($L$10:$L$24,\"1\")","v":0},{"$f":"(E56*100)/$C$77","v":{"$error":"#DIV/0!"}}]
[null,null,null,"Intermédiaire",{"$f":"COUNTIFS($L$10:$L$24,\"2\")","v":0},{"$f":"(E57*100)/$C$77","v":{"$error":"#DIV/0!"}}]
[null,null,null,"Profonde",{"$f":"COUNTIFS($L$10:$L$24,\"3\")","v":0},{"$f":"(E58*100)/$C$77","v":{"$error":"#DIV/0!"}}]

{"sheet":"Parametres_couverts (2)","index":39,"n_rows":66,"n_cols":8,"rows_kept":66,"cut":false,"hidden":false,"merged":[]}
[]
["LES PARAMETRES DES COUVERTS D'INTERCULTURE"]
[]
[]
[null,null,null,null,null,null,null,"Retour"]
[]
["Couvert","Coût","Dose/ha","PMG (g)"]
[]
["Alpiste des canaries",2.5,{"$f":"Parametres_couverts!C6","v":15},6]
["Aneth",3.5,8,1.8]
["Avoine bresilienne",1.6,35,16]
["Avoine de printemps",0.85,60,{"$f":"Parametres_couverts!D8","v":35}]
["Avoine d'hiver",{"$f":"Parametres_couverts!B9","v":0.25},{"$f":"Parametres_couverts!C9","v":60},{"$f":"Parametres_couverts!D9","v":20}]
["Cameline",{"$f":"Parametres_couverts!B10","v":0.25},4,1.2]
["Carthame",5.45,15,50]
["Chia",5,5,1.3]
["Colza",{"$f":"Parametres_couverts!B14","v":2.4900000000000002},{"$f":"Parametres_couverts!C14","v":5},{"$f":"Parametres_couverts!D14","v":6}]
["Crotalaire",3.6,60,33]
["Cowpea",3.5,12,66]
["Dactyle",4.2,20,1.2]
["Fénugrec",{"$f":"Parametres_couverts!B17","v":4.2},15,{"$f":"Parametres_couverts!D17","v":1.2}]
["Fetuque élevée",3.9,18,2]
["Féverole",1.1499999999999999,180,500]
["Gesse",{"$f":"Parametres_couverts!B19","v":3.9},50,170]
["Lentille fourragère",{"$f":"Parametres_couverts!B20","v":0.26},15,20]
["Lin",{"$f":"Parametres_couverts!B21","v":1.52},{"$f":"Parametres_couverts!C21","v":50},5.5]
["Lotier Corniculé",{"$f":"Parametres_couverts!B22","v":2.4},10,1.1000000000000001]
["Luzerne Flamande",{"$f":"Parametres_couverts!B23","v":1.25},20,2]
["Mauve",0,5,2]
["Mélilot",{"$f":"Parametres_couverts!B24","v":6.1},{"$f":"Parametres_couverts!C24","v":10},{"$f":"Parametres_couverts!D24","v":1.1000000000000001}]
["Millet perlé",3.1,15,{"$f":"Parametres_couverts!D25","v":2}]
["Minette",{"$f":"Parametres_couverts!B26","v":4.95},{"$f":"Parametres_couverts!C26","v":20},{"$f":"Parametres_couverts!D26","v":2}]
["Moha fourrager",{"$f":"Parametres_couverts!B27","v":2.99},{"$f":"Parametres_couverts!C27","v":15},2.2999999999999998]
["Moutarde blanche",{"$f":"Parametres_couverts!B28","v":4.9000000000000004},{"$f":"Parametres_couverts!C28","v":10},{"$f":"Parametres_couverts!D28","v":1.7}]
["Moutarde brune",{"$f":"Parametres_couverts!B29","v":1.49},2,3]
["Moutarde d'Abyssinie",{"$f":"Parametres_couverts!B30","v":1.65},6,5]
["Navette",4,5,3.9]
["Niger",{"$f":"Parametres_couverts!B31","v":8.4},{"$f":"Parametres_couverts!C31","v":3},{"$f":"Parametres_couverts!D31","v":2.5}]
["Phacélie",{"$f":"Parametres_couverts!B32","v":5.15},8,2]
["Pois fourrager",{"$f":"Parametres_couverts!B34","v":4.0999999999999996},100,182]
["Pois protéagineux",{"$f":"Parametres_couverts!B35","v":3.59},180,280]
["Radis chinois",{"$f":"Parametres_couverts!B36","v":1.49},8,14]
["Radis fourrager",{"$f":"Parametres_couverts!B37","v":0.2},8,17]
["Ray-grass Italien",{"$f":"Parametres_couverts!B39","v":2.99},{"$f":"Parametres_couverts!C39","v":12},{"$f":"Parametres_couverts!D39","v":12}]
["Sainfoin (cosse)",{"$f":"Parametres_couverts!B40","v":2.0499999999999998},{"$f":"Parametres_couverts!C40","v":20},21]
["Sainfoin (décortiqué)",{"$f":"Parametres_couverts!B41","v":1.99},{"$f":"Parametres_couverts!C41","v":130},{"$f":"Parametres_couverts!D41","v":22}]
["Sarrasin",2.1,{"$f":"Parametres_couverts!C42","v":40},{"$f":"Parametres_couverts!D42","v":22}]
["Seigle forestier",{"$f":"Parametres_couverts!B43","v":2.1},25,15]
["Seigle fourrager",{"$f":"Parametres_couverts!B44","v":1.1000000000000001},60,32]
["Sorgho fourrager",{"$f":"Parametres_couverts!B45","v":1.5},20,15]
["Tournesol",{"$f":"Parametres_couverts!B46","v":4.74},{"$f":"Parametres_couverts!C46","v":15},40]
["Trèfle Blanc",{"$f":"Parametres_couverts!B47","v":0.2},3,0.6]
["Trèfle d'Alexandrie",{"$f":"Parametres_couverts!B48","v":5.8},{"$f":"Parametres_couverts!C48","v":4},3.1]
["Trèfle de Micheli",{"$f":"Parametres_couverts!B49","v":3.1},10,0.82]
["Trèfle de perse",{"$f":"Parametres_couverts!B50","v":3.99},{"$f":"Parametres_couverts!C50","v":10},{"$f":"Parametres_couverts!D50","v":0.8}]
["Trèfle incarnat",{"$f":"Parametres_couverts!B51","v":5.85},18,3.5]
["Trèfle squarrosum",2.6,25,4.2]
["Triticale",0.3,150,45]
["Trèfle vesiculeux",3.5,10,1.5]
["Trèfle violet",{"$f":"Parametres_couverts!B53","v":0.3},15,2]
["Vesce commune",{"$f":"Parametres_couverts!B54","v":5.8},40,40]
["Vesce érigée",0,40,23]
["Vesce de Narbonne",0.3,120,200]
["Vesce de Pannonie",2.5,50,38]
["Vesce pourpre",{"$f":"Parametres_couverts!B55","v":1.85},{"$f":"Parametres_couverts!C55","v":50},{"$f":"Parametres_couverts!D55","v":60}]
["Vesce velue",{"$f":"Parametres_couverts!B56","v":1.99},{"$f":"Parametres_couverts!C56","v":40},{"$f":"Parametres_couverts!D56","v":60}]

{"sheet":"Parametres_couverts","index":40,"n_rows":62,"n_cols":8,"rows_kept":62,"cut":false,"hidden":false,"merged":[]}
[]
["LES PARAMETRES DES COUVERTS D'INTERCULTURE"]
[]
[]
[null,"Coût","Dose/ha","PMG (g)",null,null,null,"Retour"]
["Alpiste des canaries",2.5,15,6]
["Aneth",null,12,2]
["Avoine bresilienne",1.7,35,35]
["Avoine de printemps",0.25,60,20]
["Avoine d'hiver",0.25,60,20]
["Cameline",5.7,5,1.2]
["Carthame",null,15,50]
["Chia",null,4,1]
["Colza",2.4900000000000002,5,6]
["Crotalaire"]
["Cowpea",3.5,12,66]
["Dactyle",4.2,20,1.2]
["Fénugrec",2.6,30,22]
["Fetuque élevée",3.9,18,2]
["Féverole",0.26,180,500]
["Gesse",1.52,50,180]
["Lentille fourragère",2.4,45,22]
["Lin",1.25,40,7]
["Lotier Corniculé",6.1,10,1.1000000000000001]
["Luzerne Flamande",5.69,8,2]
["Mélilot",4.95,20,2]
["Millet perlé",2.99,15,8]
["Minette",4.9000000000000004,10,1.7]
["Moha fourrager",1.49,20,5]
["Moutarde blanche",1.65,8,7]
["Moutarde brune",8.4,3,2.5]
["Moutarde d'Abyssinie",5.15,6,6]
["Navette",4,5,3.9]
["Niger",4.0999999999999996,8,3]
["Phacélie",3.59,10,2]
["Pois fourrager",1.49,100,100]
["Pois protéagineux",0.2,200,200]
["Radis chinois",5.0999999999999996,10,14]
["Radis fourrager",2.99,12,12]
["Ray-grass Italien",2.0499999999999998,20,2]
["Sainfoin (cosse)",1.99,130,22]
["Sainfoin (décortiqué)",2.79,40,22]
["Sarrasin",2.1,35,25]
["Seigle forestier",1.1000000000000001,25,30]
["Seigle fourrager",1.5,60,45]
["Sorgho fourrager",4.74,15,30]
["Tournesol",0.2,50,60]
["Trèfle Blanc",5.8,4,0.6]
["Trèfle d'Alexandrie",3.1,15,2.5]
["Trèfle de Micheli",3.99,10,0.8]
["Trèfle de perse",5.85,20,2]
["Trèfle incarnat",2.69,15,2.5]
["Triticale",0.3,150,32]
["Trèfle violet",5.8,15,1.9]
["Vesce commune",1.85,50,60]
["Vesce pourpre",1.99,40,60]
["Vesce velue",3.13,35,60]
[{"$f":"BDD!A65","v":0}]
[{"$f":"BDD!A66","v":0}]
[{"$f":"BDD!A67","v":0}]
[{"$f":"BDD!A68","v":0}]
[{"$f":"BDD!A69","v":0}]

{"sheet":"Culture-suivante_BDD","index":41,"n_rows":62,"n_cols":15,"rows_kept":62,"cut":false,"hidden":false,"merged":[]}
[]
[null,0,1,2,3,4,5,6,7,8,9,10]
["Couvert","Choisir","Maïs","Tournesol","Soja","Pois","Feverole","Lentille","Pois Chiche","Betterave","Chanvre","Orge de printemps"]
[]
["Alpistre des Canaries",null,3,1,1,1,1,1,1,1,1,3]
["Aneth",null,1,1,1,1,1,1,1,1,1,1]
["Avoine bresilienne",null,1,1,1,1,1,1,1,1,1,3]
["Avoine de printemps",null,1,1,1,1,1,1,1,1,1,3]
["Avoine d'hiver",null,1,1,1,1,1,1,1,1,1,3,null,1,"oui"]
["Cameline",null,1,1,1,1,1,1,1,2,1,1,null,2,"Sous condition"]
["Carthame",null,1,1,1,1,1,1,1,1,1,1]
["Chia",null,1,1,1,1,1,1,1,1,1,1]
["Colza",null,1,1,1,1,1,1,1,2,3,1,null,3,"NON"]
["Crotalaire",null,1,1,3,3,3,3,3,1,1,1]
["Cowpea",null,1,1,2,3,3,3,3,1,1,1]
["Dactyle",null,3,2,2,2,2,2,2,2,2,3]
["Fénugrec",null,1,1,3,3,3,3,3,1,1,1]
["Fetuque",null,3,2,2,2,2,2,2,2,2,3]
["Féverole",null,1,1,3,3,3,3,3,1,1,1]
["Gesse",null,1,1,3,3,3,3,3,1,1,1]
["Lentille fourragère",null,1,1,3,3,3,3,3,1,1,1]
["Lin",null,1,1,1,1,1,1,1,1,1,1]
["Lotier Corniculé",null,1,1,3,3,3,3,3,1,1,1]
["Luzerne Flamande",null,1,1,3,3,3,3,3,1,1,1]
["Mauve",null,1,1,1,1,1,1,1,1,1,1]
["Mélilot",null,1,1,3,3,3,3,3,1,1,1]
["Millet perlé",null,3,1,1,1,1,1,1,1,1,3]
["Minette",null,1,1,3,3,3,3,3,1,1,1]
["Moha fourrager",null,3,1,1,1,1,1,1,1,1,3]
["Moutarde blanche",null,2,1,1,1,1,1,1,3,3,2]
["Moutarde brune",null,2,1,1,1,1,1,1,3,3,2]
["Moutarde d'Abyssinie",null,2,1,1,1,1,1,1,3,3,2,"Espèce tardive"]
["Navette",null,2,1,1,1,1,1,1,3,3,1]
["Niger",null,1,3,1,1,1,1,1,1,1,1]
["Phacélie",null,1,1,1,1,1,1,1,2,1,1,"Famille botanique différente"]
["Pois fourrager",null,1,1,3,3,3,3,3,1,1,1]
["Pois protéagineux",null,1,1,3,3,3,3,3,1,1,1]
["Radis chinois",null,2,1,1,1,1,1,1,1,3,1]
["Radis fourrager",null,2,1,1,1,1,1,1,1,3,2]
["Ray-grass Italien",null,2,1,1,1,1,1,1,1,3,1]
["Sainfoin (cosse)",null,1,1,3,3,3,3,3,1,1,1]
["Sainfoin (décortiqué)",null,1,1,3,3,3,3,3,1,1,1]
["Sarrasin",null,2,2,2,2,2,2,2,1,2,1,"Attention à la grenaison"]
["Seigle forestier",null,2,2,1,1,1,1,1,3,1,3]
["Seigle fourrager",null,2,2,1,1,1,1,1,3,1,3]
["Sorgho fourrager",null,3,1,1,1,1,1,1,3,1,3]
["Tournesol",null,1,3,1,1,1,1,1,1,1,1]
["Trèfle Blanc",null,1,1,3,3,3,3,3,1,1,1]
["Trèfle d'Alexandrie",null,1,1,3,3,3,3,3,1,1,1]
["Trèfle de Micheli",null,1,1,3,3,3,3,3,1,1,1]
["Trèfle de perse",null,1,1,3,3,3,3,3,1,1,1]
["Trèfle incarnat",null,1,1,3,3,3,3,3,1,1,1]
["Trèfle squarossum",null,1,1,3,3,3,3,3,1,1,1]
["Triticale",null,1,1,1,1,1,1,1,3,1,3]
["Trèfle vésiculeux",null,1,1,3,3,3,3,3,1,1,1]
["Trèfle violet",null,1,1,3,3,3,3,3,1,1,1]
["Vesce commune",null,1,1,3,3,3,3,3,1,1,1]
["Vesce érigée",null,1,1,3,3,3,3,3,1,1,1]
["Vesce de Narbonne",null,1,1,3,3,3,3,3,1,1,1]
["Vesce de Pannonie",null,1,1,3,3,3,3,3,1,1,1]
["Vesce pourpre",null,1,1,3,3,3,3,3,1,1,1]
["Vesce velue",null,1,1,3,3,3,3,3,1,1,1,"Destruction mécanique délicate"]

{"sheet":"Choix_culture_suivante","index":42,"n_rows":58,"n_cols":54,"rows_kept":58,"cut":false,"hidden":false,"merged":[[0,12,0,22],[3,17,3,22]]}
[]
[]
[]
[]
[]
[]
[]
[null,null,null,{"$f":"VLOOKUP(D9,BDD!$D$81:$E$91,2,0)","v":1},{"$f":"VLOOKUP(E9,BDD!$D$81:$E$91,2,0)","v":2},{"$f":"VLOOKUP(F9,BDD!$D$81:$E$91,2,0)","v":3},null,null,null,null,null,null,false,null,null,null,null,null,null,null,null,null,null,null,null,null,null,null,null,null,null,null,null,null,null,null,null,null,null,"Conseillé",null,null,null,null,"Ajusté",null,null,null,"PMG","NB pieds Conseillé","NB ajusté"]
[null,null,null,"Maïs","Tournesol","Soja",null,null,null,"Type","Hauteur","Racine",null,null,null,null,null,null,null,null,null,null,null,null,null,"Conseillé Biomasse","Dose","Note","Conseillé Azote","Dose","Note","Ajusté Biomasse","Dose","Note","Ajusté max","Ajustée Azote","Dose","Note",null,null,"Graminées","Legumineuse","Crucifères","Autres","Graminées","Legumineuse","Crucifères","Autres",null,null,null,null,"Couvert","NB Pieds"]
[null,{"$f":"IF(C10=\"\", \"\", VLOOKUP(Choix_culture_suivante!C10,BDD!$A$6:$M$63,13,1))","v":28},{"$f":"IF(Composition!C10<>\"\", Composition!C10, \"\")","v":"Moutarde d'Abyssinie"},{"$f":"IF(C10=\"\", \" \", INDEX('Culture-suivante_BDD'!$C$5:$L$62,B10,$D$8))","v":2},{"$f":"IF(C10=\"\", \" \", INDEX('Culture-suivante_BDD'!$C$5:$L$62,B10,$E$8))","v":1},{"$f":"IF(C10=\"\", \" \", INDEX('Culture-suivante_BDD'!$C$5:$L$62,B10,$F$8))","v":1},{"$f":"IF(C10=\"\", \" \", INDEX(BDD!$A$6:$AE$63,B10,31))","v":"Tardive à floraison"},null,null,{"$f":"IF(#REF!=\"\",\"\",VLOOKUP(#REF!,BDD!$A$5:$I$63,2,0))","v":{"$error":"#REF!"}},{"$f":"IF(#REF!=\"\",\"\",VLOOKUP(#REF!,BDD!$A$5:$I$63,3,0))","v":{"$error":"#REF!"}},{"$f":"IF(#REF!=\"\",\"\",VLOOKUP(#REF!,BDD!$A$5:$I$63,4,0))","v":{"$error":"#REF!"}},null,null,null,null,null,null,null,null,null,null,null,null,null,{"$f":"IF(#REF!=\"\",\"\",VLOOKUP(#REF!,BDD!$A$5:$I$63,5,0))","v":{"$error":"#REF!"}},{"$f":"#REF!","v":{"$error":"#REF!"}},{"$f":"IF(#REF!=\"\", \"\", Z10*AA10)","v":{"$error":"#REF!"}},{"$f":"IF(#REF!=\"\",\"\",VLOOKUP(#REF!,BDD!$A$5:$I$63,7,0))","v":{"$error":"#REF!"}},{"$f":"#REF!","v":{"$error":"#REF!"}},{"$f":"IF(#REF!=\"\", \"\", AC10*AD10)","v":{"$error":"#REF!"}},{"$f":"IF(#REF!=\"\", \"\",#REF!* Z10)","v":{"$error":"#REF!"}},{"$f":"#REF!","v":{"$error":"#REF!"}},{"$f":"IF(#REF!=\"\", \"\", AG10*Z10)","v":{"$error":"#REF!"}},{"$f":"IF(#REF!=\"\", \"\",#REF!* 4)","v":{"$error":"#REF!"}},{"$f":"IF(#REF!=\"\", \"\",#REF!* AC10)","v":{"$error":"#REF!"}},{"$f":"AG10","v":{"$error":"#REF!"}},null,null,{"$f":"IF(#REF!=\"\",\"\",VLOOKUP(#REF!,BDD!$A$5:$I$63,2,0))","v":{"$error":"#REF!"}},{"$f":"IF(AN10=\"graminée\",#REF!, \"\")","v":{"$error":"#REF!"}},{"$f":"IF(AN10=\"Légumineuse\",#REF!, \"\")","v":{"$error":"#REF!"}},{"$f":"IF(AN10=\"Crucifère\",#REF!, \"\")","v":{"$error":"#REF!"}},{"$f":" IF(SUM(AO10:AQ10)>0, \"\",#REF!)","v":{"$error":"#REF!"}},{"$f":"IF(AN10=\"graminée\",#REF!, \"\")","v":{"$error":"#REF!"}},{"$f":"IF(AN10=\"Légumineuse\",#REF!, \"\")","v":{"$error":"#REF!"}},{"$f":"IF(AN10=\"Crucifère\",#REF!, \"\")","v":{"$error":"#REF!"}},{"$f":" IF(SUM(AS10:AU10)>0, \"\",#REF!)","v":{"$error":"#REF!"}},{"$f":"IF(#REF!=\"\",\"\",VLOOKUP(#REF!,BDD!$A$5:$J$63,10,0))","v":{"$error":"#REF!"}},{"$f":"IF(#REF!=\"\", \"\", (#REF!*100)/AW10)","v":{"$error":"#REF!"}},{"$f":"IF(#REF!= \"\", \"\", (#REF!*100)/AW10)","v":{"$error":"#REF!"}},null,{"$f":" IF(#REF!=\"\", \"\",#REF!)","v":{"$error":"#REF!"}},{"$f":"IF($Z$28=TRUE, AY10, AX10)","v":{"$error":"#REF!"}}]
[null,{"$f":"IF(C11=\"\", \"\", VLOOKUP(Choix_culture_suivante!C11,BDD!$A$6:$M$63,13,1))","v":57},{"$f":"IF(Composition!C11<>\"\", Composition!C11, \"\")","v":"Vesce pourpre"},{"$f":"IF(C11=\"\", \" \", INDEX('Culture-suivante_BDD'!$C$5:$L$62,B11,$D$8))","v":1},{"$f":"IF(C11=\"\", \" \", INDEX('Culture-suivante_BDD'!$C$5:$L$62,B11,$E$8))","v":1},{"$f":"IF(C11=\"\", \" \", INDEX('Culture-suivante_BDD'!$C$5:$L$62,B11,$F$8))","v":3},{"$f":"IF(C11=\"\", \" \", INDEX(BDD!$A$6:$AE$63,B11,31))","v":"A semer tôt"},null,null,{"$f":"IF(#REF!=\"\",\"\",VLOOKUP(#REF!,BDD!$A$5:$I$63,2,0))","v":{"$error":"#REF!"}},{"$f":"IF(#REF!=\"\",\"\",VLOOKUP(#REF!,BDD!$A$5:$I$63,3,0))","v":{"$error":"#REF!"}},{"$f":"IF(#REF!=\"\",\"\",VLOOKUP(#REF!,BDD!$A$5:$I$63,4,0))","v":{"$error":"#REF!"}},false,null,null,null,null,null,null,null,null,null,null,null,null,{"$f":"IF(#REF!=\"\",\"\",VLOOKUP(#REF!,BDD!$A$5:$I$63,5,0))","v":{"$error":"#REF!"}},{"$f":"#REF!","v":{"$error":"#REF!"}},{"$f":"IF(#REF!=\"\", \"\", Z11*AA11)","v":{"$error":"#REF!"}},{"$f":"IF(#REF!=\"\",\"\",VLOOKUP(#REF!,BDD!$A$5:$I$63,7,0))","v":{"$error":"#REF!"}},{"$f":"#REF!","v":{"$error":"#REF!"}},{"$f":"IF(#REF!=\"\", \"\", AC11*AD11)","v":{"$error":"#REF!"}},{"$f":"IF(#REF!=\"\", \"\",#REF!* Z11)","v":{"$error":"#REF!"}},{"$f":"#REF!","v":{"$error":"#REF!"}},{"$f":"IF(#REF!=\"\", \"\", AG11*Z11)","v":{"$error":"#REF!"}},{"$f":"IF(#REF!=\"\", \"\",#REF!* 4)","v":{"$error":"#REF!"}},{"$f":"IF(#REF!=\"\", \"\",#REF!* AC11)","v":{"$error":"#REF!"}},{"$f":"AG11","v":{"$error":"#REF!"}},null,null,{"$f":"IF(#REF!=\"\",\"\",VLOOKUP(#REF!,BDD!$A$5:$I$63,2,0))","v":{"$error":"#REF!"}},{"$f":"IF(AN11=\"graminée\",#REF!, \"\")","v":{"$error":"#REF!"}},{"$f":"IF(AN11=\"Légumineuse\",#REF!, \"\")","v":{"$error":"#REF!"}},{"$f":"IF(AN11=\"Crucifère\",#REF!, \"\")","v":{"$error":"#REF!"}},{"$f":" IF(SUM(AO11:AQ11)>0, \"\",#REF!)","v":{"$error":"#REF!"}},{"$f":"IF(AN11=\"graminée\",#REF!, \"\")","v":{"$error":"#REF!"}},{"$f":"IF(AN11=\"Légumineuse\",#REF!, \"\")","v":{"$error":"#REF!"}},{"$f":"IF(AN11=\"Crucifère\",#REF!, \"\")","v":{"$error":"#REF!"}},{"$f":" IF(SUM(AS11:AU11)>0, \"\",#REF!)","v":{"$error":"#REF!"}},{"$f":"IF(#REF!=\"\",\"\",VLOOKUP(#REF!,BDD!$A$5:$J$63,10,0))","v":{"$error":"#REF!"}},{"$f":"IF(#REF!=\"\", \"\", (#REF!*100)/AW11)","v":{"$error":"#REF!"}},{"$f":"IF(#REF!= \"\", \"\", (#REF!*100)/AW11)","v":{"$error":"#REF!"}},null,{"$f":" IF(#REF!=\"\", \"\",#REF!)","v":{"$error":"#REF!"}},{"$f":"IF($Z$28=TRUE, AY11, AX11)","v":{"$error":"#REF!"}}]
[null,{"$f":"IF(C12=\"\", \"\", VLOOKUP(Choix_culture_suivante!C12,BDD!$A$6:$M$63,13,1))","v":45},{"$f":"IF(Composition!C12<>\"\", Composition!C12, \"\")","v":"Trèfle d'Alexandrie"},{"$f":"IF(C12=\"\", \" \", INDEX('Culture-suivante_BDD'!$C$5:$L$62,B12,$D$8))","v":1},{"$f":"IF(C12=\"\", \" \", INDEX('Culture-suivante_BDD'!$C$5:$L$62,B12,$E$8))","v":1},{"$f":"IF(C12=\"\", \" \", INDEX('Culture-suivante_BDD'!$C$5:$L$62,B12,$F$8))","v":3},{"$f":"IF(C12=\"\", \" \", INDEX(BDD!$A$6:$AE$63,B12,31))","v":"Intérêt en interculture courte"},null,null,{"$f":"IF(#REF!=\"\",\"\",VLOOKUP(#REF!,BDD!$A$5:$I$63,2,0))","v":{"$error":"#REF!"}},{"$f":"IF(#REF!=\"\",\"\",VLOOKUP(#REF!,BDD!$A$5:$I$63,3,0))","v":{"$error":"#REF!"}},{"$f":"IF(#REF!=\"\",\"\",VLOOKUP(#REF!,BDD!$A$5:$I$63,4,0))","v":{"$error":"#REF!"}},null,null,null,null,null,null,null,null,null,null,null,null,null,{"$f":"IF(#REF!=\"\",\"\",VLOOKUP(#REF!,BDD!$A$5:$I$63,5,0))","v":{"$error":"#REF!"}},{"$f":"#REF!","v":{"$error":"#REF!"}},{"$f":"IF(#REF!=\"\", \"\", Z12*AA12)","v":{"$error":"#REF!"}},{"$f":"IF(#REF!=\"\",\"\",VLOOKUP(#REF!,BDD!$A$5:$I$63,7,0))","v":{"$error":"#REF!"}},{"$f":"#REF!","v":{"$error":"#REF!"}},{"$f":"IF(#REF!=\"\", \"\", AC12*AD12)","v":{"$error":"#REF!"}},{"$f":"IF(#REF!=\"\", \"\",#REF!* Z12)","v":{"$error":"#REF!"}},{"$f":"#REF!","v":{"$error":"#REF!"}},{"$f":"IF(#REF!=\"\", \"\", AG12*Z12)","v":{"$error":"#REF!"}},{"$f":"IF(#REF!=\"\", \"\",#REF!* 4)","v":{"$error":"#REF!"}},{"$f":"IF(#REF!=\"\", \"\",#REF!* AC12)","v":{"$error":"#REF!"}},{"$error":"#REF!"},null,null,{"$f":"IF(#REF!=\"\",\"\",VLOOKUP(#REF!,BDD!$A$5:$I$63,2,0))","v":{"$error":"#REF!"}},{"$f":"IF(AN12=\"graminée\",#REF!, \"\")","v":{"$error":"#REF!"}},{"$f":"IF(AN12=\"Légumineuse\",#REF!, \"\")","v":{"$error":"#REF!"}},{"$f":"IF(AN12=\"Crucifère\",#REF!, \"\")","v":{"$error":"#REF!"}},{"$f":" IF(SUM(AO12:AQ12)>0, \"\",#REF!)","v":{"$error":"#REF!"}},{"$f":"IF(AN12=\"graminée\",#REF!, \"\")","v":{"$error":"#REF!"}},{"$f":"IF(AN12=\"Légumineuse\",#REF!, \"\")","v":{"$error":"#REF!"}},{"$f":"IF(AN12=\"Crucifère\",#REF!, \"\")","v":{"$error":"#REF!"}},{"$f":" IF(SUM(AS12:AU12)>0, \"\",#REF!)","v":{"$error":"#REF!"}},{"$f":"IF(#REF!=\"\",\"\",VLOOKUP(#REF!,BDD!$A$5:$J$63,10,0))","v":{"$error":"#REF!"}},{"$f":"IF(#REF!=\"\", \"\", (#REF!*100)/AW12)","v":{"$error":"#REF!"}},{"$f":"IF(#REF!= \"\", \"\", (#REF!*100)/AW12)","v":{"$error":"#REF!"}},null,{"$f":" IF(#REF!=\"\", \"\",#REF!)","v":{"$error":"#REF!"}},{"$error":"#REF!"}]
[null,{"$f":"IF(C13=\"\", \"\", VLOOKUP(Choix_culture_suivante!C13,BDD!$A$6:$M$63,13,1))","v":31},{"$f":"IF(Composition!C13<>\"\", Composition!C13, \"\")","v":"Phacélie"},{"$f":"IF(C13=\"\", \" \", INDEX('Culture-suivante_BDD'!$C$5:$L$62,B13,$D$8))","v":1},{"$f":"IF(C13=\"\", \" \", INDEX('Culture-suivante_BDD'!$C$5:$L$62,B13,$E$8))","v":1},{"$f":"IF(C13=\"\", \" \", INDEX('Culture-suivante_BDD'!$C$5:$L$62,B13,$F$8))","v":1},{"$f":"IF(C13=\"\", \" \", INDEX(BDD!$A$6:$AE$63,B13,31))","v":"Famille botanique différente"},null,null,{"$f":"IF(#REF!=\"\",\"\",VLOOKUP(#REF!,BDD!$A$5:$I$63,2,0))","v":{"$error":"#REF!"}},{"$f":"IF(#REF!=\"\",\"\",VLOOKUP(#REF!,BDD!$A$5:$I$63,3,0))","v":{"$error":"#REF!"}},{"$f":"IF(#REF!=\"\",\"\",VLOOKUP(#REF!,BDD!$A$5:$I$63,4,0))","v":{"$error":"#REF!"}},null,null,null,null,null,null,null,null,null,null,null,null,null,{"$f":"IF(#REF!=\"\",\"\",VLOOKUP(#REF!,BDD!$A$5:$I$63,5,0))","v":{"$error":"#REF!"}},{"$f":"#REF!","v":{"$error":"#REF!"}},{"$f":"IF(#REF!=\"\", \"\", Z13*AA13)","v":{"$error":"#REF!"}},{"$f":"IF(#REF!=\"\",\"\",VLOOKUP(#REF!,BDD!$A$5:$I$63,7,0))","v":{"$error":"#REF!"}},{"$f":"#REF!","v":{"$error":"#REF!"}},{"$f":"IF(#REF!=\"\", \"\", AC13*AD13)","v":{"$error":"#REF!"}},{"$f":"IF(#REF!=\"\", \"\",#REF!* Z13)","v":{"$error":"#REF!"}},{"$f":"#REF!","v":{"$error":"#REF!"}},{"$f":"IF(#REF!=\"\", \"\", AG13*Z13)","v":{"$error":"#REF!"}},{"$f":"IF(#REF!=\"\", \"\",#REF!* 4)","v":{"$error":"#REF!"}},{"$f":"IF(#REF!=\"\", \"\",#REF!* AC13)","v":{"$error":"#REF!"}},{"$error":"#REF!"},null,null,{"$f":"IF(#REF!=\"\",\"\",VLOOKUP(#REF!,BDD!$A$5:$I$63,2,0))","v":{"$error":"#REF!"}},{"$f":"IF(AN13=\"graminée\",#REF!, \"\")","v":{"$error":"#REF!"}},{"$f":"IF(AN13=\"Légumineuse\",#REF!, \"\")","v":{"$error":"#REF!"}},{"$f":"IF(AN13=\"Crucifère\",#REF!, \"\")","v":{"$error":"#REF!"}},{"$f":" IF(SUM(AO13:AQ13)>0, \"\",#REF!)","v":{"$error":"#REF!"}},{"$f":"IF(AN13=\"graminée\",#REF!, \"\")","v":{"$error":"#REF!"}},{"$f":"IF(AN13=\"Légumineuse\",#REF!, \"\")","v":{"$error":"#REF!"}},{"$f":"IF(AN13=\"Crucifère\",#REF!, \"\")","v":{"$error":"#REF!"}},{"$f":" IF(SUM(AS13:AU13)>0, \"\",#REF!)","v":{"$error":"#REF!"}},{"$f":"IF(#REF!=\"\",\"\",VLOOKUP(#REF!,BDD!$A$5:$J$63,10,0))","v":{"$error":"#REF!"}},{"$f":"IF(#REF!=\"\", \"\", (#REF!*100)/AW13)","v":{"$error":"#REF!"}},{"$f":"IF(#REF!= \"\", \"\", (#REF!*100)/AW13)","v":{"$error":"#REF!"}},null,{"$f":" IF(#REF!=\"\", \"\",#REF!)","v":{"$error":"#REF!"}},{"$error":"#REF!"}]
[null,{"$f":"IF(C14=\"\", \"\", VLOOKUP(Choix_culture_suivante!C14,BDD!$A$6:$M$63,13,1))","v":3},{"$f":"IF(Composition!C14<>\"\", Composition!C14, \"\")","v":"Avoine bresilienne"},{"$f":"IF(C14=\"\", \" \", INDEX('Culture-suivante_BDD'!$C$5:$L$62,B14,$D$8))","v":1},{"$f":"IF(C14=\"\", \" \", INDEX('Culture-suivante_BDD'!$C$5:$L$62,B14,$E$8))","v":1},{"$f":"IF(C14=\"\", \" \", INDEX('Culture-suivante_BDD'!$C$5:$L$62,B14,$F$8))","v":1},{"$f":"IF(C14=\"\", \" \", INDEX(BDD!$A$6:$AE$63,B14,31))","v":"Bonne production de biomasse"},null,null,{"$f":"IF(#REF!=\"\",\"\",VLOOKUP(#REF!,BDD!$A$5:$I$63,2,0))","v":{"$error":"#REF!"}},{"$f":"IF(#REF!=\"\",\"\",VLOOKUP(#REF!,BDD!$A$5:$I$63,3,0))","v":{"$error":"#REF!"}},{"$f":"IF(#REF!=\"\",\"\",VLOOKUP(#REF!,BDD!$A$5:$I$63,4,0))","v":{"$error":"#REF!"}},null,null,null,null,null,null,null,null,null,null,null,null,null,{"$f":"IF(#REF!=\"\",\"\",VLOOKUP(#REF!,BDD!$A$5:$I$63,5,0))","v":{"$error":"#REF!"}},{"$f":"#REF!","v":{"$error":"#REF!"}},{"$f":"IF(#REF!=\"\", \"\", Z14*AA14)","v":{"$error":"#REF!"}},{"$f":"IF(#REF!=\"\",\"\",VLOOKUP(#REF!,BDD!$A$5:$I$63,7,0))","v":{"$error":"#REF!"}},{"$f":"#REF!","v":{"$error":"#REF!"}},{"$f":"IF(#REF!=\"\", \"\", AC14*AD14)","v":{"$error":"#REF!"}},{"$f":"IF(#REF!=\"\", \"\",#REF!* Z14)","v":{"$error":"#REF!"}},{"$f":"#REF!","v":{"$error":"#REF!"}},{"$f":"IF(#REF!=\"\", \"\", AG14*Z14)","v":{"$error":"#REF!"}},{"$f":"IF(#REF!=\"\", \"\",#REF!* 4)","v":{"$error":"#REF!"}},{"$f":"IF(#REF!=\"\", \"\",#REF!* AC14)","v":{"$error":"#REF!"}},{"$error":"#REF!"},null,null,{"$f":"IF(#REF!=\"\",\"\",VLOOKUP(#REF!,BDD!$A$5:$I$63,2,0))","v":{"$error":"#REF!"}},{"$f":"IF(AN14=\"graminée\",#REF!, \"\")","v":{"$error":"#REF!"}},{"$f":"IF(AN14=\"Légumineuse\",#REF!, \"\")","v":{"$error":"#REF!"}},{"$f":"IF(AN14=\"Crucifère\",#REF!, \"\")","v":{"$error":"#REF!"}},{"$f":" IF(SUM(AO14:AQ14)>0, \"\",#REF!)","v":{"$error":"#REF!"}},{"$f":"IF(AN14=\"graminée\",#REF!, \"\")","v":{"$error":"#REF!"}},{"$f":"IF(AN14=\"Légumineuse\",#REF!, \"\")","v":{"$error":"#REF!"}},{"$f":"IF(AN14=\"Crucifère\",#REF!, \"\")","v":{"$error":"#REF!"}},{"$f":" IF(SUM(AS14:AU14)>0, \"\",#REF!)","v":{"$error":"#REF!"}},{"$f":"IF(#REF!=\"\",\"\",VLOOKUP(#REF!,BDD!$A$5:$J$63,10,0))","v":{"$error":"#REF!"}},{"$f":"IF(#REF!=\"\", \"\", (#REF!*100)/AW14)","v":{"$error":"#REF!"}},{"$f":"IF(#REF!= \"\", \"\", (#REF!*100)/AW14)","v":{"$error":"#REF!"}},null,{"$f":" IF(#REF!=\"\", \"\",#REF!)","v":{"$error":"#REF!"}},{"$error":"#REF!"}]
[null,{"$f":"IF(C15=\"\", \"\", VLOOKUP(Choix_culture_suivante!C15,BDD!$A$6:$M$63,13,1))","v":""},{"$f":"IF(Composition!C15<>\"\", Composition!C15, \"\")","v":""},{"$f":"IF(C15=\"\", \" \", INDEX('Culture-suivante_BDD'!$C$5:$L$62,B15,$D$8))","v":" "},{"$f":"IF(C15=\"\", \" \", INDEX('Culture-suivante_BDD'!$C$5:$L$62,B15,$E$8))","v":" "},{"$f":"IF(C15=\"\", \" \", INDEX('Culture-suivante_BDD'!$C$5:$L$62,B15,$F$8))","v":" "},{"$f":"IF(C15=\"\", \" \", INDEX(BDD!$A$6:$AE$63,B15,31))","v":" "},null,null,{"$f":"IF(#REF!=\"\",\"\",VLOOKUP(#REF!,BDD!$A$5:$I$63,2,0))","v":{"$error":"#REF!"}},{"$f":"IF(#REF!=\"\",\"\",VLOOKUP(#REF!,BDD!$A$5:$I$63,3,0))","v":{"$error":"#REF!"}},{"$f":"IF(#REF!=\"\",\"\",VLOOKUP(#REF!,BDD!$A$5:$I$63,4,0))","v":{"$error":"#REF!"}},null,null,null,null,null,null,null,null,null,null,null,null,null,{"$f":"IF(#REF!=\"\",\"\",VLOOKUP(#REF!,BDD!$A$5:$I$63,5,0))","v":{"$error":"#REF!"}},{"$f":"#REF!","v":{"$error":"#REF!"}},{"$f":"IF(#REF!=\"\", \"\", Z15*AA15)","v":{"$error":"#REF!"}},{"$f":"IF(#REF!=\"\",\"\",VLOOKUP(#REF!,BDD!$A$5:$I$63,7,0))","v":{"$error":"#REF!"}},{"$f":"#REF!","v":{"$error":"#REF!"}},{"$f":"IF(#REF!=\"\", \"\", AC15*AD15)","v":{"$error":"#REF!"}},{"$f":"IF(#REF!=\"\", \"\",#REF!* Z15)","v":{"$error":"#REF!"}},{"$f":"#REF!","v":{"$error":"#REF!"}},{"$f":"IF(#REF!=\"\", \"\", AG15*Z15)","v":{"$error":"#REF!"}},{"$f":"IF(#REF!=\"\", \"\",#REF!* 4)","v":{"$error":"#REF!"}},{"$f":"IF(#REF!=\"\", \"\",#REF!* AC15)","v":{"$error":"#REF!"}},{"$error":"#REF!"},null,null,{"$f":"IF(#REF!=\"\",\"\",VLOOKUP(#REF!,BDD!$A$5:$I$63,2,0))","v":{"$error":"#REF!"}},{"$f":"IF(AN15=\"graminée\",#REF!, \"\")","v":{"$error":"#REF!"}},{"$f":"IF(AN15=\"Légumineuse\",#REF!, \"\")","v":{"$error":"#REF!"}},{"$f":"IF(AN15=\"Crucifère\",#REF!, \"\")","v":{"$error":"#REF!"}},{"$f":" IF(SUM(AO15:AQ15)>0, \"\",#REF!)","v":{"$error":"#REF!"}},{"$f":"IF(AN15=\"graminée\",#REF!, \"\")","v":{"$error":"#REF!"}},{"$f":"IF(AN15=\"Légumineuse\",#REF!, \"\")","v":{"$error":"#REF!"}},{"$f":"IF(AN15=\"Crucifère\",#REF!, \"\")","v":{"$error":"#REF!"}},{"$f":" IF(SUM(AS15:AU15)>0, \"\",#REF!)","v":{"$error":"#REF!"}},{"$f":"IF(#REF!=\"\",\"\",VLOOKUP(#REF!,BDD!$A$5:$J$63,10,0))","v":{"$error":"#REF!"}},{"$f":"IF(#REF!=\"\", \"\", (#REF!*100)/AW15)","v":{"$error":"#REF!"}},{"$f":"IF(#REF!= \"\", \"\", (#REF!*100)/AW15)","v":{"$error":"#REF!"}},null,{"$f":" IF(#REF!=\"\", \"\",#REF!)","v":{"$error":"#REF!"}},{"$error":"#REF!"}]
[null,{"$f":"IF(C16=\"\", \"\", VLOOKUP(Choix_culture_suivante!C16,BDD!$A$6:$M$63,13,1))","v":""},{"$f":"IF(Composition!C16<>\"\", Composition!C16, \"\")","v":""},{"$f":"IF(C16=\"\", \" \", INDEX('Culture-suivante_BDD'!$C$5:$L$62,B16,$D$8))","v":" "},{"$f":"IF(C16=\"\", \" \", INDEX('Culture-suivante_BDD'!$C$5:$L$62,B16,$E$8))","v":" "},{"$f":"IF(C16=\"\", \" \", INDEX('Culture-suivante_BDD'!$C$5:$L$62,B16,$F$8))","v":" "},{"$f":"IF(C16=\"\", \" \", INDEX(BDD!$A$6:$AE$63,B16,31))","v":" "},null,null,{"$f":"IF(#REF!=\"\",\"\",VLOOKUP(#REF!,BDD!$A$5:$I$63,2,0))","v":{"$error":"#REF!"}},{"$f":"IF(#REF!=\"\",\"\",VLOOKUP(#REF!,BDD!$A$5:$I$63,3,0))","v":{"$error":"#REF!"}},{"$f":"IF(#REF!=\"\",\"\",VLOOKUP(#REF!,BDD!$A$5:$I$63,4,0))","v":{"$error":"#REF!"}},null,null,null,null,null,null,null,null,null,null,null,null,null,{"$f":"IF(#REF!=\"\",\"\",VLOOKUP(#REF!,BDD!$A$5:$I$63,5,0))","v":{"$error":"#REF!"}},{"$f":"#REF!","v":{"$error":"#REF!"}},{"$f":"IF(#REF!=\"\", \"\", Z16*AA16)","v":{"$error":"#REF!"}},{"$f":"IF(#REF!=\"\",\"\",VLOOKUP(#REF!,BDD!$A$5:$I$63,7,0))","v":{"$error":"#REF!"}},{"$f":"#REF!","v":{"$error":"#REF!"}},{"$f":"IF(#REF!=\"\", \"\", AC16*AD16)","v":{"$error":"#REF!"}},{"$f":"IF(#REF!=\"\", \"\",#REF!* Z16)","v":{"$error":"#REF!"}},{"$f":"#REF!","v":{"$error":"#REF!"}},{"$f":"IF(#REF!=\"\", \"\", AG16*Z16)","v":{"$error":"#REF!"}},{"$f":"IF(#REF!=\"\", \"\",#REF!* 4)","v":{"$error":"#REF!"}},{"$f":"IF(#REF!=\"\", \"\",#REF!* AC16)","v":{"$error":"#REF!"}},{"$error":"#REF!"},null,null,{"$f":"IF(#REF!=\"\",\"\",VLOOKUP(#REF!,BDD!$A$5:$I$63,2,0))","v":{"$error":"#REF!"}},{"$f":"IF(AN16=\"graminée\",#REF!, \"\")","v":{"$error":"#REF!"}},{"$f":"IF(AN16=\"Légumineuse\",#REF!, \"\")","v":{"$error":"#REF!"}},{"$f":"IF(AN16=\"Crucifère\",#REF!, \"\")","v":{"$error":"#REF!"}},{"$f":" IF(SUM(AO16:AQ16)>0, \"\",#REF!)","v":{"$error":"#REF!"}},{"$f":"IF(AN16=\"graminée\",#REF!, \"\")","v":{"$error":"#REF!"}},{"$f":"IF(AN16=\"Légumineuse\",#REF!, \"\")","v":{"$error":"#REF!"}},{"$f":"IF(AN16=\"Crucifère\",#REF!, \"\")","v":{"$error":"#REF!"}},{"$f":" IF(SUM(AS16:AU16)>0, \"\",#REF!)","v":{"$error":"#REF!"}},{"$f":"IF(#REF!=\"\",\"\",VLOOKUP(#REF!,BDD!$A$5:$J$63,10,0))","v":{"$error":"#REF!"}},{"$f":"IF(#REF!=\"\", \"\", (#REF!*100)/AW16)","v":{"$error":"#REF!"}},{"$f":"IF(#REF!= \"\", \"\", (#REF!*100)/AW16)","v":{"$error":"#REF!"}},null,{"$f":" IF(#REF!=\"\", \"\",#REF!)","v":{"$error":"#REF!"}},{"$error":"#REF!"}]
[null,{"$f":"IF(C17=\"\", \"\", VLOOKUP(Choix_culture_suivante!C17,BDD!$A$6:$M$63,13,1))","v":""},{"$f":"IF(Composition!C17<>\"\", Composition!C17, \"\")","v":""},{"$f":"IF(C17=\"\", \" \", INDEX('Culture-suivante_BDD'!$C$5:$L$62,B17,$D$8))","v":" "},{"$f":"IF(C17=\"\", \" \", INDEX('Culture-suivante_BDD'!$C$5:$L$62,B17,$E$8))","v":" "},{"$f":"IF(C17=\"\", \" \", INDEX('Culture-suivante_BDD'!$C$5:$L$62,B17,$F$8))","v":" "},{"$f":"IF(C17=\"\", \" \", INDEX(BDD!$A$6:$AE$63,B17,31))","v":" "},null,null,{"$f":"IF(#REF!=\"\",\"\",VLOOKUP(#REF!,BDD!$A$5:$I$63,2,0))","v":{"$error":"#REF!"}},{"$f":"IF(#REF!=\"\",\"\",VLOOKUP(#REF!,BDD!$A$5:$I$63,3,0))","v":{"$error":"#REF!"}},{"$f":"IF(#REF!=\"\",\"\",VLOOKUP(#REF!,BDD!$A$5:$I$63,4,0))","v":{"$error":"#REF!"}},null,null,null,null,null,null,null,null,null,null,null,null,null,{"$f":"IF(#REF!=\"\",\"\",VLOOKUP(#REF!,BDD!$A$5:$I$63,5,0))","v":{"$error":"#REF!"}},{"$f":"#REF!","v":{"$error":"#REF!"}},{"$f":"IF(#REF!=\"\", \"\", Z17*AA17)","v":{"$error":"#REF!"}},{"$f":"IF(#REF!=\"\",\"\",VLOOKUP(#REF!,BDD!$A$5:$I$63,7,0))","v":{"$error":"#REF!"}},{"$f":"#REF!","v":{"$error":"#REF!"}},{"$f":"IF(#REF!=\"\", \"\", AC17*AD17)","v":{"$error":"#REF!"}},{"$f":"IF(#REF!=\"\", \"\",#REF!* Z17)","v":{"$error":"#REF!"}},{"$f":"#REF!","v":{"$error":"#REF!"}},{"$f":"IF(#REF!=\"\", \"\", AG17*Z17)","v":{"$error":"#REF!"}},{"$f":"IF(#REF!=\"\", \"\",#REF!* 4)","v":{"$error":"#REF!"}},{"$f":"IF(#REF!=\"\", \"\",#REF!* AC17)","v":{"$error":"#REF!"}},{"$error":"#REF!"},null,null,{"$f":"IF(#REF!=\"\",\"\",VLOOKUP(#REF!,BDD!$A$5:$I$63,2,0))","v":{"$error":"#REF!"}},{"$f":"IF(AN17=\"graminée\",#REF!, \"\")","v":{"$error":"#REF!"}},{"$f":"IF(AN17=\"Légumineuse\",#REF!, \"\")","v":{"$error":"#REF!"}},{"$f":"IF(AN17=\"Crucifère\",#REF!, \"\")","v":{"$error":"#REF!"}},{"$f":" IF(SUM(AO17:AQ17)>0, \"\",#REF!)","v":{"$error":"#REF!"}},{"$f":"IF(AN17=\"graminée\",#REF!, \"\")","v":{"$error":"#REF!"}},{"$f":"IF(AN17=\"Légumineuse\",#REF!, \"\")","v":{"$error":"#REF!"}},{"$f":"IF(AN17=\"Crucifère\",#REF!, \"\")","v":{"$error":"#REF!"}},{"$f":" IF(SUM(AS17:AU17)>0, \"\",#REF!)","v":{"$error":"#REF!"}},{"$f":"IF(#REF!=\"\",\"\",VLOOKUP(#REF!,BDD!$A$5:$J$63,10,0))","v":{"$error":"#REF!"}},{"$f":"IF(#REF!=\"\", \"\", (#REF!*100)/AW17)","v":{"$error":"#REF!"}},{"$f":"IF(#REF!= \"\", \"\", (#REF!*100)/AW17)","v":{"$error":"#REF!"}},null,{"$f":" IF(#REF!=\"\", \"\",#REF!)","v":{"$error":"#REF!"}},{"$error":"#REF!"}]
[null,{"$f":"IF(C18=\"\", \"\", VLOOKUP(Choix_culture_suivante!C18,BDD!$A$6:$M$63,13,1))","v":""},{"$f":"IF(Composition!C18<>\"\", Composition!C18, \"\")","v":""},{"$f":"IF(C18=\"\", \" \", INDEX('Culture-suivante_BDD'!$C$5:$L$62,B18,$D$8))","v":" "},{"$f":"IF(C18=\"\", \" \", INDEX('Culture-suivante_BDD'!$C$5:$L$62,B18,$E$8))","v":" "},{"$f":"IF(C18=\"\", \" \", INDEX('Culture-suivante_BDD'!$C$5:$L$62,B18,$F$8))","v":" "},{"$f":"IF(C18=\"\", \" \", INDEX(BDD!$A$6:$AE$63,B18,31))","v":" "},null,null,{"$f":"IF(#REF!=\"\",\"\",VLOOKUP(#REF!,BDD!$A$5:$I$63,2,0))","v":{"$error":"#REF!"}},{"$f":"IF(#REF!=\"\",\"\",VLOOKUP(#REF!,BDD!$A$5:$I$63,3,0))","v":{"$error":"#REF!"}},{"$f":"IF(#REF!=\"\",\"\",VLOOKUP(#REF!,BDD!$A$5:$I$63,4,0))","v":{"$error":"#REF!"}},null,null,null,null,null,null,null,null,null,null,null,null,null,{"$f":"IF(#REF!=\"\",\"\",VLOOKUP(#REF!,BDD!$A$5:$I$63,5,0))","v":{"$error":"#REF!"}},{"$f":"#REF!","v":{"$error":"#REF!"}},{"$f":"IF(#REF!=\"\", \"\", Z18*AA18)","v":{"$error":"#REF!"}},{"$f":"IF(#REF!=\"\",\"\",VLOOKUP(#REF!,BDD!$A$5:$I$63,7,0))","v":{"$error":"#REF!"}},{"$f":"#REF!","v":{"$error":"#REF!"}},{"$f":"IF(#REF!=\"\", \"\", AC18*AD18)","v":{"$error":"#REF!"}},{"$f":"IF(#REF!=\"\", \"\",#REF!* Z18)","v":{"$error":"#REF!"}},{"$f":"#REF!","v":{"$error":"#REF!"}},{"$f":"IF(#REF!=\"\", \"\", AG18*Z18)","v":{"$error":"#REF!"}},{"$f":"IF(#REF!=\"\", \"\",#REF!* 4)","v":{"$error":"#REF!"}},{"$f":"IF(#REF!=\"\", \"\",#REF!* AC18)","v":{"$error":"#REF!"}},{"$error":"#REF!"},null,null,{"$f":"IF(#REF!=\"\",\"\",VLOOKUP(#REF!,BDD!$A$5:$I$63,2,0))","v":{"$error":"#REF!"}},{"$f":"IF(AN18=\"graminée\",#REF!, \"\")","v":{"$error":"#REF!"}},{"$f":"IF(AN18=\"Légumineuse\",#REF!, \"\")","v":{"$error":"#REF!"}},{"$f":"IF(AN18=\"Crucifère\",#REF!, \"\")","v":{"$error":"#REF!"}},{"$f":" IF(SUM(AO18:AQ18)>0, \"\",#REF!)","v":{"$error":"#REF!"}},{"$f":"IF(AN18=\"graminée\",#REF!, \"\")","v":{"$error":"#REF!"}},{"$f":"IF(AN18=\"Légumineuse\",#REF!, \"\")","v":{"$error":"#REF!"}},{"$f":"IF(AN18=\"Crucifère\",#REF!, \"\")","v":{"$error":"#REF!"}},{"$f":" IF(SUM(AS18:AU18)>0, \"\",#REF!)","v":{"$error":"#REF!"}},{"$f":"IF(#REF!=\"\",\"\",VLOOKUP(#REF!,BDD!$A$5:$J$63,10,0))","v":{"$error":"#REF!"}},{"$f":"IF(#REF!=\"\", \"\", (#REF!*100)/AW18)","v":{"$error":"#REF!"}},{"$f":"IF(#REF!= \"\", \"\", (#REF!*100)/AW18)","v":{"$error":"#REF!"}},null,{"$f":" IF(#REF!=\"\", \"\",#REF!)","v":{"$error":"#REF!"}},{"$error":"#REF!"}]
[null,{"$f":"IF(C19=\"\", \"\", VLOOKUP(Choix_culture_suivante!C19,BDD!$A$6:$M$63,13,1))","v":""},{"$f":"IF(Composition!C19<>\"\", Composition!C19, \"\")","v":""},{"$f":"IF(C19=\"\", \" \", INDEX('Culture-suivante_BDD'!$C$5:$L$62,B19,$D$8))","v":" "},{"$f":"IF(C19=\"\", \" \", INDEX('Culture-suivante_BDD'!$C$5:$L$62,B19,$E$8))","v":" "},{"$f":"IF(C19=\"\", \" \", INDEX('Culture-suivante_BDD'!$C$5:$L$62,B19,$F$8))","v":" "},{"$f":"IF(C19=\"\", \" \", INDEX(BDD!$A$6:$AE$63,B19,31))","v":" "},null,null,{"$f":"IF(#REF!=\"\",\"\",VLOOKUP(#REF!,BDD!$A$5:$I$63,2,0))","v":{"$error":"#REF!"}},{"$f":"IF(#REF!=\"\",\"\",VLOOKUP(#REF!,BDD!$A$5:$I$63,3,0))","v":{"$error":"#REF!"}},{"$f":"IF(#REF!=\"\",\"\",VLOOKUP(#REF!,BDD!$A$5:$I$63,4,0))","v":{"$error":"#REF!"}},null,null,null,null,null,null,null,null,null,null,null,null,null,{"$f":"IF(#REF!=\"\",\"\",VLOOKUP(#REF!,BDD!$A$5:$I$63,5,0))","v":{"$error":"#REF!"}},{"$f":"#REF!","v":{"$error":"#REF!"}},{"$f":"IF(#REF!=\"\", \"\", Z19*AA19)","v":{"$error":"#REF!"}},{"$f":"IF(#REF!=\"\",\"\",VLOOKUP(#REF!,BDD!$A$5:$I$63,7,0))","v":{"$error":"#REF!"}},{"$f":"#REF!","v":{"$error":"#REF!"}},{"$f":"IF(#REF!=\"\", \"\", AC19*AD19)","v":{"$error":"#REF!"}},{"$f":"IF(#REF!=\"\", \"\",#REF!* Z19)","v":{"$error":"#REF!"}},{"$f":"#REF!","v":{"$error":"#REF!"}},{"$f":"IF(#REF!=\"\", \"\", AG19*Z19)","v":{"$error":"#REF!"}},{"$f":"IF(#REF!=\"\", \"\",#REF!* 4)","v":{"$error":"#REF!"}},{"$f":"IF(#REF!=\"\", \"\",#REF!* AC19)","v":{"$error":"#REF!"}},{"$error":"#REF!"},null,null,{"$f":"IF(#REF!=\"\",\"\",VLOOKUP(#REF!,BDD!$A$5:$I$63,2,0))","v":{"$error":"#REF!"}},{"$f":"IF(AN19=\"graminée\",#REF!, \"\")","v":{"$error":"#REF!"}},{"$f":"IF(AN19=\"Légumineuse\",#REF!, \"\")","v":{"$error":"#REF!"}},{"$f":"IF(AN19=\"Crucifère\",#REF!, \"\")","v":{"$error":"#REF!"}},{"$f":" IF(SUM(AO19:AQ19)>0, \"\",#REF!)","v":{"$error":"#REF!"}},{"$f":"IF(AN19=\"graminée\",#REF!, \"\")","v":{"$error":"#REF!"}},{"$f":"IF(AN19=\"Légumineuse\",#REF!, \"\")","v":{"$error":"#REF!"}},{"$f":"IF(AN19=\"Crucifère\",#REF!, \"\")","v":{"$error":"#REF!"}},{"$f":" IF(SUM(AS19:AU19)>0, \"\",#REF!)","v":{"$error":"#REF!"}},{"$f":"IF(#REF!=\"\",\"\",VLOOKUP(#REF!,BDD!$A$5:$J$63,10,0))","v":{"$error":"#REF!"}},{"$f":"IF(#REF!=\"\", \"\", (#REF!*100)/AW19)","v":{"$error":"#REF!"}},{"$f":"IF(#REF!= \"\", \"\", (#REF!*100)/AW19)","v":{"$error":"#REF!"}},null,{"$f":" IF(#REF!=\"\", \"\",#REF!)","v":{"$error":"#REF!"}},{"$error":"#REF!"}]
[null,{"$f":"IF(C20=\"\", \"\", VLOOKUP(Choix_culture_suivante!C20,BDD!$A$6:$M$63,13,1))","v":""},{"$f":"IF(Composition!C20<>\"\", Composition!C20, \"\")","v":""},{"$f":"IF(C20=\"\", \" \", INDEX('Culture-suivante_BDD'!$C$5:$L$62,B20,$D$8))","v":" "},{"$f":"IF(C20=\"\", \" \", INDEX('Culture-suivante_BDD'!$C$5:$L$62,B20,$E$8))","v":" "},{"$f":"IF(C20=\"\", \" \", INDEX('Culture-suivante_BDD'!$C$5:$L$62,B20,$F$8))","v":" "},{"$f":"IF(C20=\"\", \" \", INDEX(BDD!$A$6:$AE$63,B20,31))","v":" "},null,null,{"$f":"IF(#REF!=\"\",\"\",VLOOKUP(#REF!,BDD!$A$5:$I$63,2,0))","v":{"$error":"#REF!"}},{"$f":"IF(#REF!=\"\",\"\",VLOOKUP(#REF!,BDD!$A$5:$I$63,3,0))","v":{"$error":"#REF!"}},{"$f":"IF(#REF!=\"\",\"\",VLOOKUP(#REF!,BDD!$A$5:$I$63,4,0))","v":{"$error":"#REF!"}},null,null,null,null,null,null,null,null,null,null,null,null,null,{"$f":"IF(#REF!=\"\",\"\",VLOOKUP(#REF!,BDD!$A$5:$I$63,5,0))","v":{"$error":"#REF!"}},{"$f":"#REF!","v":{"$error":"#REF!"}},{"$f":"IF(#REF!=\"\", \"\", Z20*AA20)","v":{"$error":"#REF!"}},{"$f":"IF(#REF!=\"\",\"\",VLOOKUP(#REF!,BDD!$A$5:$I$63,7,0))","v":{"$error":"#REF!"}},{"$f":"#REF!","v":{"$error":"#REF!"}},{"$f":"IF(#REF!=\"\", \"\", AC20*AD20)","v":{"$error":"#REF!"}},{"$f":"IF(#REF!=\"\", \"\",#REF!* Z20)","v":{"$error":"#REF!"}},{"$f":"#REF!","v":{"$error":"#REF!"}},{"$f":"IF(#REF!=\"\", \"\", AG20*Z20)","v":{"$error":"#REF!"}},{"$f":"IF(#REF!=\"\", \"\",#REF!* 4)","v":{"$error":"#REF!"}},{"$f":"IF(#REF!=\"\", \"\",#REF!* AC20)","v":{"$error":"#REF!"}},{"$error":"#REF!"},null,null,{"$f":"IF(#REF!=\"\",\"\",VLOOKUP(#REF!,BDD!$A$5:$I$63,2,0))","v":{"$error":"#REF!"}},{"$f":"IF(AN20=\"graminée\",#REF!, \"\")","v":{"$error":"#REF!"}},{"$f":"IF(AN20=\"Légumineuse\",#REF!, \"\")","v":{"$error":"#REF!"}},{"$f":"IF(AN20=\"Crucifère\",#REF!, \"\")","v":{"$error":"#REF!"}},{"$f":" IF(SUM(AO20:AQ20)>0, \"\",#REF!)","v":{"$error":"#REF!"}},{"$f":"IF(AN20=\"graminée\",#REF!, \"\")","v":{"$error":"#REF!"}},{"$f":"IF(AN20=\"Légumineuse\",#REF!, \"\")","v":{"$error":"#REF!"}},{"$f":"IF(AN20=\"Crucifère\",#REF!, \"\")","v":{"$error":"#REF!"}},{"$f":" IF(SUM(AS20:AU20)>0, \"\",#REF!)","v":{"$error":"#REF!"}},{"$f":"IF(#REF!=\"\",\"\",VLOOKUP(#REF!,BDD!$A$5:$J$63,10,0))","v":{"$error":"#REF!"}},{"$f":"IF(#REF!=\"\", \"\", (#REF!*100)/AW20)","v":{"$error":"#REF!"}},{"$f":"IF(#REF!= \"\", \"\", (#REF!*100)/AW20)","v":{"$error":"#REF!"}},null,{"$f":" IF(#REF!=\"\", \"\",#REF!)","v":{"$error":"#REF!"}},{"$error":"#REF!"}]
[null,{"$f":"IF(C21=\"\", \"\", VLOOKUP(Choix_culture_suivante!C21,BDD!$A$6:$M$63,13,1))","v":""},{"$f":"IF(Composition!C21<>\"\", Composition!C21, \"\")","v":""},{"$f":"IF(C21=\"\", \" \", INDEX('Culture-suivante_BDD'!$C$5:$L$62,B21,$D$8))","v":" "},{"$f":"IF(C21=\"\", \" \", INDEX('Culture-suivante_BDD'!$C$5:$L$62,B21,$E$8))","v":" "},{"$f":"IF(C21=\"\", \" \", INDEX('Culture-suivante_BDD'!$C$5:$L$62,B21,$F$8))","v":" "},{"$f":"IF(C21=\"\", \" \", INDEX(BDD!$A$6:$AE$63,B21,31))","v":" "},null,null,{"$f":"IF(#REF!=\"\",\"\",VLOOKUP(#REF!,BDD!$A$5:$I$63,2,0))","v":{"$error":"#REF!"}},{"$f":"IF(#REF!=\"\",\"\",VLOOKUP(#REF!,BDD!$A$5:$I$63,3,0))","v":{"$error":"#REF!"}},{"$f":"IF(#REF!=\"\",\"\",VLOOKUP(#REF!,BDD!$A$5:$I$63,4,0))","v":{"$error":"#REF!"}},null,null,null,null,null,null,null,null,null,null,null,null,null,{"$f":"IF(#REF!=\"\",\"\",VLOOKUP(#REF!,BDD!$A$5:$I$63,5,0))","v":{"$error":"#REF!"}},{"$f":"#REF!","v":{"$error":"#REF!"}},{"$f":"IF(#REF!=\"\", \"\", Z21*AA21)","v":{"$error":"#REF!"}},{"$f":"IF(#REF!=\"\",\"\",VLOOKUP(#REF!,BDD!$A$5:$I$63,7,0))","v":{"$error":"#REF!"}},{"$f":"#REF!","v":{"$error":"#REF!"}},{"$f":"IF(#REF!=\"\", \"\", AC21*AD21)","v":{"$error":"#REF!"}},{"$f":"IF(#REF!=\"\", \"\",#REF!* Z21)","v":{"$error":"#REF!"}},{"$f":"#REF!","v":{"$error":"#REF!"}},{"$f":"IF(#REF!=\"\", \"\", AG21*Z21)","v":{"$error":"#REF!"}},{"$f":"IF(#REF!=\"\", \"\",#REF!* 4)","v":{"$error":"#REF!"}},{"$f":"IF(#REF!=\"\", \"\",#REF!* AC21)","v":{"$error":"#REF!"}},{"$error":"#REF!"},null,null,{"$f":"IF(#REF!=\"\",\"\",VLOOKUP(#REF!,BDD!$A$5:$I$63,2,0))","v":{"$error":"#REF!"}},{"$f":"IF(AN21=\"graminée\",#REF!, \"\")","v":{"$error":"#REF!"}},{"$f":"IF(AN21=\"Légumineuse\",#REF!, \"\")","v":{"$error":"#REF!"}},{"$f":"IF(AN21=\"Crucifère\",#REF!, \"\")","v":{"$error":"#REF!"}},{"$f":" IF(SUM(AO21:AQ21)>0, \"\",#REF!)","v":{"$error":"#REF!"}},{"$f":"IF(AN21=\"graminée\",#REF!, \"\")","v":{"$error":"#REF!"}},{"$f":"IF(AN21=\"Légumineuse\",#REF!, \"\")","v":{"$error":"#REF!"}},{"$f":"IF(AN21=\"Crucifère\",#REF!, \"\")","v":{"$error":"#REF!"}},{"$f":" IF(SUM(AS21:AU21)>0, \"\",#REF!)","v":{"$error":"#REF!"}},{"$f":"IF(#REF!=\"\",\"\",VLOOKUP(#REF!,BDD!$A$5:$J$63,10,0))","v":{"$error":"#REF!"}},{"$f":"IF(#REF!=\"\", \"\", (#REF!*100)/AW21)","v":{"$error":"#REF!"}},{"$f":"IF(#REF!= \"\", \"\", (#REF!*100)/AW21)","v":{"$error":"#REF!"}},null,{"$f":" IF(#REF!=\"\", \"\",#REF!)","v":{"$error":"#REF!"}},{"$error":"#REF!"}]
[null,{"$f":"IF(C22=\"\", \"\", VLOOKUP(Choix_culture_suivante!C22,BDD!$A$6:$M$63,13,1))","v":""},{"$f":"IF(Composition!C22<>\"\", Composition!C22, \"\")","v":""},{"$f":"IF(C22=\"\", \" \", INDEX('Culture-suivante_BDD'!$C$5:$L$62,B22,$D$8))","v":" "},{"$f":"IF(C22=\"\", \" \", INDEX('Culture-suivante_BDD'!$C$5:$L$62,B22,$E$8))","v":" "},{"$f":"IF(C22=\"\", \" \", INDEX('Culture-suivante_BDD'!$C$5:$L$62,B22,$F$8))","v":" "},{"$f":"IF(C22=\"\", \" \", INDEX(BDD!$A$6:$AE$63,B22,31))","v":" "},null,null,{"$f":"IF(#REF!=\"\",\"\",VLOOKUP(#REF!,BDD!$A$5:$I$63,2,0))","v":{"$error":"#REF!"}},{"$f":"IF(#REF!=\"\",\"\",VLOOKUP(#REF!,BDD!$A$5:$I$63,3,0))","v":{"$error":"#REF!"}},{"$f":"IF(#REF!=\"\",\"\",VLOOKUP(#REF!,BDD!$A$5:$I$63,4,0))","v":{"$error":"#REF!"}},null,null,null,null,null,null,null,null,null,null,null,null,null,{"$f":"IF(#REF!=\"\",\"\",VLOOKUP(#REF!,BDD!$A$5:$I$63,5,0))","v":{"$error":"#REF!"}},{"$f":"#REF!","v":{"$error":"#REF!"}},{"$f":"IF(#REF!=\"\", \"\", Z22*AA22)","v":{"$error":"#REF!"}},{"$f":"IF(#REF!=\"\",\"\",VLOOKUP(#REF!,BDD!$A$5:$I$63,7,0))","v":{"$error":"#REF!"}},{"$f":"#REF!","v":{"$error":"#REF!"}},{"$f":"IF(#REF!=\"\", \"\", AC22*AD22)","v":{"$error":"#REF!"}},{"$f":"IF(#REF!=\"\", \"\",#REF!* Z22)","v":{"$error":"#REF!"}},{"$f":"#REF!","v":{"$error":"#REF!"}},{"$f":"IF(#REF!=\"\", \"\", AG22*Z22)","v":{"$error":"#REF!"}},{"$f":"IF(#REF!=\"\", \"\",#REF!* 4)","v":{"$error":"#REF!"}},{"$f":"IF(#REF!=\"\", \"\",#REF!* AC22)","v":{"$error":"#REF!"}},{"$error":"#REF!"},null,null,{"$f":"IF(#REF!=\"\",\"\",VLOOKUP(#REF!,BDD!$A$5:$I$63,2,0))","v":{"$error":"#REF!"}},{"$f":"IF(AN22=\"graminée\",#REF!, \"\")","v":{"$error":"#REF!"}},{"$f":"IF(AN22=\"Légumineuse\",#REF!, \"\")","v":{"$error":"#REF!"}},{"$f":"IF(AN22=\"Crucifère\",#REF!, \"\")","v":{"$error":"#REF!"}},{"$f":" IF(SUM(AO22:AQ22)>0, \"\",#REF!)","v":{"$error":"#REF!"}},{"$f":"IF(AN22=\"graminée\",#REF!, \"\")","v":{"$error":"#REF!"}},{"$f":"IF(AN22=\"Légumineuse\",#REF!, \"\")","v":{"$error":"#REF!"}},{"$f":"IF(AN22=\"Crucifère\",#REF!, \"\")","v":{"$error":"#REF!"}},{"$f":" IF(SUM(AS22:AU22)>0, \"\",#REF!)","v":{"$error":"#REF!"}},{"$f":"IF(#REF!=\"\",\"\",VLOOKUP(#REF!,BDD!$A$5:$J$63,10,0))","v":{"$error":"#REF!"}},{"$f":"IF(#REF!=\"\", \"\", (#REF!*100)/AW22)","v":{"$error":"#REF!"}},{"$f":"IF(#REF!= \"\", \"\", (#REF!*100)/AW22)","v":{"$error":"#REF!"}},null,{"$f":" IF(#REF!=\"\", \"\",#REF!)","v":{"$error":"#REF!"}},{"$error":"#REF!"}]
[null,{"$f":"IF(C23=\"\", \"\", VLOOKUP(Choix_culture_suivante!C23,BDD!$A$6:$M$63,13,1))","v":""},{"$f":"IF(Composition!C23<>\"\", Composition!C23, \"\")","v":""},{"$f":"IF(C23=\"\", \" \", INDEX('Culture-suivante_BDD'!$C$5:$L$62,B23,$D$8))","v":" "},{"$f":"IF(C23=\"\", \" \", INDEX('Culture-suivante_BDD'!$C$5:$L$62,B23,$E$8))","v":" "},{"$f":"IF(C23=\"\", \" \", INDEX('Culture-suivante_BDD'!$C$5:$L$62,B23,$F$8))","v":" "},{"$f":"IF(C23=\"\", \" \", INDEX(BDD!$A$6:$AE$63,B23,31))","v":" "},null,null,{"$f":"IF(#REF!=\"\",\"\",VLOOKUP(#REF!,BDD!$A$5:$I$63,2,0))","v":{"$error":"#REF!"}},{"$f":"IF(#REF!=\"\",\"\",VLOOKUP(#REF!,BDD!$A$5:$I$63,3,0))","v":{"$error":"#REF!"}},{"$f":"IF(#REF!=\"\",\"\",VLOOKUP(#REF!,BDD!$A$5:$I$63,4,0))","v":{"$error":"#REF!"}},null,null,null,null,null,null,null,null,null,null,null,null,null,{"$f":"IF(#REF!=\"\",\"\",VLOOKUP(#REF!,BDD!$A$5:$I$63,5,0))","v":{"$error":"#REF!"}},{"$f":"#REF!","v":{"$error":"#REF!"}},{"$f":"IF(#REF!=\"\", \"\", Z23*AA23)","v":{"$error":"#REF!"}},{"$f":"IF(#REF!=\"\",\"\",VLOOKUP(#REF!,BDD!$A$5:$I$63,7,0))","v":{"$error":"#REF!"}},{"$f":"#REF!","v":{"$error":"#REF!"}},{"$f":"IF(#REF!=\"\", \"\", AC23*AD23)","v":{"$error":"#REF!"}},{"$f":"IF(#REF!=\"\", \"\",#REF!* Z23)","v":{"$error":"#REF!"}},{"$f":"#REF!","v":{"$error":"#REF!"}},{"$f":"IF(#REF!=\"\", \"\", AG23*Z23)","v":{"$error":"#REF!"}},{"$f":"IF(#REF!=\"\", \"\",#REF!* 4)","v":{"$error":"#REF!"}},{"$f":"IF(#REF!=\"\", \"\",#REF!* AC23)","v":{"$error":"#REF!"}},{"$error":"#REF!"},null,null,{"$f":"IF(#REF!=\"\",\"\",VLOOKUP(#REF!,BDD!$A$5:$I$63,2,0))","v":{"$error":"#REF!"}},{"$f":"IF(AN23=\"graminée\",#REF!, \"\")","v":{"$error":"#REF!"}},{"$f":"IF(AN23=\"Légumineuse\",#REF!, \"\")","v":{"$error":"#REF!"}},{"$f":"IF(AN23=\"Crucifère\",#REF!, \"\")","v":{"$error":"#REF!"}},{"$f":" IF(SUM(AO23:AQ23)>0, \"\",#REF!)","v":{"$error":"#REF!"}},{"$f":"IF(AN23=\"graminée\",#REF!, \"\")","v":{"$error":"#REF!"}},{"$f":"IF(AN23=\"Légumineuse\",#REF!, \"\")","v":{"$error":"#REF!"}},{"$f":"IF(AN23=\"Crucifère\",#REF!, \"\")","v":{"$error":"#REF!"}},{"$f":" IF(SUM(AS23:AU23)>0, \"\",#REF!)","v":{"$error":"#REF!"}},{"$f":"IF(#REF!=\"\",\"\",VLOOKUP(#REF!,BDD!$A$5:$J$63,10,0))","v":{"$error":"#REF!"}},{"$f":"IF(#REF!=\"\", \"\", (#REF!*100)/AW23)","v":{"$error":"#REF!"}},{"$f":"IF(#REF!= \"\", \"\", (#REF!*100)/AW23)","v":{"$error":"#REF!"}},null,{"$f":" IF(#REF!=\"\", \"\",#REF!)","v":{"$error":"#REF!"}},{"$error":"#REF!"}]
[null,{"$f":"IF(C24=\"\", \"\", VLOOKUP(Choix_culture_suivante!C24,BDD!$A$6:$M$63,13,1))","v":""},{"$f":"IF(Composition!C24<>\"\", Composition!C24, \"\")","v":""},{"$f":"IF(C24=\"\", \" \", INDEX('Culture-suivante_BDD'!$C$5:$L$62,B24,$D$8))","v":" "},{"$f":"IF(C24=\"\", \" \", INDEX('Culture-suivante_BDD'!$C$5:$L$62,B24,$E$8))","v":" "},{"$f":"IF(C24=\"\", \" \", INDEX('Culture-suivante_BDD'!$C$5:$L$62,B24,$F$8))","v":" "},{"$f":"IF(C24=\"\", \" \", INDEX(BDD!$A$6:$AE$63,B24,31))","v":" "},null,null,{"$f":"IF(#REF!=\"\",\"\",VLOOKUP(#REF!,BDD!$A$5:$I$63,2,0))","v":{"$error":"#REF!"}},{"$f":"IF(#REF!=\"\",\"\",VLOOKUP(#REF!,BDD!$A$5:$I$63,3,0))","v":{"$error":"#REF!"}},{"$f":"IF(#REF!=\"\",\"\",VLOOKUP(#REF!,BDD!$A$5:$I$63,4,0))","v":{"$error":"#REF!"}},null,null,null,null,null,null,null,null,null,null,null,null,null,{"$f":"IF(#REF!=\"\",\"\",VLOOKUP(#REF!,BDD!$A$5:$I$63,5,0))","v":{"$error":"#REF!"}},{"$f":"#REF!","v":{"$error":"#REF!"}},{"$f":"IF(#REF!=\"\", \"\", Z24*AA24)","v":{"$error":"#REF!"}},{"$f":"IF(#REF!=\"\",\"\",VLOOKUP(#REF!,BDD!$A$5:$I$63,7,0))","v":{"$error":"#REF!"}},{"$f":"#REF!","v":{"$error":"#REF!"}},{"$f":"IF(#REF!=\"\", \"\", AC24*AD24)","v":{"$error":"#REF!"}},{"$f":"IF(#REF!=\"\", \"\",#REF!* Z24)","v":{"$error":"#REF!"}},{"$f":"#REF!","v":{"$error":"#REF!"}},{"$f":"IF(#REF!=\"\", \"\", AG24*Z24)","v":{"$error":"#REF!"}},{"$f":"IF(#REF!=\"\", \"\",#REF!* 4)","v":{"$error":"#REF!"}},{"$f":"IF(#REF!=\"\", \"\",#REF!* AC24)","v":{"$error":"#REF!"}},{"$error":"#REF!"},null,null,{"$f":"IF(#REF!=\"\",\"\",VLOOKUP(#REF!,BDD!$A$5:$I$63,2,0))","v":{"$error":"#REF!"}},{"$f":"IF(AN24=\"graminée\",#REF!, \"\")","v":{"$error":"#REF!"}},{"$f":"IF(AN24=\"Légumineuse\",#REF!, \"\")","v":{"$error":"#REF!"}},{"$f":"IF(AN24=\"Crucifère\",#REF!, \"\")","v":{"$error":"#REF!"}},{"$f":" IF(SUM(AO24:AQ24)>0, \"\",#REF!)","v":{"$error":"#REF!"}},{"$f":"IF(AN24=\"graminée\",#REF!, \"\")","v":{"$error":"#REF!"}},{"$f":"IF(AN24=\"Légumineuse\",#REF!, \"\")","v":{"$error":"#REF!"}},{"$f":"IF(AN24=\"Crucifère\",#REF!, \"\")","v":{"$error":"#REF!"}},{"$f":" IF(SUM(AS24:AU24)>0, \"\",#REF!)","v":{"$error":"#REF!"}},{"$f":"IF(#REF!=\"\",\"\",VLOOKUP(#REF!,BDD!$A$5:$J$63,10,0))","v":{"$error":"#REF!"}},{"$f":"IF(#REF!=\"\", \"\", (#REF!*100)/AW24)","v":{"$error":"#REF!"}},{"$f":"IF(#REF!= \"\", \"\", (#REF!*100)/AW24)","v":{"$error":"#REF!"}},null,{"$f":" IF(#REF!=\"\", \"\",#REF!)","v":{"$error":"#REF!"}},{"$error":"#REF!"}]
[null,null,null,null,null,null,null,null,null,null,null,null,null,null,null,null,null,null,null,null,null,null,null,null,"Total",{"$f":"SUM(Z10:Z24)","v":{"$error":"#REF!"}},{"$f":"SUM(AA10:AA24)","v":{"$error":"#REF!"}},{"$error":"#REF!"},{"$f":"SUM(AC10:AC24)","v":{"$error":"#REF!"}},{"$f":"SUM(AD10:AD24)","v":{"$error":"#REF!"}},{"$error":"#REF!"},{"$error":"#REF!"},null,{"$f":"SUM(AH10:AH24)","v":{"$error":"#REF!"}},200,{"$f":"SUM(AJ10:AJ24)","v":{"$error":"#REF!"}},null,null,null,"SOMME",{"$f":"SUM(AO10:AO24)","v":{"$error":"#REF!"}},{"$f":"SUM(AP10:AP24)","v":{"$error":"#REF!"}},{"$error":"#REF!"},{"$error":"#REF!"},{"$error":"#REF!"},{"$error":"#REF!"},{"$error":"#REF!"},{"$error":"#REF!"}]
[null,null,null,null,1,"Couvert possible",null,null,null,null,null,null,null,null,null,null,null,null,null,null,null,null,null,null,"Maximum",{"$f":"4*#REF!","v":{"$error":"#REF!"}},200,null,{"$f":"4*#REF!","v":{"$error":"#REF!"}},200,null,200,null,null,null,{"$f":"#REF!*4","v":{"$error":"#REF!"}},null,null,null,"Maximum",{"$f":"#REF!","v":{"$error":"#REF!"}},{"$f":"#REF!","v":{"$error":"#REF!"}},{"$f":"#REF!","v":{"$error":"#REF!"}},{"$f":"#REF!","v":{"$error":"#REF!"}},{"$f":"#REF!","v":{"$error":"#REF!"}},{"$f":"#REF!","v":{"$error":"#REF!"}},{"$f":"#REF!","v":{"$error":"#REF!"}},{"$f":"#REF!","v":{"$error":"#REF!"}}]
[null,null,null,null,2,"Couvert possible sous condition",null,null,null,null,null,null,null,null,null,null,null,null,null,null,null,null,null,null,"%",{"$f":"(Z25*100)/Z26","v":{"$error":"#REF!"}},null,{"$f":"IF(AB25<AA26, (AB25*100)/AA26, 99)","v":{"$error":"#REF!"}},{"$f":"(AC25*100)/AC26","v":{"$error":"#REF!"}},null,{"$f":"IF(AE25<AD26, IF(#REF!=\"\", 0, (AE25*100)/AD26), 99)","v":{"$error":"#REF!"}},{"$f":"(AF25*100)/AI25","v":{"$error":"#REF!"}},null,{"$f":"IF(AH25<AI25, (AH25*100)/AF26, 99)","v":{"$error":"#REF!"}},null,{"$f":"IF(AJ25<AI25, (AJ25*100)/AI25, 99)","v":{"$error":"#REF!"}},null,null,null,"%",{"$f":"(AO25*100)/AO26","v":{"$error":"#REF!"}},{"$f":"(AP25*100)/AP26","v":{"$error":"#REF!"}},{"$error":"#REF!"},{"$error":"#REF!"},{"$error":"#REF!"},{"$error":"#REF!"},{"$error":"#REF!"},{"$error":"#REF!"}]
[null,null,null,null,3,"Couvert déconseillé",null,null,null,null,null,null,null,null,null,null,null,null,null,null,null,null,null,null,null,true,false]
[]
[]
[]
[]
[null,null,null,1,1,1]
[null,null,null,2,2,2]
[null,null,null,3,3,3]
[]
[]
[]
[]
[]
[]
[]
[]
[null,null,null,"TYPE","NB","%","NB conseillé","NB Ajusté"]
[null,null,null,"Graminées",{"$f":"IF($Z$28=FALSE, G45,H45)","v":{"$error":"#REF!"}},{"$f":"E45","v":{"$error":"#REF!"}},{"$f":"AO27","v":{"$error":"#REF!"}},{"$f":"AS27","v":{"$error":"#REF!"}}]
[null,null,null,"Légumineuses",{"$f":"IF($Z$28=FALSE, G46,H46)","v":{"$error":"#REF!"}},{"$f":"E46","v":{"$error":"#REF!"}},{"$f":"AP27","v":{"$error":"#REF!"}},{"$f":"AT27","v":{"$error":"#REF!"}}]
[null,null,null,"Crucifères",{"$f":"IF($Z$28=FALSE, G47,H47)","v":{"$error":"#REF!"}},{"$error":"#REF!"},{"$f":"AQ27","v":{"$error":"#REF!"}},{"$f":"AU27","v":{"$error":"#REF!"}}]
[null,null,null,"Autres",{"$f":"IF($Z$28=FALSE, G48,H48)","v":{"$error":"#REF!"}},{"$error":"#REF!"},{"$f":"AR27","v":{"$error":"#REF!"}},{"$f":"AV27","v":{"$error":"#REF!"}}]
[]
[null,null,null,"HAUTEUR","NB","%"]
[null,null,null,"Basse",{"$f":"COUNTIFS($K$10:$K$24,\"1\")","v":0},{"$f":"(E51*100)/#REF!","v":{"$error":"#REF!"}}]
[null,null,null,"Intermédiaire",{"$f":"COUNTIFS($K$10:$K$24,\"2\")","v":0},{"$f":"(E52*100)/#REF!","v":{"$error":"#REF!"}}]
[null,null,null,"Haute",{"$f":"COUNTIFS($K$10:$K$24,\"3\")","v":0},{"$f":"(E53*100)/#REF!","v":{"$error":"#REF!"}}]
[]
[null,null,null,"RACINES","NB","%"]
[null,null,null,"Superficiel",{"$f":"COUNTIFS($L$10:$L$24,\"1\")","v":0},{"$f":"(E56*100)/#REF!","v":{"$error":"#REF!"}}]
[null,null,null,"Intermédiaire",{"$f":"COUNTIFS($L$10:$L$24,\"2\")","v":0},{"$f":"(E57*100)/#REF!","v":{"$error":"#REF!"}}]
[null,null,null,"Profonde",{"$f":"COUNTIFS($L$10:$L$24,\"3\")","v":0},{"$f":"(E58*100)/#REF!","v":{"$error":"#REF!"}}]

{"sheet":"Feuil4","index":43,"n_rows":29,"n_cols":19,"rows_kept":29,"cut":false,"hidden":false,"merged":[]}
[]
[]
[null,null,null,null,null,null,null,null,"LES AUTRES ESPECES DE TREFLE"]
[]
[]
[]
[]
[]
[]
[]
[]
[]
[]
[]
[]
[]
[]
[]
[]
[]
[]
[]
[]
[]
[]
[]
[]
[]
[null,null,null,null,null,null,null,null,null,null,null,null,null,null,null,null,null,null,"RETOUR"]

{"sheet":"Vesce N","index":44,"n_rows":24,"n_cols":31,"rows_kept":24,"cut":false,"hidden":false,"merged":[[4,6,4,17],[15,0,15,1],[23,0,26,18]]}
["Couvert","Type","Hauteur","Racine","Biomasse","Piégeage N","Fourniture N","Coût","Dose/ha","PMG (g)",null,"Interculture","Numéro couvert",null,"Type de couvert","Profondeur de semis","Profondeur de semis","Appetence limace","Vitesse de développement","Sensibilité au gel","Avant le 05 août","Du 05 au 25 août","Après le 25 août","Type cynegetique","Méllifères","Semis à la volée","Travail du sol","Semis direct","Fourrage","Maitrise adventice","Observation"]
["Vesce velue","Légumineuse",1,2,2.5,null,4.3,3.13,35,60,150.5,"longue",44,87.5,"annuel",2,3,"Faible","Lent","> -15°C",1,1,2,"Jungle","oui",2,1,1,"oui",3,"Destruction mécanique compliquée"]
[]
[]
[null,null,null,null,null,null,"VESCE DE NARBONNE",null,null,null,null,null,null,null,null,null,null,null,"RETOUR"]
[]
[]
[null,null,null,null,null,null,"Type",{"$f":"B2","v":"Légumineuse"},null,null,"Type d'interculture possible",null,null,null,null,null,"Vitesse de développement",{"$f":"S2","v":"Lent"}]
[null,null,null,null,null,null,"Dose de semis (kg/ha)",120,null,null,"Courte","Longue"]
[null,null,null,null,null,null,"PMG (g)",200]
[null,null,null,null,null,null,"Coût (€/kg)",null,null,null,"Type de couvert",{"$f":"O2","v":"annuel"},null,null,null,null,"Utilisation possible en production de fourrage",{"$f":"AC2","v":"oui"}]
[]
[]
[]
[null,null,"Min","Max",null,null,null,"Date de semis",null,null,null,null,null,"Mode d'implantation"]
["Profondeur de semis (cm)",null,{"$f":"P2","v":2},{"$f":"Q2","v":3},null,null,"Avant le 05 août","Du 05 au 25 août","Après le 25 août",null,null,null,"Semis à la volée","Travail du sol","Semis direct"]
[]
[null,"Appétence limace",{"$f":"R2","v":"Faible"}]
[null,"Sensibilité au gel","-5°C"]
[]
[null,"Maitrise des adventices","Bonne"]
[]
["NOTRE AVIS :"]
["Profil proche de celui de la féverole.\nBonne tenue de tige.\nPMG plus faible que la féverole donc meilleure germination en condition sèche. Moins sensible à l'ascochytose."]

{"sheet":"Vesce V","index":45,"n_rows":24,"n_cols":31,"rows_kept":24,"cut":false,"hidden":false,"merged":[[4,6,4,17],[15,0,15,1],[23,0,26,18]]}
["Couvert","Type","Hauteur","Racine","Biomasse","Piégeage N","Fourniture N","Coût","Dose/ha","PMG (g)",null,"Interculture","Numéro couvert",null,"Type de couvert","Profondeur de semis","Profondeur de semis","Appetence limace","Vitesse de développement","Sensibilité au gel","Avant le 05 août","Du 05 au 25 août","Après le 25 août","Type cynegetique","Méllifères","Semis à la volée","Travail du sol","Semis direct","Fourrage","Maitrise adventice","Observation"]
["Vesce velue","Légumineuse",1,2,2.5,null,4.3,3.13,35,60,150.5,"longue",44,87.5,"annuel",2,3,"Faible","Lent","> -15°C",1,1,2,"Jungle","oui",2,1,1,"oui",3,"Destruction mécanique compliquée"]
[]
[]
[null,null,null,null,null,null,"VESCE VELUE",null,null,null,null,null,null,null,null,null,null,null,"RETOUR"]
[]
[]
[null,null,null,null,null,null,"Type",{"$f":"B2","v":"Légumineuse"},null,null,"Type d'interculture possible",null,null,null,null,null,"Vitesse de développement",{"$f":"S2","v":"Lent"}]
[null,null,null,null,null,null,"Dose de semis (kg/ha)",{"$f":"I2","v":35},null,null,"Courte","Longue"]
[null,null,null,null,null,null,"PMG (g)",{"$f":"J2","v":60}]
[null,null,null,null,null,null,"Coût (€/kg)",{"$f":"H2","v":3.13},null,null,"Type de couvert",{"$f":"O2","v":"annuel"},null,null,null,null,"Utilisation possible en production de fourrage",{"$f":"AC2","v":"oui"}]
[]
[]
[]
[null,null,"Min","Max",null,null,null,"Date de semis",null,null,null,null,null,"Mode d'implantation"]
["Profondeur de semis (cm)",null,{"$f":"P2","v":2},{"$f":"Q2","v":3},null,null,"Avant le 05 août","Du 05 au 25 août","Après le 25 août",null,null,null,"Semis à la volée","Travail du sol","Semis direct"]
[]
[null,"Appétence limace",{"$f":"R2","v":"Faible"}]
[null,"Sensibilité au gel",{"$f":"T2","v":"> -15°C"}]
[]
[null,"Maitrise des adventices","Bonne"]
[]
["NOTRE AVIS :"]
["Attention à sa présence dans les cultures suivantes (agressivité).\nDestruction mécanique ou chimique compliquée.\nDéveloppement plus lent que la vesce commune. Adapté au interculture longue.\nPousse bien en conditions froides.\n                                                                                                                                                                                                                                                                Bonne tolérance au froid"]

{"sheet":"Vesce P","index":46,"n_rows":24,"n_cols":31,"rows_kept":24,"cut":false,"hidden":false,"merged":[[4,6,4,17],[15,0,15,1],[23,0,26,18]]}
["Couvert","Type","Hauteur","Racine","Biomasse","Piégeage N","Fourniture N","Coût","Dose/ha","PMG (g)",null,"Interculture","Numéro couvert",null,"Type de couvert","Profondeur de semis","Profondeur de semis","Appetence limace","Vitesse de développement","Sensibilité au gel","Avant le 05 août","Du 05 au 25 août","Après le 25 août","Type cynegetique","Méllifères","Semis à la volée","Travail du sol","Semis direct","Fourrage","Maitrise adventice","Observation"]
["Vesce pourpre","Légumineuse",1,2,2.2000000000000002,null,3.8,1.99,40,60,152,"courte",43,88,"annuel",2,3,"Faible","Lent","-10°C",1,1,2,"Jungle","oui",1,1,1,"oui",3,"A semer tôt"]
[]
[]
[null,null,null,null,null,null,"VESCE POURPRE",null,null,null,null,null,null,null,null,null,null,null,"RETOUR"]
[]
[]
[null,null,null,null,null,null,"Type",{"$f":"B2","v":"Légumineuse"},null,null,"Type d'interculture possible",null,null,null,null,null,"Vitesse de développement",{"$f":"S2","v":"Lent"}]
[null,null,null,null,null,null,"Dose de semis (kg/ha)",{"$f":"I2","v":40},null,null,"Courte","Longue"]
[null,null,null,null,null,null,"PMG (g)",{"$f":"J2","v":60}]
[null,null,null,null,null,null,"Coût (€/kg)",{"$f":"H2","v":1.99},null,null,"Type de couvert",{"$f":"O2","v":"annuel"},null,null,null,null,"Utilisation possible en production de fourrage",{"$f":"AC2","v":"oui"}]
[]
[]
[]
[null,null,"Min","Max",null,null,null,"Date de semis",null,null,null,null,null,"Mode d'implantation"]
["Profondeur de semis (cm)",null,{"$f":"P2","v":2},{"$f":"Q2","v":3},null,null,"Avant le 05 août","Du 05 au 25 août","Après le 25 août",null,null,null,"Semis à la volée","Travail du sol","Semis direct"]
[]
[null,"Appétence limace",{"$f":"R2","v":"Faible"}]
[null,"Sensibilité au gel",{"$f":"T2","v":"-10°C"}]
[]
[null,"Maitrise des adventices","Bonne"]
[]
["NOTRE AVIS :"]
["Nécessite de la chaleur pour pousser donc apprécie les semis précoces.\nIntérêt en interculture courte. Bonne aptitude à concurrencer les adventices.\nSensibilité au froid différente selon la variété. Implantation assez facile.\nBonne production d'azote."]

{"sheet":"Vesce C","index":47,"n_rows":24,"n_cols":31,"rows_kept":24,"cut":false,"hidden":false,"merged":[[4,6,4,17],[15,0,15,1],[23,0,26,18]]}
["Couvert","Type","Hauteur","Racine","Biomasse","Piégeage N","Fourniture N","Coût","Dose/ha","PMG (g)",null,"Interculture","Numéro couvert",null,"Type de couvert","Profondeur de semis","Profondeur de semis","Appetence limace","Vitesse de développement","Sensibilité au gel","Avant le 05 août","Du 05 au 25 août","Après le 25 août","Type cynegetique","Méllifères","Semis à la volée","Travail du sol","Semis direct","Fourrage","Maitrise adventice","Observation"]
["Vesce commune","Légumineuse",1,2,1,null,3,1.85,50,60,150,"courte",42,50,"annuel",2,3,"Faible","Lent","-10°C",1,1,2,"Jungle","oui",1,1,1,"oui",3,"A semer tôt"]
[]
[]
[null,null,null,null,null,null,"VESCE COMMUNE",null,null,null,null,null,null,null,null,null,null,null,"RETOUR"]
[]
[]
[null,null,null,null,null,null,"Type",{"$f":"B2","v":"Légumineuse"},null,null,"Type d'interculture possible",null,null,null,null,null,"Vitesse de développement",{"$f":"S2","v":"Lent"}]
[null,null,null,null,null,null,"Dose de semis (kg/ha)",{"$f":"I2","v":50},null,null,"Courte","Longue"]
[null,null,null,null,null,null,"PMG (g)",{"$f":"J2","v":60}]
[null,null,null,null,null,null,"Coût (€/kg)",{"$f":"H2","v":1.85},null,null,"Type de couvert",{"$f":"O2","v":"annuel"},null,null,null,null,"Utilisation possible en production de fourrage",{"$f":"AC2","v":"oui"}]
[]
[]
[]
[null,null,"Min","Max",null,null,null,"Date de semis",null,null,null,null,null,"Mode d'implantation"]
["Profondeur de semis (cm)",null,{"$f":"P2","v":2},{"$f":"Q2","v":3},null,null,"Avant le 05 août","Du 05 au 25 août","Après le 25 août",null,null,null,"Semis à la volée","Travail du sol","Semis direct"]
[]
[null,"Appétence limace",{"$f":"R2","v":"Faible"}]
[null,"Sensibilité au gel",{"$f":"T2","v":"-10°C"}]
[]
[null,"Maitrise des adventices","Bonne"]
[]
["NOTRE AVIS :"]
["Espèce intéressante pour la production d'azote. \nBon comportement en mélange (occupe la strate inférieure). Nécessite de la chaleur pour pousser donc apprécie les semis précoces.\nVesce la plus sensible au gel.\nCapacité à concurrencer les adventices si son développement est rapide."]

{"sheet":"Vesce E","index":48,"n_rows":24,"n_cols":31,"rows_kept":24,"cut":false,"hidden":false,"merged":[[4,6,4,17],[15,0,15,1],[23,0,26,18]]}
["Couvert","Type","Hauteur","Racine","Biomasse","Piégeage N","Fourniture N","Coût","Dose/ha","PMG (g)",null,"Interculture","Numéro couvert",null,"Type de couvert","Profondeur de semis","Profondeur de semis","Appetence limace","Vitesse de développement","Sensibilité au gel","Avant le 05 août","Du 05 au 25 août","Après le 25 août","Type cynegetique","Méllifères","Semis à la volée","Travail du sol","Semis direct","Fourrage","Maitrise adventice","Observation"]
["Vesce pourpre","Légumineuse",1,2,2.2000000000000002,null,3.8,1.99,40,60,152,"courte",43,88,"annuel",2,3,"Faible","Lent","-10°C",1,1,2,"Jungle","oui",1,1,1,"oui",3,"A semer tôt"]
[]
[]
[null,null,null,null,null,null,"VESCE ERIGEE",null,null,null,null,null,null,null,null,null,null,null,"RETOUR"]
[]
[]
[null,null,null,null,null,null,"Type",{"$f":"B2","v":"Légumineuse"},null,null,"Type d'interculture possible",null,null,null,null,null,"Vitesse de développement",{"$f":"S2","v":"Lent"}]
[null,null,null,null,null,null,"Dose de semis (kg/ha)",{"$f":"I2","v":40},null,null,"Courte","Longue"]
[null,null,null,null,null,null,"PMG (g)",{"$f":"J2","v":60}]
[null,null,null,null,null,null,"Coût (€/kg)",{"$f":"H2","v":1.99},null,null,"Type de couvert",{"$f":"O2","v":"annuel"},null,null,null,null,"Utilisation possible en production de fourrage",{"$f":"AC2","v":"oui"}]
[]
[]
[]
[null,null,"Min","Max",null,null,null,"Date de semis",null,null,null,null,null,"Mode d'implantation"]
["Profondeur de semis (cm)",null,1.5,2.5,null,null,"Avant le 05 août","Du 05 au 25 août","Après le 25 août",null,null,null,"Semis à la volée","Travail du sol","Semis direct"]
[]
[null,"Appétence limace",{"$f":"R2","v":"Faible"}]
[null,"Sensibilité au gel","-4°C"]
[]
[null,"Maitrise des adventices","Bonne"]
[]
["NOTRE AVIS :"]
["Profil proche de celui de la lentille (biomasse un peu supérieure à la lentille).\nBon développement à l'automne.\nPlus sensible au froid que les autres vesces (-4°C)."]

{"sheet":"Trefle V","index":49,"n_rows":24,"n_cols":31,"rows_kept":24,"cut":false,"hidden":false,"merged":[[4,6,4,17],[15,0,15,1],[23,0,26,18]]}
["Couvert","Type","Hauteur","Racine","Biomasse","Piégeage N","Fourniture N","Coût","Dose/ha","PMG (g)",null,"Interculture","Numéro couvert",null,"Type de couvert","Profondeur de semis","Profondeur de semis","Appetence limace","Vitesse de développement","Sensibilité au gel","Avant le 05 août","Du 05 au 25 août","Après le 25 août","Type cynegetique","Méllifères","Semis à la volée","Travail du sol","Semis direct","Fourrage","Maitrise adventice","Observation"]
["Trèfle violet","Légumineuse",1,2,4,null,10,5.8,15,1.9,150,"longue",41,60,"Permanent",1,2,"Moyen","Rapide","-4°C",1,1,2,"Gazon","oui",1,1,1,"oui",2,"Intérêt en couvert permanent"]
[]
[]
[null,null,null,null,null,null,"TREFLE VIOLET",null,null,null,null,null,null,null,null,null,null,null,"RETOUR"]
[]
[]
[null,null,null,null,null,null,"Type",{"$f":"B2","v":"Légumineuse"},null,null,"Type d'interculture possible",null,null,null,null,null,"Vitesse de développement",{"$f":"S2","v":"Rapide"}]
[null,null,null,null,null,null,"Dose de semis (kg/ha)",{"$f":"I2","v":15},null,null,"Courte","Longue"]
[null,null,null,null,null,null,"PMG (g)",{"$f":"J2","v":1.9}]
[null,null,null,null,null,null,"Coût (€/kg)",{"$f":"H2","v":5.8},null,null,"Type de couvert",{"$f":"O2","v":"Permanent"},null,null,null,null,"Utilisation possible en production de fourrage",{"$f":"AC2","v":"oui"}]
[]
[]
[]
[null,null,"Min","Max",null,null,null,"Date de semis",null,null,null,null,null,"Mode d'implantation"]
["Profondeur de semis (cm)",null,{"$f":"P2","v":1},{"$f":"Q2","v":2},null,null,"Avant le 05 août","Du 05 au 25 août","Après le 25 août",null,null,null,"Semis à la volée","Travail du sol","Semis direct"]
[]
[null,"Appétence limace",{"$f":"R2","v":"Moyen"}]
[null,"Sensibilité au gel",{"$f":"T2","v":"-4°C"}]
[]
[null,"Maitrise des adventices","Moyenne"]
[]
["NOTRE AVIS :"]
["Bien adapté aux associations. \nInstalation rapide. Intérêt au couvert pluri-annuel. Pérénité : 2 à 3 ans.\nProduction fourragère possible.\nEspèce assez polyvalente. Peu résistant à la chaleur et à la sécheresse."]

{"sheet":"Triticale","index":50,"n_rows":24,"n_cols":31,"rows_kept":24,"cut":false,"hidden":false,"merged":[[4,6,4,17],[15,0,15,1],[23,0,26,18]]}
["Couvert","Type","Hauteur","Racine","Biomasse","Piégeage N","Fourniture N","Coût","Dose/ha","PMG (g)",null,"Interculture","Numéro couvert",null,"Type de couvert","Profondeur de semis","Profondeur de semis","Appetence limace","Vitesse de développement","Sensibilité au gel","Avant le 05 août","Du 05 au 25 août","Après le 25 août","Type cynegetique","Méllifères","Semis à la volée","Travail du sol","Semis direct","Fourrage","Maitrise adventice","Observation"]
["Triticale","graminée",null,null,null,null,null,0,0,0,null,null,40,null,null,null,null,"Moyen","Lent","> -15°C",2,1,1,"Gazon","non",3,1,1,"oui",2,"Intérêt en méteil"]
[]
[]
[null,null,null,null,null,null,"TRITICALE",null,null,null,null,null,null,null,null,null,null,null,"RETOUR"]
[]
[]
[null,null,null,null,null,null,"Type",{"$f":"B2","v":"graminée"},null,null,"Type d'interculture possible",null,null,null,null,null,"Vitesse de développement",{"$f":"S2","v":"Lent"}]
[null,null,null,null,null,null,"Dose de semis (kg/ha)",100,null,null,"Courte","Longue"]
[null,null,null,null,null,null,"PMG (g)",35]
[null,null,null,null,null,null,"Coût (€/kg)",0.25,null,null,"Type de couvert","Annuel",null,null,null,null,"Utilisation possible en production de fourrage",{"$f":"AC2","v":"oui"}]
[]
[]
[]
[null,null,"Min","Max",null,null,null,"Date de semis",null,null,null,null,null,"Mode d'implantation"]
["Profondeur de semis (cm)",null,2,3,null,null,"Avant le 05 août","Du 05 au 25 août","Après le 25 août",null,null,null,"Semis à la volée","Travail du sol","Semis direct"]
[]
[null,"Appétence limace",{"$f":"R2","v":"Moyen"}]
[null,"Sensibilité au gel",{"$f":"T2","v":"> -15°C"}]
[]
[null,"Maitrise des adventices","Moyenne"]
[]
["NOTRE AVIS :"]
["Graminée intéressante en mélange (plante tutrice).\nAdapté au méteil."]

{"sheet":"Trefle I","index":51,"n_rows":24,"n_cols":31,"rows_kept":24,"cut":false,"hidden":false,"merged":[[4,6,4,17],[15,0,15,1],[23,0,26,18]]}
["Couvert","Type","Hauteur","Racine","Biomasse","Piégeage N","Fourniture N","Coût","Dose/ha","PMG (g)",null,"Interculture","Numéro couvert",null,"Type de couvert","Profondeur de semis","Profondeur de semis","Appetence limace","Vitesse de développement","Sensibilité au gel","Avant le 05 août","Du 05 au 25 août","Après le 25 août","Type cynegetique","Méllifères","Semis à la volée","Travail du sol","Semis direct","Fourrage","Maitrise adventice","Observation"]
["Trèfle incarnat","Légumineuse",1,2,6,null,10,2.69,15,2.5,150,"longue",39,90,"annuel",1,2,"Moyen à Fort","Lent","-10°C",1,1,2,"Gazon","oui",1,1,1,"oui",2,"Intérêt en interculture longue"]
[]
[]
[null,null,null,null,null,null,"TREFLE INCARNAT",null,null,null,null,null,null,null,null,null,null,null,"RETOUR"]
[]
[]
[null,null,null,null,null,null,"Type",{"$f":"B2","v":"Légumineuse"},null,null,"Type d'interculture possible",null,null,null,null,null,"Vitesse de développement",{"$f":"S2","v":"Lent"}]
[null,null,null,null,null,null,"Dose de semis (kg/ha)",{"$f":"I2","v":15},null,null,"Courte","Longue"]
[null,null,null,null,null,null,"PMG (g)",{"$f":"J2","v":2.5}]
[null,null,null,null,null,null,"Coût (€/kg)",{"$f":"H2","v":2.69},null,null,"Type de couvert",{"$f":"O2","v":"annuel"},null,null,null,null,"Utilisation possible en production de fourrage",{"$f":"AC2","v":"oui"}]
[]
[]
[]
[null,null,"Min","Max",null,null,null,"Date de semis",null,null,null,null,null,"Mode d'implantation"]
["Profondeur de semis (cm)",null,{"$f":"P2","v":1},{"$f":"Q2","v":2},null,null,"Avant le 05 août","Du 05 au 25 août","Après le 25 août",null,null,null,"Semis à la volée","Travail du sol","Semis direct"]
[]
[null,"Appétence limace",{"$f":"R2","v":"Moyen à Fort"}]
[null,"Sensibilité au gel",{"$f":"T2","v":"-10°C"}]
[]
[null,"Maitrise des adventices","Moyenne"]
[]
["NOTRE AVIS :"]
["Déconseillé en sol séchant. Possible en sol argileux.\nPeu sensible au froid.\nBonne production de biomasse.\nBien avant maïs."]

{"sheet":"Trefle P","index":52,"n_rows":24,"n_cols":31,"rows_kept":24,"cut":false,"hidden":false,"merged":[[4,6,4,17],[15,0,15,1],[23,0,26,18]]}
["Couvert","Type","Hauteur","Racine","Biomasse","Piégeage N","Fourniture N","Coût","Dose/ha","PMG (g)",null,"Interculture","Numéro couvert",null,"Type de couvert","Profondeur de semis","Profondeur de semis","Appetence limace","Vitesse de développement","Sensibilité au gel","Avant le 05 août","Du 05 au 25 août","Après le 25 août","Type cynegetique","Méllifères","Semis à la volée","Travail du sol","Semis direct","Fourrage","Maitrise adventice","Observation"]
["Trèfle de perse","Légumineuse",1,2,3,null,6,5.85,20,2,120,"courte",38,60,"annuel",1,2,"Moyen à Fort","Lent","-10°C",1,1,2,"Parapluie","oui",1,1,1,"oui",2,"Intérêt en interculture courte"]
[]
[]
[null,null,null,null,null,null,"TREFLE DE PERSE",null,null,null,null,null,null,null,null,null,null,null,"RETOUR"]
[]
[]
[null,null,null,null,null,null,"Type",{"$f":"B2","v":"Légumineuse"},null,null,"Type d'interculture possible",null,null,null,null,null,"Vitesse de développement",{"$f":"S2","v":"Lent"}]
[null,null,null,null,null,null,"Dose de semis (kg/ha)",{"$f":"I2","v":20},null,null,"Courte","Longue"]
[null,null,null,null,null,null,"PMG (g)",{"$f":"J2","v":2}]
[null,null,null,null,null,null,"Coût (€/kg)",{"$f":"H2","v":5.85},null,null,"Type de couvert",{"$f":"O2","v":"annuel"},null,null,null,null,"Utilisation possible en production de fourrage",{"$f":"AC2","v":"oui"}]
[]
[]
[]
[null,null,"Min","Max",null,null,null,"Date de semis",null,null,null,null,null,"Mode d'implantation"]
["Profondeur de semis (cm)",null,{"$f":"P2","v":1},{"$f":"Q2","v":2},null,null,"Avant le 05 août","Du 05 au 25 août","Après le 25 août",null,null,null,"Semis à la volée","Travail du sol","Semis direct"]
[]
[null,"Appétence limace",{"$f":"R2","v":"Moyen à Fort"}]
[null,"Sensibilité au gel",{"$f":"T2","v":"-10°C"}]
[]
[null,"Maitrise des adventices","Moyenne"]
[]
["NOTRE AVIS :"]
["Proche du trèfle incarnat.\nAdapté aux sols lourds et humides. A éviter en sols acides.\nPeu sensible au froid. Plante méllifère.\nRestitution d'azote inférieure à celle du trèfle d'Alexandrie."]

{"sheet":"Trefle M","index":53,"n_rows":24,"n_cols":31,"rows_kept":24,"cut":false,"hidden":false,"merged":[[4,6,4,17],[15,0,15,1],[23,0,26,18]]}
["Couvert","Type","Hauteur","Racine","Biomasse","Piégeage N","Fourniture N","Coût","Dose/ha","PMG (g)",null,"Interculture","Numéro couvert",null,"Type de couvert","Profondeur de semis","Profondeur de semis","Appetence limace","Vitesse de développement","Sensibilité au gel","Avant le 05 août","Du 05 au 25 août","Après le 25 août","Type cynegetique","Méllifères","Semis à la volée","Travail du sol","Semis direct","Fourrage","Maitrise adventice","Observation"]
["Trèfle de Micheli","Légumineuse",1,2,7,null,15,3.99,10,0.8,150,"longue",37,70,"annuel",1,2,"Moyen à Fort","Lent","-10°C",1,1,2,"Jungle","oui",1,1,1,"oui",2,"Intérêt en interculture longue"]
[]
[]
[null,null,null,null,null,null,"TREFLE DE MICHELI",null,null,null,null,null,null,null,null,null,null,null,"RETOUR"]
[]
[]
[null,null,null,null,null,null,"Type",{"$f":"B2","v":"Légumineuse"},null,null,"Type d'interculture possible",null,null,null,null,null,"Vitesse de développement",{"$f":"S2","v":"Lent"}]
[null,null,null,null,null,null,"Dose de semis (kg/ha)",{"$f":"I2","v":10},null,null,"Courte","Longue"]
[null,null,null,null,null,null,"PMG (g)",{"$f":"J2","v":0.8}]
[null,null,null,null,null,null,"Coût (€/kg)",{"$f":"H2","v":3.99},null,null,"Type de couvert",{"$f":"O2","v":"annuel"},null,null,null,null,"Utilisation possible en production de fourrage",{"$f":"AC2","v":"oui"}]
[]
[]
[]
[null,null,"Min","Max",null,null,null,"Date de semis",null,null,null,null,null,"Mode d'implantation"]
["Profondeur de semis (cm)",null,{"$f":"P2","v":1},{"$f":"Q2","v":2},null,null,"Avant le 05 août","Du 05 au 25 août","Après le 25 août",null,null,null,"Semis à la volée","Travail du sol","Semis direct"]
[]
[null,"Appétence limace",{"$f":"R2","v":"Moyen à Fort"}]
[null,"Sensibilité au gel",{"$f":"T2","v":"-10°C"}]
[]
[null,"Maitrise des adventices","Moyenne"]
[]
["NOTRE AVIS :"]
["Préfère les sols acides.\nFigure parmi les trèfles les moins concurrenciels vis-à-vis des adventices.\nNon gélif."]

{"sheet":"Trefle A","index":54,"n_rows":24,"n_cols":31,"rows_kept":24,"cut":false,"hidden":false,"merged":[[4,6,4,17],[15,0,15,1],[23,0,26,18]]}
[null,"Type","Hauteur","Racine","Biomasse","Piégeage N","Fourniture N","Coût","Dose/ha","PMG (g)",null,"Interculture","Numéro couvert",null,"Type de couvert","Profondeur de semis","Profondeur de semis","Appetence limace","Vitesse de développement","Sensibilité au gel","Avant le 05 août","Du 05 au 25 août","Après le 25 août","Type cynegetique","Méllifères","Semis à la volée","Travail du sol","Semis direct","Fourrage","Maitrise adventice","Observation"]
["Trèfle d'Alexandrie","Légumineuse",1,2,3.5,null,10,2.39,15,2.5,150,"courte",36,52.5,"annuel",1,2,"Moyen","Rapide","-5°C",1,1,2,"Jungle","oui",1,1,1,"oui",2,"Intérêt en interculture courte"]
[]
[]
[null,null,null,null,null,null,"TREFLE D'ALEXANDRIE",null,null,null,null,null,null,null,null,null,null,null,"RETOUR"]
[]
[]
[null,null,null,null,null,null,"Type",{"$f":"B2","v":"Légumineuse"},null,null,"Type d'interculture possible",null,null,null,null,null,"Vitesse de développement",{"$f":"S2","v":"Rapide"}]
[null,null,null,null,null,null,"Dose de semis (kg/ha)",{"$f":"I2","v":15},null,null,"Courte","Longue"]
[null,null,null,null,null,null,"PMG (g)",{"$f":"J2","v":2.5}]
[null,null,null,null,null,null,"Coût (€/kg)",{"$f":"H2","v":2.39},null,null,"Type de couvert",{"$f":"O2","v":"annuel"},null,null,null,null,"Utilisation possible en production de fourrage",{"$f":"AC2","v":"oui"}]
[]
[]
[]
[null,null,"Min","Max",null,null,null,"Date de semis",null,null,null,null,null,"Mode d'implantation"]
["Profondeur de semis (cm)",null,{"$f":"P2","v":1},{"$f":"Q2","v":2},null,null,"Avant le 05 août","Du 05 au 25 août","Après le 25 août",null,null,null,"Semis à la volée","Travail du sol","Semis direct"]
[]
[null,"Appétence limace",{"$f":"R2","v":"Moyen"}]
[null,"Sensibilité au gel",{"$f":"T2","v":"-5°C"}]
[]
[null,"Maitrise des adventices","Moyenne"]
[]
["NOTRE AVIS :"]
["Installation rapide. Bonne dynamique de croissance.\nSensible au froid donc adapté aux intercultures courtes.\nEviter les sols argileux ou acides.\nBonne restitution d'azote."]

{"sheet":"Trefle B","index":55,"n_rows":24,"n_cols":31,"rows_kept":24,"cut":false,"hidden":false,"merged":[[4,6,4,17],[15,0,15,1],[23,0,26,18]]}
["Couvert","Type","Hauteur","Racine","Biomasse","Piégeage N","Fourniture N","Coût","Dose/ha","PMG (g)",null,"Interculture","Numéro couvert",null,"Type de couvert","Profondeur de semis","Profondeur de semis","Appetence limace","Vitesse de développement","Sensibilité au gel","Avant le 05 août","Du 05 au 25 août","Après le 25 août","Type cynegetique","Méllifères","Semis à la volée","Travail du sol","Semis direct","Fourrage","Maitrise adventice","Observation"]
["Trèfle Blanc","Légumineuse",1,2,18,null,40,5.8,4,0.6,160,"longue",35,72,"Permanent",1,2,"Faible","Lent","-4°C",1,1,2,"Jungle","oui",1,1,1,"oui",3,"Intérêt en couvert permanent"]
[]
[]
[null,null,null,null,null,null,"TREFLE BLANC",null,null,null,null,null,null,null,null,null,null,null,"RETOUR"]
[]
[]
[null,null,null,null,null,null,"Type",{"$f":"B2","v":"Légumineuse"},null,null,"Type d'interculture possible",null,null,null,null,null,"Vitesse de développement",{"$f":"S2","v":"Lent"}]
[null,null,null,null,null,null,"Dose de semis (kg/ha)",{"$f":"I2","v":4},null,null,"Courte","Longue"]
[null,null,null,null,null,null,"PMG (g)",{"$f":"J2","v":0.6}]
[null,null,null,null,null,null,"Coût (€/kg)",{"$f":"H2","v":5.8},null,null,"Type de couvert",{"$f":"O2","v":"Permanent"},null,null,null,null,"Utilisation possible en production de fourrage",{"$f":"AC2","v":"oui"}]
[]
[]
[]
[null,null,"Min","Max",null,null,null,"Date de semis",null,null,null,null,null,"Mode d'implantation"]
["Profondeur de semis (cm)",null,{"$f":"P2","v":1},{"$f":"Q2","v":2},null,null,"Avant le 05 août","Du 05 au 25 août","Après le 25 août",null,null,null,"Semis à la volée","Travail du sol","Semis direct"]
[]
[null,"Appétence limace",{"$f":"R2","v":"Faible"}]
[null,"Sensibilité au gel",{"$f":"T2","v":"-4°C"}]
[]
[null,"Maitrise des adventices","Forte"]
[]
["NOTRE AVIS :"]
["Installation lente.\nPeu sensible au froid. Apprécie les sols profonds.\nBonne production de fourrage.\nAdapté aux couverts permanents (attention à la concurrence du fait d'un enracinement proche de celui des espèces cultivées)."]

{"sheet":"Mauve","index":56,"n_rows":24,"n_cols":31,"rows_kept":24,"cut":false,"hidden":false,"merged":[[4,6,4,17],[15,0,15,1],[23,0,26,18]]}
["Couvert","Type","Hauteur","Racine","Biomasse","Piégeage N","Fourniture N","Coût","Dose/ha","PMG (g)",null,"Interculture","Numéro couvert",null,"Type de couvert","Profondeur de semis","Profondeur de semis","Appetence limace","Vitesse de développement","Sensibilité au gel","Avant le 05 août","Du 05 au 25 août","Après le 25 août","Type cynegetique","Méllifères","Semis à la volée","Travail du sol","Semis direct","Fourrage","Maitrise adventice","Observation"]
["Cameline","Crucifère",1,1,6,3,7,5.7,5,1.2,35,"longue",5,30,"annuel",1,1.5,"Faible","Rapide","-10°C",1,1,1,"Parapluie","non",1,1,1,"non",2,"Bon effet étouffant des adventices"]
[]
[]
[null,null,null,null,null,null,"MAUVE",null,null,null,null,null,null,null,null,null,null,null,"RETOUR"]
[]
[]
[null,null,null,null,null,null,"Type","Malvacée",null,null,"Type d'interculture possible",null,null,null,null,null,"Vitesse de développement","Moyen"]
[null,null,null,null,null,null,"Dose de semis (kg/ha)",5,null,null,"Courte","Longue"]
[null,null,null,null,null,null,"PMG (g)",2]
[null,null,null,null,null,null,"Coût (€/kg)",null,null,null,"Type de couvert",{"$f":"O2","v":"annuel"},null,null,null,null,"Utilisation possible en production de fourrage","oui"]
[]
[]
[]
[null,null,"Min","Max",null,null,null,"Date de semis",null,null,null,null,null,"Mode d'implantation"]
["Profondeur de semis (cm)",null,{"$f":"P2","v":1},{"$f":"Q2","v":1.5},null,null,"Avant le 05 août","Du 05 au 25 août","Après le 25 août",null,null,null,"Semis à la volée","Travail du sol","Semis direct"]
[]
[null,"Appétence limace","Moyen"]
[null,"Sensibilité au gel","-5°C"]
[]
[null,"Maitrise des adventices","Moyenne"]
[]
["NOTRE AVIS :"]
["Bon comportement en conditions sèches.\nBon effet structure.\nEspèce botanique différentes des plantes cultivées."]

{"sheet":"Tournesol","index":57,"n_rows":24,"n_cols":31,"rows_kept":24,"cut":false,"hidden":false,"merged":[[4,6,4,17],[15,0,15,1],[23,0,26,18]]}
["Couvert","Type","Hauteur","Racine","Biomasse","Piégeage N","Fourniture N","Coût","Dose/ha","PMG (g)",null,"Interculture","Numéro couvert",null,"Type de couvert","Profondeur de semis","Profondeur de semis","Appetence limace","Vitesse de développement","Sensibilité au gel","Avant le 05 août","Du 05 au 25 août","Après le 25 août","Type cynegetique","Méllifères","Semis à la volée","Travail du sol","Semis direct","Fourrage","Maitrise adventice","Observation"]
["Tournesol","Composée",3,3,1.5,3,1.8,0.2,50,60,90,"courte",34,75,"annuel",2,3,"Fort","Rapide","-2°C",1,1,3,"Phare","oui",2,1,1,"non",2,"Bon effet structure"]
[]
[]
[null,null,null,null,null,null,"TOURNESOL",null,null,null,null,null,null,null,null,null,null,null,"RETOUR"]
[]
[]
[null,null,null,null,null,null,"Type",{"$f":"B2","v":"Composée"},null,null,"Type d'interculture possible",null,null,null,null,null,"Vitesse de développement",{"$f":"S2","v":"Rapide"}]
[null,null,null,null,null,null,"Dose de semis (kg/ha)",{"$f":"I2","v":50},null,null,"Courte","Longue"]
[null,null,null,null,null,null,"PMG (g)",{"$f":"J2","v":60}]
[null,null,null,null,null,null,"Coût (€/kg)",{"$f":"H2","v":0.2},null,null,"Type de couvert",{"$f":"O2","v":"annuel"},null,null,null,null,"Utilisation possible en production de fourrage",{"$f":"AC2","v":"non"}]
[]
[]
[]
[null,null,"Min","Max",null,null,null,"Date de semis",null,null,null,null,null,"Mode d'implantation"]
["Profondeur de semis (cm)",null,{"$f":"P2","v":2},{"$f":"Q2","v":3},null,null,"Avant le 05 août","Du 05 au 25 août","Après le 25 août",null,null,null,"Semis à la volée","Travail du sol","Semis direct"]
[]
[null,"Appétence limace",{"$f":"R2","v":"Fort"}]
[null,"Sensibilité au gel",{"$f":"T2","v":"-2°C"}]
[]
[null,"Maitrise des adventices","Moyenne"]
[]
["NOTRE AVIS :"]
["Intérêt en condition sèche. Attention au risque sclérotinia.\nBon effet structurant. Adapté aux intercultures courtes.\nIntérêt en association pour son effet tuteur.\nAprès destrution, sa tige noircie, ce qui favorise le rechauffement du sol."]

{"sheet":"Sorgho","index":58,"n_rows":24,"n_cols":31,"rows_kept":24,"cut":false,"hidden":false,"merged":[[4,6,4,17],[15,0,15,1],[23,0,26,18]]}
["Couvert","Type","Hauteur","Racine","Biomasse","Piégeage N","Fourniture N","Coût","Dose/ha","PMG (g)",null,"Interculture","Numéro couvert",null,"Type de couvert","Profondeur de semis","Profondeur de semis","Appetence limace","Vitesse de développement","Sensibilité au gel","Avant le 05 août","Du 05 au 25 août","Après le 25 août","Type cynegetique","Méllifères","Semis à la volée","Travail du sol","Semis direct","Fourrage","Maitrise adventice","Observation"]
["Sorgho fourrager","graminée",3,3,6.2,3,6,4.74,15,30,90,"courte",33,93,"annuel",2,2.5,"Moyen","Lent","> -15°C",1,3,3,"Parapluie","non",2,1,1,"oui",2,"Bon production de biomasse"]
[]
[]
[null,null,null,null,null,null,"SORGHO FOURRAGER",null,null,null,null,null,null,null,null,null,null,null,"RETOUR"]
[]
[]
[null,null,null,null,null,null,"Type",{"$f":"B2","v":"graminée"},null,null,"Type d'interculture possible",null,null,null,null,null,"Vitesse de développement",{"$f":"S2","v":"Lent"}]
[null,null,null,null,null,null,"Dose de semis (kg/ha)",{"$f":"I2","v":15},null,null,"Courte","Longue"]
[null,null,null,null,null,null,"PMG (g)",{"$f":"J2","v":30}]
[null,null,null,null,null,null,"Coût (€/kg)",{"$f":"H2","v":4.74},null,null,"Type de couvert",{"$f":"O2","v":"annuel"},null,null,null,null,"Utilisation possible en production de fourrage",{"$f":"AC2","v":"oui"}]
[]
[]
[]
[null,null,"Min","Max",null,null,null,"Date de semis",null,null,null,null,null,"Mode d'implantation"]
["Profondeur de semis (cm)",null,{"$f":"P2","v":2},{"$f":"Q2","v":2.5},null,null,"Avant le 05 août","Du 05 au 25 août","Après le 25 août",null,null,null,"Semis à la volée","Travail du sol","Semis direct"]
[]
[null,"Appétence limace",{"$f":"R2","v":"Moyen"}]
[null,"Sensibilité au gel","0°C"]
[]
[null,"Maitrise des adventices","Moyenne"]
[]
["NOTRE AVIS :"]
["Forte production de biomasse. Intérêt en production fourragère. Valorisation possible en fourrage si la hauteur est supérieure à 70 cm.\nImplantation délicate.\nEffet allélopathique suspectée.\nForte capacité de restructuration en raison d'un système racinaire puissant."]

{"sheet":"Seigle Fou","index":59,"n_rows":24,"n_cols":31,"rows_kept":24,"cut":false,"hidden":false,"merged":[[4,6,4,17],[15,0,15,1],[23,0,26,18]]}
["Couvert","Type","Hauteur","Racine","Biomasse","Piégeage N","Fourniture N","Coût","Dose/ha","PMG (g)",null,"Interculture","Numéro couvert",null,"Type de couvert","Profondeur de semis","Profondeur de semis","Appetence limace","Vitesse de développement","Sensibilité au gel","Avant le 05 août","Du 05 au 25 août","Après le 25 août","Type cynegetique","Méllifères","Semis à la volée","Travail du sol","Semis direct","Fourrage","Maitrise adventice","Observation"]
["Seigle fourrager","graminée",3,3,1.2,2,1.5,1.5,60,45,90,"longue",32,72,"annuel",2,3,"Faible","Lent","> -15°C",1,1,2,"Gazon","non",3,1,1,"oui",2,"Attenition à l'effet dépressif"]
[]
[]
[null,null,null,null,null,null,"SEIGLE FOURRAGER",null,null,null,null,null,null,null,null,null,null,null,"RETOUR"]
[]
[]
[null,null,null,null,null,null,"Type",{"$f":"B2","v":"graminée"},null,null,"Type d'interculture possible",null,null,null,null,null,"Vitesse de développement",{"$f":"S2","v":"Lent"}]
[null,null,null,null,null,null,"Dose de semis (kg/ha)",{"$f":"I2","v":60},null,null,"Courte","Longue"]
[null,null,null,null,null,null,"PMG (g)",{"$f":"J2","v":45}]
[null,null,null,null,null,null,"Coût (€/kg)",{"$f":"H2","v":1.5},null,null,"Type de couvert",{"$f":"O2","v":"annuel"},null,null,null,null,"Utilisation possible en production de fourrage",{"$f":"AC2","v":"oui"}]
[]
[]
[]
[null,null,"Min","Max",null,null,null,"Date de semis",null,null,null,null,null,"Mode d'implantation"]
["Profondeur de semis (cm)",null,{"$f":"P2","v":2},{"$f":"Q2","v":3},null,null,"Avant le 05 août","Du 05 au 25 août","Après le 25 août",null,null,null,"Semis à la volée","Travail du sol","Semis direct"]
[]
[null,"Appétence limace",{"$f":"R2","v":"Faible"}]
[null,"Sensibilité au gel",{"$f":"T2","v":"> -15°C"}]
[]
[null,"Maitrise des adventices","Moyenne"]
[]
["NOTRE AVIS :"]
["Bonne production de fourrage. Bon effet structurant grace à un système racinaire puissant. \nEffet dépressif sur la culture suivante si le couvert est trop lignifié.\nRustique et s'adapte bien à de nombreux types de sols. Effet tuteur dans les mélanges.\nIntérêt dans les meteils."]

{"sheet":"Seigle For","index":60,"n_rows":24,"n_cols":31,"rows_kept":24,"cut":false,"hidden":false,"merged":[[4,6,4,17],[15,0,15,1],[23,0,26,18]]}
["Couvert","Type","Hauteur","Racine","Biomasse","Piégeage N","Fourniture N","Coût","Dose/ha","PMG (g)",null,"Interculture","Numéro couvert",null,"Type de couvert","Profondeur de semis","Profondeur de semis","Appetence limace","Vitesse de développement","Sensibilité au gel","Avant le 05 août","Du 05 au 25 août","Après le 25 août","Type cynegetique","Méllifères","Semis à la volée","Travail du sol","Semis direct","Fourrage","Maitrise adventice","Observation"]
["Seigle forestier","graminée",3,3,3,1,3.5,1.1000000000000001,25,30,87.5,"longue",31,75,"annuel",2,3,"Faible","Lent","-15°C",1,1,2,"Gazon","non",3,1,1,"oui",2,"Attenition à l'effet dépressif"]
[]
[]
[null,null,null,null,null,null,"SEIGLE FORESTIER",null,null,null,null,null,null,null,null,null,null,null,"RETOUR"]
[]
[]
[null,null,null,null,null,null,"Type",{"$f":"B2","v":"graminée"},null,null,"Type d'interculture possible",null,null,null,null,null,"Vitesse de développement",{"$f":"S2","v":"Lent"}]
[null,null,null,null,null,null,"Dose de semis (kg/ha)",{"$f":"I2","v":25},null,null,"Courte","Longue"]
[null,null,null,null,null,null,"PMG (g)",{"$f":"J2","v":30}]
[null,null,null,null,null,null,"Coût (€/kg)",{"$f":"H2","v":1.1000000000000001},null,null,"Type de couvert",{"$f":"O2","v":"annuel"},null,null,null,null,"Utilisation possible en production de fourrage",{"$f":"AC2","v":"oui"}]
[]
[]
[]
[null,null,"Min","Max",null,null,null,"Date de semis",null,null,null,null,null,"Mode d'implantation"]
["Profondeur de semis (cm)",null,{"$f":"P2","v":2},{"$f":"Q2","v":3},null,null,"Avant le 05 août","Du 05 au 25 août","Après le 25 août",null,null,null,"Semis à la volée","Travail du sol","Semis direct"]
[]
[null,"Appétence limace",{"$f":"R2","v":"Faible"}]
[null,"Sensibilité au gel",{"$f":"T2","v":"-15°C"}]
[]
[null,"Maitrise des adventices","Moyenne"]
[]
["NOTRE AVIS :"]
["Installation plus rapide que le seigle fourrager. Bonne résistance au froid.\nProduction de fourrage plus importante que le seigle fourrager.\nEffet dépressif sur la culture suivante si le couvert est trop lignifié.\nBien avant un couvert de légumineuses type soja."]

{"sheet":"Sarrasin","index":61,"n_rows":24,"n_cols":31,"rows_kept":24,"cut":false,"hidden":false,"merged":[[4,6,4,17],[15,0,15,1],[23,0,26,18]]}
["Couvert","Type","Hauteur","Racine","Biomasse","Piégeage N","Fourniture N","Coût","Dose/ha","PMG (g)",null,"Interculture","Numéro couvert",null,"Type de couvert","Profondeur de semis","Profondeur de semis","Appetence limace","Vitesse de développement","Sensibilité au gel","Avant le 05 août","Du 05 au 25 août","Après le 25 août","Type cynegetique","Méllifères","Semis à la volée","Travail du sol","Semis direct","Fourrage","Maitrise adventice","Observation"]
["Sarrasin","Polygonacée",2,1,2,3,2.5,2.1,35,25,87.5,"courte",30,70,"annuel",2,3,"Moyen","Rapide","-2°C",1,2,3,"Parapluie","oui",1,1,1,"non",3,"Intérêt en condition sèche"]
[]
[]
[null,null,null,null,null,null,"SARRASIN",null,null,null,null,null,null,null,null,null,null,null,"RETOUR"]
[]
[]
[null,null,null,null,null,null,"Type",{"$f":"B2","v":"Polygonacée"},null,null,"Type d'interculture possible",null,null,null,null,null,"Vitesse de développement",{"$f":"S2","v":"Rapide"}]
[null,null,null,null,null,null,"Dose de semis (kg/ha)",{"$f":"I2","v":35},null,null,"Courte","Longue"]
[null,null,null,null,null,null,"PMG (g)",{"$f":"J2","v":25}]
[null,null,null,null,null,null,"Coût (€/kg)",{"$f":"H2","v":2.1},null,null,"Type de couvert",{"$f":"O2","v":"annuel"},null,null,null,null,"Utilisation possible en production de fourrage",{"$f":"AC2","v":"non"}]
[]
[]
[]
[null,null,"Min","Max",null,null,null,"Date de semis",null,null,null,null,null,"Mode d'implantation"]
["Profondeur de semis (cm)",null,{"$f":"P2","v":2},{"$f":"Q2","v":3},null,null,"Avant le 05 août","Du 05 au 25 août","Après le 25 août",null,null,null,"Semis à la volée","Travail du sol","Semis direct"]
[]
[null,"Appétence limace",{"$f":"R2","v":"Moyen"}]
[null,"Sensibilité au gel",{"$f":"T2","v":"-2°C"}]
[]
[null,"Maitrise des adventices","Bonne"]
[]
["NOTRE AVIS :"]
["Bonne vigueur de départ. Adapté au sol superficiel.\nMise à graine possible avec risque de présence non souhaitée dans la culture suivante.\nImplantation délicate.\nSensible au gel."]

{"sheet":"Sainfoin","index":62,"n_rows":24,"n_cols":31,"rows_kept":24,"cut":false,"hidden":false,"merged":[[4,6,4,17],[15,0,15,1],[23,0,26,18]]}
["Couvert","Type","Hauteur","Racine","Biomasse","Piégeage N","Fourniture N","Coût","Dose/ha","PMG (g)",null,"Interculture","Numéro couvert",null,"Type de couvert","Profondeur de semis","Profondeur de semis","Appetence limace","Vitesse de développement","Sensibilité au gel","Avant le 05 août","Du 05 au 25 août","Après le 25 août","Type cynegetique","Méllifères","Semis à la volée","Travail du sol","Semis direct","Fourrage","Maitrise adventice","Observation"]
["Sainfoin (cosse)","Légumineuse",1,3,0.7,null,1,1.99,130,22,130,"longue",28,91,"Permanent",2,3,"Moyen à Fort","Moyen","> -15°C",1,1,2,"Jungle","oui",1,1,1,"oui",2,"Intérêt en couvert permanent"]
[]
[]
[null,null,null,null,null,null,"SAINFOIN (cosse)",null,null,null,null,null,null,null,null,null,null,null,"RETOUR"]
[]
[]
[null,null,null,null,null,null,"Type",{"$f":"B2","v":"Légumineuse"},null,null,"Type d'interculture possible",null,null,null,null,null,"Vitesse de développement",{"$f":"S2","v":"Moyen"}]
[null,null,null,null,null,null,"Dose de semis (kg/ha)",{"$f":"I2","v":130},null,null,"Courte","Longue"]
[null,null,null,null,null,null,"PMG (g)",{"$f":"J2","v":22}]
[null,null,null,null,null,null,"Coût (€/kg)",{"$f":"H2","v":1.99},null,null,"Type de couvert",{"$f":"O2","v":"Permanent"},null,null,null,null,"Utilisation possible en production de fourrage",{"$f":"AC2","v":"oui"}]
[]
[]
[]
[null,null,"Min","Max",null,null,null,"Date de semis",null,null,null,null,null,"Mode d'implantation"]
["Profondeur de semis (cm)",null,{"$f":"P2","v":2},{"$f":"Q2","v":3},null,null,"Avant le 05 août","Du 05 au 25 août","Après le 25 août",null,null,null,"Semis à la volée","Travail du sol","Semis direct"]
[]
[null,"Appétence limace",{"$f":"R2","v":"Moyen à Fort"}]
[null,"Sensibilité au gel",{"$f":"T2","v":"> -15°C"}]
[]
[null,"Maitrise des adventices","Moyenne"]
[]
["NOTRE AVIS :"]
["Adpaté au sol superficiel.\nIntérêt dans la couverture permanente des sols.\nProduction de fourrage possible."]

{"sheet":"RGI","index":63,"n_rows":24,"n_cols":31,"rows_kept":24,"cut":false,"hidden":false,"merged":[[4,6,4,17],[15,0,15,1],[23,0,26,18]]}
["Couvert","Type","Hauteur","Racine","Biomasse","Piégeage N","Fourniture N","Coût","Dose/ha","PMG (g)",null,"Interculture","Numéro couvert",null,"Type de couvert","Profondeur de semis","Profondeur de semis","Appetence limace","Vitesse de développement","Sensibilité au gel","Avant le 05 août","Du 05 au 25 août","Après le 25 août","Type cynegetique","Méllifères","Semis à la volée","Travail du sol","Semis direct","Fourrage","Maitrise adventice","Observation"]
["Ray-grass Italien","graminée",2,2,10,3,4.5,2.0499999999999998,20,2,90,"longue",27,200,"annuel",1,1.5,"Moyen","Rapide","> -15°C",1,1,2,"Jungle","non",2,1,1,"oui",2,"Risque d'asséchement du sol"]
[]
[]
[null,null,null,null,null,null,"RAY-GRASS ITALIEN",null,null,null,null,null,null,null,null,null,null,null,"RETOUR"]
[]
[]
[null,null,null,null,null,null,"Type",{"$f":"B2","v":"graminée"},null,null,"Type d'interculture possible",null,null,null,null,null,"Vitesse de développement",{"$f":"S2","v":"Rapide"}]
[null,null,null,null,null,null,"Dose de semis (kg/ha)",{"$f":"I2","v":20},null,null,"Courte","Longue"]
[null,null,null,null,null,null,"PMG (g)",{"$f":"J2","v":2}]
[null,null,null,null,null,null,"Coût (€/kg)",{"$f":"H2","v":2.0499999999999998},null,null,"Type de couvert",{"$f":"O2","v":"annuel"},null,null,null,null,"Utilisation possible en production de fourrage",{"$f":"AC2","v":"oui"}]
[]
[]
[]
[null,null,"Min","Max",null,null,null,"Date de semis",null,null,null,null,null,"Mode d'implantation"]
["Profondeur de semis (cm)",null,{"$f":"P2","v":1},{"$f":"Q2","v":1.5},null,null,"Avant le 05 août","Du 05 au 25 août","Après le 25 août",null,null,null,"Semis à la volée","Travail du sol","Semis direct"]
[]
[null,"Appétence limace",{"$f":"R2","v":"Moyen"}]
[null,"Sensibilité au gel",{"$f":"T2","v":"> -15°C"}]
[]
[null,"Maitrise des adventices","Moyenne"]
[]
["NOTRE AVIS :"]
["Forte production fourragère.\nImplantation délicate.\nInstallation rapide. Bon système racinaire. Posible avant une culture d'été tardive type soja, maïs ou un tournesol tardif.\nAttention au risque d'assèchement du sol à la récolte qui peut pénaliser l'installation de la culture suivante."]

{"sheet":"Radis F","index":64,"n_rows":24,"n_cols":31,"rows_kept":24,"cut":false,"hidden":false,"merged":[[4,6,4,17],[15,0,15,1],[23,0,26,18]]}
["Couvert","Type","Hauteur","Racine","Biomasse","Piégeage N","Fourniture N","Coût","Dose/ha","PMG (g)",null,"Interculture","Numéro couvert",null,"Type de couvert","Profondeur de semis","Profondeur de semis","Appetence limace","Vitesse de développement","Sensibilité au gel","Avant le 05 août","Du 05 au 25 août","Après le 25 août","Type cynegetique","Méllifères","Semis à la volée","Travail du sol","Semis direct","Fourrage","Maitrise adventice","Observation"]
["Radis fourrager","Crucifère",3,3,10,3,3,2.99,12,9,36,"courte",26,120,"annuel",1,2,"Faible","Rapide","-13°C",2,1,3,"Parapluie","oui",1,1,1,"oui",3,"Bon effet structure"]
[]
[]
[null,null,null,null,null,null,"RADIS FOURRAGER",null,null,null,null,null,null,null,null,null,null,null,"RETOUR"]
[]
[]
[null,null,null,null,null,null,"Type",{"$f":"B2","v":"Crucifère"},null,null,"Type d'interculture possible",null,null,null,null,null,"Vitesse de développement",{"$f":"S2","v":"Rapide"}]
[null,null,null,null,null,null,"Dose de semis (kg/ha)",{"$f":"I2","v":12},null,null,"Courte","Longue"]
[null,null,null,null,null,null,"PMG (g)",{"$f":"J2","v":9}]
[null,null,null,null,null,null,"Coût (€/kg)",{"$f":"H2","v":2.99},null,null,"Type de couvert",{"$f":"O2","v":"annuel"},null,null,null,null,"Utilisation possible en production de fourrage",{"$f":"AC2","v":"oui"}]
[]
[]
[]
[null,null,"Min","Max",null,null,null,"Date de semis",null,null,null,null,null,"Mode d'implantation"]
["Profondeur de semis (cm)",null,{"$f":"P2","v":1},{"$f":"Q2","v":2},null,null,"Avant le 05 août","Du 05 au 25 août","Après le 25 août",null,null,null,"Semis à la volée","Travail du sol","Semis direct"]
[]
[null,"Appétence limace",{"$f":"R2","v":"Faible"}]
[null,"Sensibilité au gel",{"$f":"T2","v":"-13°C"}]
[]
[null,"Maitrise des adventices","Bonne"]
[]
["NOTRE AVIS :"]
["Installation rapide. Bonne compétition vis-à-vis des adventices.\nDifficile à détruire mécaniquement si trop développé.\nEffet dépressif vis-à-vis de la culture suivante si trop lignifié."]

{"sheet":"Radis C","index":65,"n_rows":24,"n_cols":31,"rows_kept":24,"cut":false,"hidden":false,"merged":[[4,6,4,17],[15,0,15,1],[23,0,26,18]]}
["Couvert","Type","Hauteur","Racine","Biomasse","Piégeage N","Fourniture N","Coût","Dose/ha","PMG (g)",null,"Interculture","Numéro couvert",null,"Type de couvert","Profondeur de semis","Profondeur de semis","Appetence limace","Vitesse de développement","Sensibilité au gel","Avant le 05 août","Du 05 au 25 août","Après le 25 août","Type cynegetique","Méllifères","Semis à la volée","Travail du sol","Semis direct","Fourrage","Maitrise adventice","Observation"]
["Radis chinois","Crucifère",2,3,6,3,3.5,5.0999999999999996,10,8,35,"courte",25,60,"annuel",1,2,"Faible","Rapide","-8°C",1,1,2,"Parapluie","oui",1,1,1,"oui",3,"Intérêt dans la lutte contre les adventices"]
[]
[]
[null,null,null,null,null,null,"RADIS CHINOIS",null,null,null,null,null,null,null,null,null,null,null,"RETOUR"]
[]
[]
[null,null,null,null,null,null,"Type",{"$f":"B2","v":"Crucifère"},null,null,"Type d'interculture possible",null,null,null,null,null,"Vitesse de développement",{"$f":"S2","v":"Rapide"}]
[null,null,null,null,null,null,"Dose de semis (kg/ha)",{"$f":"I2","v":10},null,null,"Courte","Longue"]
[null,null,null,null,null,null,"PMG (g)",{"$f":"J2","v":8}]
[null,null,null,null,null,null,"Coût (€/kg)",{"$f":"H2","v":5.0999999999999996},null,null,"Type de couvert",{"$f":"O2","v":"annuel"},null,null,null,null,"Utilisation possible en production de fourrage",{"$f":"AC2","v":"oui"}]
[]
[]
[]
[null,null,"Min","Max",null,null,null,"Date de semis",null,null,null,null,null,"Mode d'implantation"]
["Profondeur de semis (cm)",null,{"$f":"P2","v":1},{"$f":"Q2","v":2},null,null,"Avant le 05 août","Du 05 au 25 août","Après le 25 août",null,null,null,"Semis à la volée","Travail du sol","Semis direct"]
[]
[null,"Appétence limace",{"$f":"R2","v":"Faible"}]
[null,"Sensibilité au gel",{"$f":"T2","v":"-8°C"}]
[]
[null,"Maitrise des adventices","Bonne"]
[]
["NOTRE AVIS :"]
["Installation rapide. Floraison plus tardive que la moutarde blanche.\nEffet structurant limité. \nEffet allélopathique intéressant.\nBien adapté aux intercultures courtes."]

{"sheet":"Pois P","index":66,"n_rows":24,"n_cols":31,"rows_kept":24,"cut":false,"hidden":false,"merged":[[4,6,4,17],[15,0,15,1],[23,0,26,18]]}
["Couvert","Type","Hauteur","Racine","Biomasse","Piégeage N","Fourniture N","Coût","Dose/ha","PMG (g)",null,"Interculture","Numéro couvert",null,"Type de couvert","Profondeur de semis","Profondeur de semis","Appetence limace","Vitesse de développement","Sensibilité au gel","Avant le 05 août","Du 05 au 25 août","Après le 25 août","Type cynegetique","Méllifères","Semis à la volée","Travail du sol","Semis direct","Fourrage","Maitrise adventice","Observation"]
["Pois protéagineux","Légumineuse",2,2,0.2,null,0.55000000000000004,0.2,200,200,110.00000000000001,"longue",24,40,"annuel",2,3,"Moyen à Fort","Rapide","-10°C",1,1,2,"Jungle","oui",3,1,1,"oui",1,"A réserver aux intercultures longues"]
[]
[]
[null,null,null,null,null,null,"POIS PROTEAGINEUX",null,null,null,null,null,null,null,null,null,null,null,"RETOUR"]
[]
[]
[null,null,null,null,null,null,"Type",{"$f":"B2","v":"Légumineuse"},null,null,"Type d'interculture possible",null,null,null,null,null,"Vitesse de développement",{"$f":"S2","v":"Rapide"}]
[null,null,null,null,null,null,"Dose de semis (kg/ha)",{"$f":"I2","v":200},null,null,"Courte","Longue"]
[null,null,null,null,null,null,"PMG (g)",{"$f":"J2","v":200}]
[null,null,null,null,null,null,"Coût (€/kg)",{"$f":"H2","v":0.2},null,null,"Type de couvert",{"$f":"O2","v":"annuel"},null,null,null,null,"Utilisation possible en production de fourrage",{"$f":"AC2","v":"oui"}]
[]
[]
[]
[null,null,"Min","Max",null,null,null,"Date de semis",null,null,null,null,null,"Mode d'implantation"]
["Profondeur de semis (cm)",null,{"$f":"P2","v":2},{"$f":"Q2","v":3},null,null,"Avant le 05 août","Du 05 au 25 août","Après le 25 août",null,null,null,"Semis à la volée","Travail du sol","Semis direct"]
[]
[null,"Appétence limace",{"$f":"R2","v":"Moyen à Fort"}]
[null,"Sensibilité au gel",{"$f":"T2","v":"-10°C"}]
[]
[null,"Maitrise des adventices","Faible"]
[]
["NOTRE AVIS :"]
["Développement plus lent que le pois fourrager et production de biomasse plus faible.\nPossible dans un méteil."]

{"sheet":"Pois F","index":67,"n_rows":24,"n_cols":31,"rows_kept":24,"cut":false,"hidden":false,"merged":[[4,6,4,17],[15,0,15,1],[23,0,26,18]]}
["Couvert","Type","Hauteur","Racine","Biomasse","Piégeage N","Fourniture N","Coût","Dose/ha","PMG (g)",null,"Interculture","Numéro couvert",null,"Type de couvert","Profondeur de semis","Profondeur de semis","Appetence limace","Vitesse de développement","Sensibilité au gel","Avant le 05 août","Du 05 au 25 août","Après le 25 août","Type cynegetique","Méllifères","Semis à la volée","Travail du sol","Semis direct","Fourrage","Maitrise adventice","Observation"]
["Pois fourrager","Légumineuse",2,2,0.8,null,1.5,1.49,100,100,150,"courte",23,80,"annuel",2,3,"Moyen","Lent","-15°C",1,1,2,"Jungle","oui",3,1,1,"oui",3,"Bonne production d'azote"]
[]
[]
[null,null,null,null,null,null,"POIS FOURRAGER",null,null,null,null,null,null,null,null,null,null,null,"RETOUR"]
[]
[]
[null,null,null,null,null,null,"Type",{"$f":"B2","v":"Légumineuse"},null,null,"Type d'interculture possible",null,null,null,null,null,"Vitesse de développement",{"$f":"S2","v":"Lent"}]
[null,null,null,null,null,null,"Dose de semis (kg/ha)",{"$f":"I2","v":100},null,null,"Courte","Longue"]
[null,null,null,null,null,null,"PMG (g)",{"$f":"J2","v":100}]
[null,null,null,null,null,null,"Coût (€/kg)",{"$f":"H2","v":1.49},null,null,"Type de couvert",{"$f":"O2","v":"annuel"},null,null,null,null,"Utilisation possible en production de fourrage",{"$f":"AC2","v":"oui"}]
[]
[]
[]
[null,null,"Min","Max",null,null,null,"Date de semis",null,null,null,null,null,"Mode d'implantation"]
["Profondeur de semis (cm)",null,{"$f":"P2","v":2},{"$f":"Q2","v":3},null,null,"Avant le 05 août","Du 05 au 25 août","Après le 25 août",null,null,null,"Semis à la volée","Travail du sol","Semis direct"]
[]
[null,"Appétence limace",{"$f":"R2","v":"Moyen"}]
[null,"Sensibilité au gel",{"$f":"T2","v":"-15°C"}]
[]
[null,"Maitrise des adventices","Bonne"]
[]
["NOTRE AVIS :"]
["Bonne effet étouffant des adventices.\nA utiliser en mélange (20 à 25 kg maxi/ha).\nUtilisation possible dans des méteils."]

{"sheet":"Phacélie","index":68,"n_rows":24,"n_cols":31,"rows_kept":24,"cut":false,"hidden":false,"merged":[[4,6,4,17],[15,0,15,1],[23,0,26,18]]}
["Couvert","Type","Hauteur","Racine","Biomasse","Piégeage N","Fourniture N","Coût","Dose/ha","PMG (g)",null,"Interculture","Numéro couvert",null,"Type de couvert","Profondeur de semis","Profondeur de semis","Appetence limace","Vitesse de développement","Sensibilité au gel","Avant le 05 août","Du 05 au 25 août","Après le 25 août","Type cynegetique","Méllifères","Semis à la volée","Travail du sol","Semis direct","Fourrage","Maitrise adventice","Observation"]
["Phacélie","Hydrophyllacée",2,2,6,2,4,3.59,10,2,40,"courte",22,60,"annuel",2,3,"Faible","Rapide","-10°C",2,1,3,"Jungle","oui",2,1,1,"oui",3,"Famille botanique différente"]
[]
[]
[null,null,null,null,null,null,"PHACELIE",null,null,null,null,null,null,null,null,null,null,null,"RETOUR"]
[]
[]
[null,null,null,null,null,null,"Type",{"$f":"B2","v":"Hydrophyllacée"},null,null,"Type d'interculture possible",null,null,null,null,null,"Vitesse de développement",{"$f":"S2","v":"Rapide"}]
[null,null,null,null,null,null,"Dose de semis (kg/ha)",{"$f":"I2","v":10},null,null,"Courte","Longue"]
[null,null,null,null,null,null,"PMG (g)",{"$f":"J2","v":2}]
[null,null,null,null,null,null,"Coût (€/kg)",{"$f":"H2","v":3.59},null,null,"Type de couvert",{"$f":"O2","v":"annuel"},null,null,null,null,"Utilisation possible en production de fourrage",{"$f":"AC2","v":"oui"}]
[]
[]
[]
[null,null,"Min","Max",null,null,null,"Date de semis",null,null,null,null,null,"Mode d'implantation"]
["Profondeur de semis (cm)",null,{"$f":"P2","v":2},{"$f":"Q2","v":3},null,null,"Avant le 05 août","Du 05 au 25 août","Après le 25 août",null,null,null,"Semis à la volée","Travail du sol","Semis direct"]
[]
[null,"Appétence limace",{"$f":"R2","v":"Faible"}]
[null,"Sensibilité au gel",{"$f":"T2","v":"-10°C"}]
[]
[null,"Maitrise des adventices","Bonne"]
[]
["NOTRE AVIS :"]
["Implantation délicate. Intérêt en association pour explorer la straté intermédiaire.\nFamille botanique différente des espèces cultivées (casse le cycle des adventices).\nBonne production de biomasse."]

{"sheet":"Niger","index":69,"n_rows":24,"n_cols":31,"rows_kept":24,"cut":false,"hidden":false,"merged":[[4,6,4,17],[15,0,15,1],[23,0,26,18]]}
["Couvert","Type","Hauteur","Racine","Biomasse","Piégeage N","Fourniture N","Coût","Dose/ha","PMG (g)",null,"Interculture","Numéro couvert",null,"Type de couvert","Profondeur de semis","Profondeur de semis","Appetence limace","Vitesse de développement","Sensibilité au gel","Avant le 05 août","Du 05 au 25 août","Après le 25 août","Type cynegetique","Méllifères","Semis à la volée","Travail du sol","Semis direct","Fourrage","Maitrise adventice","Observation"]
["Niger","Composée",2,2,6,2,11,4.0999999999999996,8,3,88,"courte",21,48,"annuel",1,1.5,"Fort","Rapide","-1°C",1,2,3,"Parapluie","oui",1,1,1,"oui",3,"Intérêt en interculture courte"]
[]
[]
[null,null,null,null,null,null,"NIGER",null,null,null,null,null,null,null,null,null,null,null,"RETOUR"]
[]
[]
[null,null,null,null,null,null,"Type",{"$f":"B2","v":"Composée"},null,null,"Type d'interculture possible",null,null,null,null,null,"Vitesse de développement",{"$f":"S2","v":"Rapide"}]
[null,null,null,null,null,null,"Dose de semis (kg/ha)",{"$f":"I2","v":8},null,null,"Courte","Longue"]
[null,null,null,null,null,null,"PMG (g)",{"$f":"J2","v":3}]
[null,null,null,null,null,null,"Coût (€/kg)",{"$f":"H2","v":4.0999999999999996},null,null,"Type de couvert",{"$f":"O2","v":"annuel"},null,null,null,null,"Utilisation possible en production de fourrage",{"$f":"AC2","v":"oui"}]
[]
[]
[]
[null,null,"Min","Max",null,null,null,"Date de semis",null,null,null,null,null,"Mode d'implantation"]
["Profondeur de semis (cm)",null,{"$f":"P2","v":1},{"$f":"Q2","v":1.5},null,null,"Avant le 05 août","Du 05 au 25 août","Après le 25 août",null,null,null,"Semis à la volée","Travail du sol","Semis direct"]
[]
[null,"Appétence limace",{"$f":"R2","v":"Fort"}]
[null,"Sensibilité au gel",{"$f":"T2","v":"-1°C"}]
[]
[null,"Maitrise des adventices","Bonne"]
[]
["NOTRE AVIS :"]
["Bonne capacité d'étouffement des adventices.\nAttention à la sensibilité aux limaces. Très sensible au gel.\nAttention au risque sclérotinia."]

{"sheet":"Moutarde Abyssinie","index":70,"n_rows":24,"n_cols":31,"rows_kept":24,"cut":false,"hidden":false,"merged":[[4,6,4,17],[15,0,15,1],[23,0,26,18]]}
["Couvert","Type","Hauteur","Racine","Biomasse","Piégeage N","Fourniture N","Coût","Dose/ha","PMG (g)",null,"Interculture","Numéro couvert",null,"Type de couvert","Profondeur de semis","Profondeur de semis","Appetence limace","Vitesse de développement","Sensibilité au gel","Avant le 05 août","Du 05 au 25 août","Après le 25 août","Type cynegetique","Méllifères","Semis à la volée","Travail du sol","Semis direct","Fourrage","Maitrise adventice","Observation"]
["Moutarde d'Abyssinie","Crucifère",3,3,14,3,7,5.15,6,6,42,"courte",20,84,"annuel",1,2,"Faible","Rapide","-10°C",1,1,1,"Parapluie","oui",1,1,1,"oui",3,"Tardive à floraison"]
[]
[]
[null,null,null,null,null,null,"MOUTARDE D'ABYSSINIE",null,null,null,null,null,null,null,null,null,null,null,"RETOUR"]
[]
[]
[null,null,null,null,null,null,"Type",{"$f":"B2","v":"Crucifère"},null,null,"Type d'interculture possible",null,null,null,null,null,"Vitesse de développement",{"$f":"S2","v":"Rapide"}]
[null,null,null,null,null,null,"Dose de semis (kg/ha)",{"$f":"I2","v":6},null,null,"Courte","Longue"]
[null,null,null,null,null,null,"PMG (g)",{"$f":"J2","v":6}]
[null,null,null,null,null,null,"Coût (€/kg)",{"$f":"H2","v":5.15},null,null,"Type de couvert",{"$f":"O2","v":"annuel"},null,null,null,null,"Utilisation possible en production de fourrage",{"$f":"AC2","v":"oui"}]
[]
[]
[]
[null,null,"Min","Max",null,null,null,"Date de semis",null,null,null,null,null,"Mode d'implantation"]
["Profondeur de semis (cm)",null,{"$f":"P2","v":1},{"$f":"Q2","v":2},null,null,"Avant le 05 août","Du 05 au 25 août","Après le 25 août",null,null,null,"Semis à la volée","Travail du sol","Semis direct"]
[]
[null,"Appétence limace",{"$f":"R2","v":"Faible"}]
[null,"Sensibilité au gel",{"$f":"T2","v":"-10°C"}]
[]
[null,"Maitrise des adventices","Bonne"]
[]
["NOTRE AVIS :"]
["Ou \"Chou d'Ethiopie\".\nBonne production de biomasse à l'automne qui permet une exploitation en fourrage.\nPlus tardive à floraison que la moutarde blanche. Lignification plus faible que les autres crucifères."]

{"sheet":"Moutarde brune","index":71,"n_rows":24,"n_cols":31,"rows_kept":24,"cut":false,"hidden":false,"merged":[[4,6,4,17],[15,0,15,1],[23,0,26,18]]}
["Couvert","Type","Hauteur","Racine","Biomasse","Piégeage N","Fourniture N","Coût","Dose/ha","PMG (g)",null,"Interculture","Numéro couvert",null,"Type de couvert","Profondeur de semis","Profondeur de semis","Appetence limace","Vitesse de développement","Sensibilité au gel","Avant le 05 août","Du 05 au 25 août","Après le 25 août","Type cynegetique","Méllifères","Semis à la volée","Travail du sol","Semis direct","Fourrage","Maitrise adventice","Observation"]
["Moutarde brune","Crucifère",3,3,28,3,14,8.4,3,2.5,42,"courte",19,84,"annuel",1,2,"Faible","Rapide","-7°C",1,1,2,"Parapluie","oui",1,1,1,"oui",3,"Bonne production de biomasse"]
[]
[]
[null,null,null,null,null,null,"MOUTARDE BRUNE",null,null,null,null,null,null,null,null,null,null,null,"RETOUR"]
[]
[]
[null,null,null,null,null,null,"Type",{"$f":"B2","v":"Crucifère"},null,null,"Type d'interculture possible",null,null,null,null,null,"Vitesse de développement",{"$f":"S2","v":"Rapide"}]
[null,null,null,null,null,null,"Dose de semis (kg/ha)",{"$f":"I2","v":3},null,null,"Courte","Longue"]
[null,null,null,null,null,null,"PMG (g)",{"$f":"J2","v":2.5}]
[null,null,null,null,null,null,"Coût (€/kg)",{"$f":"H2","v":8.4},null,null,"Type de couvert",{"$f":"O2","v":"annuel"},null,null,null,null,"Utilisation possible en production de fourrage",{"$f":"AC2","v":"oui"}]
[]
[]
[]
[null,null,"Min","Max",null,null,null,"Date de semis",null,null,null,null,null,"Mode d'implantation"]
["Profondeur de semis (cm)",null,{"$f":"P2","v":1},{"$f":"Q2","v":2},null,null,"Avant le 05 août","Du 05 au 25 août","Après le 25 août",null,null,null,"Semis à la volée","Travail du sol","Semis direct"]
[]
[null,"Appétence limace",{"$f":"R2","v":"Faible"}]
[null,"Sensibilité au gel",{"$f":"T2","v":"-7°C"}]
[]
[null,"Maitrise des adventices","Bonne"]
[]
["NOTRE AVIS :"]
["Plus tardive à floraison que la moutarde blanche.\nEffet intéressant contre les ravageurs du sol (piétin échaudage si détruit et incorporé à floraison)."]

{"sheet":"Carthame","index":72,"n_rows":24,"n_cols":31,"rows_kept":24,"cut":false,"hidden":false,"merged":[[4,6,4,17],[15,0,15,1],[23,0,26,18]]}
["Couvert","Type","Hauteur","Racine","Biomasse","Piégeage N","Fourniture N","Coût","Dose/ha","PMG (g)",null,"Interculture","Numéro couvert",null,"Type de couvert","Profondeur de semis","Profondeur de semis","Appetence limace","Vitesse de développement","Sensibilité au gel","Avant le 05 août","Du 05 au 25 août","Après le 25 août","Type cynegetique","Méllifères","Semis à la volée","Travail du sol","Semis direct","Fourrage","Maitrise adventice","Observation"]
["Moutarde d'Abyssinie","Crucifère",3,3,14,3,7,5.15,6,6,42,"courte",20,84,"annuel",1,2,"Faible","Rapide","-10°C",1,1,1,"Parapluie","oui",1,1,1,"oui",3,"Tardive à floraison"]
[]
[]
[null,null,null,null,null,null,"CARTHAME",null,null,null,null,null,null,null,null,null,null,null,"RETOUR"]
[]
[]
[null,null,null,null,null,null,"Type","Composée",null,null,"Type d'interculture possible",null,null,null,null,null,"Vitesse de développement",{"$f":"S2","v":"Rapide"}]
[null,null,null,null,null,null,"Dose de semis (kg/ha)",15,null,null,"Courte","Longue"]
[null,null,null,null,null,null,"PMG (g)",50]
[null,null,null,null,null,null,"Coût (€/kg)",5.45,null,null,"Type de couvert",{"$f":"O2","v":"annuel"},null,null,null,null,"Utilisation possible en production de fourrage","non"]
[]
[]
[]
[null,null,"Min","Max",null,null,null,"Date de semis",null,null,null,null,null,"Mode d'implantation"]
["Profondeur de semis (cm)",null,1.5,2.5,null,null,"Avant le 05 août","Du 05 au 25 août","Après le 25 août",null,null,null,"Semis à la volée","Travail du sol","Semis direct"]
[]
[null,"Appétence limace",{"$f":"R2","v":"Faible"}]
[null,"Sensibilité au gel","-5°C"]
[]
[null,"Maitrise des adventices","Bonne"]
[]
["NOTRE AVIS :"]
["Intérêt sur la structure du sol (système racinaire pivotant).\nBon développement en conditions sèches.\nCycle court (3 à 4 mois). Peut être semé plus tardivement que le tournesol ou le nyger.\nAttention au risque sclérotinia dans la rotation (tournesol, pois, lentille, ...)."]

{"sheet":"Moutarde blanche","index":73,"n_rows":24,"n_cols":31,"rows_kept":24,"cut":false,"hidden":false,"merged":[[4,6,4,17],[15,0,15,1],[23,0,26,18]]}
["Couvert","Type","Hauteur","Racine","Biomasse","Piégeage N","Fourniture N","Coût","Dose/ha","PMG (g)",null,"Interculture","Numéro couvert",null,"Type de couvert","Profondeur de semis","Profondeur de semis","Appetence limace","Vitesse de développement","Sensibilité au gel","Avant le 05 août","Du 05 au 25 août","Après le 25 août","Type cynegetique","Méllifères","Semis à la volée","Travail du sol","Semis direct","Fourrage","Maitrise adventice","Observation"]
["Moutarde blanche","Crucifère",3,3,12,3,5,1.65,8,7,40,"courte",18,96,"annuel",1,2,"Faible","Rapide","-7°C",2,1,2,"Parapluie","oui",1,1,1,"oui",3,"Risque de mise à graine à l'automne"]
[]
[]
[null,null,null,null,null,null,"MOUTARDE BLANCHE",null,null,null,null,null,null,null,null,null,null,null,"RETOUR"]
[]
[]
[null,null,null,null,null,null,"Type",{"$f":"B2","v":"Crucifère"},null,null,"Type d'interculture possible",null,null,null,null,null,"Vitesse de développement",{"$f":"S2","v":"Rapide"}]
[null,null,null,null,null,null,"Dose de semis (kg/ha)",{"$f":"I2","v":8},null,null,"Courte","Longue"]
[null,null,null,null,null,null,"PMG (g)",{"$f":"J2","v":7}]
[null,null,null,null,null,null,"Coût (€/kg)",{"$f":"H2","v":1.65},null,null,"Type de couvert",{"$f":"O2","v":"annuel"},null,null,null,null,"Utilisation possible en production de fourrage",{"$f":"AC2","v":"oui"}]
[]
[]
[]
[null,null,"Min","Max",null,null,null,"Date de semis",null,null,null,null,null,"Mode d'implantation"]
["Profondeur de semis (cm)",null,{"$f":"P2","v":1},{"$f":"Q2","v":2},null,null,"Avant le 05 août","Du 05 au 25 août","Après le 25 août",null,null,null,"Semis à la volée","Travail du sol","Semis direct"]
[]
[null,"Appétence limace",{"$f":"R2","v":"Faible"}]
[null,"Sensibilité au gel",{"$f":"T2","v":"-7°C"}]
[]
[null,"Maitrise des adventices","Bonne"]
[]
["NOTRE AVIS :"]
["Bonne viguer de départ.\nSensible au stress hydriqueet/ou azotée (mise à fleur rapide).\nAttention à son effet dépressif sur la culture suivante si trop lignifiée."]

{"sheet":"Moha","index":74,"n_rows":24,"n_cols":31,"rows_kept":24,"cut":false,"hidden":false,"merged":[[4,6,4,17],[15,0,15,1],[23,0,26,18]]}
["Couvert","Type","Hauteur","Racine","Biomasse","Piégeage N","Fourniture N","Coût","Dose/ha","PMG (g)",null,"Interculture","Numéro couvert",null,"Type de couvert","Profondeur de semis","Profondeur de semis","Appetence limace","Vitesse de développement","Sensibilité au gel","Avant le 05 août","Du 05 au 25 août","Après le 25 août","Type cynegetique","Méllifères","Semis à la volée","Travail du sol","Semis direct","Fourrage","Maitrise adventice","Observation"]
["Moha fourrager","graminée",3,3,3,null,4.5,1.49,20,5,90,"courte",17,60,"annuel",1,1.5,"Fort","Rapide","0°C",1,3,3,"Jungle","non",1,1,1,"oui",3,"Bonne production de biomasse"]
[]
[]
[null,null,null,null,null,null,"MOHA FOURRAGER",null,null,null,null,null,null,null,null,null,null,null,"RETOUR"]
[]
[]
[null,null,null,null,null,null,"Type",{"$f":"B2","v":"graminée"},null,null,"Type d'interculture possible",null,null,null,null,null,"Vitesse de développement",{"$f":"S2","v":"Rapide"}]
[null,null,null,null,null,null,"Dose de semis (kg/ha)",{"$f":"I2","v":20},null,null,"Courte","Longue"]
[null,null,null,null,null,null,"PMG (g)",{"$f":"J2","v":5}]
[null,null,null,null,null,null,"Coût (€/kg)",{"$f":"H2","v":1.49},null,null,"Type de couvert",{"$f":"O2","v":"annuel"},null,null,null,null,"Utilisation possible en production de fourrage",{"$f":"AC2","v":"oui"}]
[]
[]
[]
[null,null,"Min","Max",null,null,null,"Date de semis",null,null,null,null,null,"Mode d'implantation"]
["Profondeur de semis (cm)",null,{"$f":"P2","v":1},{"$f":"Q2","v":1.5},null,null,"Avant le 05 août","Du 05 au 25 août","Après le 25 août",null,null,null,"Semis à la volée","Travail du sol","Semis direct"]
[]
[null,"Appétence limace",{"$f":"R2","v":"Fort"}]
[null,"Sensibilité au gel",{"$f":"T2","v":"0°C"}]
[]
[null,"Maitrise des adventices","Bonne"]
[]
["NOTRE AVIS :"]
["Bonne production de biomasse.\nDate de semis précoce après moisson recommandée (mi à fin juillet).\nPossibilité de l'associer à un trèfle pour augmenter la biomasse en dérobé.\nBonne tolérance à la sécheresse. Système racinaire moins puissant que celui du sorgho."]

{"sheet":"Minette","index":75,"n_rows":24,"n_cols":31,"rows_kept":24,"cut":false,"hidden":false,"merged":[[4,6,4,17],[15,0,15,1],[23,0,26,18]]}
["Couvert","Type","Hauteur","Racine","Biomasse","Piégeage N","Fourniture N","Coût","Dose/ha","PMG (g)",null,"Interculture","Numéro couvert",null,"Type de couvert","Profondeur de semis","Profondeur de semis","Appetence limace","Vitesse de développement","Sensibilité au gel","Avant le 05 août","Du 05 au 25 août","Après le 25 août","Type cynegetique","Méllifères","Semis à la volée","Travail du sol","Semis direct","Fourrage","Maitrise adventice","Observation"]
["Minette","Légumineuse",1,2,7,null,14,4.9000000000000004,10,1.7,140,"longue",16,70,"Permanent",2,3,"Moyen à Fort","Lent","-15°C",1,1,2,"Jungle","oui",1,1,1,"oui",2,"Intérêt en couvert permanent"]
[]
[]
[null,null,null,null,null,null,"MINETTE",null,null,null,null,null,null,null,null,null,null,null,"RETOUR"]
[]
[]
[null,null,null,null,null,null,"Type",{"$f":"B2","v":"Légumineuse"},null,null,"Type d'interculture possible",null,null,null,null,null,"Vitesse de développement",{"$f":"S2","v":"Lent"}]
[null,null,null,null,null,null,"Dose de semis (kg/ha)",{"$f":"I2","v":10},null,null,"Courte","Longue"]
[null,null,null,null,null,null,"PMG (g)",{"$f":"J2","v":1.7}]
[null,null,null,null,null,null,"Coût (€/kg)",{"$f":"H2","v":4.9000000000000004},null,null,"Type de couvert",{"$f":"O2","v":"Permanent"},null,null,null,null,"Utilisation possible en production de fourrage",{"$f":"AC2","v":"oui"}]
[]
[]
[]
[null,null,"Min","Max",null,null,null,"Date de semis",null,null,null,null,null,"Mode d'implantation"]
["Profondeur de semis (cm)",null,{"$f":"P2","v":2},{"$f":"Q2","v":3},null,null,"Avant le 05 août","Du 05 au 25 août","Après le 25 août",null,null,null,"Semis à la volée","Travail du sol","Semis direct"]
[]
[null,"Appétence limace",{"$f":"R2","v":"Moyen à Fort"}]
[null,"Sensibilité au gel",{"$f":"T2","v":"-15°C"}]
[]
[null,"Maitrise des adventices","Moyenne"]
[]
["NOTRE AVIS :"]
["Intérêt en couvert permanent. Attention à son agressivité qui la rende concurrentiel des cultures.\nContrôle chimique assez difficile à réussir.\nPossible en fourrage."]

{"sheet":"Millet Perlé","index":76,"n_rows":24,"n_cols":31,"rows_kept":24,"cut":false,"hidden":false,"merged":[[4,6,4,17],[15,0,15,1],[23,0,26,18]]}
["Couvert","Type","Hauteur","Racine","Biomasse","Piégeage N","Fourniture N","Coût","Dose/ha","PMG (g)",null,"Interculture","Numéro couvert",null,"Type de couvert","Profondeur de semis","Profondeur de semis","Appetence limace","Vitesse de développement","Sensibilité au gel","Avant le 05 août","Du 05 au 25 août","Après le 25 août","Type cynegetique","Méllifères","Semis à la volée","Travail du sol","Semis direct","Fourrage","Maitrise adventice","Observation"]
["Millet perlé","Graminée",3,3,5,1,6,2.99,15,8,90,"courte",15,75,"annuel",1,2,"Faible","Lent","-1°C",1,2,3,"Parapluie","non",1,1,1,"oui",2,"Bonne production de biomasse"]
[]
[]
[null,null,null,null,null,null,"MILLET PERLE",null,null,null,null,null,null,null,null,null,null,null,"RETOUR"]
[]
[]
[null,null,null,null,null,null,"Type",{"$f":"B2","v":"Graminée"},null,null,"Type d'interculture possible",null,null,null,null,null,"Vitesse de développement",{"$f":"S2","v":"Lent"}]
[null,null,null,null,null,null,"Dose de semis (kg/ha)",{"$f":"I2","v":15},null,null,"Courte","Longue"]
[null,null,null,null,null,null,"PMG (g)",{"$f":"J2","v":8}]
[null,null,null,null,null,null,"Coût (€/kg)",3,null,null,"Type de couvert",{"$f":"O2","v":"annuel"},null,null,null,null,"Utilisation possible en production de fourrage",{"$f":"AC2","v":"oui"}]
[]
[]
[]
[null,null,"Min","Max",null,null,null,"Date de semis",null,null,null,null,null,"Mode d'implantation"]
["Profondeur de semis (cm)",null,{"$f":"P2","v":1},{"$f":"Q2","v":2},null,null,"Avant le 05 août","Du 05 au 25 août","Après le 25 août",null,null,null,"Semis à la volée","Travail du sol","Semis direct"]
[]
[null,"Appétence limace",{"$f":"R2","v":"Faible"}]
[null,"Sensibilité au gel",{"$f":"T2","v":"-1°C"}]
[]
[null,"Maitrise des adventices","Moyenne"]
[]
["NOTRE AVIS :"]
["Espèce gélive. Utilisation en production de fourrage.\nSensible à la concurrence des adventices en début de cycle.\nBonne tolérance à la sécheresse.\nLevée rapide."]

{"sheet":"Melilot","index":77,"n_rows":24,"n_cols":31,"rows_kept":24,"cut":false,"hidden":false,"merged":[[4,6,4,17],[15,0,15,1],[23,0,26,18]]}
["Couvert","Type","Hauteur","Racine","Biomasse","Piégeage N","Fourniture N","Coût","Dose/ha","PMG (g)",null,"Interculture","Numéro couvert",null,"Type de couvert","Profondeur de semis","Profondeur de semis","Appetence limace","Vitesse de développement","Sensibilité au gel","Avant le 05 août","Du 05 au 25 août","Après le 25 août","Type cynegetique","Méllifères","Semis à la volée","Travail du sol","Semis direct","Fourrage","Maitrise adventice","Observation"]
["Mélilot","Légumineuse",1,3,3.5,null,7,4.95,20,2,140,"longue",14,70,"Permanent",1,3,"Moyen à Fort","Lent","-15°C",1,1,2,"Jungle","oui",1,1,1,"oui",2,"Intérêt en couvert permanent"]
[]
[]
[null,null,null,null,null,null,"MELILOT",null,null,null,null,null,null,null,null,null,null,null,"RETOUR"]
[]
[]
[null,null,null,null,null,null,"Type",{"$f":"B2","v":"Légumineuse"},null,null,"Type d'interculture possible",null,null,null,null,null,"Vitesse de développement",{"$f":"S2","v":"Lent"}]
[null,null,null,null,null,null,"Dose de semis (kg/ha)",{"$f":"I2","v":20},null,null,"Courte","Longue"]
[null,null,null,null,null,null,"PMG (g)",{"$f":"J2","v":2}]
[null,null,null,null,null,null,"Coût (€/kg)",{"$f":"H2","v":4.95},null,null,"Type de couvert",{"$f":"O2","v":"Permanent"},null,null,null,null,"Utilisation possible en production de fourrage",{"$f":"AC2","v":"oui"}]
[]
[]
[]
[null,null,"Min","Max",null,null,null,"Date de semis",null,null,null,null,null,"Mode d'implantation"]
["Profondeur de semis (cm)",null,{"$f":"P2","v":1},{"$f":"Q2","v":3},null,null,"Avant le 05 août","Du 05 au 25 août","Après le 25 août",null,null,null,"Semis à la volée","Travail du sol","Semis direct"]
[]
[null,"Appétence limace",{"$f":"R2","v":"Moyen à Fort"}]
[null,"Sensibilité au gel",{"$f":"T2","v":"-15°C"}]
[]
[null,"Maitrise des adventices","Moyenne"]
[]
["NOTRE AVIS :"]
["Difficile à gérer en couvert permanent."]

{"sheet":"Luzerne","index":78,"n_rows":24,"n_cols":31,"rows_kept":24,"cut":false,"hidden":false,"merged":[[4,6,4,17],[15,0,15,1],[23,0,26,18]]}
["Couvert","Type","Hauteur","Racine","Biomasse","Piégeage N","Fourniture N","Coût","Dose/ha","PMG (g)",null,"Interculture","Numéro couvert",null,"Type de couvert","Profondeur de semis","Profondeur de semis","Appetence limace","Vitesse de développement","Sensibilité au gel","Avant le 05 août","Du 05 au 25 août","Après le 25 août","Type cynegetique","Méllifères","Semis à la volée","Travail du sol","Semis direct","Fourrage","Maitrise adventice","Observation"]
["Luzerne Flamande","Légumineuse",1,3,9,null,20,5.69,8,2,160,"longue",13,72,"Permanent",0.5,1.5,"Moyen","Moyen","> -15°C",1,1,2,"Jungle","oui",1,1,1,"oui",2,"Intérêt en couvert permanent"]
[]
[]
[null,null,null,null,null,null,"LUZERNE",null,null,null,null,null,null,null,null,null,null,null,"RETOUR"]
[]
[]
[null,null,null,null,null,null,"Type",{"$f":"B2","v":"Légumineuse"},null,null,"Type d'interculture possible",null,null,null,null,null,"Vitesse de développement",{"$f":"S2","v":"Moyen"}]
[null,null,null,null,null,null,"Dose de semis (kg/ha)",{"$f":"I2","v":8},null,null,"Courte","Longue"]
[null,null,null,null,null,null,"PMG (g)",{"$f":"J2","v":2}]
[null,null,null,null,null,null,"Coût (€/kg)",{"$f":"H2","v":5.69},null,null,"Type de couvert",{"$f":"O2","v":"Permanent"},null,null,null,null,"Utilisation possible en production de fourrage",{"$f":"AC2","v":"oui"}]
[]
[]
[]
[null,null,"Min","Max",null,null,null,"Date de semis",null,null,null,null,null,"Mode d'implantation"]
["Profondeur de semis (cm)",null,{"$f":"P2","v":0.5},{"$f":"Q2","v":1.5},null,null,"Avant le 05 août","Du 05 au 25 août","Après le 25 août",null,null,null,"Semis à la volée","Travail du sol","Semis direct"]
[]
[null,"Appétence limace",{"$f":"R2","v":"Moyen"}]
[null,"Sensibilité au gel",{"$f":"T2","v":"> -15°C"}]
[]
[null,"Maitrise des adventices","Moyenne"]
[]
["NOTRE AVIS :"]
["Intérêt en couverture permanente.\nAdapté au sol argilo-calcaire. Enracinement profond (attention au sol drainé).\nUtilisation possible en fourrage."]

{"sheet":"Lotier corniculer","index":79,"n_rows":24,"n_cols":31,"rows_kept":24,"cut":false,"hidden":false,"merged":[[4,6,4,17],[15,0,15,1],[23,0,26,18]]}
["Couvert","Type","Hauteur","Racine","Biomasse","Piégeage N","Fourniture N","Coût","Dose/ha","PMG (g)",null,"Interculture","Numéro couvert",null,"Type de couvert","Profondeur de semis","Profondeur de semis","Appetence limace","Vitesse de développement","Sensibilité au gel","Avant le 05 août","Du 05 au 25 août","Après le 25 août","Type cynegetique","Méllifères","Semis à la volée","Travail du sol","Semis direct","Fourrage","Maitrise adventice","Observation"]
["Lotier Corniculé","Légumineuse",1,3,7,null,14,9,10,1.1000000000000001,140,"longue",12,70,"Permanent",1,2,"Moyen","Lent","> -15°C",1,1,2,"Jungle","oui",1,1,1,"oui",2,"Intérêt en couvert permanent"]
[]
[]
[null,null,null,null,null,null,"LOTIER CORNICULE",null,null,null,null,null,null,null,null,null,null,null,"RETOUR"]
[]
[]
[null,null,null,null,null,null,"Type",{"$f":"B2","v":"Légumineuse"},null,null,"Type d'interculture possible",null,null,null,null,null,"Vitesse de développement",{"$f":"S2","v":"Lent"}]
[null,null,null,null,null,null,"Dose de semis (kg/ha)",{"$f":"I2","v":10},null,null,"Courte","Longue"]
[null,null,null,null,null,null,"PMG (g)",{"$f":"J2","v":1.1000000000000001}]
[null,null,null,null,null,null,"Coût (€/kg)",{"$f":"H2","v":9},null,null,"Type de couvert",{"$f":"O2","v":"Permanent"},null,null,null,null,"Utilisation possible en production de fourrage",{"$f":"AC2","v":"oui"}]
[]
[]
[]
[null,null,"Min","Max",null,null,null,"Date de semis",null,null,null,null,null,"Mode d'implantation"]
["Profondeur de semis (cm)",null,{"$f":"P2","v":1},{"$f":"Q2","v":2},null,null,"Avant le 05 août","Du 05 au 25 août","Après le 25 août",null,null,null,"Semis à la volée","Travail du sol","Semis direct"]
[]
[null,"Appétence limace",{"$f":"R2","v":"Moyen"}]
[null,"Sensibilité au gel",{"$f":"T2","v":"> -15°C"}]
[]
[null,"Maitrise des adventices","Moyenne"]
[]
["NOTRE AVIS :"]
["Intérêt en couverture permanente. \nAdapté à de nombreux types de sol (notamment acide ou humide). Enracinement profond (attention au sol drainé).\nUtilisation possible en fourrage.\nNon hote de l'aphanomycès."]

{"sheet":"Lin","index":80,"n_rows":24,"n_cols":31,"rows_kept":24,"cut":false,"hidden":false,"merged":[[4,6,4,17],[15,0,15,1],[23,0,26,18]]}
["Couvert","Type","Hauteur","Racine","Biomasse","Piégeage N","Fourniture N","Coût","Dose/ha","PMG (g)",null,"Interculture","Numéro couvert",null,"Type de couvert","Profondeur de semis","Profondeur de semis","Appetence limace","Vitesse de développement","Sensibilité au gel","Avant le 05 août","Du 05 au 25 août","Après le 25 août","Type cynegetique","Méllifères","Semis à la volée","Travail du sol","Semis direct","Fourrage","Maitrise adventice","Observation"]
["Lin","Linacée",1,1,1,2,1,1.25,40,7,40,"courte",11,40,"annuel",1,1.5,"Faible","Rapide","-4°C",1,1,2,"Phare","oui",1,1,1,"non",1,"Bon effet \"bouche trou\""]
[]
[]
[null,null,null,null,null,null,"LIN",null,null,null,null,null,null,null,null,null,null,null,"RETOUR"]
[]
[]
[null,null,null,null,null,null,"Type",{"$f":"B2","v":"Linacée"},null,null,"Type d'interculture possible",null,null,null,null,null,"Vitesse de développement",{"$f":"S2","v":"Rapide"}]
[null,null,null,null,null,null,"Dose de semis (kg/ha)",{"$f":"I2","v":40},null,null,"Courte","Longue"]
[null,null,null,null,null,null,"PMG (g)",{"$f":"J2","v":7}]
[null,null,null,null,null,null,"Coût (€/kg)",{"$f":"H2","v":1.25},null,null,"Type de couvert",{"$f":"O2","v":"annuel"},null,null,null,null,"Utilisation possible en production de fourrage",{"$f":"AC2","v":"non"}]
[]
[]
[]
[null,null,"Min","Max",null,null,null,"Date de semis",null,null,null,null,null,"Mode d'implantation"]
["Profondeur de semis (cm)",null,{"$f":"P2","v":1},{"$f":"Q2","v":1.5},null,null,"Avant le 05 août","Du 05 au 25 août","Après le 25 août",null,null,null,"Semis à la volée","Travail du sol","Semis direct"]
[]
[null,"Appétence limace",{"$f":"R2","v":"Faible"}]
[null,"Sensibilité au gel",{"$f":"T2","v":"-4°C"}]
[]
[null,"Maitrise des adventices","Faible"]
[]
["NOTRE AVIS :"]
["Bon effet structurant de l'horizon superficiel.\nEffet intéressant contre les insectes (altises).\nIntérêt en mélange pour explorer la strate inférieure ou intermédiaire en fonction du développement."]

{"sheet":"Lentille","index":81,"n_rows":24,"n_cols":31,"rows_kept":24,"cut":false,"hidden":false,"merged":[[4,6,4,17],[15,0,15,1],[23,0,26,18]]}
["Couvert","Type","Hauteur","Racine","Biomasse","Piégeage N","Fourniture N","Coût","Dose/ha","PMG (g)",null,"Interculture","Numéro couvert",null,"Type de couvert","Profondeur de semis","Profondeur de semis","Appetence limace","Vitesse de développement","Sensibilité au gel","Avant le 05 août","Du 05 au 25 août","Après le 25 août","Type cynegetique","Méllifères","Semis à la volée","Travail du sol","Semis direct","Fourrage","Maitrise adventice","Observation"]
["Lentille fourragère",null,1,1,1.2,null,3,2.75,45,22,135,"courte",10,54,"annuel",2,3,"Faible","Moyen","-7°C",1,1,2,"Jungle","oui",2,1,1,"oui",2,"Bon effet \"bouche trou\""]
[]
[]
[null,null,null,null,null,null,"LENTILLE FOURRAGERE",null,null,null,null,null,null,null,null,null,null,null,"RETOUR"]
[]
[]
[null,null,null,null,null,null,"Type",{"$f":"B2","v":0},null,null,"Type d'interculture possible",null,null,null,null,null,"Vitesse de développement",{"$f":"S2","v":"Moyen"}]
[null,null,null,null,null,null,"Dose de semis (kg/ha)",{"$f":"I2","v":45},null,null,"Courte","Longue"]
[null,null,null,null,null,null,"PMG (g)",{"$f":"J2","v":22}]
[null,null,null,null,null,null,"Coût (€/kg)",{"$f":"H2","v":2.75},null,null,"Type de couvert",{"$f":"O2","v":"annuel"},null,null,null,null,"Utilisation possible en production de fourrage",{"$f":"AC2","v":"oui"}]
[]
[]
[]
[null,null,"Min","Max",null,null,null,"Date de semis",null,null,null,null,null,"Mode d'implantation"]
["Profondeur de semis (cm)",null,{"$f":"P2","v":2},{"$f":"Q2","v":3},null,null,"Avant le 05 août","Du 05 au 25 août","Après le 25 août",null,null,null,"Semis à la volée","Travail du sol","Semis direct"]
[]
[null,"Appétence limace",{"$f":"R2","v":"Faible"}]
[null,"Sensibilité au gel",{"$f":"T2","v":"-7°C"}]
[]
[null,"Maitrise des adventices","Moyenne"]
[]
["NOTRE AVIS :"]
["Bonne vigueur de départ.\nIntéressante en mélange pour explorer la strate inférieure.\nEffet allélopathique possible sur les levée d'adventices.\nAdapté au sol argilo-calcaire."]

{"sheet":"Gesse","index":82,"n_rows":24,"n_cols":31,"rows_kept":24,"cut":false,"hidden":false,"merged":[[4,6,4,17],[15,0,15,1],[23,0,26,18]]}
["Couvert","Type","Hauteur","Racine","Biomasse","Piégeage N","Fourniture N","Coût","Dose/ha","PMG (g)",null,"Interculture","Numéro couvert",null,"Type de couvert","Profondeur de semis","Profondeur de semis","Appetence limace","Vitesse de développement","Sensibilité au gel","Avant le 05 août","Du 05 au 25 août","Après le 25 août","Type cynegetique","Méllifères","Semis à la volée","Travail du sol","Semis direct","Fourrage","Maitrise adventice","Observation"]
["Gesse","Légumineuse",1,2,1.2,null,3,2.2000000000000002,50,180,150,"courte",9,60,"annuel",3,4,"Faible","Moyen","-10°C",1,1,2,"Jungle","oui",3,1,1,"oui",3,"Bonne fourniture d'azote"]
[]
[]
[null,null,null,null,null,null,"GESSE",null,null,null,null,null,null,null,null,null,null,null,"RETOUR"]
[]
[]
[null,null,null,null,null,null,"Type",{"$f":"B2","v":"Légumineuse"},null,null,"Type d'interculture possible",null,null,null,null,null,"Vitesse de développement",{"$f":"S2","v":"Moyen"}]
[null,null,null,null,null,null,"Dose de semis (kg/ha)",{"$f":"I2","v":50},null,null,"Courte","Longue"]
[null,null,null,null,null,null,"PMG (g)",{"$f":"J2","v":180}]
[null,null,null,null,null,null,"Coût (€/kg)",{"$f":"H2","v":2.2000000000000002},null,null,"Type de couvert",{"$f":"O2","v":"annuel"},null,null,null,null,"Utilisation possible en production de fourrage",{"$f":"AC2","v":"oui"}]
[]
[]
[]
[null,null,"Min","Max",null,null,null,"Date de semis",null,null,null,null,null,"Mode d'implantation"]
["Profondeur de semis (cm)",null,{"$f":"P2","v":3},{"$f":"Q2","v":4},null,null,"Avant le 05 août","Du 05 au 25 août","Après le 25 août",null,null,null,"Semis à la volée","Travail du sol","Semis direct"]
[]
[null,"Appétence limace",{"$f":"R2","v":"Faible"}]
[null,"Sensibilité au gel",{"$f":"T2","v":"-10°C"}]
[]
[null,"Maitrise des adventices","Bonne"]
[]
["NOTRE AVIS :"]
["Bonne production de biomasse.\nFaible appétence vis-à-vis des limaces.\nAdapté aux sols argilo-calcaires.\nBesoin de plantes tutrices pour augmenter son developpement."]

{"sheet":"Feverole","index":83,"n_rows":24,"n_cols":31,"rows_kept":24,"cut":false,"hidden":false,"merged":[[4,6,4,17],[15,0,15,1],[23,0,26,18]]}
["Couvert","Type","Hauteur","Racine","Biomasse","Piégeage N","Fourniture N","Coût","Dose/ha","PMG (g)",null,"Interculture","Numéro couvert",null,"Type de couvert","Profondeur de semis","Profondeur de semis","Appetence limace","Vitesse de développement","Sensibilité au gel","Avant le 05 août","Du 05 au 25 août","Après le 25 août","Type cynegetique","Méllifères","Semis à la volée","Travail du sol","Semis direct","Fourrage","Maitrise adventice","Observation"]
["Féverole","Légumineuse",3,2,0.4,null,1.5,0.26,180,500,270,"courte",8,72,"annuel",2,3,"Faible","Moyen","-5°C",1,1,2,"Phare","oui",3,1,1,"oui",2,"Base des couverts d'interculture !"]
[]
[]
[null,null,null,null,null,null,"FEVEROLE",null,null,null,null,null,null,null,null,null,null,null,"RETOUR"]
[]
[]
[null,null,null,null,null,null,"Type",{"$f":"B2","v":"Légumineuse"},null,null,"Type d'interculture possible",null,null,null,null,null,"Vitesse de développement",{"$f":"S2","v":"Moyen"}]
[null,null,null,null,null,null,"Dose de semis (kg/ha)",{"$f":"I2","v":180},null,null,"Courte","Longue"]
[null,null,null,null,null,null,"PMG (g)",{"$f":"J2","v":500}]
[null,null,null,null,null,null,"Coût (€/kg)",{"$f":"H2","v":0.26},null,null,"Type de couvert",{"$f":"O2","v":"annuel"},null,null,null,null,"Utilisation possible en production de fourrage",{"$f":"AC2","v":"oui"}]
[]
[]
[]
[null,null,"Min","Max",null,null,null,"Date de semis",null,null,null,null,null,"Mode d'implantation"]
["Profondeur de semis (cm)",null,{"$f":"P2","v":2},{"$f":"Q2","v":3},null,null,"Avant le 05 août","Du 05 au 25 août","Après le 25 août",null,null,null,"Semis à la volée","Travail du sol","Semis direct"]
[]
[null,"Appétence limace",{"$f":"R2","v":"Faible"}]
[null,"Sensibilité au gel",{"$f":"T2","v":"-5°C"}]
[]
[null,"Maitrise des adventices","Moyenne"]
[]
["NOTRE AVIS :"]
["Un incontournable dans les couverts !!\nBonne production d'azote. Effte structurant du sol grace à son système racinaire (pivot).\nNécessite de l'eau pour bien démarrer (grosse graine).\nRésistante aphanomycès."]

{"sheet":"Fenugrec","index":84,"n_rows":24,"n_cols":31,"rows_kept":24,"cut":false,"hidden":false,"merged":[[4,6,4,17],[15,0,15,1],[23,0,26,18]]}
["Couvert","Type","Hauteur","Racine","Biomasse","Piégeage N","Fourniture N","Coût","Dose/ha","PMG (g)",null,"Interculture","Numéro couvert",null,"Type de couvert","Profondeur de semis","Profondeur de semis","Appetence limace","Vitesse de développement","Sensibilité au gel","Avant le 05 août","Du 05 au 25 août","Après le 25 août","Type cynegetique","Méllifères","Semis à la volée","Travail du sol","Semis direct","Fourrage","Maitrise adventice","Observation"]
["Fénugrec","Légumineuse",1,1,1.5,null,2,2.6,30,22,60,"courte",7,45,"annuel",2,3,"Faible","Rapide","-7°C",1,1,2,"Jungle","oui",1,1,1,"oui",2,"Intérêt en interculture courte"]
[]
[]
[null,null,null,null,null,null,"FENUGREC",null,null,null,null,null,null,null,null,null,null,null,"RETOUR"]
[]
[]
[null,null,null,null,null,null,"Type",{"$f":"B2","v":"Légumineuse"},null,null,"Type d'interculture possible",null,null,null,null,null,"Vitesse de développement",{"$f":"S2","v":"Rapide"}]
[null,null,null,null,null,null,"Dose de semis (kg/ha)",{"$f":"I2","v":30},null,null,"Courte","Longue"]
[null,null,null,null,null,null,"PMG (g)",{"$f":"J2","v":22}]
[null,null,null,null,null,null,"Coût (€/kg)",{"$f":"H2","v":2.6},null,null,"Type de couvert",{"$f":"O2","v":"annuel"},null,null,null,null,"Utilisation possible en production de fourrage",{"$f":"AC2","v":"oui"}]
[]
[]
[]
[null,null,"Min","Max",null,null,null,"Date de semis",null,null,null,null,null,"Mode d'implantation"]
["Profondeur de semis (cm)",null,{"$f":"P2","v":2},{"$f":"Q2","v":3},null,null,"Avant le 05 août","Du 05 au 25 août","Après le 25 août",null,null,null,"Semis à la volée","Travail du sol","Semis direct"]
[]
[null,"Appétence limace",{"$f":"R2","v":"Faible"}]
[null,"Sensibilité au gel",{"$f":"T2","v":"-7°C"}]
[]
[null,"Maitrise des adventices","Moyenne"]
[]
["NOTRE AVIS :"]
["Bonne viguer de départ.\nOdeur caractéristique : attention dans les zones à gibier.\nIntérêt en mélange pour explorer la strate inférieure."]

{"sheet":"Colza","index":85,"n_rows":24,"n_cols":31,"rows_kept":24,"cut":false,"hidden":false,"merged":[[4,6,4,17],[15,0,15,1],[23,0,26,18]]}
["Couvert","Type","Hauteur","Racine","Biomasse","Piégeage N","Fourniture N","Coût","Dose/ha","PMG (g)",null,"Interculture","Numéro couvert",null,"Type de couvert","Profondeur de semis","Profondeur de semis","Appetence limace","Vitesse de développement","Sensibilité au gel","Avant le 05 août","Du 05 au 25 août","Après le 25 août","Type cynegetique","Méllifères","Semis à la volée","Travail du sol","Semis direct","Fourrage","Maitrise adventice","Observation"]
["Colza","Crucifère",2,3,40,3,35,2.4900000000000002,5,6,175,"longue",6,200,"annuel",1,2,"Fort","Rapide","-10°C",1,1,2,"Parapluie","non",1,1,2,"oui",2,"Attention à l'effet limaces"]
[]
[]
[null,null,null,null,null,null,"COLZA",null,null,null,null,null,null,null,null,null,null,null,"RETOUR"]
[]
[]
[null,null,null,null,null,null,"Type",{"$f":"B2","v":"Crucifère"},null,null,"Type d'interculture possible",null,null,null,null,null,"Vitesse de développement",{"$f":"S2","v":"Rapide"}]
[null,null,null,null,null,null,"Dose de semis (kg/ha)",{"$f":"I2","v":5},null,null,"Courte","Longue"]
[null,null,null,null,null,null,"PMG (g)",{"$f":"J2","v":6}]
[null,null,null,null,null,null,"Coût (€/kg)",{"$f":"H2","v":2.4900000000000002},null,null,"Type de couvert",{"$f":"O2","v":"annuel"},null,null,null,null,"Utilisation possible en production de fourrage",{"$f":"AC2","v":"oui"}]
[]
[]
[]
[null,null,"Min","Max",null,null,null,"Date de semis",null,null,null,null,null,"Mode d'implantation"]
["Profondeur de semis (cm)",null,{"$f":"P2","v":1},{"$f":"Q2","v":2},null,null,"Avant le 05 août","Du 05 au 25 août","Après le 25 août",null,null,null,"Semis à la volée","Travail du sol","Semis direct"]
[]
[null,"Appétence limace",{"$f":"R2","v":"Fort"}]
[null,"Sensibilité au gel",{"$f":"T2","v":"-10°C"}]
[]
[null,"Maitrise des adventices","Moyenne"]
[]
["NOTRE AVIS :"]
["Attention aux rotations avec colza.\nSensible aux limaces.\nBonne couverture du sol et utilisation possible en fourrage."]

{"sheet":"Chia","index":86,"n_rows":24,"n_cols":31,"rows_kept":24,"cut":false,"hidden":false,"merged":[[4,6,4,17],[15,0,15,1],[23,0,26,18]]}
["Couvert","Type","Hauteur","Racine","Biomasse","Piégeage N","Fourniture N","Coût","Dose/ha","PMG (g)",null,"Interculture","Numéro couvert",null,"Type de couvert","Profondeur de semis","Profondeur de semis","Appetence limace","Vitesse de développement","Sensibilité au gel","Avant le 05 août","Du 05 au 25 août","Après le 25 août","Type cynegetique","Méllifères","Semis à la volée","Travail du sol","Semis direct","Fourrage","Maitrise adventice","Observation"]
["Cameline","Crucifère",1,1,6,3,7,5.7,5,1.2,35,"longue",5,30,"annuel",1,1.5,"Faible","Rapide","-10°C",1,1,1,"Parapluie","non",1,1,1,"non",2,"Bon effet étouffant des adventices"]
[]
[]
[null,null,null,null,null,null,"Chia",null,null,null,null,null,null,null,null,null,null,null,"RETOUR"]
[]
[]
[null,null,null,null,null,null,"Type","Lamiacée",null,null,"Type d'interculture possible",null,null,null,null,null,"Vitesse de développement",{"$f":"S2","v":"Rapide"}]
[null,null,null,null,null,null,"Dose de semis (kg/ha)",{"$f":"I2","v":5},null,null,"Courte","Longue"]
[null,null,null,null,null,null,"PMG (g)",1.3]
[null,null,null,null,null,null,"Coût (€/kg)",null,null,null,"Type de couvert",{"$f":"O2","v":"annuel"},null,null,null,null,"Utilisation possible en production de fourrage",{"$f":"AC2","v":"non"}]
[]
[]
[]
[null,null,"Min","Max",null,null,null,"Date de semis",null,null,null,null,null,"Mode d'implantation"]
["Profondeur de semis (cm)",null,{"$f":"P2","v":1},{"$f":"Q2","v":1.5},null,null,"Avant le 05 août","Du 05 au 25 août","Après le 25 août",null,null,null,"Semis à la volée","Travail du sol","Semis direct"]
[]
[null,"Appétence limace",{"$f":"R2","v":"Faible"}]
[null,"Sensibilité au gel","-1°C"]
[]
[null,"Maitrise des adventices","Moyenne"]
[]
["NOTRE AVIS :"]
["Bonne viguer de départ.\nBon comportement en conditions sèches."]

{"sheet":"Cameline","index":87,"n_rows":24,"n_cols":31,"rows_kept":24,"cut":false,"hidden":false,"merged":[[4,6,4,17],[15,0,15,1],[23,0,26,18]]}
["Couvert","Type","Hauteur","Racine","Biomasse","Piégeage N","Fourniture N","Coût","Dose/ha","PMG (g)",null,"Interculture","Numéro couvert",null,"Type de couvert","Profondeur de semis","Profondeur de semis","Appetence limace","Vitesse de développement","Sensibilité au gel","Avant le 05 août","Du 05 au 25 août","Après le 25 août","Type cynegetique","Méllifères","Semis à la volée","Travail du sol","Semis direct","Fourrage","Maitrise adventice","Observation"]
["Cameline","Crucifère",1,1,6,3,7,5.7,5,1.2,35,"longue",5,30,"annuel",1,1.5,"Faible","Rapide","-10°C",1,1,1,"Parapluie","non",1,1,1,"non",2,"Bon effet étouffant des adventices"]
[]
[]
[null,null,null,null,null,null,"CAMELINE",null,null,null,null,null,null,null,null,null,null,null,"RETOUR"]
[]
[]
[null,null,null,null,null,null,"Type",{"$f":"B2","v":"Crucifère"},null,null,"Type d'interculture possible",null,null,null,null,null,"Vitesse de développement",{"$f":"S2","v":"Rapide"}]
[null,null,null,null,null,null,"Dose de semis (kg/ha)",{"$f":"I2","v":5},null,null,"Courte","Longue"]
[null,null,null,null,null,null,"PMG (g)",{"$f":"J2","v":1.2}]
[null,null,null,null,null,null,"Coût (€/kg)",{"$f":"H2","v":5.7},null,null,"Type de couvert",{"$f":"O2","v":"annuel"},null,null,null,null,"Utilisation possible en production de fourrage",{"$f":"AC2","v":"non"}]
[]
[]
[]
[null,null,"Min","Max",null,null,null,"Date de semis",null,null,null,null,null,"Mode d'implantation"]
["Profondeur de semis (cm)",null,{"$f":"P2","v":1},{"$f":"Q2","v":1.5},null,null,"Avant le 05 août","Du 05 au 25 août","Après le 25 août",null,null,null,"Semis à la volée","Travail du sol","Semis direct"]
[]
[null,"Appétence limace",{"$f":"R2","v":"Faible"}]
[null,"Sensibilité au gel",{"$f":"T2","v":"-10°C"}]
[]
[null,"Maitrise des adventices","Moyenne"]
[]
["NOTRE AVIS :"]
["Bonne viguer de départ.\nBon effet étouffement des adventices.\nIntérêt en mélange pour explorer la strate inférieure.\nBon comportement en conditions sèches."]

{"sheet":"Avoine fourragere","index":88,"n_rows":24,"n_cols":31,"rows_kept":24,"cut":false,"hidden":false,"merged":[[4,6,4,17],[15,0,15,1],[23,0,26,18]]}
["Couvert","Type","Hauteur","Racine","Biomasse","Piégeage N","Fourniture N","Coût","Dose/ha","PMG (g)",null,"Interculture","Numéro couvert",null,"Type de couvert","Profondeur de semis","Profondeur de semis","Appetence limace","Vitesse de développement","Sensibilité au gel","Avant le 05 août","Du 05 au 25 août","Après le 25 août","Type cynegetique","Méllifères","Semis à la volée","Travail du sol","Semis direct","Fourrage","Maitrise adventice","Observation"]
["Avoine de printemps","graminée",2,2,1,2,1,0.25,60,20,60,"courte",3,60,"annuel",2,3,"Faible","Rapide","-3°C",1,2,3,"Jungle","non",3,1,1,"oui",2,"Attention aux maladies et pucerons"]
[]
[]
[null,null,null,null,null,null,"AVOINE PRINTEMPS OU HIVER",null,null,null,null,null,null,null,null,null,null,null,"RETOUR"]
[]
[]
[null,null,null,null,null,null,"Type",{"$f":"B2","v":"graminée"},null,null,"Type d'interculture possible",null,null,null,null,null,"Vitesse de développement",{"$f":"S2","v":"Rapide"}]
[null,null,null,null,null,null,"Dose de semis (kg/ha)",{"$f":"I2","v":60},null,null,"Courte","Longue"]
[null,null,null,null,null,null,"PMG (g)",{"$f":"J2","v":20}]
[null,null,null,null,null,null,"Coût (€/kg)",{"$f":"H2","v":0.25},null,null,"Type de couvert",{"$f":"O2","v":"annuel"},null,null,null,null,"Utilisation possible en production de fourrage",{"$f":"AC2","v":"oui"}]
[]
[]
[]
[null,null,"Min","Max",null,null,null,"Date de semis",null,null,null,null,null,"Mode d'implantation"]
["Profondeur de semis (cm)",null,{"$f":"P2","v":2},{"$f":"Q2","v":3},null,null,"Avant le 05 août","Du 05 au 25 août","Après le 25 août",null,null,null,"Semis à la volée","Travail du sol","Semis direct"]
[]
[null,"Appétence limace",{"$f":"R2","v":"Faible"}]
[null,"Sensibilité au gel",{"$f":"T2","v":"-3°C"}]
[]
[null,"Maitrise des adventices","Moyenne"]
[]
["NOTRE AVIS :"]
["Sensible aux maladies (rouille) et ravageurs (pucerons et JNO).\nEffet allélopathique possible.\nIntérêt dans les méteils."]

{"sheet":"Avoine bresilienne","index":89,"n_rows":24,"n_cols":31,"rows_kept":24,"cut":false,"hidden":false,"merged":[[4,6,4,17],[15,0,15,1],[23,0,26,18]]}
[null,"Type","Hauteur","Racine","Biomasse","Piégeage N","Fourniture N","Coût","Dose/ha","PMG (g)",null,"Interculture","Numéro couvert",null,"Type de couvert","Profondeur de semis","Profondeur de semis","Appetence limace","Vitesse de développement","Sensibilité au gel","Avant le 05 août","Du 05 au 25 août","Après le 25 août","Type cynegetique","Méllifères","Semis à la volée","Travail du sol","Semis direct","Fourrage","Maitrise adventice","Observation"]
["Avoine bresilienne","graminée",2,2,1.8,2,1,1.7,35,35,35,"courte",2,63,"annuel",2,3,"Faible","Rapide","-7 à -10°C",1,2,3,"Gazon","non",3,1,1,"oui",2,"Bonne production de biomasse"]
[]
[]
[null,null,null,null,null,null,"AVOINE BRESILIENNE",null,null,null,null,null,null,null,null,null,null,null,"RETOUR"]
[]
[]
[null,null,null,null,null,null,"Type",{"$f":"B2","v":"graminée"},null,null,"Type d'interculture possible",null,null,null,null,null,"Vitesse de développement",{"$f":"S2","v":"Rapide"}]
[null,null,null,null,null,null,"Dose de semis (kg/ha)",{"$f":"I2","v":35},null,null,"Courte","Longue"]
[null,null,null,null,null,null,"PMG (g)",{"$f":"J2","v":35}]
[null,null,null,null,null,null,"Coût (€/kg)",{"$f":"H2","v":1.7},null,null,"Type de couvert",{"$f":"O2","v":"annuel"},null,null,null,null,"Utilisation possible en production de fourrage",{"$f":"AC2","v":"oui"}]
[]
[]
[]
[null,null,"Min","Max",null,null,null,"Date de semis",null,null,null,null,null,"Mode d'implantation"]
["Profondeur de semis (cm)",null,{"$f":"P2","v":2},{"$f":"Q2","v":3},null,null,"Avant le 05 août","Du 05 au 25 août","Après le 25 août",null,null,null,"Semis à la volée","Travail du sol","Semis direct"]
[]
[null,"Appétence limace",{"$f":"R2","v":"Faible"}]
[null,"Sensibilité au gel",{"$f":"T2","v":"-7 à -10°C"}]
[]
[null,"Maitrise des adventices","Moyenne"]
[]
["NOTRE AVIS :"]
["Production de biomasse  plus importante que l'avoine blanche. Moins sensible aux maladies.\nBon effet étouffement des adventices.\nEffet dépressif possible sur la culture suivante si trop développée."]

{"sheet":"Alpistre des canaries","index":90,"n_rows":24,"n_cols":31,"rows_kept":24,"cut":false,"hidden":false,"merged":[[23,0,26,18],[15,0,15,1],[4,6,4,17]]}
[null,"Type","Hauteur","Racine","Biomasse","Piégeage N","Fourniture N","Coût","Dose/ha","PMG (g)",null,"Interculture","Numéro couvert",null,"Type de couvert","Profondeur de semis","Profondeur de semis","Appetence limace","Vitesse de développement","Sensibilité au gel","Avant le 05 août","Du 05 au 25 août","Après le 25 août","Type cynegetique","Méllifères","Semis à la volée","Travail du sol","Semis direct","Fourrage","Maitrise adventice","Observation"]
["Alpiste des canaries","graminée",2,2,3.5,2,3.5,2.5,15,6,52.5,"courte",1,52.5,"annuel",1,2,"Faible","Rapide","-4 à -6°C",1,1,1,"Gazon","non",3,1,1,"oui",2,"Intérêt pour sa rusticité vis-à-vis des maladies"]
[]
[]
[null,null,null,null,null,null,"ALPISTE DES CANARIES",null,null,null,null,null,null,null,null,null,null,null,"RETOUR"]
[]
[]
[null,null,null,null,null,null,"Type",{"$f":"B2","v":"graminée"},null,null,"Type d'interculture possible",null,null,null,null,null,"Vitesse de développement",{"$f":"S2","v":"Rapide"}]
[null,null,null,null,null,null,"Dose de semis (kg/ha)",{"$f":"I2","v":15},null,null,"Courte","Longue"]
[null,null,null,null,null,null,"PMG (g)",{"$f":"J2","v":6}]
[null,null,null,null,null,null,"Coût (€/kg)",{"$f":"H2","v":2.5},null,null,"Type de couvert",{"$f":"O2","v":"annuel"},null,null,null,null,"Utilisation possible en production de fourrage",{"$f":"AC2","v":"oui"}]
[]
[]
[]
[null,null,"Min","Max",null,null,null,"Date de semis",null,null,null,null,null,"Mode d'implantation"]
["Profondeur de semis (cm)",null,{"$f":"P2","v":1},{"$f":"Q2","v":2},null,null,"Avant le 05 août","Du 05 au 25 août","Après le 25 août",null,null,null,"Semis à la volée","Travail du sol","Semis direct"]
[]
[null,"Appétence limace",{"$f":"R2","v":"Faible"}]
[null,"Sensibilité au gel",{"$f":"T2","v":"-4 à -6°C"}]
[]
[null,"Maitrise des adventices","Moyenne"]
[]
["NOTRE AVIS :"]
["Espèce intéressante en alternative à l'avoine par sa moindre sensibilité aux maladies et ravageurs.\nBonne vigueur de départ."]

{"sheet":"Notice_VF","index":91,"n_rows":29,"n_cols":1,"rows_kept":29,"cut":false,"hidden":false,"merged":[[1,2,1,13]]}
[]
[]
[]
[]
[]
[]
[]
[]
[]
[]
[]
[]
[]
[]
[]
[]
[]
[]
[]
[]
[]
[]
[]
[]
[]
[]
[]
[]
["Acceuil"]

{"sheet":"Notice","index":92,"n_rows":2,"n_cols":3,"rows_kept":2,"cut":false,"hidden":false,"merged":[[1,2,1,13]]}
[]
[null,null,"Aide à la création de mélanges de couverts végétaux "]

{"sheet":"Feuil6","index":93,"n_rows":0,"n_cols":0,"rows_kept":0,"cut":false,"hidden":false,"merged":[]}

{"sheet":"Feuil7","index":94,"n_rows":0,"n_cols":0,"rows_kept":0,"cut":false,"hidden":false,"merged":[]}

{"sheet":"Feuil8","index":95,"n_rows":0,"n_cols":0,"rows_kept":0,"cut":false,"hidden":false,"merged":[]}

{"sheet":"Feuil9","index":96,"n_rows":0,"n_cols":0,"rows_kept":0,"cut":false,"hidden":false,"merged":[]}

{"sheet":"Simulation_Economique","index":97,"n_rows":82,"n_cols":54,"rows_kept":82,"cut":false,"hidden":false,"merged":[[27,2,27,5],[24,2,24,5],[0,12,0,22],[3,17,3,22],[5,2,5,5],[11,2,11,5],[15,2,15,5],[19,2,19,5]]}
[]
[]
[]
[]
[null,null,null,"ITINERAIRE 1","ITINERAIRE 2","ITINERAIRE 3"]
[null,null,"TRAVAIL SUPERFICIEL"]
[null,null,"Déchaumeur à disques indépendants 3 à 6 m",1,1]
[null,null,"Rouleau 4 à 6 m",1,1,null,null,null,null,null,null,null,null,null,null,null,null,null,null,null,null,null,null,null,null,null,null,null,null,null,null,null,null,null,null,null,null,null,null,"Conseillé",null,null,null,null,"Ajusté",null,null,null,"PMG","NB pieds Conseillé","NB ajusté"]
[null,null,null,null,null,null,null,null,null,"Type","Hauteur","Racine",null,null,null,null,null,null,null,null,null,null,null,null,null,"Conseillé Biomasse","Dose","Note","Conseillé Azote","Dose","Note","Ajusté Biomasse","Dose","Note","Ajusté max","Ajustée Azote","Dose","Note",null,null,"Graminées","Legumineuse","Crucifères","Autres","Graminées","Legumineuse","Crucifères","Autres",null,null,null,null,"Couvert","NB Pieds"]
[null,null,null,null,null,null,null,null,null,{"$f":"IF(#REF!=\"\",\"\",VLOOKUP(#REF!,BDD!$A$5:$I$63,2,0))","v":{"$error":"#REF!"}},{"$f":"IF(#REF!=\"\",\"\",VLOOKUP(#REF!,BDD!$A$5:$I$63,3,0))","v":{"$error":"#REF!"}},{"$f":"IF(#REF!=\"\",\"\",VLOOKUP(#REF!,BDD!$A$5:$I$63,4,0))","v":{"$error":"#REF!"}},null,null,null,null,null,null,null,null,null,null,null,null,null,{"$f":"IF(#REF!=\"\",\"\",VLOOKUP(#REF!,BDD!$A$5:$I$63,5,0))","v":{"$error":"#REF!"}},{"$f":"#REF!","v":{"$error":"#REF!"}},{"$f":"IF(#REF!=\"\", \"\", Z10*AA10)","v":{"$error":"#REF!"}},{"$f":"IF(#REF!=\"\",\"\",VLOOKUP(#REF!,BDD!$A$5:$I$63,7,0))","v":{"$error":"#REF!"}},{"$f":"#REF!","v":{"$error":"#REF!"}},{"$f":"IF(#REF!=\"\", \"\", AC10*AD10)","v":{"$error":"#REF!"}},{"$f":"IF(#REF!=\"\", \"\",#REF!* Z10)","v":{"$error":"#REF!"}},{"$f":"#REF!","v":{"$error":"#REF!"}},{"$f":"IF(#REF!=\"\", \"\", AG10*Z10)","v":{"$error":"#REF!"}},{"$f":"IF(#REF!=\"\", \"\",#REF!* 4)","v":{"$error":"#REF!"}},{"$f":"IF(#REF!=\"\", \"\",#REF!* AC10)","v":{"$error":"#REF!"}},{"$f":"AG10","v":{"$error":"#REF!"}},null,null,{"$f":"IF(#REF!=\"\",\"\",VLOOKUP(#REF!,BDD!$A$5:$I$63,2,0))","v":{"$error":"#REF!"}},{"$f":"IF(AN10=\"graminée\",#REF!, \"\")","v":{"$error":"#REF!"}},{"$f":"IF(AN10=\"Légumineuse\",#REF!, \"\")","v":{"$error":"#REF!"}},{"$f":"IF(AN10=\"Crucifère\",#REF!, \"\")","v":{"$error":"#REF!"}},{"$f":" IF(SUM(AO10:AQ10)>0, \"\",#REF!)","v":{"$error":"#REF!"}},{"$f":"IF(AN10=\"graminée\",#REF!, \"\")","v":{"$error":"#REF!"}},{"$f":"IF(AN10=\"Légumineuse\",#REF!, \"\")","v":{"$error":"#REF!"}},{"$f":"IF(AN10=\"Crucifère\",#REF!, \"\")","v":{"$error":"#REF!"}},{"$f":" IF(SUM(AS10:AU10)>0, \"\",#REF!)","v":{"$error":"#REF!"}},{"$f":"IF(#REF!=\"\",\"\",VLOOKUP(#REF!,BDD!$A$5:$J$63,10,0))","v":{"$error":"#REF!"}},{"$f":"IF(#REF!=\"\", \"\", (#REF!*100)/AW10)","v":{"$error":"#REF!"}},{"$f":"IF(#REF!= \"\", \"\", (#REF!*100)/AW10)","v":{"$error":"#REF!"}},null,{"$f":" IF(#REF!=\"\", \"\",#REF!)","v":{"$error":"#REF!"}},{"$f":"IF($Z$27=TRUE, AY10, AX10)","v":{"$error":"#REF!"}}]
[null,null,null,null,null,null,null,null,null,{"$f":"IF(#REF!=\"\",\"\",VLOOKUP(#REF!,BDD!$A$5:$I$63,2,0))","v":{"$error":"#REF!"}},{"$f":"IF(#REF!=\"\",\"\",VLOOKUP(#REF!,BDD!$A$5:$I$63,3,0))","v":{"$error":"#REF!"}},{"$f":"IF(#REF!=\"\",\"\",VLOOKUP(#REF!,BDD!$A$5:$I$63,4,0))","v":{"$error":"#REF!"}},null,null,null,null,null,null,null,null,null,null,null,null,null,{"$f":"IF(#REF!=\"\",\"\",VLOOKUP(#REF!,BDD!$A$5:$I$63,5,0))","v":{"$error":"#REF!"}},{"$f":"#REF!","v":{"$error":"#REF!"}},{"$f":"IF(#REF!=\"\", \"\", Z11*AA11)","v":{"$error":"#REF!"}},{"$f":"IF(#REF!=\"\",\"\",VLOOKUP(#REF!,BDD!$A$5:$I$63,7,0))","v":{"$error":"#REF!"}},{"$f":"#REF!","v":{"$error":"#REF!"}},{"$f":"IF(#REF!=\"\", \"\", AC11*AD11)","v":{"$error":"#REF!"}},{"$f":"IF(#REF!=\"\", \"\",#REF!* Z11)","v":{"$error":"#REF!"}},{"$f":"#REF!","v":{"$error":"#REF!"}},{"$f":"IF(#REF!=\"\", \"\", AG11*Z11)","v":{"$error":"#REF!"}},{"$f":"IF(#REF!=\"\", \"\",#REF!* 4)","v":{"$error":"#REF!"}},{"$f":"IF(#REF!=\"\", \"\",#REF!* AC11)","v":{"$error":"#REF!"}},{"$f":"AG11","v":{"$error":"#REF!"}},null,null,{"$f":"IF(#REF!=\"\",\"\",VLOOKUP(#REF!,BDD!$A$5:$I$63,2,0))","v":{"$error":"#REF!"}},{"$f":"IF(AN11=\"graminée\",#REF!, \"\")","v":{"$error":"#REF!"}},{"$f":"IF(AN11=\"Légumineuse\",#REF!, \"\")","v":{"$error":"#REF!"}},{"$f":"IF(AN11=\"Crucifère\",#REF!, \"\")","v":{"$error":"#REF!"}},{"$f":" IF(SUM(AO11:AQ11)>0, \"\",#REF!)","v":{"$error":"#REF!"}},{"$f":"IF(AN11=\"graminée\",#REF!, \"\")","v":{"$error":"#REF!"}},{"$f":"IF(AN11=\"Légumineuse\",#REF!, \"\")","v":{"$error":"#REF!"}},{"$f":"IF(AN11=\"Crucifère\",#REF!, \"\")","v":{"$error":"#REF!"}},{"$f":" IF(SUM(AS11:AU11)>0, \"\",#REF!)","v":{"$error":"#REF!"}},{"$f":"IF(#REF!=\"\",\"\",VLOOKUP(#REF!,BDD!$A$5:$J$63,10,0))","v":{"$error":"#REF!"}},{"$f":"IF(#REF!=\"\", \"\", (#REF!*100)/AW11)","v":{"$error":"#REF!"}},{"$f":"IF(#REF!= \"\", \"\", (#REF!*100)/AW11)","v":{"$error":"#REF!"}},null,{"$f":" IF(#REF!=\"\", \"\",#REF!)","v":{"$error":"#REF!"}},{"$error":"#REF!"}]
[null,null,"TRAVAIL PROFOND",null,null,null,null,null,null,{"$f":"IF(#REF!=\"\",\"\",VLOOKUP(#REF!,BDD!$A$5:$I$63,2,0))","v":{"$error":"#REF!"}},{"$f":"IF(#REF!=\"\",\"\",VLOOKUP(#REF!,BDD!$A$5:$I$63,3,0))","v":{"$error":"#REF!"}},{"$f":"IF(#REF!=\"\",\"\",VLOOKUP(#REF!,BDD!$A$5:$I$63,4,0))","v":{"$error":"#REF!"}},null,null,null,null,null,null,null,null,null,null,null,null,null,{"$f":"IF(#REF!=\"\",\"\",VLOOKUP(#REF!,BDD!$A$5:$I$63,5,0))","v":{"$error":"#REF!"}},{"$f":"#REF!","v":{"$error":"#REF!"}},{"$f":"IF(#REF!=\"\", \"\", Z12*AA12)","v":{"$error":"#REF!"}},{"$f":"IF(#REF!=\"\",\"\",VLOOKUP(#REF!,BDD!$A$5:$I$63,7,0))","v":{"$error":"#REF!"}},{"$f":"#REF!","v":{"$error":"#REF!"}},{"$f":"IF(#REF!=\"\", \"\", AC12*AD12)","v":{"$error":"#REF!"}},{"$f":"IF(#REF!=\"\", \"\",#REF!* Z12)","v":{"$error":"#REF!"}},{"$f":"#REF!","v":{"$error":"#REF!"}},{"$f":"IF(#REF!=\"\", \"\", AG12*Z12)","v":{"$error":"#REF!"}},{"$f":"IF(#REF!=\"\", \"\",#REF!* 4)","v":{"$error":"#REF!"}},{"$f":"IF(#REF!=\"\", \"\",#REF!* AC12)","v":{"$error":"#REF!"}},{"$error":"#REF!"},null,null,{"$f":"IF(#REF!=\"\",\"\",VLOOKUP(#REF!,BDD!$A$5:$I$63,2,0))","v":{"$error":"#REF!"}},{"$f":"IF(AN12=\"graminée\",#REF!, \"\")","v":{"$error":"#REF!"}},{"$f":"IF(AN12=\"Légumineuse\",#REF!, \"\")","v":{"$error":"#REF!"}},{"$f":"IF(AN12=\"Crucifère\",#REF!, \"\")","v":{"$error":"#REF!"}},{"$f":" IF(SUM(AO12:AQ12)>0, \"\",#REF!)","v":{"$error":"#REF!"}},{"$f":"IF(AN12=\"graminée\",#REF!, \"\")","v":{"$error":"#REF!"}},{"$f":"IF(AN12=\"Légumineuse\",#REF!, \"\")","v":{"$error":"#REF!"}},{"$f":"IF(AN12=\"Crucifère\",#REF!, \"\")","v":{"$error":"#REF!"}},{"$f":" IF(SUM(AS12:AU12)>0, \"\",#REF!)","v":{"$error":"#REF!"}},{"$f":"IF(#REF!=\"\",\"\",VLOOKUP(#REF!,BDD!$A$5:$J$63,10,0))","v":{"$error":"#REF!"}},{"$f":"IF(#REF!=\"\", \"\", (#REF!*100)/AW12)","v":{"$error":"#REF!"}},{"$f":"IF(#REF!= \"\", \"\", (#REF!*100)/AW12)","v":{"$error":"#REF!"}},null,{"$f":" IF(#REF!=\"\", \"\",#REF!)","v":{"$error":"#REF!"}},{"$error":"#REF!"}]
[null,null,"Décompacteur 3 à 5 lames",1,null,null,null,null,null,{"$f":"IF(#REF!=\"\",\"\",VLOOKUP(#REF!,BDD!$A$5:$I$63,2,0))","v":{"$error":"#REF!"}},{"$f":"IF(#REF!=\"\",\"\",VLOOKUP(#REF!,BDD!$A$5:$I$63,3,0))","v":{"$error":"#REF!"}},{"$f":"IF(#REF!=\"\",\"\",VLOOKUP(#REF!,BDD!$A$5:$I$63,4,0))","v":{"$error":"#REF!"}},null,null,null,null,null,null,null,null,null,null,null,null,null,{"$f":"IF(#REF!=\"\",\"\",VLOOKUP(#REF!,BDD!$A$5:$I$63,5,0))","v":{"$error":"#REF!"}},{"$f":"#REF!","v":{"$error":"#REF!"}},{"$f":"IF(#REF!=\"\", \"\", Z13*AA13)","v":{"$error":"#REF!"}},{"$f":"IF(#REF!=\"\",\"\",VLOOKUP(#REF!,BDD!$A$5:$I$63,7,0))","v":{"$error":"#REF!"}},{"$f":"#REF!","v":{"$error":"#REF!"}},{"$f":"IF(#REF!=\"\", \"\", AC13*AD13)","v":{"$error":"#REF!"}},{"$f":"IF(#REF!=\"\", \"\",#REF!* Z13)","v":{"$error":"#REF!"}},{"$f":"#REF!","v":{"$error":"#REF!"}},{"$f":"IF(#REF!=\"\", \"\", AG13*Z13)","v":{"$error":"#REF!"}},{"$f":"IF(#REF!=\"\", \"\",#REF!* 4)","v":{"$error":"#REF!"}},{"$f":"IF(#REF!=\"\", \"\",#REF!* AC13)","v":{"$error":"#REF!"}},{"$error":"#REF!"},null,null,{"$f":"IF(#REF!=\"\",\"\",VLOOKUP(#REF!,BDD!$A$5:$I$63,2,0))","v":{"$error":"#REF!"}},{"$f":"IF(AN13=\"graminée\",#REF!, \"\")","v":{"$error":"#REF!"}},{"$f":"IF(AN13=\"Légumineuse\",#REF!, \"\")","v":{"$error":"#REF!"}},{"$f":"IF(AN13=\"Crucifère\",#REF!, \"\")","v":{"$error":"#REF!"}},{"$f":" IF(SUM(AO13:AQ13)>0, \"\",#REF!)","v":{"$error":"#REF!"}},{"$f":"IF(AN13=\"graminée\",#REF!, \"\")","v":{"$error":"#REF!"}},{"$f":"IF(AN13=\"Légumineuse\",#REF!, \"\")","v":{"$error":"#REF!"}},{"$f":"IF(AN13=\"Crucifère\",#REF!, \"\")","v":{"$error":"#REF!"}},{"$f":" IF(SUM(AS13:AU13)>0, \"\",#REF!)","v":{"$error":"#REF!"}},{"$f":"IF(#REF!=\"\",\"\",VLOOKUP(#REF!,BDD!$A$5:$J$63,10,0))","v":{"$error":"#REF!"}},{"$f":"IF(#REF!=\"\", \"\", (#REF!*100)/AW13)","v":{"$error":"#REF!"}},{"$f":"IF(#REF!= \"\", \"\", (#REF!*100)/AW13)","v":{"$error":"#REF!"}},null,{"$f":" IF(#REF!=\"\", \"\",#REF!)","v":{"$error":"#REF!"}},{"$error":"#REF!"}]
[null,null,null,null,null,null,null,null,null,{"$f":"IF(#REF!=\"\",\"\",VLOOKUP(#REF!,BDD!$A$5:$I$63,2,0))","v":{"$error":"#REF!"}},{"$f":"IF(#REF!=\"\",\"\",VLOOKUP(#REF!,BDD!$A$5:$I$63,3,0))","v":{"$error":"#REF!"}},{"$f":"IF(#REF!=\"\",\"\",VLOOKUP(#REF!,BDD!$A$5:$I$63,4,0))","v":{"$error":"#REF!"}},null,null,null,null,null,null,null,null,null,null,null,null,null,{"$f":"IF(#REF!=\"\",\"\",VLOOKUP(#REF!,BDD!$A$5:$I$63,5,0))","v":{"$error":"#REF!"}},{"$f":"#REF!","v":{"$error":"#REF!"}},{"$f":"IF(#REF!=\"\", \"\", Z14*AA14)","v":{"$error":"#REF!"}},{"$f":"IF(#REF!=\"\",\"\",VLOOKUP(#REF!,BDD!$A$5:$I$63,7,0))","v":{"$error":"#REF!"}},{"$f":"#REF!","v":{"$error":"#REF!"}},{"$f":"IF(#REF!=\"\", \"\", AC14*AD14)","v":{"$error":"#REF!"}},{"$f":"IF(#REF!=\"\", \"\",#REF!* Z14)","v":{"$error":"#REF!"}},{"$f":"#REF!","v":{"$error":"#REF!"}},{"$f":"IF(#REF!=\"\", \"\", AG14*Z14)","v":{"$error":"#REF!"}},{"$f":"IF(#REF!=\"\", \"\",#REF!* 4)","v":{"$error":"#REF!"}},{"$f":"IF(#REF!=\"\", \"\",#REF!* AC14)","v":{"$error":"#REF!"}},{"$error":"#REF!"},null,null,{"$f":"IF(#REF!=\"\",\"\",VLOOKUP(#REF!,BDD!$A$5:$I$63,2,0))","v":{"$error":"#REF!"}},{"$f":"IF(AN14=\"graminée\",#REF!, \"\")","v":{"$error":"#REF!"}},{"$f":"IF(AN14=\"Légumineuse\",#REF!, \"\")","v":{"$error":"#REF!"}},{"$f":"IF(AN14=\"Crucifère\",#REF!, \"\")","v":{"$error":"#REF!"}},{"$f":" IF(SUM(AO14:AQ14)>0, \"\",#REF!)","v":{"$error":"#REF!"}},{"$f":"IF(AN14=\"graminée\",#REF!, \"\")","v":{"$error":"#REF!"}},{"$f":"IF(AN14=\"Légumineuse\",#REF!, \"\")","v":{"$error":"#REF!"}},{"$f":"IF(AN14=\"Crucifère\",#REF!, \"\")","v":{"$error":"#REF!"}},{"$f":" IF(SUM(AS14:AU14)>0, \"\",#REF!)","v":{"$error":"#REF!"}},{"$f":"IF(#REF!=\"\",\"\",VLOOKUP(#REF!,BDD!$A$5:$J$63,10,0))","v":{"$error":"#REF!"}},{"$f":"IF(#REF!=\"\", \"\", (#REF!*100)/AW14)","v":{"$error":"#REF!"}},{"$f":"IF(#REF!= \"\", \"\", (#REF!*100)/AW14)","v":{"$error":"#REF!"}},null,{"$f":" IF(#REF!=\"\", \"\",#REF!)","v":{"$error":"#REF!"}},{"$error":"#REF!"}]
[null,null,null,null,null,null,null,null,null,{"$f":"IF(#REF!=\"\",\"\",VLOOKUP(#REF!,BDD!$A$5:$I$63,2,0))","v":{"$error":"#REF!"}},{"$f":"IF(#REF!=\"\",\"\",VLOOKUP(#REF!,BDD!$A$5:$I$63,3,0))","v":{"$error":"#REF!"}},{"$f":"IF(#REF!=\"\",\"\",VLOOKUP(#REF!,BDD!$A$5:$I$63,4,0))","v":{"$error":"#REF!"}},null,null,null,null,null,null,null,null,null,null,null,null,null,{"$f":"IF(#REF!=\"\",\"\",VLOOKUP(#REF!,BDD!$A$5:$I$63,5,0))","v":{"$error":"#REF!"}},{"$f":"#REF!","v":{"$error":"#REF!"}},{"$f":"IF(#REF!=\"\", \"\", Z15*AA15)","v":{"$error":"#REF!"}},{"$f":"IF(#REF!=\"\",\"\",VLOOKUP(#REF!,BDD!$A$5:$I$63,7,0))","v":{"$error":"#REF!"}},{"$f":"#REF!","v":{"$error":"#REF!"}},{"$f":"IF(#REF!=\"\", \"\", AC15*AD15)","v":{"$error":"#REF!"}},{"$f":"IF(#REF!=\"\", \"\",#REF!* Z15)","v":{"$error":"#REF!"}},{"$f":"#REF!","v":{"$error":"#REF!"}},{"$f":"IF(#REF!=\"\", \"\", AG15*Z15)","v":{"$error":"#REF!"}},{"$f":"IF(#REF!=\"\", \"\",#REF!* 4)","v":{"$error":"#REF!"}},{"$f":"IF(#REF!=\"\", \"\",#REF!* AC15)","v":{"$error":"#REF!"}},{"$error":"#REF!"},null,null,{"$f":"IF(#REF!=\"\",\"\",VLOOKUP(#REF!,BDD!$A$5:$I$63,2,0))","v":{"$error":"#REF!"}},{"$f":"IF(AN15=\"graminée\",#REF!, \"\")","v":{"$error":"#REF!"}},{"$f":"IF(AN15=\"Légumineuse\",#REF!, \"\")","v":{"$error":"#REF!"}},{"$f":"IF(AN15=\"Crucifère\",#REF!, \"\")","v":{"$error":"#REF!"}},{"$f":" IF(SUM(AO15:AQ15)>0, \"\",#REF!)","v":{"$error":"#REF!"}},{"$f":"IF(AN15=\"graminée\",#REF!, \"\")","v":{"$error":"#REF!"}},{"$f":"IF(AN15=\"Légumineuse\",#REF!, \"\")","v":{"$error":"#REF!"}},{"$f":"IF(AN15=\"Crucifère\",#REF!, \"\")","v":{"$error":"#REF!"}},{"$f":" IF(SUM(AS15:AU15)>0, \"\",#REF!)","v":{"$error":"#REF!"}},{"$f":"IF(#REF!=\"\",\"\",VLOOKUP(#REF!,BDD!$A$5:$J$63,10,0))","v":{"$error":"#REF!"}},{"$f":"IF(#REF!=\"\", \"\", (#REF!*100)/AW15)","v":{"$error":"#REF!"}},{"$f":"IF(#REF!= \"\", \"\", (#REF!*100)/AW15)","v":{"$error":"#REF!"}},null,{"$f":" IF(#REF!=\"\", \"\",#REF!)","v":{"$error":"#REF!"}},{"$error":"#REF!"}]
[null,null,"APPORT D'ENGRAIS OU AMENDEMENTS",null,null,null,null,null,null,{"$f":"IF(#REF!=\"\",\"\",VLOOKUP(#REF!,BDD!$A$5:$I$63,2,0))","v":{"$error":"#REF!"}},{"$f":"IF(#REF!=\"\",\"\",VLOOKUP(#REF!,BDD!$A$5:$I$63,3,0))","v":{"$error":"#REF!"}},{"$f":"IF(#REF!=\"\",\"\",VLOOKUP(#REF!,BDD!$A$5:$I$63,4,0))","v":{"$error":"#REF!"}},null,null,null,null,null,null,null,null,null,null,null,null,null,{"$f":"IF(#REF!=\"\",\"\",VLOOKUP(#REF!,BDD!$A$5:$I$63,5,0))","v":{"$error":"#REF!"}},{"$f":"#REF!","v":{"$error":"#REF!"}},{"$f":"IF(#REF!=\"\", \"\", Z16*AA16)","v":{"$error":"#REF!"}},{"$f":"IF(#REF!=\"\",\"\",VLOOKUP(#REF!,BDD!$A$5:$I$63,7,0))","v":{"$error":"#REF!"}},{"$f":"#REF!","v":{"$error":"#REF!"}},{"$f":"IF(#REF!=\"\", \"\", AC16*AD16)","v":{"$error":"#REF!"}},{"$f":"IF(#REF!=\"\", \"\",#REF!* Z16)","v":{"$error":"#REF!"}},{"$f":"#REF!","v":{"$error":"#REF!"}},{"$f":"IF(#REF!=\"\", \"\", AG16*Z16)","v":{"$error":"#REF!"}},{"$f":"IF(#REF!=\"\", \"\",#REF!* 4)","v":{"$error":"#REF!"}},{"$f":"IF(#REF!=\"\", \"\",#REF!* AC16)","v":{"$error":"#REF!"}},{"$error":"#REF!"},null,null,{"$f":"IF(#REF!=\"\",\"\",VLOOKUP(#REF!,BDD!$A$5:$I$63,2,0))","v":{"$error":"#REF!"}},{"$f":"IF(AN16=\"graminée\",#REF!, \"\")","v":{"$error":"#REF!"}},{"$f":"IF(AN16=\"Légumineuse\",#REF!, \"\")","v":{"$error":"#REF!"}},{"$f":"IF(AN16=\"Crucifère\",#REF!, \"\")","v":{"$error":"#REF!"}},{"$f":" IF(SUM(AO16:AQ16)>0, \"\",#REF!)","v":{"$error":"#REF!"}},{"$f":"IF(AN16=\"graminée\",#REF!, \"\")","v":{"$error":"#REF!"}},{"$f":"IF(AN16=\"Légumineuse\",#REF!, \"\")","v":{"$error":"#REF!"}},{"$f":"IF(AN16=\"Crucifère\",#REF!, \"\")","v":{"$error":"#REF!"}},{"$f":" IF(SUM(AS16:AU16)>0, \"\",#REF!)","v":{"$error":"#REF!"}},{"$f":"IF(#REF!=\"\",\"\",VLOOKUP(#REF!,BDD!$A$5:$J$63,10,0))","v":{"$error":"#REF!"}},{"$f":"IF(#REF!=\"\", \"\", (#REF!*100)/AW16)","v":{"$error":"#REF!"}},{"$f":"IF(#REF!= \"\", \"\", (#REF!*100)/AW16)","v":{"$error":"#REF!"}},null,{"$f":" IF(#REF!=\"\", \"\",#REF!)","v":{"$error":"#REF!"}},{"$error":"#REF!"}]
[null,null,null,null,null,null,null,null,null,{"$f":"IF(#REF!=\"\",\"\",VLOOKUP(#REF!,BDD!$A$5:$I$63,2,0))","v":{"$error":"#REF!"}},{"$f":"IF(#REF!=\"\",\"\",VLOOKUP(#REF!,BDD!$A$5:$I$63,3,0))","v":{"$error":"#REF!"}},{"$f":"IF(#REF!=\"\",\"\",VLOOKUP(#REF!,BDD!$A$5:$I$63,4,0))","v":{"$error":"#REF!"}},null,null,null,null,null,null,null,null,null,null,null,null,null,{"$f":"IF(#REF!=\"\",\"\",VLOOKUP(#REF!,BDD!$A$5:$I$63,5,0))","v":{"$error":"#REF!"}},{"$f":"#REF!","v":{"$error":"#REF!"}},{"$f":"IF(#REF!=\"\", \"\", Z17*AA17)","v":{"$error":"#REF!"}},{"$f":"IF(#REF!=\"\",\"\",VLOOKUP(#REF!,BDD!$A$5:$I$63,7,0))","v":{"$error":"#REF!"}},{"$f":"#REF!","v":{"$error":"#REF!"}},{"$f":"IF(#REF!=\"\", \"\", AC17*AD17)","v":{"$error":"#REF!"}},{"$f":"IF(#REF!=\"\", \"\",#REF!* Z17)","v":{"$error":"#REF!"}},{"$f":"#REF!","v":{"$error":"#REF!"}},{"$f":"IF(#REF!=\"\", \"\", AG17*Z17)","v":{"$error":"#REF!"}},{"$f":"IF(#REF!=\"\", \"\",#REF!* 4)","v":{"$error":"#REF!"}},{"$f":"IF(#REF!=\"\", \"\",#REF!* AC17)","v":{"$error":"#REF!"}},{"$error":"#REF!"},null,null,{"$f":"IF(#REF!=\"\",\"\",VLOOKUP(#REF!,BDD!$A$5:$I$63,2,0))","v":{"$error":"#REF!"}},{"$f":"IF(AN17=\"graminée\",#REF!, \"\")","v":{"$error":"#REF!"}},{"$f":"IF(AN17=\"Légumineuse\",#REF!, \"\")","v":{"$error":"#REF!"}},{"$f":"IF(AN17=\"Crucifère\",#REF!, \"\")","v":{"$error":"#REF!"}},{"$f":" IF(SUM(AO17:AQ17)>0, \"\",#REF!)","v":{"$error":"#REF!"}},{"$f":"IF(AN17=\"graminée\",#REF!, \"\")","v":{"$error":"#REF!"}},{"$f":"IF(AN17=\"Légumineuse\",#REF!, \"\")","v":{"$error":"#REF!"}},{"$f":"IF(AN17=\"Crucifère\",#REF!, \"\")","v":{"$error":"#REF!"}},{"$f":" IF(SUM(AS17:AU17)>0, \"\",#REF!)","v":{"$error":"#REF!"}},{"$f":"IF(#REF!=\"\",\"\",VLOOKUP(#REF!,BDD!$A$5:$J$63,10,0))","v":{"$error":"#REF!"}},{"$f":"IF(#REF!=\"\", \"\", (#REF!*100)/AW17)","v":{"$error":"#REF!"}},{"$f":"IF(#REF!= \"\", \"\", (#REF!*100)/AW17)","v":{"$error":"#REF!"}},null,{"$f":" IF(#REF!=\"\", \"\",#REF!)","v":{"$error":"#REF!"}},{"$error":"#REF!"}]
[null,null,null,null,null,null,null,null,null,{"$f":"IF(#REF!=\"\",\"\",VLOOKUP(#REF!,BDD!$A$5:$I$63,2,0))","v":{"$error":"#REF!"}},{"$f":"IF(#REF!=\"\",\"\",VLOOKUP(#REF!,BDD!$A$5:$I$63,3,0))","v":{"$error":"#REF!"}},{"$f":"IF(#REF!=\"\",\"\",VLOOKUP(#REF!,BDD!$A$5:$I$63,4,0))","v":{"$error":"#REF!"}},null,null,null,null,null,null,null,null,null,null,null,null,null,{"$f":"IF(#REF!=\"\",\"\",VLOOKUP(#REF!,BDD!$A$5:$I$63,5,0))","v":{"$error":"#REF!"}},{"$f":"#REF!","v":{"$error":"#REF!"}},{"$f":"IF(#REF!=\"\", \"\", Z18*AA18)","v":{"$error":"#REF!"}},{"$f":"IF(#REF!=\"\",\"\",VLOOKUP(#REF!,BDD!$A$5:$I$63,7,0))","v":{"$error":"#REF!"}},{"$f":"#REF!","v":{"$error":"#REF!"}},{"$f":"IF(#REF!=\"\", \"\", AC18*AD18)","v":{"$error":"#REF!"}},{"$f":"IF(#REF!=\"\", \"\",#REF!* Z18)","v":{"$error":"#REF!"}},{"$f":"#REF!","v":{"$error":"#REF!"}},{"$f":"IF(#REF!=\"\", \"\", AG18*Z18)","v":{"$error":"#REF!"}},{"$f":"IF(#REF!=\"\", \"\",#REF!* 4)","v":{"$error":"#REF!"}},{"$f":"IF(#REF!=\"\", \"\",#REF!* AC18)","v":{"$error":"#REF!"}},{"$error":"#REF!"},null,null,{"$f":"IF(#REF!=\"\",\"\",VLOOKUP(#REF!,BDD!$A$5:$I$63,2,0))","v":{"$error":"#REF!"}},{"$f":"IF(AN18=\"graminée\",#REF!, \"\")","v":{"$error":"#REF!"}},{"$f":"IF(AN18=\"Légumineuse\",#REF!, \"\")","v":{"$error":"#REF!"}},{"$f":"IF(AN18=\"Crucifère\",#REF!, \"\")","v":{"$error":"#REF!"}},{"$f":" IF(SUM(AO18:AQ18)>0, \"\",#REF!)","v":{"$error":"#REF!"}},{"$f":"IF(AN18=\"graminée\",#REF!, \"\")","v":{"$error":"#REF!"}},{"$f":"IF(AN18=\"Légumineuse\",#REF!, \"\")","v":{"$error":"#REF!"}},{"$f":"IF(AN18=\"Crucifère\",#REF!, \"\")","v":{"$error":"#REF!"}},{"$f":" IF(SUM(AS18:AU18)>0, \"\",#REF!)","v":{"$error":"#REF!"}},{"$f":"IF(#REF!=\"\",\"\",VLOOKUP(#REF!,BDD!$A$5:$J$63,10,0))","v":{"$error":"#REF!"}},{"$f":"IF(#REF!=\"\", \"\", (#REF!*100)/AW18)","v":{"$error":"#REF!"}},{"$f":"IF(#REF!= \"\", \"\", (#REF!*100)/AW18)","v":{"$error":"#REF!"}},null,{"$f":" IF(#REF!=\"\", \"\",#REF!)","v":{"$error":"#REF!"}},{"$error":"#REF!"}]
[null,null,null,null,null,null,null,null,null,{"$f":"IF(#REF!=\"\",\"\",VLOOKUP(#REF!,BDD!$A$5:$I$63,2,0))","v":{"$error":"#REF!"}},{"$f":"IF(#REF!=\"\",\"\",VLOOKUP(#REF!,BDD!$A$5:$I$63,3,0))","v":{"$error":"#REF!"}},{"$f":"IF(#REF!=\"\",\"\",VLOOKUP(#REF!,BDD!$A$5:$I$63,4,0))","v":{"$error":"#REF!"}},null,null,null,null,null,null,null,null,null,null,null,null,null,{"$f":"IF(#REF!=\"\",\"\",VLOOKUP(#REF!,BDD!$A$5:$I$63,5,0))","v":{"$error":"#REF!"}},{"$f":"#REF!","v":{"$error":"#REF!"}},{"$f":"IF(#REF!=\"\", \"\", Z19*AA19)","v":{"$error":"#REF!"}},{"$f":"IF(#REF!=\"\",\"\",VLOOKUP(#REF!,BDD!$A$5:$I$63,7,0))","v":{"$error":"#REF!"}},{"$f":"#REF!","v":{"$error":"#REF!"}},{"$f":"IF(#REF!=\"\", \"\", AC19*AD19)","v":{"$error":"#REF!"}},{"$f":"IF(#REF!=\"\", \"\",#REF!* Z19)","v":{"$error":"#REF!"}},{"$f":"#REF!","v":{"$error":"#REF!"}},{"$f":"IF(#REF!=\"\", \"\", AG19*Z19)","v":{"$error":"#REF!"}},{"$f":"IF(#REF!=\"\", \"\",#REF!* 4)","v":{"$error":"#REF!"}},{"$f":"IF(#REF!=\"\", \"\",#REF!* AC19)","v":{"$error":"#REF!"}},{"$error":"#REF!"},null,null,{"$f":"IF(#REF!=\"\",\"\",VLOOKUP(#REF!,BDD!$A$5:$I$63,2,0))","v":{"$error":"#REF!"}},{"$f":"IF(AN19=\"graminée\",#REF!, \"\")","v":{"$error":"#REF!"}},{"$f":"IF(AN19=\"Légumineuse\",#REF!, \"\")","v":{"$error":"#REF!"}},{"$f":"IF(AN19=\"Crucifère\",#REF!, \"\")","v":{"$error":"#REF!"}},{"$f":" IF(SUM(AO19:AQ19)>0, \"\",#REF!)","v":{"$error":"#REF!"}},{"$f":"IF(AN19=\"graminée\",#REF!, \"\")","v":{"$error":"#REF!"}},{"$f":"IF(AN19=\"Légumineuse\",#REF!, \"\")","v":{"$error":"#REF!"}},{"$f":"IF(AN19=\"Crucifère\",#REF!, \"\")","v":{"$error":"#REF!"}},{"$f":" IF(SUM(AS19:AU19)>0, \"\",#REF!)","v":{"$error":"#REF!"}},{"$f":"IF(#REF!=\"\",\"\",VLOOKUP(#REF!,BDD!$A$5:$J$63,10,0))","v":{"$error":"#REF!"}},{"$f":"IF(#REF!=\"\", \"\", (#REF!*100)/AW19)","v":{"$error":"#REF!"}},{"$f":"IF(#REF!= \"\", \"\", (#REF!*100)/AW19)","v":{"$error":"#REF!"}},null,{"$f":" IF(#REF!=\"\", \"\",#REF!)","v":{"$error":"#REF!"}},{"$error":"#REF!"}]
[null,null,"IMPLANTATION - SEMIS",null,null,null,null,null,null,{"$f":"IF(#REF!=\"\",\"\",VLOOKUP(#REF!,BDD!$A$5:$I$63,2,0))","v":{"$error":"#REF!"}},{"$f":"IF(#REF!=\"\",\"\",VLOOKUP(#REF!,BDD!$A$5:$I$63,3,0))","v":{"$error":"#REF!"}},{"$f":"IF(#REF!=\"\",\"\",VLOOKUP(#REF!,BDD!$A$5:$I$63,4,0))","v":{"$error":"#REF!"}},null,null,null,null,null,null,null,null,null,null,null,null,null,{"$f":"IF(#REF!=\"\",\"\",VLOOKUP(#REF!,BDD!$A$5:$I$63,5,0))","v":{"$error":"#REF!"}},{"$f":"#REF!","v":{"$error":"#REF!"}},{"$f":"IF(#REF!=\"\", \"\", Z20*AA20)","v":{"$error":"#REF!"}},{"$f":"IF(#REF!=\"\",\"\",VLOOKUP(#REF!,BDD!$A$5:$I$63,7,0))","v":{"$error":"#REF!"}},{"$f":"#REF!","v":{"$error":"#REF!"}},{"$f":"IF(#REF!=\"\", \"\", AC20*AD20)","v":{"$error":"#REF!"}},{"$f":"IF(#REF!=\"\", \"\",#REF!* Z20)","v":{"$error":"#REF!"}},{"$f":"#REF!","v":{"$error":"#REF!"}},{"$f":"IF(#REF!=\"\", \"\", AG20*Z20)","v":{"$error":"#REF!"}},{"$f":"IF(#REF!=\"\", \"\",#REF!* 4)","v":{"$error":"#REF!"}},{"$f":"IF(#REF!=\"\", \"\",#REF!* AC20)","v":{"$error":"#REF!"}},{"$error":"#REF!"},null,null,{"$f":"IF(#REF!=\"\",\"\",VLOOKUP(#REF!,BDD!$A$5:$I$63,2,0))","v":{"$error":"#REF!"}},{"$f":"IF(AN20=\"graminée\",#REF!, \"\")","v":{"$error":"#REF!"}},{"$f":"IF(AN20=\"Légumineuse\",#REF!, \"\")","v":{"$error":"#REF!"}},{"$f":"IF(AN20=\"Crucifère\",#REF!, \"\")","v":{"$error":"#REF!"}},{"$f":" IF(SUM(AO20:AQ20)>0, \"\",#REF!)","v":{"$error":"#REF!"}},{"$f":"IF(AN20=\"graminée\",#REF!, \"\")","v":{"$error":"#REF!"}},{"$f":"IF(AN20=\"Légumineuse\",#REF!, \"\")","v":{"$error":"#REF!"}},{"$f":"IF(AN20=\"Crucifère\",#REF!, \"\")","v":{"$error":"#REF!"}},{"$f":" IF(SUM(AS20:AU20)>0, \"\",#REF!)","v":{"$error":"#REF!"}},{"$f":"IF(#REF!=\"\",\"\",VLOOKUP(#REF!,BDD!$A$5:$J$63,10,0))","v":{"$error":"#REF!"}},{"$f":"IF(#REF!=\"\", \"\", (#REF!*100)/AW20)","v":{"$error":"#REF!"}},{"$f":"IF(#REF!= \"\", \"\", (#REF!*100)/AW20)","v":{"$error":"#REF!"}},null,{"$f":" IF(#REF!=\"\", \"\",#REF!)","v":{"$error":"#REF!"}},{"$error":"#REF!"}]
[null,null,"Semoir à soc mécanique céréales 3 à 4 m",null,null,1,null,null,null,{"$f":"IF(#REF!=\"\",\"\",VLOOKUP(#REF!,BDD!$A$5:$I$63,2,0))","v":{"$error":"#REF!"}},{"$f":"IF(#REF!=\"\",\"\",VLOOKUP(#REF!,BDD!$A$5:$I$63,3,0))","v":{"$error":"#REF!"}},{"$f":"IF(#REF!=\"\",\"\",VLOOKUP(#REF!,BDD!$A$5:$I$63,4,0))","v":{"$error":"#REF!"}},null,null,null,null,null,null,null,null,null,null,null,null,null,{"$f":"IF(#REF!=\"\",\"\",VLOOKUP(#REF!,BDD!$A$5:$I$63,5,0))","v":{"$error":"#REF!"}},{"$f":"#REF!","v":{"$error":"#REF!"}},{"$f":"IF(#REF!=\"\", \"\", Z21*AA21)","v":{"$error":"#REF!"}},{"$f":"IF(#REF!=\"\",\"\",VLOOKUP(#REF!,BDD!$A$5:$I$63,7,0))","v":{"$error":"#REF!"}},{"$f":"#REF!","v":{"$error":"#REF!"}},{"$f":"IF(#REF!=\"\", \"\", AC21*AD21)","v":{"$error":"#REF!"}},{"$f":"IF(#REF!=\"\", \"\",#REF!* Z21)","v":{"$error":"#REF!"}},{"$f":"#REF!","v":{"$error":"#REF!"}},{"$f":"IF(#REF!=\"\", \"\", AG21*Z21)","v":{"$error":"#REF!"}},{"$f":"IF(#REF!=\"\", \"\",#REF!* 4)","v":{"$error":"#REF!"}},{"$f":"IF(#REF!=\"\", \"\",#REF!* AC21)","v":{"$error":"#REF!"}},{"$error":"#REF!"},null,null,{"$f":"IF(#REF!=\"\",\"\",VLOOKUP(#REF!,BDD!$A$5:$I$63,2,0))","v":{"$error":"#REF!"}},{"$f":"IF(AN21=\"graminée\",#REF!, \"\")","v":{"$error":"#REF!"}},{"$f":"IF(AN21=\"Légumineuse\",#REF!, \"\")","v":{"$error":"#REF!"}},{"$f":"IF(AN21=\"Crucifère\",#REF!, \"\")","v":{"$error":"#REF!"}},{"$f":" IF(SUM(AO21:AQ21)>0, \"\",#REF!)","v":{"$error":"#REF!"}},{"$f":"IF(AN21=\"graminée\",#REF!, \"\")","v":{"$error":"#REF!"}},{"$f":"IF(AN21=\"Légumineuse\",#REF!, \"\")","v":{"$error":"#REF!"}},{"$f":"IF(AN21=\"Crucifère\",#REF!, \"\")","v":{"$error":"#REF!"}},{"$f":" IF(SUM(AS21:AU21)>0, \"\",#REF!)","v":{"$error":"#REF!"}},{"$f":"IF(#REF!=\"\",\"\",VLOOKUP(#REF!,BDD!$A$5:$J$63,10,0))","v":{"$error":"#REF!"}},{"$f":"IF(#REF!=\"\", \"\", (#REF!*100)/AW21)","v":{"$error":"#REF!"}},{"$f":"IF(#REF!= \"\", \"\", (#REF!*100)/AW21)","v":{"$error":"#REF!"}},null,{"$f":" IF(#REF!=\"\", \"\",#REF!)","v":{"$error":"#REF!"}},{"$error":"#REF!"}]
[null,null,"Combiné Herse rotative et semoir 3 à 6 m",1,1,null,null,null,null,{"$f":"IF(#REF!=\"\",\"\",VLOOKUP(#REF!,BDD!$A$5:$I$63,2,0))","v":{"$error":"#REF!"}},{"$f":"IF(#REF!=\"\",\"\",VLOOKUP(#REF!,BDD!$A$5:$I$63,3,0))","v":{"$error":"#REF!"}},{"$f":"IF(#REF!=\"\",\"\",VLOOKUP(#REF!,BDD!$A$5:$I$63,4,0))","v":{"$error":"#REF!"}},null,null,null,null,null,null,null,null,null,null,null,null,null,{"$f":"IF(#REF!=\"\",\"\",VLOOKUP(#REF!,BDD!$A$5:$I$63,5,0))","v":{"$error":"#REF!"}},{"$f":"#REF!","v":{"$error":"#REF!"}},{"$f":"IF(#REF!=\"\", \"\", Z22*AA22)","v":{"$error":"#REF!"}},{"$f":"IF(#REF!=\"\",\"\",VLOOKUP(#REF!,BDD!$A$5:$I$63,7,0))","v":{"$error":"#REF!"}},{"$f":"#REF!","v":{"$error":"#REF!"}},{"$f":"IF(#REF!=\"\", \"\", AC22*AD22)","v":{"$error":"#REF!"}},{"$f":"IF(#REF!=\"\", \"\",#REF!* Z22)","v":{"$error":"#REF!"}},{"$f":"#REF!","v":{"$error":"#REF!"}},{"$f":"IF(#REF!=\"\", \"\", AG22*Z22)","v":{"$error":"#REF!"}},{"$f":"IF(#REF!=\"\", \"\",#REF!* 4)","v":{"$error":"#REF!"}},{"$f":"IF(#REF!=\"\", \"\",#REF!* AC22)","v":{"$error":"#REF!"}},{"$error":"#REF!"},null,null,{"$f":"IF(#REF!=\"\",\"\",VLOOKUP(#REF!,BDD!$A$5:$I$63,2,0))","v":{"$error":"#REF!"}},{"$f":"IF(AN22=\"graminée\",#REF!, \"\")","v":{"$error":"#REF!"}},{"$f":"IF(AN22=\"Légumineuse\",#REF!, \"\")","v":{"$error":"#REF!"}},{"$f":"IF(AN22=\"Crucifère\",#REF!, \"\")","v":{"$error":"#REF!"}},{"$f":" IF(SUM(AO22:AQ22)>0, \"\",#REF!)","v":{"$error":"#REF!"}},{"$f":"IF(AN22=\"graminée\",#REF!, \"\")","v":{"$error":"#REF!"}},{"$f":"IF(AN22=\"Légumineuse\",#REF!, \"\")","v":{"$error":"#REF!"}},{"$f":"IF(AN22=\"Crucifère\",#REF!, \"\")","v":{"$error":"#REF!"}},{"$f":" IF(SUM(AS22:AU22)>0, \"\",#REF!)","v":{"$error":"#REF!"}},{"$f":"IF(#REF!=\"\",\"\",VLOOKUP(#REF!,BDD!$A$5:$J$63,10,0))","v":{"$error":"#REF!"}},{"$f":"IF(#REF!=\"\", \"\", (#REF!*100)/AW22)","v":{"$error":"#REF!"}},{"$f":"IF(#REF!= \"\", \"\", (#REF!*100)/AW22)","v":{"$error":"#REF!"}},null,{"$f":" IF(#REF!=\"\", \"\",#REF!)","v":{"$error":"#REF!"}},{"$error":"#REF!"}]
[null,null,null,null,null,null,null,null,null,{"$f":"IF(#REF!=\"\",\"\",VLOOKUP(#REF!,BDD!$A$5:$I$63,2,0))","v":{"$error":"#REF!"}},{"$f":"IF(#REF!=\"\",\"\",VLOOKUP(#REF!,BDD!$A$5:$I$63,3,0))","v":{"$error":"#REF!"}},{"$f":"IF(#REF!=\"\",\"\",VLOOKUP(#REF!,BDD!$A$5:$I$63,4,0))","v":{"$error":"#REF!"}},null,null,null,null,null,null,null,null,null,null,null,null,null,{"$f":"IF(#REF!=\"\",\"\",VLOOKUP(#REF!,BDD!$A$5:$I$63,5,0))","v":{"$error":"#REF!"}},{"$f":"#REF!","v":{"$error":"#REF!"}},{"$f":"IF(#REF!=\"\", \"\", Z23*AA23)","v":{"$error":"#REF!"}},{"$f":"IF(#REF!=\"\",\"\",VLOOKUP(#REF!,BDD!$A$5:$I$63,7,0))","v":{"$error":"#REF!"}},{"$f":"#REF!","v":{"$error":"#REF!"}},{"$f":"IF(#REF!=\"\", \"\", AC23*AD23)","v":{"$error":"#REF!"}},{"$f":"IF(#REF!=\"\", \"\",#REF!* Z23)","v":{"$error":"#REF!"}},{"$f":"#REF!","v":{"$error":"#REF!"}},{"$f":"IF(#REF!=\"\", \"\", AG23*Z23)","v":{"$error":"#REF!"}},{"$f":"IF(#REF!=\"\", \"\",#REF!* 4)","v":{"$error":"#REF!"}},{"$f":"IF(#REF!=\"\", \"\",#REF!* AC23)","v":{"$error":"#REF!"}},{"$error":"#REF!"},null,null,{"$f":"IF(#REF!=\"\",\"\",VLOOKUP(#REF!,BDD!$A$5:$I$63,2,0))","v":{"$error":"#REF!"}},{"$f":"IF(AN23=\"graminée\",#REF!, \"\")","v":{"$error":"#REF!"}},{"$f":"IF(AN23=\"Légumineuse\",#REF!, \"\")","v":{"$error":"#REF!"}},{"$f":"IF(AN23=\"Crucifère\",#REF!, \"\")","v":{"$error":"#REF!"}},{"$f":" IF(SUM(AO23:AQ23)>0, \"\",#REF!)","v":{"$error":"#REF!"}},{"$f":"IF(AN23=\"graminée\",#REF!, \"\")","v":{"$error":"#REF!"}},{"$f":"IF(AN23=\"Légumineuse\",#REF!, \"\")","v":{"$error":"#REF!"}},{"$f":"IF(AN23=\"Crucifère\",#REF!, \"\")","v":{"$error":"#REF!"}},{"$f":" IF(SUM(AS23:AU23)>0, \"\",#REF!)","v":{"$error":"#REF!"}},{"$f":"IF(#REF!=\"\",\"\",VLOOKUP(#REF!,BDD!$A$5:$J$63,10,0))","v":{"$error":"#REF!"}},{"$f":"IF(#REF!=\"\", \"\", (#REF!*100)/AW23)","v":{"$error":"#REF!"}},{"$f":"IF(#REF!= \"\", \"\", (#REF!*100)/AW23)","v":{"$error":"#REF!"}},null,{"$f":" IF(#REF!=\"\", \"\",#REF!)","v":{"$error":"#REF!"}},{"$error":"#REF!"}]
[null,null,null,null,null,null,null,null,null,null,null,null,null,null,null,null,"Temps de travail",null,null,null,null,null,null,null,"Total",{"$f":"SUM(Z10:Z23)","v":{"$error":"#REF!"}},{"$error":"#REF!"},{"$error":"#REF!"},{"$error":"#REF!"},{"$error":"#REF!"},{"$error":"#REF!"},{"$error":"#REF!"},null,{"$f":"SUM(AH10:AH23)","v":{"$error":"#REF!"}},200,{"$f":"SUM(AJ10:AJ23)","v":{"$error":"#REF!"}},null,null,null,"SOMME",{"$f":"SUM(AO10:AO23)","v":{"$error":"#REF!"}},{"$error":"#REF!"},{"$error":"#REF!"},{"$error":"#REF!"},{"$error":"#REF!"},{"$error":"#REF!"},{"$error":"#REF!"},{"$error":"#REF!"}]
[null,null,"COÛT DU COUVERT",null,null,null,null,null,null,null,null,null,null,null,null,null,"(en h/ha)",null,null,null,null,null,null,null,"Maximum",{"$f":"4*#REF!","v":{"$error":"#REF!"}},200,null,{"$f":"4*#REF!","v":{"$error":"#REF!"}},200,null,200,null,null,null,{"$f":"#REF!*4","v":{"$error":"#REF!"}},null,null,null,"Maximum",{"$f":"#REF!","v":{"$error":"#REF!"}},{"$f":"#REF!","v":{"$error":"#REF!"}},{"$f":"#REF!","v":{"$error":"#REF!"}},{"$f":"#REF!","v":{"$error":"#REF!"}},{"$f":"#REF!","v":{"$error":"#REF!"}},{"$f":"#REF!","v":{"$error":"#REF!"}},{"$f":"#REF!","v":{"$error":"#REF!"}},{"$f":"#REF!","v":{"$error":"#REF!"}}]
[null,null,true,{"$f":"IF(C26=TRUE, Composition!I25, Composition!G25)","v":0},{"$f":"IF(C26=TRUE, Composition!I25, Composition!G25)","v":0},{"$f":"IF(C26=TRUE, Composition!I25, Composition!G25)","v":0},null,null,null,null,null,null,null,null,null,null,null,null,null,null,null,null,null,null,"%",{"$f":"(Z24*100)/Z25","v":{"$error":"#REF!"}},null,{"$f":"IF(AB24<AA25, (AB24*100)/AA25, 99)","v":{"$error":"#REF!"}},{"$f":"(AC24*100)/AC25","v":{"$error":"#REF!"}},null,{"$f":"IF(AE24<AD25, IF(#REF!=\"\", 0, (AE24*100)/AD25), 99)","v":{"$error":"#REF!"}},{"$f":"(AF24*100)/AI24","v":{"$error":"#REF!"}},null,{"$f":"IF(AH24<AI24, (AH24*100)/AF25, 99)","v":{"$error":"#REF!"}},null,{"$f":"IF(AJ24<AI24, (AJ24*100)/AI24, 99)","v":{"$error":"#REF!"}},null,null,null,"%",{"$f":"(AO24*100)/AO25","v":{"$error":"#REF!"}},{"$f":"(AP24*100)/AP25","v":{"$error":"#REF!"}},{"$error":"#REF!"},{"$error":"#REF!"},{"$error":"#REF!"},{"$error":"#REF!"},{"$error":"#REF!"},{"$error":"#REF!"}]
[null,null,null,null,null,null,null,null,null,null,null,null,null,null,null,"Itinéraire 1",{"$f":"M82","v":2.3049450549450547},null,null,null,null,null,null,null,null,true]
[null,null,"DESTRUCTION DU COUVERT",null,null,null,null,null,null,null,null,null,null,null,null,"Itinéraire 2",{"$f":"V82","v":1.069047619047619}]
[null,null,"Rouleau cambridge 6 à 8 m",null,1,1,null,null,null,null,null,null,null,null,null,"Itinéraire 3",{"$f":"AD82","v":0.75555555555555554}]
[null,null,"Broyeur axe horizontaux ou giro. 4 à 6 m",1]
[]
[]
[]
[]
[]
[]
[]
[]
[]
[]
[]
[]
[]
[]
[null,null,null,{"$f":"D5","v":"ITINERAIRE 1"},"Coût","Calcul cout","Carburant","Calcul Carburant","Temps",null,null,null,"Calcul Temps",null,null,{"$f":"E5","v":"ITINERAIRE 2"},"Coût","Calcul cout","Carburant","Calcul Carburant","Temps","Calcul Temps",null,{"$f":"F5","v":"ITINERAIRE 3"},"Coût","Calcul cout","Carburant","Calcul Carburant","Temps","Calcul Temps"]
[null,null,{"$f":"C6","v":"TRAVAIL SUPERFICIEL"}]
[null,null,{"$f":"C7","v":"Déchaumeur à disques indépendants 3 à 6 m"},{"$f":"D7","v":1},{"$f":"IF($C$47=0, \"\", VLOOKUP($C$47,BDD_Travaildusol!$A$55:$E$62,2,0))","v":26},{"$f":"IF(C47=0, \"\", D47*E47)","v":26},{"$f":"IF(C47=0, \"\", VLOOKUP(C47,BDD_Travaildusol!$A$55:$E$62,3,0))","v":8},{"$f":"IF(C47=0, \"\", G47*D47)","v":8},{"$f":"IF(C47=0, \"\", VLOOKUP(C47,BDD_Travaildusol!$A$55:$E$62,5,0))","v":0.25},null,null,null,{"$f":"IF(C47=0, \"\", I47*D47)","v":0.25},null,null,{"$f":"E7","v":1},{"$f":"IF(C47=0, \"\", VLOOKUP(C47,BDD_Travaildusol!$A$55:$E$62,2,0))","v":26},{"$f":"IF(C47=0, \"\", P47*Q47)","v":26},{"$f":"IF(C47=0, \"\", VLOOKUP(C47,BDD_Travaildusol!$A$55:$E$62,3,0))","v":8},{"$f":"IF(C47=0, \"\", S47*P47)","v":8},{"$f":"IF(C47=0, \"\", VLOOKUP(C47,BDD_Travaildusol!$A$55:$E$62,5,0))","v":0.25},{"$f":"IF(C47=0, \"\", U47*P47)","v":0.25},null,{"$f":"F7","v":0},{"$f":"IF(C47=0, \"\", VLOOKUP(C47,BDD_Travaildusol!$A$55:$E$62,2,0))","v":26},{"$f":"IF(C47=0, \"\", X47*Y47)","v":0},{"$f":"IF(C47=0, \"\", VLOOKUP(C47,BDD_Travaildusol!$A$55:$E$62,3,0))","v":8},{"$f":"IF(C47=0, \"\", AA47*X47)","v":0},{"$f":"IF(C47=0, \"\", VLOOKUP(C47,BDD_Travaildusol!$A$55:$E$62,5,0))","v":0.25},{"$f":"IF(C47=0, \"\", AC47*X47)","v":0}]
[null,null,{"$f":"C8","v":"Rouleau 4 à 6 m"},1,{"$f":"IF(C48=0, \"\", VLOOKUP(C48,BDD_Travaildusol!$A$55:$E$62,2,0))","v":16},{"$f":"IF(C48=0, \"\", D48*E48)","v":16},{"$f":"IF(C48=0, \"\", VLOOKUP(C48,BDD_Travaildusol!$A$55:$E$62,3,0))","v":3},{"$f":"IF(C48=0, \"\", G48*D48)","v":3},{"$f":"IF(C48=0, \"\", VLOOKUP(C48,BDD_Travaildusol!$A$55:$E$62,5,0))","v":0.33333333333333331},null,null,null,{"$f":"IF(C48=0, \"\", I48*D48)","v":0.33333333333333331},null,null,1,{"$f":"IF(C48=0, \"\", VLOOKUP(C48,BDD_Travaildusol!$A$55:$E$62,2,0))","v":16},{"$f":"IF(C48=0, \"\", P48*Q48)","v":16},{"$f":"IF(C48=0, \"\", VLOOKUP(C48,BDD_Travaildusol!$A$55:$E$62,3,0))","v":3},{"$f":"IF(C48=0, \"\", S48*P48)","v":3},{"$f":"IF(C48=0, \"\", VLOOKUP(C48,BDD_Travaildusol!$A$55:$E$62,5,0))","v":0.33333333333333331},{"$f":"IF(C48=0, \"\", U48*P48)","v":0.33333333333333331},null,0,{"$f":"IF(C48=0, \"\", VLOOKUP(C48,BDD_Travaildusol!$A$55:$E$62,2,0))","v":16},{"$f":"IF(C48=0, \"\", X48*Y48)","v":0},{"$f":"IF(C48=0, \"\", VLOOKUP(C48,BDD_Travaildusol!$A$55:$E$62,3,0))","v":3},{"$f":"IF(C48=0, \"\", AA48*X48)","v":0},{"$f":"IF(C48=0, \"\", VLOOKUP(C48,BDD_Travaildusol!$A$55:$E$62,5,0))","v":0.33333333333333331},{"$f":"IF(C48=0, \"\", AC48*X48)","v":0}]
[null,null,0,0,{"$f":"IF(C49=0, \"\", VLOOKUP(C49,BDD_Travaildusol!$A$55:$E$62,2,0))","v":""},"",{"$f":"IF(C49=0, \"\", VLOOKUP(C49,BDD_Travaildusol!$A$55:$E$62,3,0))","v":""},"",{"$f":"IF(C49=0, \"\", VLOOKUP(C49,BDD_Travaildusol!$A$55:$E$62,5,0))","v":""},null,null,null,"",null,null,0,{"$f":"IF(C49=0, \"\", VLOOKUP(C49,BDD_Travaildusol!$A$55:$E$62,2,0))","v":""},"",{"$f":"IF(C49=0, \"\", VLOOKUP(C49,BDD_Travaildusol!$A$55:$E$62,3,0))","v":""},"",{"$f":"IF(C49=0, \"\", VLOOKUP(C49,BDD_Travaildusol!$A$55:$E$62,5,0))","v":""},"",null,0,{"$f":"IF(C49=0, \"\", VLOOKUP(C49,BDD_Travaildusol!$A$55:$E$62,2,0))","v":""},"",{"$f":"IF(C49=0, \"\", VLOOKUP(C49,BDD_Travaildusol!$A$55:$E$62,3,0))","v":""},"",{"$f":"IF(C49=0, \"\", VLOOKUP(C49,BDD_Travaildusol!$A$55:$E$62,5,0))","v":""},""]
[null,null,0,0,{"$f":"IF(C50=0, \"\", VLOOKUP(C50,BDD_Travaildusol!$A$55:$E$62,2,0))","v":""},"",{"$f":"IF(C50=0, \"\", VLOOKUP(C50,BDD_Travaildusol!$A$55:$E$62,3,0))","v":""},"",{"$f":"IF(C50=0, \"\", VLOOKUP(C50,BDD_Travaildusol!$A$55:$E$62,5,0))","v":""},null,null,null,"",null,null,0,{"$f":"IF(C50=0, \"\", VLOOKUP(C50,BDD_Travaildusol!$A$55:$E$62,2,0))","v":""},"",{"$f":"IF(C50=0, \"\", VLOOKUP(C50,BDD_Travaildusol!$A$55:$E$62,3,0))","v":""},"",{"$f":"IF(C50=0, \"\", VLOOKUP(C50,BDD_Travaildusol!$A$55:$E$62,5,0))","v":""},"",null,0,{"$f":"IF(C50=0, \"\", VLOOKUP(C50,BDD_Travaildusol!$A$55:$E$62,2,0))","v":""},"",{"$f":"IF(C50=0, \"\", VLOOKUP(C50,BDD_Travaildusol!$A$55:$E$62,3,0))","v":""},"",{"$f":"IF(C50=0, \"\", VLOOKUP(C50,BDD_Travaildusol!$A$55:$E$62,5,0))","v":""},""]
[null,null,null,null,null,"",{"$f":"IF(C51=0, \"\", VLOOKUP(C51,BDD_Travaildusol!$A$55:$E$62,3,0))","v":""},"",null,null,null,null,"",null,null,0,null,"",{"$f":"IF(O51=0, \"\", VLOOKUP(O51,BDD_Travaildusol!$A$55:$E$62,3,0))","v":""},"",null,"",null,0,null,"",{"$f":"IF(W51=0, \"\", VLOOKUP(W51,BDD_Travaildusol!$A$55:$E$62,3,0))","v":""},"",null,""]
[null,null,"TRAVAIL PROFOND",null,null,null,null,null,null,null,null,null,null,null,null,0,null,0,null,0,null,0,null,0,null,0,null,0,null,0]
[null,null,"Décompacteur 3 à 5 lames",1,{"$f":"IF(C53=0, \"\", VLOOKUP(C53,BDD_Travaildusol!$A$65:$E$68,2,0))","v":49},49,{"$f":"IF(C53=0, \"\", VLOOKUP(C53,BDD_Travaildusol!$A$65:$E$68,3,0))","v":17},17,{"$f":"IF(C53=0, \"\", VLOOKUP(C53,BDD_Travaildusol!$A$65:$E$68,5,0))","v":0.66666666666666663},null,null,null,0.66666666666666663,null,null,0,{"$f":"IF(C53=0, \"\", VLOOKUP(C53,BDD_Travaildusol!$A$65:$E$68,2,0))","v":49},0,{"$f":"IF(C53=0, \"\", VLOOKUP(C53,BDD_Travaildusol!$A$65:$E$68,3,0))","v":17},0,{"$f":"IF(C53=0, \"\", VLOOKUP(C53,BDD_Travaildusol!$A$65:$E$68,5,0))","v":0.66666666666666663},0,null,0,{"$f":"IF(C53=0, \"\", VLOOKUP(C53,BDD_Travaildusol!$A$65:$E$68,2,0))","v":49},0,{"$f":"IF(C53=0, \"\", VLOOKUP(C53,BDD_Travaildusol!$A$65:$E$68,3,0))","v":17},0,{"$f":"IF(C53=0, \"\", VLOOKUP(C53,BDD_Travaildusol!$A$65:$E$68,5,0))","v":0.66666666666666663},0]
[null,null,0,0,{"$f":"IF(C54=0, \"\", VLOOKUP(C54,BDD_Travaildusol!$A$65:$E$68,2,0))","v":""},"",{"$f":"IF(C54=0, \"\", VLOOKUP(C54,BDD_Travaildusol!$A$65:$E$68,3,0))","v":""},"",{"$f":"IF(C54=0, \"\", VLOOKUP(C54,BDD_Travaildusol!$A$65:$E$68,5,0))","v":""},null,null,null,"",null,null,0,{"$f":"IF(C54=0, \"\", VLOOKUP(C54,BDD_Travaildusol!$A$65:$E$68,2,0))","v":""},"",{"$f":"IF(C54=0, \"\", VLOOKUP(C54,BDD_Travaildusol!$A$65:$E$68,3,0))","v":""},"",{"$f":"IF(C54=0, \"\", VLOOKUP(C54,BDD_Travaildusol!$A$65:$E$68,5,0))","v":""},"",null,0,{"$f":"IF(C54=0, \"\", VLOOKUP(C54,BDD_Travaildusol!$A$65:$E$68,2,0))","v":""},"",{"$f":"IF(C54=0, \"\", VLOOKUP(C54,BDD_Travaildusol!$A$65:$E$68,3,0))","v":""},"",{"$f":"IF(C54=0, \"\", VLOOKUP(C54,BDD_Travaildusol!$A$65:$E$68,5,0))","v":""},""]
[null,null,null,null,null,"",null,"",null,null,null,null,"",null,null,0,null,"",null,"",null,"",null,0,null,"",null,"",null,""]
[null,null,"APPORT D'ENGRAIS OU AMENDEMENTS",null,null,null,null,null,null,null,null,null,null,null,null,0,null,0,null,0,null,0,null,0,null,0,null,0,null,0]
[null,null,0,0,{"$f":"IF(C57=0, \"\", VLOOKUP(C57,BDD_Travaildusol!$A$83:$E$86,2,0))","v":""},"",{"$f":"IF(C57=0, \"\", VLOOKUP(C57,BDD_Travaildusol!$A$83:$E$86,3,0))","v":""},"",{"$f":"IF(C57=0, \"\", VLOOKUP(C57,BDD_Travaildusol!$A$83:$E$86,5,0))","v":""},null,null,null,"",null,null,0,{"$f":"IF(C57=0, \"\", VLOOKUP(C57,BDD_Travaildusol!$A$83:$E$86,2,0))","v":""},"",{"$f":"IF(C57=0, \"\", VLOOKUP(C57,BDD_Travaildusol!$A$83:$E$86,3,0))","v":""},"",{"$f":"IF(C57=0, \"\", VLOOKUP(C57,BDD_Travaildusol!$A$83:$E$86,5,0))","v":""},"",null,0,{"$f":"IF(C57=0, \"\", VLOOKUP(C57,BDD_Travaildusol!$A$83:$E$86,2,0))","v":""},"",{"$f":"IF(C57=0, \"\", VLOOKUP(C57,BDD_Travaildusol!$A$83:$E$86,3,0))","v":""},"",{"$f":"IF(C57=0, \"\", VLOOKUP(C57,BDD_Travaildusol!$A$83:$E$86,5,0))","v":""},""]
[null,null,0,0,{"$f":"IF(C58=0, \"\", VLOOKUP(C58,BDD_Travaildusol!$A$83:$E$86,2,0))","v":""},"",{"$f":"IF(C58=0, \"\", VLOOKUP(C58,BDD_Travaildusol!$A$83:$E$86,3,0))","v":""},"",{"$f":"IF(C58=0, \"\", VLOOKUP(C58,BDD_Travaildusol!$A$83:$E$86,5,0))","v":""},null,null,null,"",null,null,0,{"$f":"IF(C58=0, \"\", VLOOKUP(C58,BDD_Travaildusol!$A$83:$E$86,2,0))","v":""},"",{"$f":"IF(C58=0, \"\", VLOOKUP(C58,BDD_Travaildusol!$A$83:$E$86,3,0))","v":""},"",{"$f":"IF(C58=0, \"\", VLOOKUP(C58,BDD_Travaildusol!$A$83:$E$86,5,0))","v":""},"",null,0,{"$f":"IF(C58=0, \"\", VLOOKUP(C58,BDD_Travaildusol!$A$83:$E$86,2,0))","v":""},"",{"$f":"IF(C58=0, \"\", VLOOKUP(C58,BDD_Travaildusol!$A$83:$E$86,3,0))","v":""},"",{"$f":"IF(C58=0, \"\", VLOOKUP(C58,BDD_Travaildusol!$A$83:$E$86,5,0))","v":""},""]
[null,null,"Cout engrais",null,null,{"$f":"Choix_engrais!D6","v":0},null,null,null,null,null,null,null,null,null,{"$f":"E19","v":0},{"$f":"IF(O59=0, \"\", VLOOKUP(O59,BDD_Travaildusol!$A$83:$E$86,2,0))","v":""},{"$f":"Choix_engrais!D6","v":0},null,0,null,0,null,0,{"$f":"IF(W59=0, \"\", VLOOKUP(W59,BDD_Travaildusol!$A$83:$E$86,2,0))","v":""},{"$f":"Choix_engrais!D6","v":0},null,0,null,0]
[null,null,{"$f":"C20","v":"IMPLANTATION - SEMIS"},null,null,null,null,null,null,null,null,null,null,null,null,0,null,0,null,0,null,0,null,0,null,0,null,0,null,0]
[null,null,{"$f":"C21","v":"Semoir à soc mécanique céréales 3 à 4 m"},0,{"$f":"IF(C61=0, \"\", VLOOKUP(C61,BDD_Travaildusol!$A$71:$E$78,2,0))","v":25},0,{"$f":"IF(C61=0, \"\", VLOOKUP(C61,BDD_Travaildusol!$A$71:$E$78,3,0))","v":4},0,{"$f":"IF(C61=0, \"\", VLOOKUP(C61,BDD_Travaildusol!$A$71:$E$78,5,0))","v":0.55555555555555558},null,null,null,0,null,null,0,{"$f":"IF(C61=0, \"\", VLOOKUP(C61,BDD_Travaildusol!$A$71:$E$78,2,0))","v":25},0,{"$f":"IF(C61=0, \"\", VLOOKUP(C61,BDD_Travaildusol!$A$71:$E$78,3,0))","v":4},0,{"$f":"IF(C61=0, \"\", VLOOKUP(C61,BDD_Travaildusol!$A$71:$E$78,5,0))","v":0.55555555555555558},0,null,1,{"$f":"IF(C61=0, \"\", VLOOKUP(C61,BDD_Travaildusol!$A$71:$E$78,2,0))","v":25},25,{"$f":"IF(C61=0, \"\", VLOOKUP(C61,BDD_Travaildusol!$A$71:$E$78,3,0))","v":4},4,{"$f":"IF(C61=0, \"\", VLOOKUP(C61,BDD_Travaildusol!$A$71:$E$78,5,0))","v":0.55555555555555558},0.55555555555555558]
[null,null,{"$f":"C22","v":"Combiné Herse rotative et semoir 3 à 6 m"},1,{"$f":"IF(C62=0, \"\", VLOOKUP(C62,BDD_Travaildusol!$A$71:$E$78,2,0))","v":50},50,{"$f":"IF(C62=0, \"\", VLOOKUP(C62,BDD_Travaildusol!$A$71:$E$78,3,0))","v":14},14,{"$f":"IF(C62=0, \"\", VLOOKUP(C62,BDD_Travaildusol!$A$71:$E$78,5,0))","v":0.2857142857142857},null,null,null,0.2857142857142857,null,null,1,{"$f":"IF(C62=0, \"\", VLOOKUP(C62,BDD_Travaildusol!$A$71:$E$78,2,0))","v":50},50,{"$f":"IF(C62=0, \"\", VLOOKUP(C62,BDD_Travaildusol!$A$71:$E$78,3,0))","v":14},14,{"$f":"IF(C62=0, \"\", VLOOKUP(C62,BDD_Travaildusol!$A$71:$E$78,5,0))","v":0.2857142857142857},0.2857142857142857,null,0,{"$f":"IF(C62=0, \"\", VLOOKUP(C62,BDD_Travaildusol!$A$71:$E$78,2,0))","v":50},0,{"$f":"IF(C62=0, \"\", VLOOKUP(C62,BDD_Travaildusol!$A$71:$E$78,3,0))","v":14},0,{"$f":"IF(C62=0, \"\", VLOOKUP(C62,BDD_Travaildusol!$A$71:$E$78,5,0))","v":0.2857142857142857},0]
[null,null,{"$f":"C23","v":0},0,{"$f":"IF(C63=0, \"\", VLOOKUP(C63,BDD_Travaildusol!$A$71:$E$78,2,0))","v":""},"",{"$f":"IF(C63=0, \"\", VLOOKUP(C63,BDD_Travaildusol!$A$71:$E$78,3,0))","v":""},"",{"$f":"IF(C63=0, \"\", VLOOKUP(C63,BDD_Travaildusol!$A$71:$E$78,5,0))","v":""},null,null,null,"",null,null,0,{"$f":"IF(C63=0, \"\", VLOOKUP(C63,BDD_Travaildusol!$A$71:$E$78,2,0))","v":""},"",{"$f":"IF(C63=0, \"\", VLOOKUP(C63,BDD_Travaildusol!$A$71:$E$78,3,0))","v":""},"",{"$f":"IF(C63=0, \"\", VLOOKUP(C63,BDD_Travaildusol!$A$71:$E$78,5,0))","v":""},"",null,0,{"$f":"IF(C63=0, \"\", VLOOKUP(C63,BDD_Travaildusol!$A$71:$E$78,2,0))","v":""},"",{"$f":"IF(C63=0, \"\", VLOOKUP(C63,BDD_Travaildusol!$A$71:$E$78,3,0))","v":""},"",{"$f":"IF(C63=0, \"\", VLOOKUP(C63,BDD_Travaildusol!$A$71:$E$78,5,0))","v":""},""]
[null,null,null,null,null,"",null,"",null,null,null,null,"",null,null,0,null,"",null,"",null,"",null,0,null,"",null,"",null,""]
[null,null,{"$f":"C25","v":"COÛT DU COUVERT"},null,null,null,null,null,null,null,null,null,null,null,null,0,null,0,null,0,null,0,null,0,null,0,null,0,null,0]
[null,null,{"$f":"C26","v":true},0,null,0,null,0,null,null,null,null,0,null,null,0,null,0,null,0,null,0,null,0,null,0,null,0,null,0]
[null,null,null,null,null,"",null,"",null,null,null,null,"",null,null,0,null,"",null,"",null,"",null,0,null,"",null,"",null,""]
[null,null,{"$f":"C28","v":"DESTRUCTION DU COUVERT"},null,null,null,null,null,null,null,null,null,0,null,null,0,null,0,null,0,null,0,null,0,null,0,null,0,null,0]
[null,null,{"$f":"C29","v":"Rouleau cambridge 6 à 8 m"},0,{"$f":"IF(C69=0, \"\", VLOOKUP(C69,BDD_Travaildusol!$A$89:$E$96,2,0))","v":16},0,{"$f":"IF(C69=0, \"\", VLOOKUP(C69,BDD_Travaildusol!$A$89:$E$96,3,0))","v":3},0,{"$f":"IF(C69=0, \"\", VLOOKUP(C69,BDD_Travaildusol!$A$89:$E$96,5,0))","v":0.2},null,null,null,0,null,null,1,{"$f":"IF(C69=0, \"\", VLOOKUP(C69,BDD_Travaildusol!$A$89:$E$96,2,0))","v":16},16,{"$f":"IF(C69=0, \"\", VLOOKUP(C69,BDD_Travaildusol!$A$89:$E$96,3,0))","v":3},3,{"$f":"IF(C69=0, \"\", VLOOKUP(C69,BDD_Travaildusol!$A$89:$E$96,5,0))","v":0.2},0.2,null,1,{"$f":"IF(C69=0, \"\", VLOOKUP(C69,BDD_Travaildusol!$A$89:$E$96,2,0))","v":16},16,{"$f":"IF(C69=0, \"\", VLOOKUP(C69,BDD_Travaildusol!$A$89:$E$96,3,0))","v":3},3,{"$f":"IF(C69=0, \"\", VLOOKUP(C69,BDD_Travaildusol!$A$89:$E$96,5,0))","v":0.2},0.2]
[null,null,{"$f":"C30","v":"Broyeur axe horizontaux ou giro. 4 à 6 m"},1,{"$f":"IF(C70=0, \"\", VLOOKUP(C70,BDD_Travaildusol!$A$89:$E$96,2,0))","v":31},31,{"$f":"IF(C70=0, \"\", VLOOKUP(C70,BDD_Travaildusol!$A$89:$E$96,3,0))","v":9},9,{"$f":"IF(C70=0, \"\", VLOOKUP(C70,BDD_Travaildusol!$A$89:$E$96,5,0))","v":0.76923076923076916},null,null,null,0.76923076923076916,null,null,0,{"$f":"IF(C70=0, \"\", VLOOKUP(C70,BDD_Travaildusol!$A$89:$E$96,2,0))","v":31},0,{"$f":"IF(C70=0, \"\", VLOOKUP(C70,BDD_Travaildusol!$A$89:$E$96,3,0))","v":9},0,{"$f":"IF(C70=0, \"\", VLOOKUP(C70,BDD_Travaildusol!$A$89:$E$96,5,0))","v":0.76923076923076916},0,null,0,{"$f":"IF(C70=0, \"\", VLOOKUP(C70,BDD_Travaildusol!$A$89:$E$96,2,0))","v":31},0,{"$f":"IF(C70=0, \"\", VLOOKUP(C70,BDD_Travaildusol!$A$89:$E$96,3,0))","v":9},0,{"$f":"IF(C70=0, \"\", VLOOKUP(C70,BDD_Travaildusol!$A$89:$E$96,5,0))","v":0.76923076923076916},0]
[null,null,{"$f":"C31","v":0},0,{"$f":"IF(C71=0, \"\", VLOOKUP(C71,BDD_Travaildusol!$A$89:$E$96,2,0))","v":""},"",{"$f":"IF(C71=0, \"\", VLOOKUP(C71,BDD_Travaildusol!$A$89:$E$96,3,0))","v":""},"",{"$f":"IF(C71=0, \"\", VLOOKUP(C71,BDD_Travaildusol!$A$89:$E$96,5,0))","v":""},null,null,null,"",null,null,0,{"$f":"IF(C71=0, \"\", VLOOKUP(C71,BDD_Travaildusol!$A$89:$E$96,2,0))","v":""},"",{"$f":"IF(C71=0, \"\", VLOOKUP(C71,BDD_Travaildusol!$A$89:$E$96,3,0))","v":""},"",{"$f":"IF(C71=0, \"\", VLOOKUP(C71,BDD_Travaildusol!$A$89:$E$96,5,0))","v":""},"",null,0,{"$f":"IF(C71=0, \"\", VLOOKUP(C71,BDD_Travaildusol!$A$89:$E$96,2,0))","v":""},"",{"$f":"IF(C71=0, \"\", VLOOKUP(C71,BDD_Travaildusol!$A$89:$E$96,3,0))","v":""},"",{"$f":"IF(C71=0, \"\", VLOOKUP(C71,BDD_Travaildusol!$A$89:$E$96,5,0))","v":""},""]
[null,null,{"$f":"C32","v":0},0,{"$f":"IF(C72=0, \"\", VLOOKUP(C72,BDD_Travaildusol!$A$89:$E$96,2,0))","v":""},"",{"$f":"IF(C72=0, \"\", VLOOKUP(C72,BDD_Travaildusol!$A$89:$E$96,3,0))","v":""},"",{"$f":"IF(C72=0, \"\", VLOOKUP(C72,BDD_Travaildusol!$A$89:$E$96,5,0))","v":""},null,null,null,"",null,null,0,{"$f":"IF(C72=0, \"\", VLOOKUP(C72,BDD_Travaildusol!$A$89:$E$96,2,0))","v":""},"",{"$f":"IF(C72=0, \"\", VLOOKUP(C72,BDD_Travaildusol!$A$89:$E$96,3,0))","v":""},"",{"$f":"IF(C72=0, \"\", VLOOKUP(C72,BDD_Travaildusol!$A$89:$E$96,5,0))","v":""},"",null,0,{"$f":"IF(C72=0, \"\", VLOOKUP(C72,BDD_Travaildusol!$A$89:$E$96,2,0))","v":""},"",{"$f":"IF(C72=0, \"\", VLOOKUP(C72,BDD_Travaildusol!$A$89:$E$96,3,0))","v":""},"",{"$f":"IF(C72=0, \"\", VLOOKUP(C72,BDD_Travaildusol!$A$89:$E$96,5,0))","v":""},""]
[null,null,null,null,null,{"$f":"Choix_Herbi!D6","v":0},null,null,null,null,null,null,null,null,null,0,null,{"$f":"Choix_Herbi!D6","v":0},null,null,null,null,null,0,null,{"$f":"Choix_Herbi!D6","v":0}]
[null,null,null,null,null,null,null,null,null,null,null,null,null,null,null,0,null,null,null,null,null,null,null,0]
[null,null,null,"Itinéraire 1",null,"Itinéraire 1",null,"Itinéraire 1",null,null,null,null,"Itinéraire 1",null,null,"Itinéraire 2",null,"Itinéraire 2",null,"Itinéraire 2",null,"Itinéraire 2",null,"Itinéraire 3",null,"Itinéraire 3",null,"Itinéraire 3",null,"Itinéraire 3"]
[null,null,"Travail superficiel",{"$f":"SUM(D47:D50)","v":2},null,{"$f":"SUM(F47:F50)","v":42},null,11,null,0,0,0,0.58333333333333326,null,null,2,null,42,null,11,null,0.58333333333333326,null,0,null,0,null,0,null,0]
[null,null,"Travail profond",{"$f":"SUM(D53:D54)","v":1},null,{"$f":"SUM(F53:F54)","v":49},null,17,null,0,0,0,0.66666666666666663,null,null,0,null,0,null,0,null,0,null,0,null,0,null,0,null,0]
[null,null,"Apport engrais / amendement",{"$f":"SUM(D57:D59)","v":0},null,{"$f":"SUM(F57:F59)","v":0},null,0,null,0,0,0,0,null,null,0,null,0,null,0,null,0,null,0,null,0,null,0,null,0]
[null,null,"Implantation - semis",{"$f":"SUM(D61:D63)","v":1},null,{"$f":"SUM(F61:F63)","v":50},null,14,null,0,0,0,0.2857142857142857,null,null,1,null,50,null,14,null,0.2857142857142857,null,1,null,25,null,4,null,0.55555555555555558]
[null,null,"Coût du couvert",null,null,{"$f":"D66","v":0},null,{"$f":"H66","v":0},null,0,0,0,0,null,null,null,null,{"$f":"D66","v":0},null,0,null,0,null,null,null,{"$f":"D66","v":0},null,0,null,0]
[null,null,"Destruction",{"$f":"SUM(D69:D72)","v":1},null,{"$f":"SUM(F69:F73)","v":31},null,{"$f":"SUM(H69:H72)","v":9},null,0,0,0,0.76923076923076916,null,null,1,null,{"$f":"SUM(R69:R73)","v":16},null,3,null,0.2,null,1,null,{"$f":"SUM(Z69:Z73)","v":16},null,3,null,0.2]
[null,null,null,null,null,null,null,{"$f":"SUM(H76:H81)","v":51},{"$f":"SUM(I76:I81)","v":0},0,0,0,2.3049450549450547,0,0,4,0,108,0,28,0,1.069047619047619,0,2,0,41,null,7,null,0.75555555555555554]

{"sheet":"Lexique_Melange","index":98,"n_rows":28,"n_cols":1,"rows_kept":28,"cut":false,"hidden":false,"merged":[]}
[]
["LES REGLES POUR LA REALISATION DE MELANGES DE COUVERTS VEGETAUX"]
[]
["\u008c  - Composer un mélange"]
[]
["Il convien de respecter certaines règles lors de la constitution de votre mélange :"]
["Ø Minimum 3 espèces"]
["Ø Intégrer au moins une légumineuse (attention à la sensibilité aphanomycès viv à vis des cultures de la rotation)"]
["Ø Eviter de mettre dans le mélange l'espèce présente dans la culture suivante. Exemple : pas de pois dans un couvert d'interculture avant pois de printemps."]
["Ø Jouer sur la complémentarité des couverts (biomasse aérienne et racinaire, architecture des plantes) pour maximiser leurs effets."]
[]
["\u008d - Définir les doses de semis"]
[]
["La définition des doses de semis de chacune des espèces présentent dans le mélange se fait en 2 temps:"]
["è Dans un premier temps, il faut distinguer les espèces annuelles des espèces pérennes."]
["è Dans un deuxième temps, il faut diviser la dose unitaire par le nombre d'espèces de chacune des catégories (annuel ou pérenne)."]
["En effet, les espèces pérennes étant vouées à rester, il faut les consédérer à part pour assurer leur représentativité et leur permettre d'exprimer leur potentiel."]
[]
["Exemple : Mélange Phacélie + Radis Chinois + Féverole + Lotier + Trèfle Blanc"]
[]
["                                                   Quantité en pure (kg/ha)                                           Nombre d'espèces                                        Quantité à semer (kg/ha)"]
["Phacélie                                                      10                                                                                    3                                                                                  3.3"]
["Radis chinois                                             10                                                                                    3                                                                                  3.3"]
["Féverole                                                     180                                                                                  3                                                                                   60"]
["Lotier                                                            10                                                                                    2                                                                                    5 "]
["Trefle blanc                                                 4                                                                                     2                                                                                    2       "]
[]
["Retour"]

{"sheet":"Indicateurs_Technique (3)","index":99,"n_rows":58,"n_cols":54,"rows_kept":58,"cut":false,"hidden":false,"merged":[[19,6,19,7],[0,12,0,22],[3,17,3,22],[12,3,13,3],[12,4,13,4],[12,5,13,5],[12,6,12,7],[14,6,14,7],[15,6,15,7],[16,6,16,7],[17,6,17,7],[18,6,18,7],[31,6,31,7],[20,6,20,7],[21,6,21,7],[22,6,22,7],[23,6,23,7],[24,6,24,7],[25,6,25,7],[26,6,26,7],[27,6,27,7],[28,6,28,7],[29,6,29,7],[30,6,30,7],[32,6,32,7],[33,6,33,7],[59,1,59,2],[59,3,59,4],[59,5,59,6],[59,7,59,8]]}
[]
[]
[]
[]
[]
[]
[]
[null,null,null,null,null,null,null,null,null,null,null,null,null,null,null,null,null,null,null,null,null,null,null,null,null,null,null,null,null,null,null,null,null,null,null,null,null,null,null,"Conseillé",null,null,null,null,"Ajusté",null,null,null,"PMG","NB pieds Conseillé","NB ajusté"]
[null,null,null,null,null,null,null,null,null,"Type","Hauteur","Racine",null,null,null,null,null,null,null,null,null,null,null,null,null,"Conseillé Biomasse","Dose","Note","Conseillé Azote","Dose","Note","Ajusté Biomasse","Dose","Note","Ajusté max","Ajustée Azote","Dose","Note",null,null,"Graminées","Legumineuse","Crucifères","Autres","Graminées","Legumineuse","Crucifères","Autres",null,null,null,null,"Couvert","NB Pieds"]
[null,null,null,null,null,null,null,null,null,{"$f":"IF(C62=\"\",\"\",VLOOKUP(C62,BDD!$A$5:$I$63,2,0))","v":""},{"$f":"IF(C62=\"\",\"\",VLOOKUP(C62,BDD!$A$5:$I$63,3,0))","v":""},{"$f":"IF(C62=\"\",\"\",VLOOKUP(C62,BDD!$A$5:$I$63,4,0))","v":""},"Répartition des plantes en %",null,null,null,null,null,null,null,null,null,null,null,null,{"$f":"IF(C62=\"\",\"\",VLOOKUP(C62,BDD!$A$5:$I$63,5,0))","v":""},{"$f":"F62","v":0},{"$f":"IF(C62=\"\", \"\", Z10*AA10)","v":""},{"$f":"IF(C62=\"\",\"\",VLOOKUP(C62,BDD!$A$5:$I$63,7,0))","v":""},{"$f":"F62","v":0},{"$f":"IF(C62=\"\", \"\", AC10*AD10)","v":""},{"$f":"IF(C62=\"\", \"\", H62*Z10)","v":""},{"$f":"H62","v":0},{"$f":"IF(C62=\"\", \"\", AG10*Z10)","v":""},{"$f":"IF(C62=\"\", \"\", H62*4)","v":""},{"$f":"IF(C62=\"\", \"\", H62*AC10)","v":""},{"$f":"AG10","v":0},null,null,{"$f":"IF(C62=\"\",\"\",VLOOKUP(C62,BDD!$A$5:$I$63,2,0))","v":""},{"$f":"IF(AN10=\"graminée\", F62, \"\")","v":""},{"$f":"IF(AN10=\"Légumineuse\", F62, \"\")","v":""},{"$f":"IF(AN10=\"Crucifère\", F62, \"\")","v":""},{"$f":"IF(SUM(AO10:AQ10)>0, \"\", F62)","v":0},{"$f":"IF(AN10=\"graminée\", H62, \"\")","v":""},{"$f":"IF(AN10=\"Légumineuse\", H62, \"\")","v":""},{"$f":"IF(AN10=\"Crucifère\", H62, \"\")","v":""},{"$f":"IF(SUM(AS10:AU10)>0, \"\", H62)","v":0},{"$f":"IF(C62=\"\",\"\",VLOOKUP(C62,BDD!$A$5:$J$63,10,0))","v":""},{"$f":"IF(C62=\"\", \"\", (F62*100)/AW10)","v":""},{"$f":"IF(C62= \"\", \"\", (H62*100)/AW10)","v":""},null,{"$f":"IF(C62=\"\", \"\", C62)","v":""},{"$f":"IF($Z$28=TRUE, AY10, AX10)","v":""}]
[null,null,null,null,null,null,null,null,null,{"$f":"IF(C63=\"\",\"\",VLOOKUP(C63,BDD!$A$5:$I$63,2,0))","v":""},{"$f":"IF(C63=\"\",\"\",VLOOKUP(C63,BDD!$A$5:$I$63,3,0))","v":""},{"$f":"IF(C63=\"\",\"\",VLOOKUP(C63,BDD!$A$5:$I$63,4,0))","v":""},null,null,null,null,{"$f":"Composition!BF28","v":0},null,{"$f":"Composition!BF29","v":20},null,null,null,null,null,null,{"$f":"IF(C63=\"\",\"\",VLOOKUP(C63,BDD!$A$5:$I$63,5,0))","v":""},0,"",{"$f":"IF(C63=\"\",\"\",VLOOKUP(C63,BDD!$A$5:$I$63,7,0))","v":""},0,"","",0,"","","",{"$f":"AG11","v":0},null,null,{"$f":"IF(C63=\"\",\"\",VLOOKUP(C63,BDD!$A$5:$I$63,2,0))","v":""},"","","",0,"","","",0,{"$f":"IF(C63=\"\",\"\",VLOOKUP(C63,BDD!$A$5:$J$63,10,0))","v":""},"","",null,"",{"$f":"IF($Z$28=TRUE, AY11, AX11)","v":""}]
[null,null,null,null,null,null,null,null,null,{"$f":"IF(C64=\"\",\"\",VLOOKUP(C64,BDD!$A$5:$I$63,2,0))","v":""},{"$f":"IF(C64=\"\",\"\",VLOOKUP(C64,BDD!$A$5:$I$63,3,0))","v":""},{"$f":"IF(C64=\"\",\"\",VLOOKUP(C64,BDD!$A$5:$I$63,4,0))","v":""},null,null,null,null,null,null,null,null,null,null,null,null,null,{"$f":"IF(C64=\"\",\"\",VLOOKUP(C64,BDD!$A$5:$I$63,5,0))","v":""},0,"",{"$f":"IF(C64=\"\",\"\",VLOOKUP(C64,BDD!$A$5:$I$63,7,0))","v":""},0,"","",0,"","","",0,null,null,{"$f":"IF(C64=\"\",\"\",VLOOKUP(C64,BDD!$A$5:$I$63,2,0))","v":""},"","","",0,"","","",0,{"$f":"IF(C64=\"\",\"\",VLOOKUP(C64,BDD!$A$5:$J$63,10,0))","v":""},"","",null,"",""]
[null,null,null,"Appétence limaces","Vitesse de croissance","Sensibilité au gel","Maitrise des adventices",null,null,{"$f":"IF(C65=\"\",\"\",VLOOKUP(C65,BDD!$A$5:$I$63,2,0))","v":""},{"$f":"IF(C65=\"\",\"\",VLOOKUP(C65,BDD!$A$5:$I$63,3,0))","v":""},{"$f":"IF(C65=\"\",\"\",VLOOKUP(C65,BDD!$A$5:$I$63,4,0))","v":""},null,{"$f":"IF(Composition!BF26=\"\", \"\", Composition!BF26)","v":20},null,null,null,null,null,null,null,null,null,null,null,{"$f":"IF(C65=\"\",\"\",VLOOKUP(C65,BDD!$A$5:$I$63,5,0))","v":""},0,"",{"$f":"IF(C65=\"\",\"\",VLOOKUP(C65,BDD!$A$5:$I$63,7,0))","v":""},0,"","",0,"","","",0,null,null,{"$f":"IF(C65=\"\",\"\",VLOOKUP(C65,BDD!$A$5:$I$63,2,0))","v":""},"","","",0,"","","",0,{"$f":"IF(C65=\"\",\"\",VLOOKUP(C65,BDD!$A$5:$J$63,10,0))","v":""},"","",null,"",""]
[null,null,null,null,null,null,null,null,null,{"$f":"IF(C66=\"\",\"\",VLOOKUP(C66,BDD!$A$5:$I$63,2,0))","v":""},{"$f":"IF(C66=\"\",\"\",VLOOKUP(C66,BDD!$A$5:$I$63,3,0))","v":""},{"$f":"IF(C66=\"\",\"\",VLOOKUP(C66,BDD!$A$5:$I$63,4,0))","v":""},null,null,null,null,null,null,null,null,null,null,null,null,null,{"$f":"IF(C66=\"\",\"\",VLOOKUP(C66,BDD!$A$5:$I$63,5,0))","v":""},0,"",{"$f":"IF(C66=\"\",\"\",VLOOKUP(C66,BDD!$A$5:$I$63,7,0))","v":""},0,"","",0,"","","",0,null,null,{"$f":"IF(C66=\"\",\"\",VLOOKUP(C66,BDD!$A$5:$I$63,2,0))","v":""},"","","",0,"","","",0,{"$f":"IF(C66=\"\",\"\",VLOOKUP(C66,BDD!$A$5:$J$63,10,0))","v":""},"","",null,"",""]
[null,null,{"$f":"IF(Composition!C10<>\"\", Composition!C10, \"\")","v":"Moutarde d'Abyssinie"},{"$f":"IF(C15=\"\",\"\",VLOOKUP(C15,BDD!$A$5:$S$63,18,0))","v":"Faible"},{"$f":"IF(C15=\"\",\"\",VLOOKUP(C15,BDD!$A$5:$S$63,19,0))","v":"Rapide"},{"$f":"IF(C15=\"\",\"\",VLOOKUP(C15,BDD!$A$5:$AC$63,20,0))","v":"-10°C"},{"$f":"IF(C15=\"\",\"\",VLOOKUP(C15,BDD!$A$5:$AD$63,30,0))","v":3},{"$f":"IF(E15=\"\",\"\",VLOOKUP(E15,BDD!$A$5:$AC$63,29,0))","v":{"$error":"#N/A"}},null,{"$f":"IF(C67=\"\",\"\",VLOOKUP(C67,BDD!$A$5:$I$63,2,0))","v":""},{"$f":"IF(C67=\"\",\"\",VLOOKUP(C67,BDD!$A$5:$I$63,3,0))","v":""},{"$f":"IF(C67=\"\",\"\",VLOOKUP(C67,BDD!$A$5:$I$63,4,0))","v":""},null,null,{"$f":"Composition!BF27","v":60},null,null,null,null,null,null,null,null,null,null,{"$f":"IF(C67=\"\",\"\",VLOOKUP(C67,BDD!$A$5:$I$63,5,0))","v":""},0,"",{"$f":"IF(C67=\"\",\"\",VLOOKUP(C67,BDD!$A$5:$I$63,7,0))","v":""},0,"","",0,"","","",0,null,null,{"$f":"IF(C67=\"\",\"\",VLOOKUP(C67,BDD!$A$5:$I$63,2,0))","v":""},"","","",0,"","","",0,{"$f":"IF(C67=\"\",\"\",VLOOKUP(C67,BDD!$A$5:$J$63,10,0))","v":""},"","",null,"",""]
[null,null,{"$f":"IF(Composition!C11<>\"\", Composition!C11, \"\")","v":"Vesce pourpre"},{"$f":"IF(C16=\"\",\"\",VLOOKUP(C16,BDD!$A$5:$S$63,18,0))","v":"Faible"},{"$f":"IF(C16=\"\",\"\",VLOOKUP(C16,BDD!$A$5:$S$63,19,0))","v":"Lent"},{"$f":"IF(C16=\"\",\"\",VLOOKUP(C16,BDD!$A$5:$AC$63,20,0))","v":"-10°C"},{"$f":"IF(C16=\"\",\"\",VLOOKUP(C16,BDD!$A$5:$AD$63,30,0))","v":3},{"$f":"IF(E16=\"\",\"\",VLOOKUP(E16,BDD!$A$5:$AC$63,29,0))","v":{"$error":"#N/A"}},null,{"$f":"IF(C68=\"\",\"\",VLOOKUP(C68,BDD!$A$5:$I$63,2,0))","v":""},{"$f":"IF(C68=\"\",\"\",VLOOKUP(C68,BDD!$A$5:$I$63,3,0))","v":""},{"$f":"IF(C68=\"\",\"\",VLOOKUP(C68,BDD!$A$5:$I$63,4,0))","v":""},null,null,null,null,null,null,null,null,null,null,null,null,null,{"$f":"IF(C68=\"\",\"\",VLOOKUP(C68,BDD!$A$5:$I$63,5,0))","v":""},0,"",{"$f":"IF(C68=\"\",\"\",VLOOKUP(C68,BDD!$A$5:$I$63,7,0))","v":""},0,"","",0,"","","",0,null,null,{"$f":"IF(C68=\"\",\"\",VLOOKUP(C68,BDD!$A$5:$I$63,2,0))","v":""},"","","",0,"","","",0,{"$f":"IF(C68=\"\",\"\",VLOOKUP(C68,BDD!$A$5:$J$63,10,0))","v":""},"","",null,"",""]
[null,null,{"$f":"IF(Composition!C12<>\"\", Composition!C12, \"\")","v":"Trèfle d'Alexandrie"},{"$f":"IF(C17=\"\",\"\",VLOOKUP(C17,BDD!$A$5:$S$63,18,0))","v":"Moyen"},{"$f":"IF(C17=\"\",\"\",VLOOKUP(C17,BDD!$A$5:$S$63,19,0))","v":"Rapide"},{"$f":"IF(C17=\"\",\"\",VLOOKUP(C17,BDD!$A$5:$AC$63,20,0))","v":"-5°C"},{"$f":"IF(C17=\"\",\"\",VLOOKUP(C17,BDD!$A$5:$AD$63,30,0))","v":2},{"$f":"IF(E17=\"\",\"\",VLOOKUP(E17,BDD!$A$5:$AC$63,29,0))","v":{"$error":"#N/A"}},null,{"$f":"IF(C69=\"\",\"\",VLOOKUP(C69,BDD!$A$5:$I$63,2,0))","v":""},{"$f":"IF(C69=\"\",\"\",VLOOKUP(C69,BDD!$A$5:$I$63,3,0))","v":""},{"$f":"IF(C69=\"\",\"\",VLOOKUP(C69,BDD!$A$5:$I$63,4,0))","v":""},null,null,null,null,null,null,null,null,null,null,null,null,null,{"$f":"IF(C69=\"\",\"\",VLOOKUP(C69,BDD!$A$5:$I$63,5,0))","v":""},0,"",{"$f":"IF(C69=\"\",\"\",VLOOKUP(C69,BDD!$A$5:$I$63,7,0))","v":""},0,"","",0,"","","",0,null,null,{"$f":"IF(C69=\"\",\"\",VLOOKUP(C69,BDD!$A$5:$I$63,2,0))","v":""},"","","",0,"","","",0,{"$f":"IF(C69=\"\",\"\",VLOOKUP(C69,BDD!$A$5:$J$63,10,0))","v":""},"","",null,"",""]
[null,null,{"$f":"IF(Composition!C13<>\"\", Composition!C13, \"\")","v":"Phacélie"},{"$f":"IF(C18=\"\",\"\",VLOOKUP(C18,BDD!$A$5:$S$63,18,0))","v":"Faible"},{"$f":"IF(C18=\"\",\"\",VLOOKUP(C18,BDD!$A$5:$S$63,19,0))","v":"Rapide"},{"$f":"IF(C18=\"\",\"\",VLOOKUP(C18,BDD!$A$5:$AC$63,20,0))","v":"-10°C"},{"$f":"IF(C18=\"\",\"\",VLOOKUP(C18,BDD!$A$5:$AD$63,30,0))","v":3},{"$f":"IF(E18=\"\",\"\",VLOOKUP(E18,BDD!$A$5:$AC$63,29,0))","v":{"$error":"#N/A"}},null,{"$f":"IF(C70=\"\",\"\",VLOOKUP(C70,BDD!$A$5:$I$63,2,0))","v":""},{"$f":"IF(C70=\"\",\"\",VLOOKUP(C70,BDD!$A$5:$I$63,3,0))","v":""},{"$f":"IF(C70=\"\",\"\",VLOOKUP(C70,BDD!$A$5:$I$63,4,0))","v":""},null,null,null,null,null,null,null,null,null,null,null,null,null,{"$f":"IF(C70=\"\",\"\",VLOOKUP(C70,BDD!$A$5:$I$63,5,0))","v":""},0,"",{"$f":"IF(C70=\"\",\"\",VLOOKUP(C70,BDD!$A$5:$I$63,7,0))","v":""},0,"","",0,"","","",0,null,null,{"$f":"IF(C70=\"\",\"\",VLOOKUP(C70,BDD!$A$5:$I$63,2,0))","v":""},"","","",0,"","","",0,{"$f":"IF(C70=\"\",\"\",VLOOKUP(C70,BDD!$A$5:$J$63,10,0))","v":""},"","",null,"",""]
[null,null,{"$f":"IF(Composition!C14<>\"\", Composition!C14, \"\")","v":"Avoine bresilienne"},{"$f":"IF(C19=\"\",\"\",VLOOKUP(C19,BDD!$A$5:$S$63,18,0))","v":"Faible"},{"$f":"IF(C19=\"\",\"\",VLOOKUP(C19,BDD!$A$5:$S$63,19,0))","v":"Rapide"},{"$f":"IF(C19=\"\",\"\",VLOOKUP(C19,BDD!$A$5:$AC$63,20,0))","v":"-7 à -10°C"},{"$f":"IF(C19=\"\",\"\",VLOOKUP(C19,BDD!$A$5:$AD$63,30,0))","v":2},{"$f":"IF(E19=\"\",\"\",VLOOKUP(E19,BDD!$A$5:$AC$63,29,0))","v":{"$error":"#N/A"}},null,{"$f":"IF(C71=\"\",\"\",VLOOKUP(C71,BDD!$A$5:$I$63,2,0))","v":""},{"$f":"IF(C71=\"\",\"\",VLOOKUP(C71,BDD!$A$5:$I$63,3,0))","v":""},{"$f":"IF(C71=\"\",\"\",VLOOKUP(C71,BDD!$A$5:$I$63,4,0))","v":""},null,null,null,null,null,null,null,null,null,null,null,null,null,{"$f":"IF(C71=\"\",\"\",VLOOKUP(C71,BDD!$A$5:$I$63,5,0))","v":""},0,"",{"$f":"IF(C71=\"\",\"\",VLOOKUP(C71,BDD!$A$5:$I$63,7,0))","v":""},0,"","",0,"","","",0,null,null,{"$f":"IF(C71=\"\",\"\",VLOOKUP(C71,BDD!$A$5:$I$63,2,0))","v":""},"","","",0,"","","",0,{"$f":"IF(C71=\"\",\"\",VLOOKUP(C71,BDD!$A$5:$J$63,10,0))","v":""},"","",null,"",""]
[null,null,{"$f":"IF(Composition!C15<>\"\", Composition!C15, \"\")","v":""},{"$f":"IF(C20=\"\",\"\",VLOOKUP(C20,BDD!$A$5:$S$63,18,0))","v":""},{"$f":"IF(C20=\"\",\"\",VLOOKUP(C20,BDD!$A$5:$S$63,19,0))","v":""},{"$f":"IF(C20=\"\",\"\",VLOOKUP(C20,BDD!$A$5:$AC$63,20,0))","v":""},{"$f":"IF(C20=\"\",\"\",VLOOKUP(C20,BDD!$A$5:$AD$63,30,0))","v":""},{"$f":"IF(E20=\"\",\"\",VLOOKUP(E20,BDD!$A$5:$AC$63,29,0))","v":""},null,{"$f":"IF(C72=\"\",\"\",VLOOKUP(C72,BDD!$A$5:$I$63,2,0))","v":""},{"$f":"IF(C72=\"\",\"\",VLOOKUP(C72,BDD!$A$5:$I$63,3,0))","v":""},{"$f":"IF(C72=\"\",\"\",VLOOKUP(C72,BDD!$A$5:$I$63,4,0))","v":""},null,null,null,null,null,null,null,null,null,null,null,null,null,{"$f":"IF(C72=\"\",\"\",VLOOKUP(C72,BDD!$A$5:$I$63,5,0))","v":""},0,"",{"$f":"IF(C72=\"\",\"\",VLOOKUP(C72,BDD!$A$5:$I$63,7,0))","v":""},0,"","",0,"","","",0,null,null,{"$f":"IF(C72=\"\",\"\",VLOOKUP(C72,BDD!$A$5:$I$63,2,0))","v":""},"","","",0,"","","",0,{"$f":"IF(C72=\"\",\"\",VLOOKUP(C72,BDD!$A$5:$J$63,10,0))","v":""},"","",null,"",""]
[null,null,{"$f":"IF(Composition!C16<>\"\", Composition!C16, \"\")","v":""},{"$f":"IF(C21=\"\",\"\",VLOOKUP(C21,BDD!$A$5:$S$63,18,0))","v":""},{"$f":"IF(C21=\"\",\"\",VLOOKUP(C21,BDD!$A$5:$S$63,19,0))","v":""},{"$f":"IF(C21=\"\",\"\",VLOOKUP(C21,BDD!$A$5:$AC$63,20,0))","v":""},{"$f":"IF(C21=\"\",\"\",VLOOKUP(C21,BDD!$A$5:$AD$63,30,0))","v":""},{"$f":"IF(E21=\"\",\"\",VLOOKUP(E21,BDD!$A$5:$AC$63,29,0))","v":""},null,{"$f":"IF(C73=\"\",\"\",VLOOKUP(C73,BDD!$A$5:$I$63,2,0))","v":""},{"$f":"IF(C73=\"\",\"\",VLOOKUP(C73,BDD!$A$5:$I$63,3,0))","v":""},{"$f":"IF(C73=\"\",\"\",VLOOKUP(C73,BDD!$A$5:$I$63,4,0))","v":""},null,null,null,null,null,null,null,null,null,null,null,null,null,{"$f":"IF(C73=\"\",\"\",VLOOKUP(C73,BDD!$A$5:$I$63,5,0))","v":""},0,"",{"$f":"IF(C73=\"\",\"\",VLOOKUP(C73,BDD!$A$5:$I$63,7,0))","v":""},0,"","",0,"","","",0,null,null,{"$f":"IF(C73=\"\",\"\",VLOOKUP(C73,BDD!$A$5:$I$63,2,0))","v":""},"","","",0,"","","",0,{"$f":"IF(C73=\"\",\"\",VLOOKUP(C73,BDD!$A$5:$J$63,10,0))","v":""},"","",null,"",""]
[null,null,{"$f":"IF(Composition!C17<>\"\", Composition!C17, \"\")","v":""},{"$f":"IF(C22=\"\",\"\",VLOOKUP(C22,BDD!$A$5:$S$63,18,0))","v":""},{"$f":"IF(C22=\"\",\"\",VLOOKUP(C22,BDD!$A$5:$S$63,19,0))","v":""},{"$f":"IF(C22=\"\",\"\",VLOOKUP(C22,BDD!$A$5:$AC$63,20,0))","v":""},{"$f":"IF(C22=\"\",\"\",VLOOKUP(C22,BDD!$A$5:$AD$63,30,0))","v":""},{"$f":"IF(E22=\"\",\"\",VLOOKUP(E22,BDD!$A$5:$AC$63,29,0))","v":""},null,{"$f":"IF(C74=\"\",\"\",VLOOKUP(C74,BDD!$A$5:$I$63,2,0))","v":""},{"$f":"IF(C74=\"\",\"\",VLOOKUP(C74,BDD!$A$5:$I$63,3,0))","v":""},{"$f":"IF(C74=\"\",\"\",VLOOKUP(C74,BDD!$A$5:$I$63,4,0))","v":""},null,null,null,null,null,null,null,null,null,null,null,null,null,{"$f":"IF(C74=\"\",\"\",VLOOKUP(C74,BDD!$A$5:$I$63,5,0))","v":""},0,"",{"$f":"IF(C74=\"\",\"\",VLOOKUP(C74,BDD!$A$5:$I$63,7,0))","v":""},0,"","",0,"","","",0,null,null,{"$f":"IF(C74=\"\",\"\",VLOOKUP(C74,BDD!$A$5:$I$63,2,0))","v":""},"","","",0,"","","",0,{"$f":"IF(C74=\"\",\"\",VLOOKUP(C74,BDD!$A$5:$J$63,10,0))","v":""},"","",null,"",""]
[null,null,{"$f":"IF(Composition!C18<>\"\", Composition!C18, \"\")","v":""},{"$f":"IF(C23=\"\",\"\",VLOOKUP(C23,BDD!$A$5:$S$63,18,0))","v":""},{"$f":"IF(C23=\"\",\"\",VLOOKUP(C23,BDD!$A$5:$S$63,19,0))","v":""},{"$f":"IF(C23=\"\",\"\",VLOOKUP(C23,BDD!$A$5:$AC$63,20,0))","v":""},{"$f":"IF(C23=\"\",\"\",VLOOKUP(C23,BDD!$A$5:$AD$63,30,0))","v":""},{"$f":"IF(E23=\"\",\"\",VLOOKUP(E23,BDD!$A$5:$AC$63,29,0))","v":""},null,{"$f":"IF(C75=\"\",\"\",VLOOKUP(C75,BDD!$A$5:$I$63,2,0))","v":""},{"$f":"IF(C75=\"\",\"\",VLOOKUP(C75,BDD!$A$5:$I$63,3,0))","v":""},{"$f":"IF(C75=\"\",\"\",VLOOKUP(C75,BDD!$A$5:$I$63,4,0))","v":""},null,null,null,null,null,null,null,null,null,null,null,null,null,{"$f":"IF(C75=\"\",\"\",VLOOKUP(C75,BDD!$A$5:$I$63,5,0))","v":""},0,"",{"$f":"IF(C75=\"\",\"\",VLOOKUP(C75,BDD!$A$5:$I$63,7,0))","v":""},0,"","",0,"","","",0,null,null,{"$f":"IF(C75=\"\",\"\",VLOOKUP(C75,BDD!$A$5:$I$63,2,0))","v":""},"","","",0,"","","",0,{"$f":"IF(C75=\"\",\"\",VLOOKUP(C75,BDD!$A$5:$J$63,10,0))","v":""},"","",null,"",""]
[null,null,{"$f":"IF(Composition!C19<>\"\", Composition!C19, \"\")","v":""},{"$f":"IF(C24=\"\",\"\",VLOOKUP(C24,BDD!$A$5:$S$63,18,0))","v":""},{"$f":"IF(C24=\"\",\"\",VLOOKUP(C24,BDD!$A$5:$S$63,19,0))","v":""},{"$f":"IF(C24=\"\",\"\",VLOOKUP(C24,BDD!$A$5:$AC$63,20,0))","v":""},{"$f":"IF(C24=\"\",\"\",VLOOKUP(C24,BDD!$A$5:$AD$63,30,0))","v":""},{"$f":"IF(E24=\"\",\"\",VLOOKUP(E24,BDD!$A$5:$AC$63,29,0))","v":""},null,{"$f":"IF(C76=\"\",\"\",VLOOKUP(C76,BDD!$A$5:$I$63,2,0))","v":""},{"$f":"IF(C76=\"\",\"\",VLOOKUP(C76,BDD!$A$5:$I$63,3,0))","v":""},{"$f":"IF(C76=\"\",\"\",VLOOKUP(C76,BDD!$A$5:$I$63,4,0))","v":""},null,null,null,null,null,null,null,null,null,null,null,null,null,{"$f":"IF(C76=\"\",\"\",VLOOKUP(C76,BDD!$A$5:$I$63,5,0))","v":""},0,"",{"$f":"IF(C76=\"\",\"\",VLOOKUP(C76,BDD!$A$5:$I$63,7,0))","v":""},0,"","",0,"","","",0,null,null,{"$f":"IF(C76=\"\",\"\",VLOOKUP(C76,BDD!$A$5:$I$63,2,0))","v":""},"","","",0,"","","",0,{"$f":"IF(C76=\"\",\"\",VLOOKUP(C76,BDD!$A$5:$J$63,10,0))","v":""},"","",null,"",""]
[null,null,{"$f":"IF(Composition!C20<>\"\", Composition!C20, \"\")","v":""},{"$f":"IF(C25=\"\",\"\",VLOOKUP(C25,BDD!$A$5:$S$63,18,0))","v":""},{"$f":"IF(C25=\"\",\"\",VLOOKUP(C25,BDD!$A$5:$S$63,19,0))","v":""},{"$f":"IF(C25=\"\",\"\",VLOOKUP(C25,BDD!$A$5:$AC$63,20,0))","v":""},{"$f":"IF(C25=\"\",\"\",VLOOKUP(C25,BDD!$A$5:$AD$63,30,0))","v":""},{"$f":"IF(E25=\"\",\"\",VLOOKUP(E25,BDD!$A$5:$AC$63,29,0))","v":""},null,null,null,null,null,null,null,null,null,null,null,null,null,null,null,null,"Total",{"$f":"SUM(Z10:Z24)","v":0},{"$f":"SUM(AA10:AA24)","v":0},0,{"$f":"SUM(AC10:AC24)","v":0},{"$f":"SUM(AD10:AD24)","v":0},0,0,null,{"$f":"SUM(AH10:AH24)","v":0},200,{"$f":"SUM(AJ10:AJ24)","v":0},null,null,null,"SOMME",{"$f":"SUM(AO10:AO24)","v":0},{"$f":"SUM(AP10:AP24)","v":0},0,0,0,0,0,0]
[null,null,{"$f":"IF(Composition!C21<>\"\", Composition!C21, \"\")","v":""},{"$f":"IF(C26=\"\",\"\",VLOOKUP(C26,BDD!$A$5:$S$63,18,0))","v":""},{"$f":"IF(C26=\"\",\"\",VLOOKUP(C26,BDD!$A$5:$S$63,19,0))","v":""},{"$f":"IF(C26=\"\",\"\",VLOOKUP(C26,BDD!$A$5:$AC$63,20,0))","v":""},{"$f":"IF(C26=\"\",\"\",VLOOKUP(C26,BDD!$A$5:$AD$63,30,0))","v":""},{"$f":"IF(E26=\"\",\"\",VLOOKUP(E26,BDD!$A$5:$AC$63,29,0))","v":""},null,null,null,null,null,null,null,null,null,null,null,null,null,null,null,null,"Maximum",{"$f":"4*$C$77","v":0},200,null,{"$f":"4*$C$77","v":0},200,null,200,null,null,null,{"$f":"H77*4","v":0},null,null,null,"Maximum",{"$f":"$F$77","v":0},{"$f":"$F$77","v":0},{"$f":"$F$77","v":0},{"$f":"$F$77","v":0},{"$f":"$H$77","v":0},{"$f":"$H$77","v":0},{"$f":"$H$77","v":0},{"$f":"$H$77","v":0}]
[null,null,{"$f":"IF(Composition!C22<>\"\", Composition!C22, \"\")","v":""},{"$f":"IF(C27=\"\",\"\",VLOOKUP(C27,BDD!$A$5:$S$63,18,0))","v":""},{"$f":"IF(C27=\"\",\"\",VLOOKUP(C27,BDD!$A$5:$S$63,19,0))","v":""},{"$f":"IF(C27=\"\",\"\",VLOOKUP(C27,BDD!$A$5:$AC$63,20,0))","v":""},{"$f":"IF(C27=\"\",\"\",VLOOKUP(C27,BDD!$A$5:$AD$63,30,0))","v":""},{"$f":"IF(E27=\"\",\"\",VLOOKUP(E27,BDD!$A$5:$AC$63,29,0))","v":""},null,null,null,null,null,null,null,null,null,null,null,null,null,null,null,null,"%",{"$f":"(Z25*100)/Z26","v":{"$error":"#DIV/0!"}},null,{"$f":"IF(AB25<AA26, (AB25*100)/AA26, 99)","v":0},{"$f":"(AC25*100)/AC26","v":{"$error":"#DIV/0!"}},null,{"$f":"IF(AE25<AD26, IF(C62=\"\", 0, (AE25*100)/AD26), 99)","v":0},{"$f":"(AF25*100)/AI25","v":0},null,{"$f":"IF(AH25<AI25, (AH25*100)/AF26, 99)","v":0},null,{"$f":"IF(AJ25<AI25, (AJ25*100)/AI25, 99)","v":0},null,null,null,"%",{"$f":"(AO25*100)/AO26","v":{"$error":"#DIV/0!"}},{"$f":"(AP25*100)/AP26","v":{"$error":"#DIV/0!"}},{"$error":"#DIV/0!"},{"$error":"#DIV/0!"},{"$error":"#DIV/0!"},{"$error":"#DIV/0!"},{"$error":"#DIV/0!"},{"$error":"#DIV/0!"}]
[null,null,{"$f":"IF(Composition!C23<>\"\", Composition!C23, \"\")","v":""},{"$f":"IF(C28=\"\",\"\",VLOOKUP(C28,BDD!$A$5:$S$63,18,0))","v":""},{"$f":"IF(C28=\"\",\"\",VLOOKUP(C28,BDD!$A$5:$S$63,19,0))","v":""},{"$f":"IF(C28=\"\",\"\",VLOOKUP(C28,BDD!$A$5:$AC$63,20,0))","v":""},{"$f":"IF(C28=\"\",\"\",VLOOKUP(C28,BDD!$A$5:$AD$63,30,0))","v":""},{"$f":"IF(E28=\"\",\"\",VLOOKUP(E28,BDD!$A$5:$AC$63,29,0))","v":""},null,null,null,null,null,null,null,null,null,null,null,null,null,null,null,null,null,true]
[null,null,{"$f":"IF(Composition!C24<>\"\", Composition!C24, \"\")","v":""},{"$f":"IF(C29=\"\",\"\",VLOOKUP(C29,BDD!$A$5:$S$63,18,0))","v":""},{"$f":"IF(C29=\"\",\"\",VLOOKUP(C29,BDD!$A$5:$S$63,19,0))","v":""},{"$f":"IF(C29=\"\",\"\",VLOOKUP(C29,BDD!$A$5:$AC$63,20,0))","v":""},{"$f":"IF(C29=\"\",\"\",VLOOKUP(C29,BDD!$A$5:$AD$63,30,0))","v":""},{"$f":"IF(E29=\"\",\"\",VLOOKUP(E29,BDD!$A$5:$AC$63,29,0))","v":""},null,null,null,null,null,"% de plantes méllifères :",{"$f":"Composition!BF33","v":80}]
[null,null,null,null,null,null,{"$f":"IF(C30=\"\",\"\",VLOOKUP(C30,BDD!$A$5:$AD$63,30,0))","v":""},{"$f":"IF(E30=\"\",\"\",VLOOKUP(E30,BDD!$A$5:$AC$63,29,0))","v":""}]
[null,null,null,null,null,null,{"$f":"IF(C31=\"\",\"\",VLOOKUP(C31,BDD!$A$5:$AD$63,30,0))","v":""},{"$f":"IF(E31=\"\",\"\",VLOOKUP(E31,BDD!$A$5:$AC$63,29,0))","v":""}]
[null,null,null,null,null,null,1,{"$f":"IF(E32=\"\",\"\",VLOOKUP(E32,BDD!$A$5:$AC$63,29,0))","v":""}]
[null,null,null,null,null,null,2,{"$f":"IF(E33=\"\",\"\",VLOOKUP(E33,BDD!$A$5:$AC$63,29,0))","v":""}]
[null,null,null,null,null,null,3,{"$f":"IF(E34=\"\",\"\",VLOOKUP(E34,BDD!$A$5:$AC$63,29,0))","v":""}]
[]
[]
[]
[]
[]
[]
[]
[]
[]
[null,null,null,"TYPE","NB","%","NB conseillé","NB Ajusté"]
[null,null,null,"Graminées",{"$f":"IF($Z$28=FALSE, G45,H45)","v":{"$error":"#DIV/0!"}},{"$f":"E45","v":{"$error":"#DIV/0!"}},{"$f":"AO27","v":{"$error":"#DIV/0!"}},{"$f":"AS27","v":{"$error":"#DIV/0!"}}]
[null,null,null,"Légumineuses",{"$f":"IF($Z$28=FALSE, G46,H46)","v":{"$error":"#DIV/0!"}},{"$f":"E46","v":{"$error":"#DIV/0!"}},{"$f":"AP27","v":{"$error":"#DIV/0!"}},{"$f":"AT27","v":{"$error":"#DIV/0!"}}]
[null,null,null,"Crucifères",{"$f":"IF($Z$28=FALSE, G47,H47)","v":{"$error":"#DIV/0!"}},{"$error":"#DIV/0!"},{"$f":"AQ27","v":{"$error":"#DIV/0!"}},{"$f":"AU27","v":{"$error":"#DIV/0!"}}]
[null,null,null,"Autres",{"$f":"IF($Z$28=FALSE, G48,H48)","v":{"$error":"#DIV/0!"}},{"$error":"#DIV/0!"},{"$f":"AR27","v":{"$error":"#DIV/0!"}},{"$f":"AV27","v":{"$error":"#DIV/0!"}}]
[]
[null,null,null,"HAUTEUR","NB","%"]
[null,null,null,"Basse",{"$f":"COUNTIFS($K$10:$K$24,\"1\")","v":0},{"$f":"(E51*100)/$C$77","v":{"$error":"#DIV/0!"}}]
[null,null,null,"Intermédiaire",{"$f":"COUNTIFS($K$10:$K$24,\"2\")","v":0},{"$f":"(E52*100)/$C$77","v":{"$error":"#DIV/0!"}}]
[null,null,null,"Haute",{"$f":"COUNTIFS($K$10:$K$24,\"3\")","v":0},{"$f":"(E53*100)/$C$77","v":{"$error":"#DIV/0!"}}]
[]
[null,null,null,"RACINES","NB","%"]
[null,null,null,"Superficiel",{"$f":"COUNTIFS($L$10:$L$24,\"1\")","v":0},{"$f":"(E56*100)/$C$77","v":{"$error":"#DIV/0!"}}]
[null,null,null,"Intermédiaire",{"$f":"COUNTIFS($L$10:$L$24,\"2\")","v":0},{"$f":"(E57*100)/$C$77","v":{"$error":"#DIV/0!"}}]
[null,null,null,"Profonde",{"$f":"COUNTIFS($L$10:$L$24,\"3\")","v":0},{"$f":"(E58*100)/$C$77","v":{"$error":"#DIV/0!"}}]

{"sheet":"Aide _au_choix","index":100,"n_rows":58,"n_cols":54,"rows_kept":58,"cut":false,"hidden":false,"merged":[[0,12,0,22],[3,17,3,22]]}
[]
[]
[]
[]
[null,null,"Alpiste des canaries",null,"Millet perlé",null,null,"Seigle forestier",null,null,null,null,null,"Période du couvert","Hivernal"]
[null,null,"Avoine Bresilienne",null,"Moha fourrager",null,null,"Sorgho fourrager"]
[null,null,"Avoine de printemps",null,"Ray-grass Italien",null,null,"Triticale",null,null,null,null,"Caractéristiques du couvert"]
[null,null,null,null,"Seigle fourrager",null,null,null,null,null,null,null,true,false,false,false,null,null,null,null,null,null,null,null,null,null,null,null,null,null,null,null,null,null,null,null,null,null,null,"Conseillé",null,null,null,null,"Ajusté",null,null,null,"PMG","NB pieds Conseillé","NB ajusté"]
[null,null,null,null,null,null,null,null,null,"Type","Hauteur","Racine",false,false,false,null,null,null,null,null,null,null,null,null,null,"Conseillé Biomasse","Dose","Note","Conseillé Azote","Dose","Note","Ajusté Biomasse","Dose","Note","Ajusté max","Ajustée Azote","Dose","Note",null,null,"Graminées","Legumineuse","Crucifères","Autres","Graminées","Legumineuse","Crucifères","Autres",null,null,null,null,"Couvert","NB Pieds"]
[null,{"$f":"IF(C10=\"\", \"\", VLOOKUP('Aide _au_choix'!C10,BDD!$A$6:$M$63,13,1))","v":6},"Cameline",null,"Moutarde brune",null,null,"Radis fourrager",null,{"$f":"IF(#REF!=\"\",\"\",VLOOKUP(#REF!,BDD!$A$5:$I$63,2,0))","v":{"$error":"#REF!"}},{"$f":"IF(#REF!=\"\",\"\",VLOOKUP(#REF!,BDD!$A$5:$I$63,3,0))","v":{"$error":"#REF!"}},{"$f":"IF(#REF!=\"\",\"\",VLOOKUP(#REF!,BDD!$A$5:$I$63,4,0))","v":{"$error":"#REF!"}},"Choix selon la culture suivante",null,null,null,null,null,null,null,null,null,null,null,null,{"$f":"IF(#REF!=\"\",\"\",VLOOKUP(#REF!,BDD!$A$5:$I$63,5,0))","v":{"$error":"#REF!"}},{"$f":"#REF!","v":{"$error":"#REF!"}},{"$f":"IF(#REF!=\"\", \"\", Z10*AA10)","v":{"$error":"#REF!"}},{"$f":"IF(#REF!=\"\",\"\",VLOOKUP(#REF!,BDD!$A$5:$I$63,7,0))","v":{"$error":"#REF!"}},{"$f":"#REF!","v":{"$error":"#REF!"}},{"$f":"IF(#REF!=\"\", \"\", AC10*AD10)","v":{"$error":"#REF!"}},{"$f":"IF(#REF!=\"\", \"\",#REF!* Z10)","v":{"$error":"#REF!"}},{"$f":"#REF!","v":{"$error":"#REF!"}},{"$f":"IF(#REF!=\"\", \"\", AG10*Z10)","v":{"$error":"#REF!"}},{"$f":"IF(#REF!=\"\", \"\",#REF!* 4)","v":{"$error":"#REF!"}},{"$f":"IF(#REF!=\"\", \"\",#REF!* AC10)","v":{"$error":"#REF!"}},{"$f":"AG10","v":{"$error":"#REF!"}},null,null,{"$f":"IF(#REF!=\"\",\"\",VLOOKUP(#REF!,BDD!$A$5:$I$63,2,0))","v":{"$error":"#REF!"}},{"$f":"IF(AN10=\"graminée\",#REF!, \"\")","v":{"$error":"#REF!"}},{"$f":"IF(AN10=\"Légumineuse\",#REF!, \"\")","v":{"$error":"#REF!"}},{"$f":"IF(AN10=\"Crucifère\",#REF!, \"\")","v":{"$error":"#REF!"}},{"$f":" IF(SUM(AO10:AQ10)>0, \"\",#REF!)","v":{"$error":"#REF!"}},{"$f":"IF(AN10=\"graminée\",#REF!, \"\")","v":{"$error":"#REF!"}},{"$f":"IF(AN10=\"Légumineuse\",#REF!, \"\")","v":{"$error":"#REF!"}},{"$f":"IF(AN10=\"Crucifère\",#REF!, \"\")","v":{"$error":"#REF!"}},{"$f":" IF(SUM(AS10:AU10)>0, \"\",#REF!)","v":{"$error":"#REF!"}},{"$f":"IF(#REF!=\"\",\"\",VLOOKUP(#REF!,BDD!$A$5:$J$63,10,0))","v":{"$error":"#REF!"}},{"$f":"IF(#REF!=\"\", \"\", (#REF!*100)/AW10)","v":{"$error":"#REF!"}},{"$f":"IF(#REF!= \"\", \"\", (#REF!*100)/AW10)","v":{"$error":"#REF!"}},null,{"$f":" IF(#REF!=\"\", \"\",#REF!)","v":{"$error":"#REF!"}},{"$f":"IF($Z$28=TRUE, AY10, AX10)","v":{"$error":"#REF!"}}]
[null,{"$f":"IF(C11=\"\", \"\", VLOOKUP('Aide _au_choix'!C11,BDD!$A$6:$M$63,13,1))","v":9},"Colza",null,"Moutarde d'Abyssinie",null,null,null,null,{"$f":"IF(#REF!=\"\",\"\",VLOOKUP(#REF!,BDD!$A$5:$I$63,2,0))","v":{"$error":"#REF!"}},{"$f":"IF(#REF!=\"\",\"\",VLOOKUP(#REF!,BDD!$A$5:$I$63,3,0))","v":{"$error":"#REF!"}},{"$f":"IF(#REF!=\"\",\"\",VLOOKUP(#REF!,BDD!$A$5:$I$63,4,0))","v":{"$error":"#REF!"}},false,false,false,false,null,null,null,null,null,null,null,null,null,{"$f":"IF(#REF!=\"\",\"\",VLOOKUP(#REF!,BDD!$A$5:$I$63,5,0))","v":{"$error":"#REF!"}},{"$f":"#REF!","v":{"$error":"#REF!"}},{"$f":"IF(#REF!=\"\", \"\", Z11*AA11)","v":{"$error":"#REF!"}},{"$f":"IF(#REF!=\"\",\"\",VLOOKUP(#REF!,BDD!$A$5:$I$63,7,0))","v":{"$error":"#REF!"}},{"$f":"#REF!","v":{"$error":"#REF!"}},{"$f":"IF(#REF!=\"\", \"\", AC11*AD11)","v":{"$error":"#REF!"}},{"$f":"IF(#REF!=\"\", \"\",#REF!* Z11)","v":{"$error":"#REF!"}},{"$f":"#REF!","v":{"$error":"#REF!"}},{"$f":"IF(#REF!=\"\", \"\", AG11*Z11)","v":{"$error":"#REF!"}},{"$f":"IF(#REF!=\"\", \"\",#REF!* 4)","v":{"$error":"#REF!"}},{"$f":"IF(#REF!=\"\", \"\",#REF!* AC11)","v":{"$error":"#REF!"}},{"$f":"AG11","v":{"$error":"#REF!"}},null,null,{"$f":"IF(#REF!=\"\",\"\",VLOOKUP(#REF!,BDD!$A$5:$I$63,2,0))","v":{"$error":"#REF!"}},{"$f":"IF(AN11=\"graminée\",#REF!, \"\")","v":{"$error":"#REF!"}},{"$f":"IF(AN11=\"Légumineuse\",#REF!, \"\")","v":{"$error":"#REF!"}},{"$f":"IF(AN11=\"Crucifère\",#REF!, \"\")","v":{"$error":"#REF!"}},{"$f":" IF(SUM(AO11:AQ11)>0, \"\",#REF!)","v":{"$error":"#REF!"}},{"$f":"IF(AN11=\"graminée\",#REF!, \"\")","v":{"$error":"#REF!"}},{"$f":"IF(AN11=\"Légumineuse\",#REF!, \"\")","v":{"$error":"#REF!"}},{"$f":"IF(AN11=\"Crucifère\",#REF!, \"\")","v":{"$error":"#REF!"}},{"$f":" IF(SUM(AS11:AU11)>0, \"\",#REF!)","v":{"$error":"#REF!"}},{"$f":"IF(#REF!=\"\",\"\",VLOOKUP(#REF!,BDD!$A$5:$J$63,10,0))","v":{"$error":"#REF!"}},{"$f":"IF(#REF!=\"\", \"\", (#REF!*100)/AW11)","v":{"$error":"#REF!"}},{"$f":"IF(#REF!= \"\", \"\", (#REF!*100)/AW11)","v":{"$error":"#REF!"}},null,{"$f":" IF(#REF!=\"\", \"\",#REF!)","v":{"$error":"#REF!"}},{"$f":"IF($Z$28=TRUE, AY11, AX11)","v":{"$error":"#REF!"}}]
[null,{"$f":"IF(C12=\"\", \"\", VLOOKUP('Aide _au_choix'!C12,BDD!$A$6:$M$63,13,1))","v":26},"Moutarde blanche",null,"Radis chinois",null,null,null,null,{"$f":"IF(#REF!=\"\",\"\",VLOOKUP(#REF!,BDD!$A$5:$I$63,2,0))","v":{"$error":"#REF!"}},{"$f":"IF(#REF!=\"\",\"\",VLOOKUP(#REF!,BDD!$A$5:$I$63,3,0))","v":{"$error":"#REF!"}},{"$f":"IF(#REF!=\"\",\"\",VLOOKUP(#REF!,BDD!$A$5:$I$63,4,0))","v":{"$error":"#REF!"}},null,null,null,null,null,null,null,null,null,null,null,null,null,{"$f":"IF(#REF!=\"\",\"\",VLOOKUP(#REF!,BDD!$A$5:$I$63,5,0))","v":{"$error":"#REF!"}},{"$f":"#REF!","v":{"$error":"#REF!"}},{"$f":"IF(#REF!=\"\", \"\", Z12*AA12)","v":{"$error":"#REF!"}},{"$f":"IF(#REF!=\"\",\"\",VLOOKUP(#REF!,BDD!$A$5:$I$63,7,0))","v":{"$error":"#REF!"}},{"$f":"#REF!","v":{"$error":"#REF!"}},{"$f":"IF(#REF!=\"\", \"\", AC12*AD12)","v":{"$error":"#REF!"}},{"$f":"IF(#REF!=\"\", \"\",#REF!* Z12)","v":{"$error":"#REF!"}},{"$f":"#REF!","v":{"$error":"#REF!"}},{"$f":"IF(#REF!=\"\", \"\", AG12*Z12)","v":{"$error":"#REF!"}},{"$f":"IF(#REF!=\"\", \"\",#REF!* 4)","v":{"$error":"#REF!"}},{"$f":"IF(#REF!=\"\", \"\",#REF!* AC12)","v":{"$error":"#REF!"}},{"$error":"#REF!"},null,null,{"$f":"IF(#REF!=\"\",\"\",VLOOKUP(#REF!,BDD!$A$5:$I$63,2,0))","v":{"$error":"#REF!"}},{"$f":"IF(AN12=\"graminée\",#REF!, \"\")","v":{"$error":"#REF!"}},{"$f":"IF(AN12=\"Légumineuse\",#REF!, \"\")","v":{"$error":"#REF!"}},{"$f":"IF(AN12=\"Crucifère\",#REF!, \"\")","v":{"$error":"#REF!"}},{"$f":" IF(SUM(AO12:AQ12)>0, \"\",#REF!)","v":{"$error":"#REF!"}},{"$f":"IF(AN12=\"graminée\",#REF!, \"\")","v":{"$error":"#REF!"}},{"$f":"IF(AN12=\"Légumineuse\",#REF!, \"\")","v":{"$error":"#REF!"}},{"$f":"IF(AN12=\"Crucifère\",#REF!, \"\")","v":{"$error":"#REF!"}},{"$f":" IF(SUM(AS12:AU12)>0, \"\",#REF!)","v":{"$error":"#REF!"}},{"$f":"IF(#REF!=\"\",\"\",VLOOKUP(#REF!,BDD!$A$5:$J$63,10,0))","v":{"$error":"#REF!"}},{"$f":"IF(#REF!=\"\", \"\", (#REF!*100)/AW12)","v":{"$error":"#REF!"}},{"$f":"IF(#REF!= \"\", \"\", (#REF!*100)/AW12)","v":{"$error":"#REF!"}},null,{"$f":" IF(#REF!=\"\", \"\",#REF!)","v":{"$error":"#REF!"}},{"$error":"#REF!"}]
[null,{"$f":"IF(C13=\"\", \"\", VLOOKUP('Aide _au_choix'!C13,BDD!$A$6:$M$63,13,1))","v":""},null,null,null,null,null,null,null,{"$f":"IF(#REF!=\"\",\"\",VLOOKUP(#REF!,BDD!$A$5:$I$63,2,0))","v":{"$error":"#REF!"}},{"$f":"IF(#REF!=\"\",\"\",VLOOKUP(#REF!,BDD!$A$5:$I$63,3,0))","v":{"$error":"#REF!"}},{"$f":"IF(#REF!=\"\",\"\",VLOOKUP(#REF!,BDD!$A$5:$I$63,4,0))","v":{"$error":"#REF!"}},null,null,null,null,null,null,null,null,null,null,null,null,null,{"$f":"IF(#REF!=\"\",\"\",VLOOKUP(#REF!,BDD!$A$5:$I$63,5,0))","v":{"$error":"#REF!"}},{"$f":"#REF!","v":{"$error":"#REF!"}},{"$f":"IF(#REF!=\"\", \"\", Z13*AA13)","v":{"$error":"#REF!"}},{"$f":"IF(#REF!=\"\",\"\",VLOOKUP(#REF!,BDD!$A$5:$I$63,7,0))","v":{"$error":"#REF!"}},{"$f":"#REF!","v":{"$error":"#REF!"}},{"$f":"IF(#REF!=\"\", \"\", AC13*AD13)","v":{"$error":"#REF!"}},{"$f":"IF(#REF!=\"\", \"\",#REF!* Z13)","v":{"$error":"#REF!"}},{"$f":"#REF!","v":{"$error":"#REF!"}},{"$f":"IF(#REF!=\"\", \"\", AG13*Z13)","v":{"$error":"#REF!"}},{"$f":"IF(#REF!=\"\", \"\",#REF!* 4)","v":{"$error":"#REF!"}},{"$f":"IF(#REF!=\"\", \"\",#REF!* AC13)","v":{"$error":"#REF!"}},{"$error":"#REF!"},null,null,{"$f":"IF(#REF!=\"\",\"\",VLOOKUP(#REF!,BDD!$A$5:$I$63,2,0))","v":{"$error":"#REF!"}},{"$f":"IF(AN13=\"graminée\",#REF!, \"\")","v":{"$error":"#REF!"}},{"$f":"IF(AN13=\"Légumineuse\",#REF!, \"\")","v":{"$error":"#REF!"}},{"$f":"IF(AN13=\"Crucifère\",#REF!, \"\")","v":{"$error":"#REF!"}},{"$f":" IF(SUM(AO13:AQ13)>0, \"\",#REF!)","v":{"$error":"#REF!"}},{"$f":"IF(AN13=\"graminée\",#REF!, \"\")","v":{"$error":"#REF!"}},{"$f":"IF(AN13=\"Légumineuse\",#REF!, \"\")","v":{"$error":"#REF!"}},{"$f":"IF(AN13=\"Crucifère\",#REF!, \"\")","v":{"$error":"#REF!"}},{"$f":" IF(SUM(AS13:AU13)>0, \"\",#REF!)","v":{"$error":"#REF!"}},{"$f":"IF(#REF!=\"\",\"\",VLOOKUP(#REF!,BDD!$A$5:$J$63,10,0))","v":{"$error":"#REF!"}},{"$f":"IF(#REF!=\"\", \"\", (#REF!*100)/AW13)","v":{"$error":"#REF!"}},{"$f":"IF(#REF!= \"\", \"\", (#REF!*100)/AW13)","v":{"$error":"#REF!"}},null,{"$f":" IF(#REF!=\"\", \"\",#REF!)","v":{"$error":"#REF!"}},{"$error":"#REF!"}]
[null,{"$f":"IF(C14=\"\", \"\", VLOOKUP('Aide _au_choix'!C14,BDD!$A$6:$M$63,13,1))","v":""},null,null,null,null,null,null,null,{"$f":"IF(#REF!=\"\",\"\",VLOOKUP(#REF!,BDD!$A$5:$I$63,2,0))","v":{"$error":"#REF!"}},{"$f":"IF(#REF!=\"\",\"\",VLOOKUP(#REF!,BDD!$A$5:$I$63,3,0))","v":{"$error":"#REF!"}},{"$f":"IF(#REF!=\"\",\"\",VLOOKUP(#REF!,BDD!$A$5:$I$63,4,0))","v":{"$error":"#REF!"}},null,null,null,null,null,null,null,null,null,null,null,null,null,{"$f":"IF(#REF!=\"\",\"\",VLOOKUP(#REF!,BDD!$A$5:$I$63,5,0))","v":{"$error":"#REF!"}},{"$f":"#REF!","v":{"$error":"#REF!"}},{"$f":"IF(#REF!=\"\", \"\", Z14*AA14)","v":{"$error":"#REF!"}},{"$f":"IF(#REF!=\"\",\"\",VLOOKUP(#REF!,BDD!$A$5:$I$63,7,0))","v":{"$error":"#REF!"}},{"$f":"#REF!","v":{"$error":"#REF!"}},{"$f":"IF(#REF!=\"\", \"\", AC14*AD14)","v":{"$error":"#REF!"}},{"$f":"IF(#REF!=\"\", \"\",#REF!* Z14)","v":{"$error":"#REF!"}},{"$f":"#REF!","v":{"$error":"#REF!"}},{"$f":"IF(#REF!=\"\", \"\", AG14*Z14)","v":{"$error":"#REF!"}},{"$f":"IF(#REF!=\"\", \"\",#REF!* 4)","v":{"$error":"#REF!"}},{"$f":"IF(#REF!=\"\", \"\",#REF!* AC14)","v":{"$error":"#REF!"}},{"$error":"#REF!"},null,null,{"$f":"IF(#REF!=\"\",\"\",VLOOKUP(#REF!,BDD!$A$5:$I$63,2,0))","v":{"$error":"#REF!"}},{"$f":"IF(AN14=\"graminée\",#REF!, \"\")","v":{"$error":"#REF!"}},{"$f":"IF(AN14=\"Légumineuse\",#REF!, \"\")","v":{"$error":"#REF!"}},{"$f":"IF(AN14=\"Crucifère\",#REF!, \"\")","v":{"$error":"#REF!"}},{"$f":" IF(SUM(AO14:AQ14)>0, \"\",#REF!)","v":{"$error":"#REF!"}},{"$f":"IF(AN14=\"graminée\",#REF!, \"\")","v":{"$error":"#REF!"}},{"$f":"IF(AN14=\"Légumineuse\",#REF!, \"\")","v":{"$error":"#REF!"}},{"$f":"IF(AN14=\"Crucifère\",#REF!, \"\")","v":{"$error":"#REF!"}},{"$f":" IF(SUM(AS14:AU14)>0, \"\",#REF!)","v":{"$error":"#REF!"}},{"$f":"IF(#REF!=\"\",\"\",VLOOKUP(#REF!,BDD!$A$5:$J$63,10,0))","v":{"$error":"#REF!"}},{"$f":"IF(#REF!=\"\", \"\", (#REF!*100)/AW14)","v":{"$error":"#REF!"}},{"$f":"IF(#REF!= \"\", \"\", (#REF!*100)/AW14)","v":{"$error":"#REF!"}},null,{"$f":" IF(#REF!=\"\", \"\",#REF!)","v":{"$error":"#REF!"}},{"$error":"#REF!"}]
[null,{"$f":"IF(C15=\"\", \"\", VLOOKUP('Aide _au_choix'!C15,BDD!$A$6:$M$63,13,1))","v":""},null,null,null,null,null,null,null,{"$f":"IF(#REF!=\"\",\"\",VLOOKUP(#REF!,BDD!$A$5:$I$63,2,0))","v":{"$error":"#REF!"}},{"$f":"IF(#REF!=\"\",\"\",VLOOKUP(#REF!,BDD!$A$5:$I$63,3,0))","v":{"$error":"#REF!"}},{"$f":"IF(#REF!=\"\",\"\",VLOOKUP(#REF!,BDD!$A$5:$I$63,4,0))","v":{"$error":"#REF!"}},null,null,null,null,null,null,null,null,null,null,null,null,null,{"$f":"IF(#REF!=\"\",\"\",VLOOKUP(#REF!,BDD!$A$5:$I$63,5,0))","v":{"$error":"#REF!"}},{"$f":"#REF!","v":{"$error":"#REF!"}},{"$f":"IF(#REF!=\"\", \"\", Z15*AA15)","v":{"$error":"#REF!"}},{"$f":"IF(#REF!=\"\",\"\",VLOOKUP(#REF!,BDD!$A$5:$I$63,7,0))","v":{"$error":"#REF!"}},{"$f":"#REF!","v":{"$error":"#REF!"}},{"$f":"IF(#REF!=\"\", \"\", AC15*AD15)","v":{"$error":"#REF!"}},{"$f":"IF(#REF!=\"\", \"\",#REF!* Z15)","v":{"$error":"#REF!"}},{"$f":"#REF!","v":{"$error":"#REF!"}},{"$f":"IF(#REF!=\"\", \"\", AG15*Z15)","v":{"$error":"#REF!"}},{"$f":"IF(#REF!=\"\", \"\",#REF!* 4)","v":{"$error":"#REF!"}},{"$f":"IF(#REF!=\"\", \"\",#REF!* AC15)","v":{"$error":"#REF!"}},{"$error":"#REF!"},null,null,{"$f":"IF(#REF!=\"\",\"\",VLOOKUP(#REF!,BDD!$A$5:$I$63,2,0))","v":{"$error":"#REF!"}},{"$f":"IF(AN15=\"graminée\",#REF!, \"\")","v":{"$error":"#REF!"}},{"$f":"IF(AN15=\"Légumineuse\",#REF!, \"\")","v":{"$error":"#REF!"}},{"$f":"IF(AN15=\"Crucifère\",#REF!, \"\")","v":{"$error":"#REF!"}},{"$f":" IF(SUM(AO15:AQ15)>0, \"\",#REF!)","v":{"$error":"#REF!"}},{"$f":"IF(AN15=\"graminée\",#REF!, \"\")","v":{"$error":"#REF!"}},{"$f":"IF(AN15=\"Légumineuse\",#REF!, \"\")","v":{"$error":"#REF!"}},{"$f":"IF(AN15=\"Crucifère\",#REF!, \"\")","v":{"$error":"#REF!"}},{"$f":" IF(SUM(AS15:AU15)>0, \"\",#REF!)","v":{"$error":"#REF!"}},{"$f":"IF(#REF!=\"\",\"\",VLOOKUP(#REF!,BDD!$A$5:$J$63,10,0))","v":{"$error":"#REF!"}},{"$f":"IF(#REF!=\"\", \"\", (#REF!*100)/AW15)","v":{"$error":"#REF!"}},{"$f":"IF(#REF!= \"\", \"\", (#REF!*100)/AW15)","v":{"$error":"#REF!"}},null,{"$f":" IF(#REF!=\"\", \"\",#REF!)","v":{"$error":"#REF!"}},{"$error":"#REF!"}]
[null,{"$f":"IF(C16=\"\", \"\", VLOOKUP('Aide _au_choix'!C16,BDD!$A$6:$M$63,13,1))","v":13},"Fénugrec",null,"Mélilot",null,null,"Tréfle blanc",null,{"$f":"IF(#REF!=\"\",\"\",VLOOKUP(#REF!,BDD!$A$5:$I$63,2,0))","v":{"$error":"#REF!"}},{"$f":"IF(#REF!=\"\",\"\",VLOOKUP(#REF!,BDD!$A$5:$I$63,3,0))","v":{"$error":"#REF!"}},{"$f":"IF(#REF!=\"\",\"\",VLOOKUP(#REF!,BDD!$A$5:$I$63,4,0))","v":{"$error":"#REF!"}},null,null,null,null,null,null,null,null,null,null,null,null,null,{"$f":"IF(#REF!=\"\",\"\",VLOOKUP(#REF!,BDD!$A$5:$I$63,5,0))","v":{"$error":"#REF!"}},{"$f":"#REF!","v":{"$error":"#REF!"}},{"$f":"IF(#REF!=\"\", \"\", Z16*AA16)","v":{"$error":"#REF!"}},{"$f":"IF(#REF!=\"\",\"\",VLOOKUP(#REF!,BDD!$A$5:$I$63,7,0))","v":{"$error":"#REF!"}},{"$f":"#REF!","v":{"$error":"#REF!"}},{"$f":"IF(#REF!=\"\", \"\", AC16*AD16)","v":{"$error":"#REF!"}},{"$f":"IF(#REF!=\"\", \"\",#REF!* Z16)","v":{"$error":"#REF!"}},{"$f":"#REF!","v":{"$error":"#REF!"}},{"$f":"IF(#REF!=\"\", \"\", AG16*Z16)","v":{"$error":"#REF!"}},{"$f":"IF(#REF!=\"\", \"\",#REF!* 4)","v":{"$error":"#REF!"}},{"$f":"IF(#REF!=\"\", \"\",#REF!* AC16)","v":{"$error":"#REF!"}},{"$error":"#REF!"},null,null,{"$f":"IF(#REF!=\"\",\"\",VLOOKUP(#REF!,BDD!$A$5:$I$63,2,0))","v":{"$error":"#REF!"}},{"$f":"IF(AN16=\"graminée\",#REF!, \"\")","v":{"$error":"#REF!"}},{"$f":"IF(AN16=\"Légumineuse\",#REF!, \"\")","v":{"$error":"#REF!"}},{"$f":"IF(AN16=\"Crucifère\",#REF!, \"\")","v":{"$error":"#REF!"}},{"$f":" IF(SUM(AO16:AQ16)>0, \"\",#REF!)","v":{"$error":"#REF!"}},{"$f":"IF(AN16=\"graminée\",#REF!, \"\")","v":{"$error":"#REF!"}},{"$f":"IF(AN16=\"Légumineuse\",#REF!, \"\")","v":{"$error":"#REF!"}},{"$f":"IF(AN16=\"Crucifère\",#REF!, \"\")","v":{"$error":"#REF!"}},{"$f":" IF(SUM(AS16:AU16)>0, \"\",#REF!)","v":{"$error":"#REF!"}},{"$f":"IF(#REF!=\"\",\"\",VLOOKUP(#REF!,BDD!$A$5:$J$63,10,0))","v":{"$error":"#REF!"}},{"$f":"IF(#REF!=\"\", \"\", (#REF!*100)/AW16)","v":{"$error":"#REF!"}},{"$f":"IF(#REF!= \"\", \"\", (#REF!*100)/AW16)","v":{"$error":"#REF!"}},null,{"$f":" IF(#REF!=\"\", \"\",#REF!)","v":{"$error":"#REF!"}},{"$error":"#REF!"}]
[null,{"$f":"IF(C17=\"\", \"\", VLOOKUP('Aide _au_choix'!C17,BDD!$A$6:$M$63,13,1))","v":14},"Feverole",null,"Minette",null,null,"Vesce commune",null,{"$f":"IF(#REF!=\"\",\"\",VLOOKUP(#REF!,BDD!$A$5:$I$63,2,0))","v":{"$error":"#REF!"}},{"$f":"IF(#REF!=\"\",\"\",VLOOKUP(#REF!,BDD!$A$5:$I$63,3,0))","v":{"$error":"#REF!"}},{"$f":"IF(#REF!=\"\",\"\",VLOOKUP(#REF!,BDD!$A$5:$I$63,4,0))","v":{"$error":"#REF!"}},null,{"$f":"Choix_des_couvert!B57","v":""},{"$f":"Choix_des_couvert!C57","v":"Mélilot"},{"$f":"Choix_des_couvert!D57","v":""},{"$f":"Choix_des_couvert!E57","v":""},null,null,null,null,null,null,null,null,{"$f":"IF(#REF!=\"\",\"\",VLOOKUP(#REF!,BDD!$A$5:$I$63,5,0))","v":{"$error":"#REF!"}},{"$f":"#REF!","v":{"$error":"#REF!"}},{"$f":"IF(#REF!=\"\", \"\", Z17*AA17)","v":{"$error":"#REF!"}},{"$f":"IF(#REF!=\"\",\"\",VLOOKUP(#REF!,BDD!$A$5:$I$63,7,0))","v":{"$error":"#REF!"}},{"$f":"#REF!","v":{"$error":"#REF!"}},{"$f":"IF(#REF!=\"\", \"\", AC17*AD17)","v":{"$error":"#REF!"}},{"$f":"IF(#REF!=\"\", \"\",#REF!* Z17)","v":{"$error":"#REF!"}},{"$f":"#REF!","v":{"$error":"#REF!"}},{"$f":"IF(#REF!=\"\", \"\", AG17*Z17)","v":{"$error":"#REF!"}},{"$f":"IF(#REF!=\"\", \"\",#REF!* 4)","v":{"$error":"#REF!"}},{"$f":"IF(#REF!=\"\", \"\",#REF!* AC17)","v":{"$error":"#REF!"}},{"$error":"#REF!"},null,null,{"$f":"IF(#REF!=\"\",\"\",VLOOKUP(#REF!,BDD!$A$5:$I$63,2,0))","v":{"$error":"#REF!"}},{"$f":"IF(AN17=\"graminée\",#REF!, \"\")","v":{"$error":"#REF!"}},{"$f":"IF(AN17=\"Légumineuse\",#REF!, \"\")","v":{"$error":"#REF!"}},{"$f":"IF(AN17=\"Crucifère\",#REF!, \"\")","v":{"$error":"#REF!"}},{"$f":" IF(SUM(AO17:AQ17)>0, \"\",#REF!)","v":{"$error":"#REF!"}},{"$f":"IF(AN17=\"graminée\",#REF!, \"\")","v":{"$error":"#REF!"}},{"$f":"IF(AN17=\"Légumineuse\",#REF!, \"\")","v":{"$error":"#REF!"}},{"$f":"IF(AN17=\"Crucifère\",#REF!, \"\")","v":{"$error":"#REF!"}},{"$f":" IF(SUM(AS17:AU17)>0, \"\",#REF!)","v":{"$error":"#REF!"}},{"$f":"IF(#REF!=\"\",\"\",VLOOKUP(#REF!,BDD!$A$5:$J$63,10,0))","v":{"$error":"#REF!"}},{"$f":"IF(#REF!=\"\", \"\", (#REF!*100)/AW17)","v":{"$error":"#REF!"}},{"$f":"IF(#REF!= \"\", \"\", (#REF!*100)/AW17)","v":{"$error":"#REF!"}},null,{"$f":" IF(#REF!=\"\", \"\",#REF!)","v":{"$error":"#REF!"}},{"$error":"#REF!"}]
[null,{"$f":"IF(C18=\"\", \"\", VLOOKUP('Aide _au_choix'!C18,BDD!$A$6:$M$63,13,1))","v":16},"Gesse",null,"Pois fourrager",null,null,"Vesce pourpre",null,{"$f":"IF(#REF!=\"\",\"\",VLOOKUP(#REF!,BDD!$A$5:$I$63,2,0))","v":{"$error":"#REF!"}},{"$f":"IF(#REF!=\"\",\"\",VLOOKUP(#REF!,BDD!$A$5:$I$63,3,0))","v":{"$error":"#REF!"}},{"$f":"IF(#REF!=\"\",\"\",VLOOKUP(#REF!,BDD!$A$5:$I$63,4,0))","v":{"$error":"#REF!"}},null,{"$f":"Choix_des_couvert!B58","v":""},{"$f":"Choix_des_couvert!C58","v":""},{"$f":"Choix_des_couvert!D58","v":"Sainfoin (cosse)"},{"$f":"Choix_des_couvert!E58","v":"Trèfle violet"},null,null,null,null,null,null,null,null,{"$f":"IF(#REF!=\"\",\"\",VLOOKUP(#REF!,BDD!$A$5:$I$63,5,0))","v":{"$error":"#REF!"}},{"$f":"#REF!","v":{"$error":"#REF!"}},{"$f":"IF(#REF!=\"\", \"\", Z18*AA18)","v":{"$error":"#REF!"}},{"$f":"IF(#REF!=\"\",\"\",VLOOKUP(#REF!,BDD!$A$5:$I$63,7,0))","v":{"$error":"#REF!"}},{"$f":"#REF!","v":{"$error":"#REF!"}},{"$f":"IF(#REF!=\"\", \"\", AC18*AD18)","v":{"$error":"#REF!"}},{"$f":"IF(#REF!=\"\", \"\",#REF!* Z18)","v":{"$error":"#REF!"}},{"$f":"#REF!","v":{"$error":"#REF!"}},{"$f":"IF(#REF!=\"\", \"\", AG18*Z18)","v":{"$error":"#REF!"}},{"$f":"IF(#REF!=\"\", \"\",#REF!* 4)","v":{"$error":"#REF!"}},{"$f":"IF(#REF!=\"\", \"\",#REF!* AC18)","v":{"$error":"#REF!"}},{"$error":"#REF!"},null,null,{"$f":"IF(#REF!=\"\",\"\",VLOOKUP(#REF!,BDD!$A$5:$I$63,2,0))","v":{"$error":"#REF!"}},{"$f":"IF(AN18=\"graminée\",#REF!, \"\")","v":{"$error":"#REF!"}},{"$f":"IF(AN18=\"Légumineuse\",#REF!, \"\")","v":{"$error":"#REF!"}},{"$f":"IF(AN18=\"Crucifère\",#REF!, \"\")","v":{"$error":"#REF!"}},{"$f":" IF(SUM(AO18:AQ18)>0, \"\",#REF!)","v":{"$error":"#REF!"}},{"$f":"IF(AN18=\"graminée\",#REF!, \"\")","v":{"$error":"#REF!"}},{"$f":"IF(AN18=\"Légumineuse\",#REF!, \"\")","v":{"$error":"#REF!"}},{"$f":"IF(AN18=\"Crucifère\",#REF!, \"\")","v":{"$error":"#REF!"}},{"$f":" IF(SUM(AS18:AU18)>0, \"\",#REF!)","v":{"$error":"#REF!"}},{"$f":"IF(#REF!=\"\",\"\",VLOOKUP(#REF!,BDD!$A$5:$J$63,10,0))","v":{"$error":"#REF!"}},{"$f":"IF(#REF!=\"\", \"\", (#REF!*100)/AW18)","v":{"$error":"#REF!"}},{"$f":"IF(#REF!= \"\", \"\", (#REF!*100)/AW18)","v":{"$error":"#REF!"}},null,{"$f":" IF(#REF!=\"\", \"\",#REF!)","v":{"$error":"#REF!"}},{"$error":"#REF!"}]
[null,{"$f":"IF(C19=\"\", \"\", VLOOKUP('Aide _au_choix'!C19,BDD!$A$6:$M$63,13,1))","v":17},"Lentille fourragère",null,"Pois protéagineux",null,null,"Vesce velue",null,{"$f":"IF(#REF!=\"\",\"\",VLOOKUP(#REF!,BDD!$A$5:$I$63,2,0))","v":{"$error":"#REF!"}},{"$f":"IF(#REF!=\"\",\"\",VLOOKUP(#REF!,BDD!$A$5:$I$63,3,0))","v":{"$error":"#REF!"}},{"$f":"IF(#REF!=\"\",\"\",VLOOKUP(#REF!,BDD!$A$5:$I$63,4,0))","v":{"$error":"#REF!"}},null,{"$f":"Choix_des_couvert!B59","v":""},{"$f":"Choix_des_couvert!C59","v":"Minette"},{"$f":"Choix_des_couvert!D59","v":"Sainfoin (décortiqué)"},{"$f":"Choix_des_couvert!E59","v":"Vesce commune"},null,null,null,null,null,null,null,null,{"$f":"IF(#REF!=\"\",\"\",VLOOKUP(#REF!,BDD!$A$5:$I$63,5,0))","v":{"$error":"#REF!"}},{"$f":"#REF!","v":{"$error":"#REF!"}},{"$f":"IF(#REF!=\"\", \"\", Z19*AA19)","v":{"$error":"#REF!"}},{"$f":"IF(#REF!=\"\",\"\",VLOOKUP(#REF!,BDD!$A$5:$I$63,7,0))","v":{"$error":"#REF!"}},{"$f":"#REF!","v":{"$error":"#REF!"}},{"$f":"IF(#REF!=\"\", \"\", AC19*AD19)","v":{"$error":"#REF!"}},{"$f":"IF(#REF!=\"\", \"\",#REF!* Z19)","v":{"$error":"#REF!"}},{"$f":"#REF!","v":{"$error":"#REF!"}},{"$f":"IF(#REF!=\"\", \"\", AG19*Z19)","v":{"$error":"#REF!"}},{"$f":"IF(#REF!=\"\", \"\",#REF!* 4)","v":{"$error":"#REF!"}},{"$f":"IF(#REF!=\"\", \"\",#REF!* AC19)","v":{"$error":"#REF!"}},{"$error":"#REF!"},null,null,{"$f":"IF(#REF!=\"\",\"\",VLOOKUP(#REF!,BDD!$A$5:$I$63,2,0))","v":{"$error":"#REF!"}},{"$f":"IF(AN19=\"graminée\",#REF!, \"\")","v":{"$error":"#REF!"}},{"$f":"IF(AN19=\"Légumineuse\",#REF!, \"\")","v":{"$error":"#REF!"}},{"$f":"IF(AN19=\"Crucifère\",#REF!, \"\")","v":{"$error":"#REF!"}},{"$f":" IF(SUM(AO19:AQ19)>0, \"\",#REF!)","v":{"$error":"#REF!"}},{"$f":"IF(AN19=\"graminée\",#REF!, \"\")","v":{"$error":"#REF!"}},{"$f":"IF(AN19=\"Légumineuse\",#REF!, \"\")","v":{"$error":"#REF!"}},{"$f":"IF(AN19=\"Crucifère\",#REF!, \"\")","v":{"$error":"#REF!"}},{"$f":" IF(SUM(AS19:AU19)>0, \"\",#REF!)","v":{"$error":"#REF!"}},{"$f":"IF(#REF!=\"\",\"\",VLOOKUP(#REF!,BDD!$A$5:$J$63,10,0))","v":{"$error":"#REF!"}},{"$f":"IF(#REF!=\"\", \"\", (#REF!*100)/AW19)","v":{"$error":"#REF!"}},{"$f":"IF(#REF!= \"\", \"\", (#REF!*100)/AW19)","v":{"$error":"#REF!"}},null,{"$f":" IF(#REF!=\"\", \"\",#REF!)","v":{"$error":"#REF!"}},{"$error":"#REF!"}]
[null,{"$f":"IF(C20=\"\", \"\", VLOOKUP('Aide _au_choix'!C20,BDD!$A$6:$M$63,13,1))","v":19},"Lotier corniculé",null,"Sainfoin",null,null,"Vesce de Narbonne",null,{"$f":"IF(#REF!=\"\",\"\",VLOOKUP(#REF!,BDD!$A$5:$I$63,2,0))","v":{"$error":"#REF!"}},{"$f":"IF(#REF!=\"\",\"\",VLOOKUP(#REF!,BDD!$A$5:$I$63,3,0))","v":{"$error":"#REF!"}},{"$f":"IF(#REF!=\"\",\"\",VLOOKUP(#REF!,BDD!$A$5:$I$63,4,0))","v":{"$error":"#REF!"}},null,{"$f":"Choix_des_couvert!B60","v":""},{"$f":"Choix_des_couvert!C60","v":""},{"$f":"Choix_des_couvert!D60","v":""},{"$f":"Choix_des_couvert!E60","v":"Vesce pourpre"},null,null,null,null,null,null,null,null,{"$f":"IF(#REF!=\"\",\"\",VLOOKUP(#REF!,BDD!$A$5:$I$63,5,0))","v":{"$error":"#REF!"}},{"$f":"#REF!","v":{"$error":"#REF!"}},{"$f":"IF(#REF!=\"\", \"\", Z20*AA20)","v":{"$error":"#REF!"}},{"$f":"IF(#REF!=\"\",\"\",VLOOKUP(#REF!,BDD!$A$5:$I$63,7,0))","v":{"$error":"#REF!"}},{"$f":"#REF!","v":{"$error":"#REF!"}},{"$f":"IF(#REF!=\"\", \"\", AC20*AD20)","v":{"$error":"#REF!"}},{"$f":"IF(#REF!=\"\", \"\",#REF!* Z20)","v":{"$error":"#REF!"}},{"$f":"#REF!","v":{"$error":"#REF!"}},{"$f":"IF(#REF!=\"\", \"\", AG20*Z20)","v":{"$error":"#REF!"}},{"$f":"IF(#REF!=\"\", \"\",#REF!* 4)","v":{"$error":"#REF!"}},{"$f":"IF(#REF!=\"\", \"\",#REF!* AC20)","v":{"$error":"#REF!"}},{"$error":"#REF!"},null,null,{"$f":"IF(#REF!=\"\",\"\",VLOOKUP(#REF!,BDD!$A$5:$I$63,2,0))","v":{"$error":"#REF!"}},{"$f":"IF(AN20=\"graminée\",#REF!, \"\")","v":{"$error":"#REF!"}},{"$f":"IF(AN20=\"Légumineuse\",#REF!, \"\")","v":{"$error":"#REF!"}},{"$f":"IF(AN20=\"Crucifère\",#REF!, \"\")","v":{"$error":"#REF!"}},{"$f":" IF(SUM(AO20:AQ20)>0, \"\",#REF!)","v":{"$error":"#REF!"}},{"$f":"IF(AN20=\"graminée\",#REF!, \"\")","v":{"$error":"#REF!"}},{"$f":"IF(AN20=\"Légumineuse\",#REF!, \"\")","v":{"$error":"#REF!"}},{"$f":"IF(AN20=\"Crucifère\",#REF!, \"\")","v":{"$error":"#REF!"}},{"$f":" IF(SUM(AS20:AU20)>0, \"\",#REF!)","v":{"$error":"#REF!"}},{"$f":"IF(#REF!=\"\",\"\",VLOOKUP(#REF!,BDD!$A$5:$J$63,10,0))","v":{"$error":"#REF!"}},{"$f":"IF(#REF!=\"\", \"\", (#REF!*100)/AW20)","v":{"$error":"#REF!"}},{"$f":"IF(#REF!= \"\", \"\", (#REF!*100)/AW20)","v":{"$error":"#REF!"}},null,{"$f":" IF(#REF!=\"\", \"\",#REF!)","v":{"$error":"#REF!"}},{"$error":"#REF!"}]
[null,{"$f":"IF(#REF!=\"\", \"\", VLOOKUP('Aide _au_choix'!#REF!,BDD!$A$6:$M$63,13,1))","v":{"$error":"#REF!"}},"Trèfle violet",null,"Trèfle d'Alexandrie",null,null,"Vesce érigée",null,{"$f":"IF(#REF!=\"\",\"\",VLOOKUP(#REF!,BDD!$A$5:$I$63,2,0))","v":{"$error":"#REF!"}},{"$f":"IF(#REF!=\"\",\"\",VLOOKUP(#REF!,BDD!$A$5:$I$63,3,0))","v":{"$error":"#REF!"}},{"$f":"IF(#REF!=\"\",\"\",VLOOKUP(#REF!,BDD!$A$5:$I$63,4,0))","v":{"$error":"#REF!"}},null,{"$f":"Choix_des_couvert!B61","v":""},{"$f":"Choix_des_couvert!C61","v":""},{"$f":"Choix_des_couvert!D61","v":""},{"$f":"Choix_des_couvert!E61","v":"Vesce velue"},null,null,null,null,null,null,null,null,{"$f":"IF(#REF!=\"\",\"\",VLOOKUP(#REF!,BDD!$A$5:$I$63,5,0))","v":{"$error":"#REF!"}},{"$f":"#REF!","v":{"$error":"#REF!"}},{"$f":"IF(#REF!=\"\", \"\", Z21*AA21)","v":{"$error":"#REF!"}},{"$f":"IF(#REF!=\"\",\"\",VLOOKUP(#REF!,BDD!$A$5:$I$63,7,0))","v":{"$error":"#REF!"}},{"$f":"#REF!","v":{"$error":"#REF!"}},{"$f":"IF(#REF!=\"\", \"\", AC21*AD21)","v":{"$error":"#REF!"}},{"$f":"IF(#REF!=\"\", \"\",#REF!* Z21)","v":{"$error":"#REF!"}},{"$f":"#REF!","v":{"$error":"#REF!"}},{"$f":"IF(#REF!=\"\", \"\", AG21*Z21)","v":{"$error":"#REF!"}},{"$f":"IF(#REF!=\"\", \"\",#REF!* 4)","v":{"$error":"#REF!"}},{"$f":"IF(#REF!=\"\", \"\",#REF!* AC21)","v":{"$error":"#REF!"}},{"$error":"#REF!"},null,null,{"$f":"IF(#REF!=\"\",\"\",VLOOKUP(#REF!,BDD!$A$5:$I$63,2,0))","v":{"$error":"#REF!"}},{"$f":"IF(AN21=\"graminée\",#REF!, \"\")","v":{"$error":"#REF!"}},{"$f":"IF(AN21=\"Légumineuse\",#REF!, \"\")","v":{"$error":"#REF!"}},{"$f":"IF(AN21=\"Crucifère\",#REF!, \"\")","v":{"$error":"#REF!"}},{"$f":" IF(SUM(AO21:AQ21)>0, \"\",#REF!)","v":{"$error":"#REF!"}},{"$f":"IF(AN21=\"graminée\",#REF!, \"\")","v":{"$error":"#REF!"}},{"$f":"IF(AN21=\"Légumineuse\",#REF!, \"\")","v":{"$error":"#REF!"}},{"$f":"IF(AN21=\"Crucifère\",#REF!, \"\")","v":{"$error":"#REF!"}},{"$f":" IF(SUM(AS21:AU21)>0, \"\",#REF!)","v":{"$error":"#REF!"}},{"$f":"IF(#REF!=\"\",\"\",VLOOKUP(#REF!,BDD!$A$5:$J$63,10,0))","v":{"$error":"#REF!"}},{"$f":"IF(#REF!=\"\", \"\", (#REF!*100)/AW21)","v":{"$error":"#REF!"}},{"$f":"IF(#REF!= \"\", \"\", (#REF!*100)/AW21)","v":{"$error":"#REF!"}},null,{"$f":" IF(#REF!=\"\", \"\",#REF!)","v":{"$error":"#REF!"}},{"$error":"#REF!"}]
[null,{"$f":"IF(C22=\"\", \"\", VLOOKUP('Aide _au_choix'!C22,BDD!$A$6:$M$63,13,1))","v":48},"Trèfle incarnat",null,"Trefle de perse",null,null,"Trèfle de Micheli",null,{"$f":"IF(#REF!=\"\",\"\",VLOOKUP(#REF!,BDD!$A$5:$I$63,2,0))","v":{"$error":"#REF!"}},{"$f":"IF(#REF!=\"\",\"\",VLOOKUP(#REF!,BDD!$A$5:$I$63,3,0))","v":{"$error":"#REF!"}},{"$f":"IF(#REF!=\"\",\"\",VLOOKUP(#REF!,BDD!$A$5:$I$63,4,0))","v":{"$error":"#REF!"}},null,{"$f":"Choix_des_couvert!B62","v":"Crotalaire"},{"$f":"Choix_des_couvert!C62","v":""},{"$f":"Choix_des_couvert!D62","v":""},{"$f":"Choix_des_couvert!E62","v":"Vesce de Narbonne"},null,null,null,null,null,null,null,null,{"$f":"IF(#REF!=\"\",\"\",VLOOKUP(#REF!,BDD!$A$5:$I$63,5,0))","v":{"$error":"#REF!"}},{"$f":"#REF!","v":{"$error":"#REF!"}},{"$f":"IF(#REF!=\"\", \"\", Z22*AA22)","v":{"$error":"#REF!"}},{"$f":"IF(#REF!=\"\",\"\",VLOOKUP(#REF!,BDD!$A$5:$I$63,7,0))","v":{"$error":"#REF!"}},{"$f":"#REF!","v":{"$error":"#REF!"}},{"$f":"IF(#REF!=\"\", \"\", AC22*AD22)","v":{"$error":"#REF!"}},{"$f":"IF(#REF!=\"\", \"\",#REF!* Z22)","v":{"$error":"#REF!"}},{"$f":"#REF!","v":{"$error":"#REF!"}},{"$f":"IF(#REF!=\"\", \"\", AG22*Z22)","v":{"$error":"#REF!"}},{"$f":"IF(#REF!=\"\", \"\",#REF!* 4)","v":{"$error":"#REF!"}},{"$f":"IF(#REF!=\"\", \"\",#REF!* AC22)","v":{"$error":"#REF!"}},{"$error":"#REF!"},null,null,{"$f":"IF(#REF!=\"\",\"\",VLOOKUP(#REF!,BDD!$A$5:$I$63,2,0))","v":{"$error":"#REF!"}},{"$f":"IF(AN22=\"graminée\",#REF!, \"\")","v":{"$error":"#REF!"}},{"$f":"IF(AN22=\"Légumineuse\",#REF!, \"\")","v":{"$error":"#REF!"}},{"$f":"IF(AN22=\"Crucifère\",#REF!, \"\")","v":{"$error":"#REF!"}},{"$f":" IF(SUM(AO22:AQ22)>0, \"\",#REF!)","v":{"$error":"#REF!"}},{"$f":"IF(AN22=\"graminée\",#REF!, \"\")","v":{"$error":"#REF!"}},{"$f":"IF(AN22=\"Légumineuse\",#REF!, \"\")","v":{"$error":"#REF!"}},{"$f":"IF(AN22=\"Crucifère\",#REF!, \"\")","v":{"$error":"#REF!"}},{"$f":" IF(SUM(AS22:AU22)>0, \"\",#REF!)","v":{"$error":"#REF!"}},{"$f":"IF(#REF!=\"\",\"\",VLOOKUP(#REF!,BDD!$A$5:$J$63,10,0))","v":{"$error":"#REF!"}},{"$f":"IF(#REF!=\"\", \"\", (#REF!*100)/AW22)","v":{"$error":"#REF!"}},{"$f":"IF(#REF!= \"\", \"\", (#REF!*100)/AW22)","v":{"$error":"#REF!"}},null,{"$f":" IF(#REF!=\"\", \"\",#REF!)","v":{"$error":"#REF!"}},{"$error":"#REF!"}]
[null,{"$f":"IF(C23=\"\", \"\", VLOOKUP('Aide _au_choix'!C23,BDD!$A$6:$M$63,13,1))","v":""},null,null,null,null,null,"Les autres trèfles",null,{"$f":"IF(#REF!=\"\",\"\",VLOOKUP(#REF!,BDD!$A$5:$I$63,2,0))","v":{"$error":"#REF!"}},{"$f":"IF(#REF!=\"\",\"\",VLOOKUP(#REF!,BDD!$A$5:$I$63,3,0))","v":{"$error":"#REF!"}},{"$f":"IF(#REF!=\"\",\"\",VLOOKUP(#REF!,BDD!$A$5:$I$63,4,0))","v":{"$error":"#REF!"}},null,{"$f":"Choix_des_couvert!B63","v":"Fénugrec"},{"$f":"Choix_des_couvert!C63","v":""},{"$f":"Choix_des_couvert!D63","v":""},{"$f":"Choix_des_couvert!E63","v":"Vesce de Pannonie"},null,null,null,null,null,null,null,null,{"$f":"IF(#REF!=\"\",\"\",VLOOKUP(#REF!,BDD!$A$5:$I$63,5,0))","v":{"$error":"#REF!"}},{"$f":"#REF!","v":{"$error":"#REF!"}},{"$f":"IF(#REF!=\"\", \"\", Z23*AA23)","v":{"$error":"#REF!"}},{"$f":"IF(#REF!=\"\",\"\",VLOOKUP(#REF!,BDD!$A$5:$I$63,7,0))","v":{"$error":"#REF!"}},{"$f":"#REF!","v":{"$error":"#REF!"}},{"$f":"IF(#REF!=\"\", \"\", AC23*AD23)","v":{"$error":"#REF!"}},{"$f":"IF(#REF!=\"\", \"\",#REF!* Z23)","v":{"$error":"#REF!"}},{"$f":"#REF!","v":{"$error":"#REF!"}},{"$f":"IF(#REF!=\"\", \"\", AG23*Z23)","v":{"$error":"#REF!"}},{"$f":"IF(#REF!=\"\", \"\",#REF!* 4)","v":{"$error":"#REF!"}},{"$f":"IF(#REF!=\"\", \"\",#REF!* AC23)","v":{"$error":"#REF!"}},{"$error":"#REF!"},null,null,{"$f":"IF(#REF!=\"\",\"\",VLOOKUP(#REF!,BDD!$A$5:$I$63,2,0))","v":{"$error":"#REF!"}},{"$f":"IF(AN23=\"graminée\",#REF!, \"\")","v":{"$error":"#REF!"}},{"$f":"IF(AN23=\"Légumineuse\",#REF!, \"\")","v":{"$error":"#REF!"}},{"$f":"IF(AN23=\"Crucifère\",#REF!, \"\")","v":{"$error":"#REF!"}},{"$f":" IF(SUM(AO23:AQ23)>0, \"\",#REF!)","v":{"$error":"#REF!"}},{"$f":"IF(AN23=\"graminée\",#REF!, \"\")","v":{"$error":"#REF!"}},{"$f":"IF(AN23=\"Légumineuse\",#REF!, \"\")","v":{"$error":"#REF!"}},{"$f":"IF(AN23=\"Crucifère\",#REF!, \"\")","v":{"$error":"#REF!"}},{"$f":" IF(SUM(AS23:AU23)>0, \"\",#REF!)","v":{"$error":"#REF!"}},{"$f":"IF(#REF!=\"\",\"\",VLOOKUP(#REF!,BDD!$A$5:$J$63,10,0))","v":{"$error":"#REF!"}},{"$f":"IF(#REF!=\"\", \"\", (#REF!*100)/AW23)","v":{"$error":"#REF!"}},{"$f":"IF(#REF!= \"\", \"\", (#REF!*100)/AW23)","v":{"$error":"#REF!"}},null,{"$f":" IF(#REF!=\"\", \"\",#REF!)","v":{"$error":"#REF!"}},{"$error":"#REF!"}]
[null,{"$f":"IF(C25=\"\", \"\", VLOOKUP('Aide _au_choix'!C25,BDD!$A$6:$M$63,13,1))","v":18},null,null,null,null,null,null,null,{"$f":"IF(#REF!=\"\",\"\",VLOOKUP(#REF!,BDD!$A$5:$I$63,2,0))","v":{"$error":"#REF!"}},{"$f":"IF(#REF!=\"\",\"\",VLOOKUP(#REF!,BDD!$A$5:$I$63,3,0))","v":{"$error":"#REF!"}},{"$f":"IF(#REF!=\"\",\"\",VLOOKUP(#REF!,BDD!$A$5:$I$63,4,0))","v":{"$error":"#REF!"}},null,{"$f":"Choix_des_couvert!B64","v":"Féverole"},{"$f":"Choix_des_couvert!C64","v":""},{"$f":"Choix_des_couvert!D64","v":""},{"$f":"Choix_des_couvert!E64","v":""},null,null,null,null,null,null,null,null,{"$f":"IF(#REF!=\"\",\"\",VLOOKUP(#REF!,BDD!$A$5:$I$63,5,0))","v":{"$error":"#REF!"}},{"$f":"#REF!","v":{"$error":"#REF!"}},{"$f":"IF(#REF!=\"\", \"\", Z24*AA24)","v":{"$error":"#REF!"}},{"$f":"IF(#REF!=\"\",\"\",VLOOKUP(#REF!,BDD!$A$5:$I$63,7,0))","v":{"$error":"#REF!"}},{"$f":"#REF!","v":{"$error":"#REF!"}},{"$f":"IF(#REF!=\"\", \"\", AC24*AD24)","v":{"$error":"#REF!"}},{"$f":"IF(#REF!=\"\", \"\",#REF!* Z24)","v":{"$error":"#REF!"}},{"$f":"#REF!","v":{"$error":"#REF!"}},{"$f":"IF(#REF!=\"\", \"\", AG24*Z24)","v":{"$error":"#REF!"}},{"$f":"IF(#REF!=\"\", \"\",#REF!* 4)","v":{"$error":"#REF!"}},{"$f":"IF(#REF!=\"\", \"\",#REF!* AC24)","v":{"$error":"#REF!"}},{"$error":"#REF!"},null,null,{"$f":"IF(#REF!=\"\",\"\",VLOOKUP(#REF!,BDD!$A$5:$I$63,2,0))","v":{"$error":"#REF!"}},{"$f":"IF(AN24=\"graminée\",#REF!, \"\")","v":{"$error":"#REF!"}},{"$f":"IF(AN24=\"Légumineuse\",#REF!, \"\")","v":{"$error":"#REF!"}},{"$f":"IF(AN24=\"Crucifère\",#REF!, \"\")","v":{"$error":"#REF!"}},{"$f":" IF(SUM(AO24:AQ24)>0, \"\",#REF!)","v":{"$error":"#REF!"}},{"$f":"IF(AN24=\"graminée\",#REF!, \"\")","v":{"$error":"#REF!"}},{"$f":"IF(AN24=\"Légumineuse\",#REF!, \"\")","v":{"$error":"#REF!"}},{"$f":"IF(AN24=\"Crucifère\",#REF!, \"\")","v":{"$error":"#REF!"}},{"$f":" IF(SUM(AS24:AU24)>0, \"\",#REF!)","v":{"$error":"#REF!"}},{"$f":"IF(#REF!=\"\",\"\",VLOOKUP(#REF!,BDD!$A$5:$J$63,10,0))","v":{"$error":"#REF!"}},{"$f":"IF(#REF!=\"\", \"\", (#REF!*100)/AW24)","v":{"$error":"#REF!"}},{"$f":"IF(#REF!= \"\", \"\", (#REF!*100)/AW24)","v":{"$error":"#REF!"}},null,{"$f":" IF(#REF!=\"\", \"\",#REF!)","v":{"$error":"#REF!"}},{"$error":"#REF!"}]
[null,null,"Lin","Carthame",null,null,null,null,null,null,null,null,null,{"$f":"Choix_des_couvert!B65","v":"Gesse"},{"$f":"Choix_des_couvert!C65","v":""},{"$f":"Choix_des_couvert!D65","v":"Trèfle Blanc"},{"$f":"Choix_des_couvert!E65","v":""},null,null,null,null,null,null,null,"Total",{"$f":"SUM(Z10:Z24)","v":{"$error":"#REF!"}},{"$f":"SUM(AA10:AA24)","v":{"$error":"#REF!"}},{"$error":"#REF!"},{"$f":"SUM(AC10:AC24)","v":{"$error":"#REF!"}},{"$f":"SUM(AD10:AD24)","v":{"$error":"#REF!"}},{"$error":"#REF!"},{"$error":"#REF!"},null,{"$f":"SUM(AH10:AH24)","v":{"$error":"#REF!"}},200,{"$f":"SUM(AJ10:AJ24)","v":{"$error":"#REF!"}},null,null,null,"SOMME",{"$f":"SUM(AO10:AO24)","v":{"$error":"#REF!"}},{"$f":"SUM(AP10:AP24)","v":{"$error":"#REF!"}},{"$error":"#REF!"},{"$error":"#REF!"},{"$error":"#REF!"},{"$error":"#REF!"},{"$error":"#REF!"},{"$error":"#REF!"}]
[null,null,"Niger","Chia",null,null,null,null,null,null,null,null,null,{"$f":"Choix_des_couvert!B66","v":"Lentille fourragère"},{"$f":"Choix_des_couvert!C66","v":"Pois fourrager"},{"$f":"Choix_des_couvert!D66","v":"Trèfle d'Alexandrie"},{"$f":"Choix_des_couvert!E66","v":""},null,null,null,null,null,null,null,"Maximum",{"$f":"4*#REF!","v":{"$error":"#REF!"}},200,null,{"$f":"4*#REF!","v":{"$error":"#REF!"}},200,null,200,null,null,null,{"$f":"#REF!*4","v":{"$error":"#REF!"}},null,null,null,"Maximum",{"$f":"#REF!","v":{"$error":"#REF!"}},{"$f":"#REF!","v":{"$error":"#REF!"}},{"$f":"#REF!","v":{"$error":"#REF!"}},{"$f":"#REF!","v":{"$error":"#REF!"}},{"$f":"#REF!","v":{"$error":"#REF!"}},{"$f":"#REF!","v":{"$error":"#REF!"}},{"$f":"#REF!","v":{"$error":"#REF!"}},{"$f":"#REF!","v":{"$error":"#REF!"}}]
[null,null,"Phacélie","Mauve",null,null,null,null,null,null,null,null,null,{"$f":"Choix_des_couvert!B67","v":"Lin"},{"$f":"Choix_des_couvert!C67","v":"Pois protéagineux"},{"$f":"Choix_des_couvert!D67","v":"Trèfle de Micheli"},{"$f":"Choix_des_couvert!E67","v":""},null,null,null,null,null,null,null,"%",{"$f":"(Z25*100)/Z26","v":{"$error":"#REF!"}},null,{"$f":"IF(AB25<AA26, (AB25*100)/AA26, 99)","v":{"$error":"#REF!"}},{"$f":"(AC25*100)/AC26","v":{"$error":"#REF!"}},null,{"$f":"IF(AE25<AD26, IF(#REF!=\"\", 0, (AE25*100)/AD26), 99)","v":{"$error":"#REF!"}},{"$f":"(AF25*100)/AI25","v":{"$error":"#REF!"}},null,{"$f":"IF(AH25<AI25, (AH25*100)/AF26, 99)","v":{"$error":"#REF!"}},null,{"$f":"IF(AJ25<AI25, (AJ25*100)/AI25, 99)","v":{"$error":"#REF!"}},null,null,null,"%",{"$f":"(AO25*100)/AO26","v":{"$error":"#REF!"}},{"$f":"(AP25*100)/AP26","v":{"$error":"#REF!"}},{"$error":"#REF!"},{"$error":"#REF!"},{"$error":"#REF!"},{"$error":"#REF!"},{"$error":"#REF!"},{"$error":"#REF!"}]
[null,null,"Sarrasin",null,null,null,null,null,null,null,null,null,null,{"$f":"Choix_des_couvert!B68","v":"Lotier Corniculé"},{"$f":"Choix_des_couvert!C68","v":""},{"$f":"Choix_des_couvert!D68","v":"Trèfle de perse"},{"$f":"Choix_des_couvert!E68","v":""},null,null,null,null,null,null,null,null,true,false]
[null,null,"Tournesol"]
[]
[]
[]
[null,null,null,1,1,1]
[null,null,null,2,2,2]
[null,null,null,3,3,3]
[]
[]
[]
[]
[]
[]
[]
[]
[null,null,null,"TYPE","NB","%","NB conseillé","NB Ajusté"]
[null,null,null,"Graminées",{"$f":"IF($Z$28=FALSE, G45,H45)","v":{"$error":"#REF!"}},{"$f":"E45","v":{"$error":"#REF!"}},{"$f":"AO27","v":{"$error":"#REF!"}},{"$f":"AS27","v":{"$error":"#REF!"}}]
[null,null,null,"Légumineuses",{"$f":"IF($Z$28=FALSE, G46,H46)","v":{"$error":"#REF!"}},{"$f":"E46","v":{"$error":"#REF!"}},{"$f":"AP27","v":{"$error":"#REF!"}},{"$f":"AT27","v":{"$error":"#REF!"}}]
[null,null,null,"Crucifères",{"$f":"IF($Z$28=FALSE, G47,H47)","v":{"$error":"#REF!"}},{"$error":"#REF!"},{"$f":"AQ27","v":{"$error":"#REF!"}},{"$f":"AU27","v":{"$error":"#REF!"}}]
[null,null,null,"Autres",{"$f":"IF($Z$28=FALSE, G48,H48)","v":{"$error":"#REF!"}},{"$error":"#REF!"},{"$f":"AR27","v":{"$error":"#REF!"}},{"$f":"AV27","v":{"$error":"#REF!"}}]
[]
[null,null,null,"HAUTEUR","NB","%"]
[null,null,null,"Basse",{"$f":"COUNTIFS($K$10:$K$24,\"1\")","v":0},{"$f":"(E51*100)/#REF!","v":{"$error":"#REF!"}}]
[null,null,null,"Intermédiaire",{"$f":"COUNTIFS($K$10:$K$24,\"2\")","v":0},{"$f":"(E52*100)/#REF!","v":{"$error":"#REF!"}}]
[null,null,null,"Haute",{"$f":"COUNTIFS($K$10:$K$24,\"3\")","v":0},{"$f":"(E53*100)/#REF!","v":{"$error":"#REF!"}}]
[]
[null,null,null,"RACINES","NB","%"]
[null,null,null,"Superficiel",{"$f":"COUNTIFS($L$10:$L$24,\"1\")","v":0},{"$f":"(E56*100)/#REF!","v":{"$error":"#REF!"}}]
[null,null,null,"Intermédiaire",{"$f":"COUNTIFS($L$10:$L$24,\"2\")","v":0},{"$f":"(E57*100)/#REF!","v":{"$error":"#REF!"}}]
[null,null,null,"Profonde",{"$f":"COUNTIFS($L$10:$L$24,\"3\")","v":0},{"$f":"(E58*100)/#REF!","v":{"$error":"#REF!"}}]

{"sheet":"Implantation","index":101,"n_rows":58,"n_cols":54,"rows_kept":58,"cut":false,"hidden":false,"merged":[[0,12,0,22],[3,17,3,22],[59,1,59,2],[59,3,59,4],[59,5,59,6],[59,7,59,8],[7,3,7,5],[7,6,7,8],[26,4,26,7],[27,4,27,7],[28,4,28,7]]}
[]
[]
[]
[]
[]
[]
[]
[null,null,null,"DATE DE SEMIS",null,null,"MODE DE SEMIS",null,null,null,null,null,null,null,null,null,null,null,null,null,null,null,null,null,null,null,null,null,null,null,null,null,null,null,null,null,null,null,null,"Conseillé",null,null,null,null,"Ajusté",null,null,null,"PMG","NB pieds Conseillé","NB ajusté"]
[null,null,null,"Avant le 05 août","Entre le 05 et le 25 août","Après le 25 août","Semis à la volée","Semis avec travail du sol","Semis direct","Type","Hauteur","Racine",null,null,null,null,null,null,null,null,null,null,null,null,null,"Conseillé Biomasse","Dose","Note","Conseillé Azote","Dose","Note","Ajusté Biomasse","Dose","Note","Ajusté max","Ajustée Azote","Dose","Note",null,null,"Graminées","Legumineuse","Crucifères","Autres","Graminées","Legumineuse","Crucifères","Autres",null,null,null,null,"Couvert","NB Pieds"]
[null,null,{"$f":"IF(Composition!C10<>\"\", Composition!C10, \"\")","v":"Moutarde d'Abyssinie"},{"$f":"IF(C10=\"\",\"\",VLOOKUP(C10,BDD!$A$5:$W$63,21,0))","v":1},{"$f":"IF(C10=\"\",\"\",VLOOKUP(C10,BDD!$A$5:$W$63,22,0))","v":1},{"$f":"IF(C10=\"\",\"\",VLOOKUP(C10,BDD!$A$5:$W$63,23,0))","v":1},{"$f":"IF(C10=\"\",\"\",VLOOKUP(C10,BDD!$A$5:$AB$63,26,0))","v":1},{"$f":"IF(C10=\"\",\"\",VLOOKUP(C10,BDD!$A$5:$AB$63,27,0))","v":1},{"$f":"IF(C10=\"\",\"\",VLOOKUP(C10,BDD!$A$5:$AB$63,28,0))","v":1},{"$f":"IF(C62=\"\",\"\",VLOOKUP(C62,BDD!$A$5:$I$63,2,0))","v":""},{"$f":"IF(C62=\"\",\"\",VLOOKUP(C62,BDD!$A$5:$I$63,3,0))","v":""},{"$f":"IF(C62=\"\",\"\",VLOOKUP(C62,BDD!$A$5:$I$63,4,0))","v":""},null,null,null,null,null,null,null,null,null,null,null,null,null,{"$f":"IF(C62=\"\",\"\",VLOOKUP(C62,BDD!$A$5:$I$63,5,0))","v":""},{"$f":"F62","v":0},{"$f":"IF(C62=\"\", \"\", Z10*AA10)","v":""},{"$f":"IF(C62=\"\",\"\",VLOOKUP(C62,BDD!$A$5:$I$63,7,0))","v":""},{"$f":"F62","v":0},{"$f":"IF(C62=\"\", \"\", AC10*AD10)","v":""},{"$f":"IF(C62=\"\", \"\", H62*Z10)","v":""},{"$f":"H62","v":0},{"$f":"IF(C62=\"\", \"\", AG10*Z10)","v":""},{"$f":"IF(C62=\"\", \"\", H62*4)","v":""},{"$f":"IF(C62=\"\", \"\", H62*AC10)","v":""},{"$f":"AG10","v":0},null,null,{"$f":"IF(C62=\"\",\"\",VLOOKUP(C62,BDD!$A$5:$I$63,2,0))","v":""},{"$f":"IF(AN10=\"graminée\", F62, \"\")","v":""},{"$f":"IF(AN10=\"Légumineuse\", F62, \"\")","v":""},{"$f":"IF(AN10=\"Crucifère\", F62, \"\")","v":""},{"$f":"IF(SUM(AO10:AQ10)>0, \"\", F62)","v":0},{"$f":"IF(AN10=\"graminée\", H62, \"\")","v":""},{"$f":"IF(AN10=\"Légumineuse\", H62, \"\")","v":""},{"$f":"IF(AN10=\"Crucifère\", H62, \"\")","v":""},{"$f":"IF(SUM(AS10:AU10)>0, \"\", H62)","v":0},{"$f":"IF(C62=\"\",\"\",VLOOKUP(C62,BDD!$A$5:$J$63,10,0))","v":""},{"$f":"IF(C62=\"\", \"\", (F62*100)/AW10)","v":""},{"$f":"IF(C62= \"\", \"\", (H62*100)/AW10)","v":""},null,{"$f":"IF(C62=\"\", \"\", C62)","v":""},{"$f":"IF($Z$28=TRUE, AY10, AX10)","v":""}]
[null,null,{"$f":"IF(Composition!C11<>\"\", Composition!C11, \"\")","v":"Vesce pourpre"},{"$f":"IF(C11=\"\",\"\",VLOOKUP(C11,BDD!$A$5:$W$63,21,0))","v":1},{"$f":"IF(C11=\"\",\"\",VLOOKUP(C11,BDD!$A$5:$W$63,22,0))","v":1},{"$f":"IF(C11=\"\",\"\",VLOOKUP(C11,BDD!$A$5:$W$63,23,0))","v":2},{"$f":"IF(C11=\"\",\"\",VLOOKUP(C11,BDD!$A$5:$AB$63,26,0))","v":1},{"$f":"IF(C11=\"\",\"\",VLOOKUP(C11,BDD!$A$5:$AB$63,27,0))","v":1},{"$f":"IF(C11=\"\",\"\",VLOOKUP(C11,BDD!$A$5:$AB$63,28,0))","v":1},{"$f":"IF(C63=\"\",\"\",VLOOKUP(C63,BDD!$A$5:$I$63,2,0))","v":""},{"$f":"IF(C63=\"\",\"\",VLOOKUP(C63,BDD!$A$5:$I$63,3,0))","v":""},{"$f":"IF(C63=\"\",\"\",VLOOKUP(C63,BDD!$A$5:$I$63,4,0))","v":""},null,null,null,null,null,null,null,null,null,null,null,null,null,{"$f":"IF(C63=\"\",\"\",VLOOKUP(C63,BDD!$A$5:$I$63,5,0))","v":""},0,"",{"$f":"IF(C63=\"\",\"\",VLOOKUP(C63,BDD!$A$5:$I$63,7,0))","v":""},0,"","",0,"","","",{"$f":"AG11","v":0},null,null,{"$f":"IF(C63=\"\",\"\",VLOOKUP(C63,BDD!$A$5:$I$63,2,0))","v":""},"","","",0,"","","",0,{"$f":"IF(C63=\"\",\"\",VLOOKUP(C63,BDD!$A$5:$J$63,10,0))","v":""},"","",null,"",{"$f":"IF($Z$28=TRUE, AY11, AX11)","v":""}]
[null,null,{"$f":"IF(Composition!C12<>\"\", Composition!C12, \"\")","v":"Trèfle d'Alexandrie"},{"$f":"IF(C12=\"\",\"\",VLOOKUP(C12,BDD!$A$5:$W$63,21,0))","v":1},{"$f":"IF(C12=\"\",\"\",VLOOKUP(C12,BDD!$A$5:$W$63,22,0))","v":1},{"$f":"IF(C12=\"\",\"\",VLOOKUP(C12,BDD!$A$5:$W$63,23,0))","v":2},{"$f":"IF(C12=\"\",\"\",VLOOKUP(C12,BDD!$A$5:$AB$63,26,0))","v":1},{"$f":"IF(C12=\"\",\"\",VLOOKUP(C12,BDD!$A$5:$AB$63,27,0))","v":1},{"$f":"IF(C12=\"\",\"\",VLOOKUP(C12,BDD!$A$5:$AB$63,28,0))","v":1},{"$f":"IF(C64=\"\",\"\",VLOOKUP(C64,BDD!$A$5:$I$63,2,0))","v":""},{"$f":"IF(C64=\"\",\"\",VLOOKUP(C64,BDD!$A$5:$I$63,3,0))","v":""},{"$f":"IF(C64=\"\",\"\",VLOOKUP(C64,BDD!$A$5:$I$63,4,0))","v":""},null,null,null,null,null,null,null,null,null,null,null,null,null,{"$f":"IF(C64=\"\",\"\",VLOOKUP(C64,BDD!$A$5:$I$63,5,0))","v":""},0,"",{"$f":"IF(C64=\"\",\"\",VLOOKUP(C64,BDD!$A$5:$I$63,7,0))","v":""},0,"","",0,"","","",0,null,null,{"$f":"IF(C64=\"\",\"\",VLOOKUP(C64,BDD!$A$5:$I$63,2,0))","v":""},"","","",0,"","","",0,{"$f":"IF(C64=\"\",\"\",VLOOKUP(C64,BDD!$A$5:$J$63,10,0))","v":""},"","",null,"",""]
[null,null,{"$f":"IF(Composition!C13<>\"\", Composition!C13, \"\")","v":"Phacélie"},{"$f":"IF(C13=\"\",\"\",VLOOKUP(C13,BDD!$A$5:$W$63,21,0))","v":2},{"$f":"IF(C13=\"\",\"\",VLOOKUP(C13,BDD!$A$5:$W$63,22,0))","v":1},{"$f":"IF(C13=\"\",\"\",VLOOKUP(C13,BDD!$A$5:$W$63,23,0))","v":3},{"$f":"IF(C13=\"\",\"\",VLOOKUP(C13,BDD!$A$5:$AB$63,26,0))","v":2},{"$f":"IF(C13=\"\",\"\",VLOOKUP(C13,BDD!$A$5:$AB$63,27,0))","v":1},{"$f":"IF(C13=\"\",\"\",VLOOKUP(C13,BDD!$A$5:$AB$63,28,0))","v":1},{"$f":"IF(C65=\"\",\"\",VLOOKUP(C65,BDD!$A$5:$I$63,2,0))","v":""},{"$f":"IF(C65=\"\",\"\",VLOOKUP(C65,BDD!$A$5:$I$63,3,0))","v":""},{"$f":"IF(C65=\"\",\"\",VLOOKUP(C65,BDD!$A$5:$I$63,4,0))","v":""},null,null,null,null,null,null,null,null,null,null,null,null,null,{"$f":"IF(C65=\"\",\"\",VLOOKUP(C65,BDD!$A$5:$I$63,5,0))","v":""},0,"",{"$f":"IF(C65=\"\",\"\",VLOOKUP(C65,BDD!$A$5:$I$63,7,0))","v":""},0,"","",0,"","","",0,null,null,{"$f":"IF(C65=\"\",\"\",VLOOKUP(C65,BDD!$A$5:$I$63,2,0))","v":""},"","","",0,"","","",0,{"$f":"IF(C65=\"\",\"\",VLOOKUP(C65,BDD!$A$5:$J$63,10,0))","v":""},"","",null,"",""]
[null,null,{"$f":"IF(Composition!C14<>\"\", Composition!C14, \"\")","v":"Avoine bresilienne"},{"$f":"IF(C14=\"\",\"\",VLOOKUP(C14,BDD!$A$5:$W$63,21,0))","v":1},{"$f":"IF(C14=\"\",\"\",VLOOKUP(C14,BDD!$A$5:$W$63,22,0))","v":2},{"$f":"IF(C14=\"\",\"\",VLOOKUP(C14,BDD!$A$5:$W$63,23,0))","v":3},{"$f":"IF(C14=\"\",\"\",VLOOKUP(C14,BDD!$A$5:$AB$63,26,0))","v":3},{"$f":"IF(C14=\"\",\"\",VLOOKUP(C14,BDD!$A$5:$AB$63,27,0))","v":1},{"$f":"IF(C14=\"\",\"\",VLOOKUP(C14,BDD!$A$5:$AB$63,28,0))","v":1},{"$f":"IF(C66=\"\",\"\",VLOOKUP(C66,BDD!$A$5:$I$63,2,0))","v":""},{"$f":"IF(C66=\"\",\"\",VLOOKUP(C66,BDD!$A$5:$I$63,3,0))","v":""},{"$f":"IF(C66=\"\",\"\",VLOOKUP(C66,BDD!$A$5:$I$63,4,0))","v":""},null,null,null,null,null,null,null,null,null,null,null,null,null,{"$f":"IF(C66=\"\",\"\",VLOOKUP(C66,BDD!$A$5:$I$63,5,0))","v":""},0,"",{"$f":"IF(C66=\"\",\"\",VLOOKUP(C66,BDD!$A$5:$I$63,7,0))","v":""},0,"","",0,"","","",0,null,null,{"$f":"IF(C66=\"\",\"\",VLOOKUP(C66,BDD!$A$5:$I$63,2,0))","v":""},"","","",0,"","","",0,{"$f":"IF(C66=\"\",\"\",VLOOKUP(C66,BDD!$A$5:$J$63,10,0))","v":""},"","",null,"",""]
[null,null,{"$f":"IF(Composition!C15<>\"\", Composition!C15, \"\")","v":""},{"$f":"IF(C15=\"\",\"\",VLOOKUP(C15,BDD!$A$5:$W$63,21,0))","v":""},{"$f":"IF(C15=\"\",\"\",VLOOKUP(C15,BDD!$A$5:$W$63,22,0))","v":""},{"$f":"IF(C15=\"\",\"\",VLOOKUP(C15,BDD!$A$5:$W$63,23,0))","v":""},{"$f":"IF(C15=\"\",\"\",VLOOKUP(C15,BDD!$A$5:$AB$63,26,0))","v":""},{"$f":"IF(C15=\"\",\"\",VLOOKUP(C15,BDD!$A$5:$AB$63,27,0))","v":""},{"$f":"IF(C15=\"\",\"\",VLOOKUP(C15,BDD!$A$5:$AB$63,28,0))","v":""},{"$f":"IF(C67=\"\",\"\",VLOOKUP(C67,BDD!$A$5:$I$63,2,0))","v":""},{"$f":"IF(C67=\"\",\"\",VLOOKUP(C67,BDD!$A$5:$I$63,3,0))","v":""},{"$f":"IF(C67=\"\",\"\",VLOOKUP(C67,BDD!$A$5:$I$63,4,0))","v":""},null,null,null,null,null,null,null,null,null,null,null,null,null,{"$f":"IF(C67=\"\",\"\",VLOOKUP(C67,BDD!$A$5:$I$63,5,0))","v":""},0,"",{"$f":"IF(C67=\"\",\"\",VLOOKUP(C67,BDD!$A$5:$I$63,7,0))","v":""},0,"","",0,"","","",0,null,null,{"$f":"IF(C67=\"\",\"\",VLOOKUP(C67,BDD!$A$5:$I$63,2,0))","v":""},"","","",0,"","","",0,{"$f":"IF(C67=\"\",\"\",VLOOKUP(C67,BDD!$A$5:$J$63,10,0))","v":""},"","",null,"",""]
[null,null,{"$f":"IF(Composition!C16<>\"\", Composition!C16, \"\")","v":""},{"$f":"IF(C16=\"\",\"\",VLOOKUP(C16,BDD!$A$5:$W$63,21,0))","v":""},{"$f":"IF(C16=\"\",\"\",VLOOKUP(C16,BDD!$A$5:$W$63,22,0))","v":""},{"$f":"IF(C16=\"\",\"\",VLOOKUP(C16,BDD!$A$5:$W$63,23,0))","v":""},{"$f":"IF(C16=\"\",\"\",VLOOKUP(C16,BDD!$A$5:$AB$63,26,0))","v":""},{"$f":"IF(C16=\"\",\"\",VLOOKUP(C16,BDD!$A$5:$AB$63,27,0))","v":""},{"$f":"IF(C16=\"\",\"\",VLOOKUP(C16,BDD!$A$5:$AB$63,28,0))","v":""},{"$f":"IF(C68=\"\",\"\",VLOOKUP(C68,BDD!$A$5:$I$63,2,0))","v":""},{"$f":"IF(C68=\"\",\"\",VLOOKUP(C68,BDD!$A$5:$I$63,3,0))","v":""},{"$f":"IF(C68=\"\",\"\",VLOOKUP(C68,BDD!$A$5:$I$63,4,0))","v":""},null,null,null,null,null,null,null,null,null,null,null,null,null,{"$f":"IF(C68=\"\",\"\",VLOOKUP(C68,BDD!$A$5:$I$63,5,0))","v":""},0,"",{"$f":"IF(C68=\"\",\"\",VLOOKUP(C68,BDD!$A$5:$I$63,7,0))","v":""},0,"","",0,"","","",0,null,null,{"$f":"IF(C68=\"\",\"\",VLOOKUP(C68,BDD!$A$5:$I$63,2,0))","v":""},"","","",0,"","","",0,{"$f":"IF(C68=\"\",\"\",VLOOKUP(C68,BDD!$A$5:$J$63,10,0))","v":""},"","",null,"",""]
[null,null,{"$f":"IF(Composition!C17<>\"\", Composition!C17, \"\")","v":""},{"$f":"IF(C17=\"\",\"\",VLOOKUP(C17,BDD!$A$5:$W$63,21,0))","v":""},{"$f":"IF(C17=\"\",\"\",VLOOKUP(C17,BDD!$A$5:$W$63,22,0))","v":""},{"$f":"IF(C17=\"\",\"\",VLOOKUP(C17,BDD!$A$5:$W$63,23,0))","v":""},{"$f":"IF(C17=\"\",\"\",VLOOKUP(C17,BDD!$A$5:$AB$63,26,0))","v":""},{"$f":"IF(C17=\"\",\"\",VLOOKUP(C17,BDD!$A$5:$AB$63,27,0))","v":""},{"$f":"IF(C17=\"\",\"\",VLOOKUP(C17,BDD!$A$5:$AB$63,28,0))","v":""},{"$f":"IF(C69=\"\",\"\",VLOOKUP(C69,BDD!$A$5:$I$63,2,0))","v":""},{"$f":"IF(C69=\"\",\"\",VLOOKUP(C69,BDD!$A$5:$I$63,3,0))","v":""},{"$f":"IF(C69=\"\",\"\",VLOOKUP(C69,BDD!$A$5:$I$63,4,0))","v":""},null,null,null,null,null,null,null,null,null,null,null,null,null,{"$f":"IF(C69=\"\",\"\",VLOOKUP(C69,BDD!$A$5:$I$63,5,0))","v":""},0,"",{"$f":"IF(C69=\"\",\"\",VLOOKUP(C69,BDD!$A$5:$I$63,7,0))","v":""},0,"","",0,"","","",0,null,null,{"$f":"IF(C69=\"\",\"\",VLOOKUP(C69,BDD!$A$5:$I$63,2,0))","v":""},"","","",0,"","","",0,{"$f":"IF(C69=\"\",\"\",VLOOKUP(C69,BDD!$A$5:$J$63,10,0))","v":""},"","",null,"",""]
[null,null,{"$f":"IF(Composition!C18<>\"\", Composition!C18, \"\")","v":""},{"$f":"IF(C18=\"\",\"\",VLOOKUP(C18,BDD!$A$5:$W$63,21,0))","v":""},{"$f":"IF(C18=\"\",\"\",VLOOKUP(C18,BDD!$A$5:$W$63,22,0))","v":""},{"$f":"IF(C18=\"\",\"\",VLOOKUP(C18,BDD!$A$5:$W$63,23,0))","v":""},{"$f":"IF(C18=\"\",\"\",VLOOKUP(C18,BDD!$A$5:$AB$63,26,0))","v":""},{"$f":"IF(C18=\"\",\"\",VLOOKUP(C18,BDD!$A$5:$AB$63,27,0))","v":""},{"$f":"IF(C18=\"\",\"\",VLOOKUP(C18,BDD!$A$5:$AB$63,28,0))","v":""},{"$f":"IF(C70=\"\",\"\",VLOOKUP(C70,BDD!$A$5:$I$63,2,0))","v":""},{"$f":"IF(C70=\"\",\"\",VLOOKUP(C70,BDD!$A$5:$I$63,3,0))","v":""},{"$f":"IF(C70=\"\",\"\",VLOOKUP(C70,BDD!$A$5:$I$63,4,0))","v":""},null,null,null,null,null,null,null,null,null,null,null,null,null,{"$f":"IF(C70=\"\",\"\",VLOOKUP(C70,BDD!$A$5:$I$63,5,0))","v":""},0,"",{"$f":"IF(C70=\"\",\"\",VLOOKUP(C70,BDD!$A$5:$I$63,7,0))","v":""},0,"","",0,"","","",0,null,null,{"$f":"IF(C70=\"\",\"\",VLOOKUP(C70,BDD!$A$5:$I$63,2,0))","v":""},"","","",0,"","","",0,{"$f":"IF(C70=\"\",\"\",VLOOKUP(C70,BDD!$A$5:$J$63,10,0))","v":""},"","",null,"",""]
[null,null,{"$f":"IF(Composition!C19<>\"\", Composition!C19, \"\")","v":""},{"$f":"IF(C19=\"\",\"\",VLOOKUP(C19,BDD!$A$5:$W$63,21,0))","v":""},{"$f":"IF(C19=\"\",\"\",VLOOKUP(C19,BDD!$A$5:$W$63,22,0))","v":""},{"$f":"IF(C19=\"\",\"\",VLOOKUP(C19,BDD!$A$5:$W$63,23,0))","v":""},{"$f":"IF(C19=\"\",\"\",VLOOKUP(C19,BDD!$A$5:$AB$63,26,0))","v":""},{"$f":"IF(C19=\"\",\"\",VLOOKUP(C19,BDD!$A$5:$AB$63,27,0))","v":""},{"$f":"IF(C19=\"\",\"\",VLOOKUP(C19,BDD!$A$5:$AB$63,28,0))","v":""},{"$f":"IF(C71=\"\",\"\",VLOOKUP(C71,BDD!$A$5:$I$63,2,0))","v":""},{"$f":"IF(C71=\"\",\"\",VLOOKUP(C71,BDD!$A$5:$I$63,3,0))","v":""},{"$f":"IF(C71=\"\",\"\",VLOOKUP(C71,BDD!$A$5:$I$63,4,0))","v":""},null,null,null,null,null,null,null,null,null,null,null,null,null,{"$f":"IF(C71=\"\",\"\",VLOOKUP(C71,BDD!$A$5:$I$63,5,0))","v":""},0,"",{"$f":"IF(C71=\"\",\"\",VLOOKUP(C71,BDD!$A$5:$I$63,7,0))","v":""},0,"","",0,"","","",0,null,null,{"$f":"IF(C71=\"\",\"\",VLOOKUP(C71,BDD!$A$5:$I$63,2,0))","v":""},"","","",0,"","","",0,{"$f":"IF(C71=\"\",\"\",VLOOKUP(C71,BDD!$A$5:$J$63,10,0))","v":""},"","",null,"",""]
[null,null,{"$f":"IF(Composition!C20<>\"\", Composition!C20, \"\")","v":""},{"$f":"IF(C20=\"\",\"\",VLOOKUP(C20,BDD!$A$5:$W$63,21,0))","v":""},{"$f":"IF(C20=\"\",\"\",VLOOKUP(C20,BDD!$A$5:$W$63,22,0))","v":""},{"$f":"IF(C20=\"\",\"\",VLOOKUP(C20,BDD!$A$5:$W$63,23,0))","v":""},{"$f":"IF(C20=\"\",\"\",VLOOKUP(C20,BDD!$A$5:$AB$63,26,0))","v":""},{"$f":"IF(C20=\"\",\"\",VLOOKUP(C20,BDD!$A$5:$AB$63,27,0))","v":""},{"$f":"IF(C20=\"\",\"\",VLOOKUP(C20,BDD!$A$5:$AB$63,28,0))","v":""},{"$f":"IF(C72=\"\",\"\",VLOOKUP(C72,BDD!$A$5:$I$63,2,0))","v":""},{"$f":"IF(C72=\"\",\"\",VLOOKUP(C72,BDD!$A$5:$I$63,3,0))","v":""},{"$f":"IF(C72=\"\",\"\",VLOOKUP(C72,BDD!$A$5:$I$63,4,0))","v":""},null,null,null,null,null,null,null,null,null,null,null,null,null,{"$f":"IF(C72=\"\",\"\",VLOOKUP(C72,BDD!$A$5:$I$63,5,0))","v":""},0,"",{"$f":"IF(C72=\"\",\"\",VLOOKUP(C72,BDD!$A$5:$I$63,7,0))","v":""},0,"","",0,"","","",0,null,null,{"$f":"IF(C72=\"\",\"\",VLOOKUP(C72,BDD!$A$5:$I$63,2,0))","v":""},"","","",0,"","","",0,{"$f":"IF(C72=\"\",\"\",VLOOKUP(C72,BDD!$A$5:$J$63,10,0))","v":""},"","",null,"",""]
[null,null,{"$f":"IF(Composition!C21<>\"\", Composition!C21, \"\")","v":""},{"$f":"IF(C21=\"\",\"\",VLOOKUP(C21,BDD!$A$5:$W$63,21,0))","v":""},{"$f":"IF(C21=\"\",\"\",VLOOKUP(C21,BDD!$A$5:$W$63,22,0))","v":""},{"$f":"IF(C21=\"\",\"\",VLOOKUP(C21,BDD!$A$5:$W$63,23,0))","v":""},{"$f":"IF(C21=\"\",\"\",VLOOKUP(C21,BDD!$A$5:$AB$63,26,0))","v":""},{"$f":"IF(C21=\"\",\"\",VLOOKUP(C21,BDD!$A$5:$AB$63,27,0))","v":""},{"$f":"IF(C21=\"\",\"\",VLOOKUP(C21,BDD!$A$5:$AB$63,28,0))","v":""},{"$f":"IF(C73=\"\",\"\",VLOOKUP(C73,BDD!$A$5:$I$63,2,0))","v":""},{"$f":"IF(C73=\"\",\"\",VLOOKUP(C73,BDD!$A$5:$I$63,3,0))","v":""},{"$f":"IF(C73=\"\",\"\",VLOOKUP(C73,BDD!$A$5:$I$63,4,0))","v":""},null,null,null,null,null,null,null,null,null,null,null,null,null,{"$f":"IF(C73=\"\",\"\",VLOOKUP(C73,BDD!$A$5:$I$63,5,0))","v":""},0,"",{"$f":"IF(C73=\"\",\"\",VLOOKUP(C73,BDD!$A$5:$I$63,7,0))","v":""},0,"","",0,"","","",0,null,null,{"$f":"IF(C73=\"\",\"\",VLOOKUP(C73,BDD!$A$5:$I$63,2,0))","v":""},"","","",0,"","","",0,{"$f":"IF(C73=\"\",\"\",VLOOKUP(C73,BDD!$A$5:$J$63,10,0))","v":""},"","",null,"",""]
[null,null,{"$f":"IF(Composition!C22<>\"\", Composition!C22, \"\")","v":""},{"$f":"IF(C22=\"\",\"\",VLOOKUP(C22,BDD!$A$5:$W$63,21,0))","v":""},{"$f":"IF(C22=\"\",\"\",VLOOKUP(C22,BDD!$A$5:$W$63,22,0))","v":""},{"$f":"IF(C22=\"\",\"\",VLOOKUP(C22,BDD!$A$5:$W$63,23,0))","v":""},{"$f":"IF(C22=\"\",\"\",VLOOKUP(C22,BDD!$A$5:$AB$63,26,0))","v":""},{"$f":"IF(C22=\"\",\"\",VLOOKUP(C22,BDD!$A$5:$AB$63,27,0))","v":""},{"$f":"IF(C22=\"\",\"\",VLOOKUP(C22,BDD!$A$5:$AB$63,28,0))","v":""},{"$f":"IF(C74=\"\",\"\",VLOOKUP(C74,BDD!$A$5:$I$63,2,0))","v":""},{"$f":"IF(C74=\"\",\"\",VLOOKUP(C74,BDD!$A$5:$I$63,3,0))","v":""},{"$f":"IF(C74=\"\",\"\",VLOOKUP(C74,BDD!$A$5:$I$63,4,0))","v":""},null,null,null,null,null,null,null,null,null,null,null,null,null,{"$f":"IF(C74=\"\",\"\",VLOOKUP(C74,BDD!$A$5:$I$63,5,0))","v":""},0,"",{"$f":"IF(C74=\"\",\"\",VLOOKUP(C74,BDD!$A$5:$I$63,7,0))","v":""},0,"","",0,"","","",0,null,null,{"$f":"IF(C74=\"\",\"\",VLOOKUP(C74,BDD!$A$5:$I$63,2,0))","v":""},"","","",0,"","","",0,{"$f":"IF(C74=\"\",\"\",VLOOKUP(C74,BDD!$A$5:$J$63,10,0))","v":""},"","",null,"",""]
[null,null,{"$f":"IF(Composition!C23<>\"\", Composition!C23, \"\")","v":""},{"$f":"IF(C23=\"\",\"\",VLOOKUP(C23,BDD!$A$5:$W$63,21,0))","v":""},{"$f":"IF(C23=\"\",\"\",VLOOKUP(C23,BDD!$A$5:$W$63,22,0))","v":""},{"$f":"IF(C23=\"\",\"\",VLOOKUP(C23,BDD!$A$5:$W$63,23,0))","v":""},{"$f":"IF(C23=\"\",\"\",VLOOKUP(C23,BDD!$A$5:$AB$63,26,0))","v":""},{"$f":"IF(C23=\"\",\"\",VLOOKUP(C23,BDD!$A$5:$AB$63,27,0))","v":""},{"$f":"IF(C23=\"\",\"\",VLOOKUP(C23,BDD!$A$5:$AB$63,28,0))","v":""},{"$f":"IF(C75=\"\",\"\",VLOOKUP(C75,BDD!$A$5:$I$63,2,0))","v":""},{"$f":"IF(C75=\"\",\"\",VLOOKUP(C75,BDD!$A$5:$I$63,3,0))","v":""},{"$f":"IF(C75=\"\",\"\",VLOOKUP(C75,BDD!$A$5:$I$63,4,0))","v":""},null,null,null,null,null,null,null,null,null,null,null,null,null,{"$f":"IF(C75=\"\",\"\",VLOOKUP(C75,BDD!$A$5:$I$63,5,0))","v":""},0,"",{"$f":"IF(C75=\"\",\"\",VLOOKUP(C75,BDD!$A$5:$I$63,7,0))","v":""},0,"","",0,"","","",0,null,null,{"$f":"IF(C75=\"\",\"\",VLOOKUP(C75,BDD!$A$5:$I$63,2,0))","v":""},"","","",0,"","","",0,{"$f":"IF(C75=\"\",\"\",VLOOKUP(C75,BDD!$A$5:$J$63,10,0))","v":""},"","",null,"",""]
[null,null,{"$f":"IF(Composition!C24<>\"\", Composition!C24, \"\")","v":""},{"$f":"IF(C24=\"\",\"\",VLOOKUP(C24,BDD!$A$5:$W$63,21,0))","v":""},{"$f":"IF(C24=\"\",\"\",VLOOKUP(C24,BDD!$A$5:$W$63,22,0))","v":""},{"$f":"IF(C24=\"\",\"\",VLOOKUP(C24,BDD!$A$5:$W$63,23,0))","v":""},{"$f":"IF(C24=\"\",\"\",VLOOKUP(C24,BDD!$A$5:$AB$63,26,0))","v":""},{"$f":"IF(C24=\"\",\"\",VLOOKUP(C24,BDD!$A$5:$AB$63,27,0))","v":""},{"$f":"IF(C24=\"\",\"\",VLOOKUP(C24,BDD!$A$5:$AB$63,28,0))","v":""},{"$f":"IF(C76=\"\",\"\",VLOOKUP(C76,BDD!$A$5:$I$63,2,0))","v":""},{"$f":"IF(C76=\"\",\"\",VLOOKUP(C76,BDD!$A$5:$I$63,3,0))","v":""},{"$f":"IF(C76=\"\",\"\",VLOOKUP(C76,BDD!$A$5:$I$63,4,0))","v":""},null,null,null,null,null,null,null,null,null,null,null,null,null,{"$f":"IF(C76=\"\",\"\",VLOOKUP(C76,BDD!$A$5:$I$63,5,0))","v":""},0,"",{"$f":"IF(C76=\"\",\"\",VLOOKUP(C76,BDD!$A$5:$I$63,7,0))","v":""},0,"","",0,"","","",0,null,null,{"$f":"IF(C76=\"\",\"\",VLOOKUP(C76,BDD!$A$5:$I$63,2,0))","v":""},"","","",0,"","","",0,{"$f":"IF(C76=\"\",\"\",VLOOKUP(C76,BDD!$A$5:$J$63,10,0))","v":""},"","",null,"",""]
[null,null,null,null,null,null,null,null,null,null,null,null,null,null,null,null,null,null,null,null,null,null,null,null,"Total",{"$f":"SUM(Z10:Z24)","v":0},{"$f":"SUM(AA10:AA24)","v":0},0,{"$f":"SUM(AC10:AC24)","v":0},{"$f":"SUM(AD10:AD24)","v":0},0,0,null,{"$f":"SUM(AH10:AH24)","v":0},200,{"$f":"SUM(AJ10:AJ24)","v":0},null,null,null,"SOMME",{"$f":"SUM(AO10:AO24)","v":0},{"$f":"SUM(AP10:AP24)","v":0},0,0,0,0,0,0]
[null,null,"LEGENDE",null,null,null,null,null,null,null,null,null,null,null,null,null,null,null,null,null,null,null,null,null,"Maximum",{"$f":"4*$C$77","v":0},200,null,{"$f":"4*$C$77","v":0},200,null,200,null,null,null,{"$f":"H77*4","v":0},null,null,null,"Maximum",{"$f":"$F$77","v":0},{"$f":"$F$77","v":0},{"$f":"$F$77","v":0},{"$f":"$F$77","v":0},{"$f":"$H$77","v":0},{"$f":"$H$77","v":0},{"$f":"$H$77","v":0},{"$f":"$H$77","v":0}]
[null,null,null,1,"Adapté.",null,null,null,null,null,null,null,null,null,null,null,null,null,null,null,null,null,null,null,"%",{"$f":"(Z25*100)/Z26","v":{"$error":"#DIV/0!"}},null,{"$f":"IF(AB25<AA26, (AB25*100)/AA26, 99)","v":0},{"$f":"(AC25*100)/AC26","v":{"$error":"#DIV/0!"}},null,{"$f":"IF(AE25<AD26, IF(C62=\"\", 0, (AE25*100)/AD26), 99)","v":0},{"$f":"(AF25*100)/AI25","v":0},null,{"$f":"IF(AH25<AI25, (AH25*100)/AF26, 99)","v":0},null,{"$f":"IF(AJ25<AI25, (AJ25*100)/AI25, 99)","v":0},null,null,null,"%",{"$f":"(AO25*100)/AO26","v":{"$error":"#DIV/0!"}},{"$f":"(AP25*100)/AP26","v":{"$error":"#DIV/0!"}},{"$error":"#DIV/0!"},{"$error":"#DIV/0!"},{"$error":"#DIV/0!"},{"$error":"#DIV/0!"},{"$error":"#DIV/0!"},{"$error":"#DIV/0!"}]
[null,null,null,2,"Résultat irrégulier. Bon résultat si bonnes conditions.",null,null,null,null,null,null,null,null,null,null,null,null,null,null,null,null,null,null,null,null,true]
[null,null,null,3,"Déconseillé."]
[]
[]
[]
[]
[]
[]
[]
[]
[]
[]
[]
[]
[]
[]
[null,null,null,"TYPE","NB","%","NB conseillé","NB Ajusté"]
[null,null,null,"Graminées",{"$f":"IF($Z$28=FALSE, G45,H45)","v":{"$error":"#DIV/0!"}},{"$f":"E45","v":{"$error":"#DIV/0!"}},{"$f":"AO27","v":{"$error":"#DIV/0!"}},{"$f":"AS27","v":{"$error":"#DIV/0!"}}]
[null,null,null,"Légumineuses",{"$f":"IF($Z$28=FALSE, G46,H46)","v":{"$error":"#DIV/0!"}},{"$f":"E46","v":{"$error":"#DIV/0!"}},{"$f":"AP27","v":{"$error":"#DIV/0!"}},{"$f":"AT27","v":{"$error":"#DIV/0!"}},null,null,null,null,1]
[null,null,null,"Crucifères",{"$f":"IF($Z$28=FALSE, G47,H47)","v":{"$error":"#DIV/0!"}},{"$error":"#DIV/0!"},{"$f":"AQ27","v":{"$error":"#DIV/0!"}},{"$f":"AU27","v":{"$error":"#DIV/0!"}},null,null,null,null,2]
[null,null,null,"Autres",{"$f":"IF($Z$28=FALSE, G48,H48)","v":{"$error":"#DIV/0!"}},{"$error":"#DIV/0!"},{"$f":"AR27","v":{"$error":"#DIV/0!"}},{"$f":"AV27","v":{"$error":"#DIV/0!"}},null,null,null,null,3]
[]
[null,null,null,"HAUTEUR","NB","%"]
[null,null,null,"Basse",{"$f":"COUNTIFS($K$10:$K$24,\"1\")","v":0},{"$f":"(E51*100)/$C$77","v":{"$error":"#DIV/0!"}}]
[null,null,null,"Intermédiaire",{"$f":"COUNTIFS($K$10:$K$24,\"2\")","v":0},{"$f":"(E52*100)/$C$77","v":{"$error":"#DIV/0!"}}]
[null,null,null,"Haute",{"$f":"COUNTIFS($K$10:$K$24,\"3\")","v":0},{"$f":"(E53*100)/$C$77","v":{"$error":"#DIV/0!"}}]
[]
[null,null,null,"RACINES","NB","%"]
[null,null,null,"Superficiel",{"$f":"COUNTIFS($L$10:$L$24,\"1\")","v":0},{"$f":"(E56*100)/$C$77","v":{"$error":"#DIV/0!"}}]
[null,null,null,"Intermédiaire",{"$f":"COUNTIFS($L$10:$L$24,\"2\")","v":0},{"$f":"(E57*100)/$C$77","v":{"$error":"#DIV/0!"}}]
[null,null,null,"Profonde",{"$f":"COUNTIFS($L$10:$L$24,\"3\")","v":0},{"$f":"(E58*100)/$C$77","v":{"$error":"#DIV/0!"}}]

{"sheet":"Choix_des_couvert","index":102,"n_rows":236,"n_cols":12,"rows_kept":236,"cut":false,"hidden":false,"merged":[]}
[]
[]
[]
[]
[]
[null,null,"Interculture courte","Interculture longue","Utilisation fourragère","Tournesol","Maïs","Graminées (été / printemps)","Fourniture d'azote","Piégeage d'azote"]
["Alpiste des canaries","graminée",null,1,1,1,null,null,1,1]
["Avoine bresilienne","graminée",null,1,1,1,null,null,1,1]
["Avoine de printemps","graminée",null,1,1,1,null,null,1,1]
["Avoine d'hiver","graminée",null,1,1,1,null,null,1,1]
["Cameline","Crucifère",null,1,null,1,1,1,1,1]
["Colza","Crucifère",null,1,1,1,1,1,1,1]
["Fénugrec","Légumineuse",1,1,null,1,1,1]
["Féverole","Légumineuse",1,1,null,1,1,1]
["Gesse","Légumineuse",1,1,1,1,1,1]
["Lentille fourragère","Légumineuse",1,1,null,1,1,1]
["Lin","Linacée",1,null,null,1,1,1,1]
["Lotier Corniculé","Légumineuse",null,1,1,1,1,1]
["Luzerne Flamande","Légumineuse",null,1,1,1,1,1]
["Mélilot","Légumineuse",null,1,1,1,1,1]
["Millet perlé","Graminée",1,null,null,1,null,null,1]
["Minette","Légumineuse",null,1,1,1,1,1]
["Moha fourrager","graminée",1,null,1,1,null,null,1]
["Moutarde blanche","Crucifère",1,1,1,1,1,1,1]
["Moutarde brune","Crucifère",1,1,1,1,1,1,1]
["Moutarde d'Abyssinie","Crucifère",1,1,1,1,1,1,1]
["Niger","Composée",1,1,1,null,1,1,1]
["Phacélie","Hydrophyllacée",1,1,1,1,1,1,1]
["Pois fourrager","Légumineuse",1,1,1,1,1,1]
["Pois protéagineux","Légumineuse",null,1,1,1,1,1]
["Radis chinois","Crucifère",1,1,1,1,1,1,1]
["Radis fourrager","Crucifère",1,1,1,1,1,1,1]
["Ray-grass Italien","graminée",null,1,1,1,null,null,1]
["Sainfoin (cosse)","Légumineuse",null,1,1,1,1,1]
["Sainfoin (décortiqué)","Légumineuse",null,1,1,1,1,1]
["Sarrasin","Polygonacée",1,null,null,null,null,1,1]
["Seigle forestier","graminée",null,1,1,1,null,null,1]
["Seigle fourrager","graminée",null,1,1,1,null,null,1]
["Sorgho fourrager","graminée",1,1,1,1,null,null,1]
["Tournesol","Composée",1,1,null,null,1,1,1]
["Trèfle Blanc","Légumineuse",null,1,1,1,1,1]
["Trèfle d'Alexandrie","Légumineuse",null,1,1,1,1,1]
["Trèfle de Micheli","Légumineuse",null,1,1,1,1,1]
["Trèfle de perse","Légumineuse",null,1,1,1,1,1]
["Trèfle incarnat","Légumineuse",null,1,1,1,1,1]
["Triticale","graminée",null,1,1,1,null,null,1]
["Trèfle violet","Légumineuse",null,1,1,1,1,1]
["Vesce commune","Légumineuse",1,1,1,1,1,1]
["Vesce pourpre","Légumineuse",1,1,1,1,1,1]
["Vesce velue","Légumineuse",null,1,1,1,1,1]
[]
[]
[null,null,null,null,null,null,null,null,null,"Estival","Hivernal"]
[null,1,null,null,null,null,null,null,"Production d'azote",{"$f":"AND('Aide _au_choix'!O5=\"Estival\",'Aide _au_choix'!M8=TRUE)","v":false},{"$f":"AND('Aide _au_choix'!O5=\"Hivernal\",'Aide _au_choix'!M8=TRUE)","v":true},"radis"]
["Estival",null,null,null,null,null,null,null,"Piegeage d'azote",{"$f":"AND('Aide _au_choix'!O5=\"Estival\",'Aide _au_choix'!N8=TRUE)","v":false},{"$f":"AND('Aide _au_choix'!O5=\"Hivernal\",'Aide _au_choix'!N8=TRUE)","v":false},"fenugrec"]
["Hivernal",null,null,null,null,null,null,null,"Etouffement des adventices",{"$f":"AND('Aide _au_choix'!O5=\"Estival\",'Aide _au_choix'!O8=TRUE)","v":false},{"$f":"AND('Aide _au_choix'!O5=\"Hivernal\",'Aide _au_choix'!O8=TRUE)","v":false},"phacélie"]
[null,{"$f":"IF('Aide _au_choix'!$O$9=TRUE, Choix_des_couvert!B224, IF('Aide _au_choix'!$N$9=TRUE, Choix_des_couvert!B209, IF('Aide _au_choix'!M9=TRUE,Choix_des_couvert!B194,IF('Aide _au_choix'!$M$11=TRUE,Choix_des_couvert!B164,IF('Aide _au_choix'!$N$11=TRUE,Choix_des_couvert!H164,IF('Aide _au_choix'!$O$11=TRUE,Choix_des_couvert!B179,IF('Aide _au_choix'!$P$11=TRUE,Choix_des_couvert!H179,IF($J$54=TRUE,B104,IF($J$55=TRUE,B119,IF($J$56=TRUE,B134,IF($J$57=TRUE,B149,IF($K$54=TRUE,H104,IF($K$55=TRUE,H119,IF($K$56=TRUE,H134,IF($K$57=TRUE,H149,IF($J$60=FALSE,B89,IF($K$60=FALSE,B73,0)))))))))))))))))","v":""},{"$f":"IF('Aide _au_choix'!$O$9=TRUE, Choix_des_couvert!C224, IF('Aide _au_choix'!$N$9=TRUE, Choix_des_couvert!C209, IF('Aide _au_choix'!$M$9=TRUE,Choix_des_couvert!C194,IF('Aide _au_choix'!$M$11=TRUE,Choix_des_couvert!C164,IF('Aide _au_choix'!$N$11=TRUE,Choix_des_couvert!I164,IF('Aide _au_choix'!$O$11=TRUE,Choix_des_couvert!C179,IF('Aide _au_choix'!$P$11=TRUE,Choix_des_couvert!I179,IF($J$54=TRUE,C104,IF($J$55=TRUE,C119,IF($J$56=TRUE,C134,IF($J$57=TRUE,C149,IF($K$54=TRUE,I104,IF($K$55=TRUE,I119,IF($K$56=TRUE,I134,IF($K$57=TRUE,I149,IF($J$60=FALSE,C89,IF($K$60=FALSE,C73,0)))))))))))))))))","v":"Mélilot"},{"$f":"IF('Aide _au_choix'!$O$9=TRUE, Choix_des_couvert!D224, IF('Aide _au_choix'!$N$9=TRUE, Choix_des_couvert!D209, IF('Aide _au_choix'!$M$9=TRUE,Choix_des_couvert!D194,IF('Aide _au_choix'!$M$11=TRUE,Choix_des_couvert!D164,IF('Aide _au_choix'!$N$11=TRUE,Choix_des_couvert!J164,IF('Aide _au_choix'!$O$11=TRUE,Choix_des_couvert!D179,IF('Aide _au_choix'!$P$11=TRUE,Choix_des_couvert!J179,IF($J$54=TRUE,D104,IF($J$55=TRUE,D119,IF($J$56=TRUE,D134,IF($J$57=TRUE,D149,IF($K$54=TRUE,J104,IF($K$55=TRUE,J119,IF($K$56=TRUE,J134,IF($K$57=TRUE,J149,IF($J$60=FALSE,D89,IF($K$60=FALSE,D73,0)))))))))))))))))","v":""},{"$f":"IF('Aide _au_choix'!$O$9=TRUE, Choix_des_couvert!E224, IF('Aide _au_choix'!$N$9=TRUE, Choix_des_couvert!E209, IF('Aide _au_choix'!$M$9=TRUE,Choix_des_couvert!E194,IF('Aide _au_choix'!$M$11=TRUE,Choix_des_couvert!E164,IF('Aide _au_choix'!$N$11=TRUE,Choix_des_couvert!K164,IF('Aide _au_choix'!$O$11=TRUE,Choix_des_couvert!E179,IF('Aide _au_choix'!$P$11=TRUE,Choix_des_couvert!K179,IF($J$54=TRUE,E104,IF($J$55=TRUE,E119,IF($J$56=TRUE,E134,IF($J$57=TRUE,E149,IF($K$54=TRUE,K104,IF($K$55=TRUE,K119,IF($K$56=TRUE,K134,IF($K$57=TRUE,K149,IF($J$60=FALSE,E89,IF($K$60=FALSE,E73,0)))))))))))))))))","v":""},null,null,null,"Apport de MO",{"$f":"AND('Aide _au_choix'!O5=\"Estival\",'Aide _au_choix'!P8=TRUE)","v":false},{"$f":"AND('Aide _au_choix'!O5=\"Hivernal\",'Aide _au_choix'!P8=TRUE)","v":false},"féverole"]
[null,{"$f":"IF('Aide _au_choix'!$O$9=TRUE, Choix_des_couvert!B225, IF('Aide _au_choix'!$N$9=TRUE, Choix_des_couvert!B210, IF('Aide _au_choix'!$M$9=TRUE,Choix_des_couvert!B195,IF('Aide _au_choix'!$M$11=TRUE,Choix_des_couvert!B165,IF('Aide _au_choix'!$N$11=TRUE,Choix_des_couvert!H165,IF('Aide _au_choix'!$O$11=TRUE,Choix_des_couvert!B180,IF('Aide _au_choix'!$P$11=TRUE,Choix_des_couvert!H180,IF($J$54=TRUE,B105,IF($J$55=TRUE,B120,IF($J$56=TRUE,B135,IF($J$57=TRUE,B150,IF($K$54=TRUE,H105,IF($K$55=TRUE,H120,IF($K$56=TRUE,H135,IF($K$57=TRUE,H150,IF($J$60=FALSE,B90,IF($K$60=FALSE,B74,0)))))))))))))))))","v":""},{"$f":"IF('Aide _au_choix'!$O$9=TRUE, Choix_des_couvert!C225, IF('Aide _au_choix'!$N$9=TRUE, Choix_des_couvert!C210, IF('Aide _au_choix'!$M$9=TRUE,Choix_des_couvert!C195,IF('Aide _au_choix'!$M$11=TRUE,Choix_des_couvert!C165,IF('Aide _au_choix'!$N$11=TRUE,Choix_des_couvert!I165,IF('Aide _au_choix'!$O$11=TRUE,Choix_des_couvert!C180,IF('Aide _au_choix'!$P$11=TRUE,Choix_des_couvert!I180,IF($J$54=TRUE,C105,IF($J$55=TRUE,C120,IF($J$56=TRUE,C135,IF($J$57=TRUE,C150,IF($K$54=TRUE,I105,IF($K$55=TRUE,I120,IF($K$56=TRUE,I135,IF($K$57=TRUE,I150,IF($J$60=FALSE,C90,IF($K$60=FALSE,C74,0)))))))))))))))))","v":""},{"$f":"IF('Aide _au_choix'!$O$9=TRUE, Choix_des_couvert!D225, IF('Aide _au_choix'!$N$9=TRUE, Choix_des_couvert!D210, IF('Aide _au_choix'!$M$9=TRUE,Choix_des_couvert!D195,IF('Aide _au_choix'!$M$11=TRUE,Choix_des_couvert!D165,IF('Aide _au_choix'!$N$11=TRUE,Choix_des_couvert!J165,IF('Aide _au_choix'!$O$11=TRUE,Choix_des_couvert!D180,IF('Aide _au_choix'!$P$11=TRUE,Choix_des_couvert!J180,IF($J$54=TRUE,D105,IF($J$55=TRUE,D120,IF($J$56=TRUE,D135,IF($J$57=TRUE,D150,IF($K$54=TRUE,J105,IF($K$55=TRUE,J120,IF($K$56=TRUE,J135,IF($K$57=TRUE,J150,IF($J$60=FALSE,D90,IF($K$60=FALSE,D74,0)))))))))))))))))","v":"Sainfoin (cosse)"},{"$f":"IF('Aide _au_choix'!$O$9=TRUE, Choix_des_couvert!E225, IF('Aide _au_choix'!$N$9=TRUE, Choix_des_couvert!E210, IF('Aide _au_choix'!$M$9=TRUE,Choix_des_couvert!E195,IF('Aide _au_choix'!$M$11=TRUE,Choix_des_couvert!E165,IF('Aide _au_choix'!$N$11=TRUE,Choix_des_couvert!K165,IF('Aide _au_choix'!$O$11=TRUE,Choix_des_couvert!E180,IF('Aide _au_choix'!$P$11=TRUE,Choix_des_couvert!K180,IF($J$54=TRUE,E105,IF($J$55=TRUE,E120,IF($J$56=TRUE,E135,IF($J$57=TRUE,E150,IF($K$54=TRUE,K105,IF($K$55=TRUE,K120,IF($K$56=TRUE,K135,IF($K$57=TRUE,K150,IF($J$60=FALSE,E90,IF($K$60=FALSE,E74,0)))))))))))))))))","v":"Trèfle violet"},null,null,null,"Total",{"$f":"COUNTIF(J54:J57,\"=VRAI\")","v":0},{"$f":"COUNTIF(K54:K57,\"=VRAI\")","v":1}]
[null,{"$f":"IF('Aide _au_choix'!$O$9=TRUE, Choix_des_couvert!B226, IF('Aide _au_choix'!$N$9=TRUE, Choix_des_couvert!B211, IF('Aide _au_choix'!$M$9=TRUE,Choix_des_couvert!B196,IF('Aide _au_choix'!$M$11=TRUE,Choix_des_couvert!B166,IF('Aide _au_choix'!$N$11=TRUE,Choix_des_couvert!H166,IF('Aide _au_choix'!$O$11=TRUE,Choix_des_couvert!B181,IF('Aide _au_choix'!$P$11=TRUE,Choix_des_couvert!H181,IF($J$54=TRUE,B106,IF($J$55=TRUE,B121,IF($J$56=TRUE,B136,IF($J$57=TRUE,B151,IF($K$54=TRUE,H106,IF($K$55=TRUE,H121,IF($K$56=TRUE,H136,IF($K$57=TRUE,H151,IF($J$60=FALSE,B91,IF($K$60=FALSE,B75,0)))))))))))))))))","v":""},{"$f":"IF('Aide _au_choix'!$O$9=TRUE, Choix_des_couvert!C226, IF('Aide _au_choix'!$N$9=TRUE, Choix_des_couvert!C211, IF('Aide _au_choix'!$M$9=TRUE,Choix_des_couvert!C196,IF('Aide _au_choix'!$M$11=TRUE,Choix_des_couvert!C166,IF('Aide _au_choix'!$N$11=TRUE,Choix_des_couvert!I166,IF('Aide _au_choix'!$O$11=TRUE,Choix_des_couvert!C181,IF('Aide _au_choix'!$P$11=TRUE,Choix_des_couvert!I181,IF($J$54=TRUE,C106,IF($J$55=TRUE,C121,IF($J$56=TRUE,C136,IF($J$57=TRUE,C151,IF($K$54=TRUE,I106,IF($K$55=TRUE,I121,IF($K$56=TRUE,I136,IF($K$57=TRUE,I151,IF($J$60=FALSE,C91,IF($K$60=FALSE,C75,0)))))))))))))))))","v":"Minette"},{"$f":"IF('Aide _au_choix'!$O$9=TRUE, Choix_des_couvert!D226, IF('Aide _au_choix'!$N$9=TRUE, Choix_des_couvert!D211, IF('Aide _au_choix'!$M$9=TRUE,Choix_des_couvert!D196,IF('Aide _au_choix'!$M$11=TRUE,Choix_des_couvert!D166,IF('Aide _au_choix'!$N$11=TRUE,Choix_des_couvert!J166,IF('Aide _au_choix'!$O$11=TRUE,Choix_des_couvert!D181,IF('Aide _au_choix'!$P$11=TRUE,Choix_des_couvert!J181,IF($J$54=TRUE,D106,IF($J$55=TRUE,D121,IF($J$56=TRUE,D136,IF($J$57=TRUE,D151,IF($K$54=TRUE,J106,IF($K$55=TRUE,J121,IF($K$56=TRUE,J136,IF($K$57=TRUE,J151,IF($J$60=FALSE,D91,IF($K$60=FALSE,D75,0)))))))))))))))))","v":"Sainfoin (décortiqué)"},{"$f":"IF('Aide _au_choix'!$O$9=TRUE, Choix_des_couvert!E226, IF('Aide _au_choix'!$N$9=TRUE, Choix_des_couvert!E211, IF('Aide _au_choix'!$M$9=TRUE,Choix_des_couvert!E196,IF('Aide _au_choix'!$M$11=TRUE,Choix_des_couvert!E166,IF('Aide _au_choix'!$N$11=TRUE,Choix_des_couvert!K166,IF('Aide _au_choix'!$O$11=TRUE,Choix_des_couvert!E181,IF('Aide _au_choix'!$P$11=TRUE,Choix_des_couvert!K181,IF($J$54=TRUE,E106,IF($J$55=TRUE,E121,IF($J$56=TRUE,E136,IF($J$57=TRUE,E151,IF($K$54=TRUE,K106,IF($K$55=TRUE,K121,IF($K$56=TRUE,K136,IF($K$57=TRUE,K151,IF($J$60=FALSE,E91,IF($K$60=FALSE,E75,0)))))))))))))))))","v":"Vesce commune"},null,null,null,"Choix",{"$f":"IF('Aide _au_choix'!O5=\"Estival\", 1, 0)","v":0},{"$f":"IF('Aide _au_choix'!O5=\"Hivernal\", 1, 0)","v":1}]
[null,{"$f":"IF('Aide _au_choix'!$O$9=TRUE, Choix_des_couvert!B227, IF('Aide _au_choix'!$N$9=TRUE, Choix_des_couvert!B212, IF('Aide _au_choix'!$M$9=TRUE,Choix_des_couvert!B197,IF('Aide _au_choix'!$M$11=TRUE,Choix_des_couvert!B167,IF('Aide _au_choix'!$N$11=TRUE,Choix_des_couvert!H167,IF('Aide _au_choix'!$O$11=TRUE,Choix_des_couvert!B182,IF('Aide _au_choix'!$P$11=TRUE,Choix_des_couvert!H182,IF($J$54=TRUE,B107,IF($J$55=TRUE,B122,IF($J$56=TRUE,B137,IF($J$57=TRUE,B152,IF($K$54=TRUE,H107,IF($K$55=TRUE,H122,IF($K$56=TRUE,H137,IF($K$57=TRUE,H152,IF($J$60=FALSE,B92,IF($K$60=FALSE,B76,0)))))))))))))))))","v":""},{"$f":"IF('Aide _au_choix'!$O$9=TRUE, Choix_des_couvert!C227, IF('Aide _au_choix'!$N$9=TRUE, Choix_des_couvert!C212, IF('Aide _au_choix'!$M$9=TRUE,Choix_des_couvert!C197,IF('Aide _au_choix'!$M$11=TRUE,Choix_des_couvert!C167,IF('Aide _au_choix'!$N$11=TRUE,Choix_des_couvert!I167,IF('Aide _au_choix'!$O$11=TRUE,Choix_des_couvert!C182,IF('Aide _au_choix'!$P$11=TRUE,Choix_des_couvert!I182,IF($J$54=TRUE,C107,IF($J$55=TRUE,C122,IF($J$56=TRUE,C137,IF($J$57=TRUE,C152,IF($K$54=TRUE,I107,IF($K$55=TRUE,I122,IF($K$56=TRUE,I137,IF($K$57=TRUE,I152,IF($J$60=FALSE,C92,IF($K$60=FALSE,C76,0)))))))))))))))))","v":""},{"$f":"IF('Aide _au_choix'!$O$9=TRUE, Choix_des_couvert!D227, IF('Aide _au_choix'!$N$9=TRUE, Choix_des_couvert!D212, IF('Aide _au_choix'!$M$9=TRUE,Choix_des_couvert!D197,IF('Aide _au_choix'!$M$11=TRUE,Choix_des_couvert!D167,IF('Aide _au_choix'!$N$11=TRUE,Choix_des_couvert!J167,IF('Aide _au_choix'!$O$11=TRUE,Choix_des_couvert!D182,IF('Aide _au_choix'!$P$11=TRUE,Choix_des_couvert!J182,IF($J$54=TRUE,D107,IF($J$55=TRUE,D122,IF($J$56=TRUE,D137,IF($J$57=TRUE,D152,IF($K$54=TRUE,J107,IF($K$55=TRUE,J122,IF($K$56=TRUE,J137,IF($K$57=TRUE,J152,IF($J$60=FALSE,D92,IF($K$60=FALSE,D76,0)))))))))))))))))","v":""},{"$f":"IF('Aide _au_choix'!$O$9=TRUE, Choix_des_couvert!E227, IF('Aide _au_choix'!$N$9=TRUE, Choix_des_couvert!E212, IF('Aide _au_choix'!$M$9=TRUE,Choix_des_couvert!E197,IF('Aide _au_choix'!$M$11=TRUE,Choix_des_couvert!E167,IF('Aide _au_choix'!$N$11=TRUE,Choix_des_couvert!K167,IF('Aide _au_choix'!$O$11=TRUE,Choix_des_couvert!E182,IF('Aide _au_choix'!$P$11=TRUE,Choix_des_couvert!K182,IF($J$54=TRUE,E107,IF($J$55=TRUE,E122,IF($J$56=TRUE,E137,IF($J$57=TRUE,E152,IF($K$54=TRUE,K107,IF($K$55=TRUE,K122,IF($K$56=TRUE,K137,IF($K$57=TRUE,K152,IF($J$60=FALSE,E92,IF($K$60=FALSE,E76,0)))))))))))))))))","v":"Vesce pourpre"},null,null,null,"Somme",{"$f":"AND(J58=0,J59=0)","v":true},{"$f":"AND(K58=0,K59=0)","v":false}]
[null,{"$f":"IF('Aide _au_choix'!$O$9=TRUE, Choix_des_couvert!B228, IF('Aide _au_choix'!$N$9=TRUE, Choix_des_couvert!B213, IF('Aide _au_choix'!$M$9=TRUE,Choix_des_couvert!B198,IF('Aide _au_choix'!$M$11=TRUE,Choix_des_couvert!B168,IF('Aide _au_choix'!$N$11=TRUE,Choix_des_couvert!H168,IF('Aide _au_choix'!$O$11=TRUE,Choix_des_couvert!B183,IF('Aide _au_choix'!$P$11=TRUE,Choix_des_couvert!H183,IF($J$54=TRUE,B108,IF($J$55=TRUE,B123,IF($J$56=TRUE,B138,IF($J$57=TRUE,B153,IF($K$54=TRUE,H108,IF($K$55=TRUE,H123,IF($K$56=TRUE,H138,IF($K$57=TRUE,H153,IF($J$60=FALSE,B93,IF($K$60=FALSE,B77,0)))))))))))))))))","v":""},{"$f":"IF('Aide _au_choix'!$O$9=TRUE, Choix_des_couvert!C228, IF('Aide _au_choix'!$N$9=TRUE, Choix_des_couvert!C213, IF('Aide _au_choix'!$M$9=TRUE,Choix_des_couvert!C198,IF('Aide _au_choix'!$M$11=TRUE,Choix_des_couvert!C168,IF('Aide _au_choix'!$N$11=TRUE,Choix_des_couvert!I168,IF('Aide _au_choix'!$O$11=TRUE,Choix_des_couvert!C183,IF('Aide _au_choix'!$P$11=TRUE,Choix_des_couvert!I183,IF($J$54=TRUE,C108,IF($J$55=TRUE,C123,IF($J$56=TRUE,C138,IF($J$57=TRUE,C153,IF($K$54=TRUE,I108,IF($K$55=TRUE,I123,IF($K$56=TRUE,I138,IF($K$57=TRUE,I153,IF($J$60=FALSE,C93,IF($K$60=FALSE,C77,0)))))))))))))))))","v":""},{"$f":"IF('Aide _au_choix'!$O$9=TRUE, Choix_des_couvert!D228, IF('Aide _au_choix'!$N$9=TRUE, Choix_des_couvert!D213, IF('Aide _au_choix'!$M$9=TRUE,Choix_des_couvert!D198,IF('Aide _au_choix'!$M$11=TRUE,Choix_des_couvert!D168,IF('Aide _au_choix'!$N$11=TRUE,Choix_des_couvert!J168,IF('Aide _au_choix'!$O$11=TRUE,Choix_des_couvert!D183,IF('Aide _au_choix'!$P$11=TRUE,Choix_des_couvert!J183,IF($J$54=TRUE,D108,IF($J$55=TRUE,D123,IF($J$56=TRUE,D138,IF($J$57=TRUE,D153,IF($K$54=TRUE,J108,IF($K$55=TRUE,J123,IF($K$56=TRUE,J138,IF($K$57=TRUE,J153,IF($J$60=FALSE,D93,IF($K$60=FALSE,D77,0)))))))))))))))))","v":""},{"$f":"IF('Aide _au_choix'!$O$9=TRUE, Choix_des_couvert!E228, IF('Aide _au_choix'!$N$9=TRUE, Choix_des_couvert!E213, IF('Aide _au_choix'!$M$9=TRUE,Choix_des_couvert!E198,IF('Aide _au_choix'!$M$11=TRUE,Choix_des_couvert!E168,IF('Aide _au_choix'!$N$11=TRUE,Choix_des_couvert!K168,IF('Aide _au_choix'!$O$11=TRUE,Choix_des_couvert!E183,IF('Aide _au_choix'!$P$11=TRUE,Choix_des_couvert!K183,IF($J$54=TRUE,E108,IF($J$55=TRUE,E123,IF($J$56=TRUE,E138,IF($J$57=TRUE,E153,IF($K$54=TRUE,K108,IF($K$55=TRUE,K123,IF($K$56=TRUE,K138,IF($K$57=TRUE,K153,IF($J$60=FALSE,E93,IF($K$60=FALSE,E77,0)))))))))))))))))","v":"Vesce velue"}]
[null,{"$f":"IF('Aide _au_choix'!$O$9=TRUE, Choix_des_couvert!B229, IF('Aide _au_choix'!$N$9=TRUE, Choix_des_couvert!B214, IF('Aide _au_choix'!$M$9=TRUE,Choix_des_couvert!B199,IF('Aide _au_choix'!$M$11=TRUE,Choix_des_couvert!B169,IF('Aide _au_choix'!$N$11=TRUE,Choix_des_couvert!H169,IF('Aide _au_choix'!$O$11=TRUE,Choix_des_couvert!B184,IF('Aide _au_choix'!$P$11=TRUE,Choix_des_couvert!H184,IF($J$54=TRUE,B109,IF($J$55=TRUE,B124,IF($J$56=TRUE,B139,IF($J$57=TRUE,B154,IF($K$54=TRUE,H109,IF($K$55=TRUE,H124,IF($K$56=TRUE,H139,IF($K$57=TRUE,H154,IF($J$60=FALSE,B94,IF($K$60=FALSE,B78,0)))))))))))))))))","v":"Crotalaire"},{"$f":"IF('Aide _au_choix'!$O$9=TRUE, Choix_des_couvert!C229, IF('Aide _au_choix'!$N$9=TRUE, Choix_des_couvert!C214, IF('Aide _au_choix'!$M$9=TRUE,Choix_des_couvert!C199,IF('Aide _au_choix'!$M$11=TRUE,Choix_des_couvert!C169,IF('Aide _au_choix'!$N$11=TRUE,Choix_des_couvert!I169,IF('Aide _au_choix'!$O$11=TRUE,Choix_des_couvert!C184,IF('Aide _au_choix'!$P$11=TRUE,Choix_des_couvert!I184,IF($J$54=TRUE,C109,IF($J$55=TRUE,C124,IF($J$56=TRUE,C139,IF($J$57=TRUE,C154,IF($K$54=TRUE,I109,IF($K$55=TRUE,I124,IF($K$56=TRUE,I139,IF($K$57=TRUE,I154,IF($J$60=FALSE,C94,IF($K$60=FALSE,C78,0)))))))))))))))))","v":""},{"$f":"IF('Aide _au_choix'!$O$9=TRUE, Choix_des_couvert!D229, IF('Aide _au_choix'!$N$9=TRUE, Choix_des_couvert!D214, IF('Aide _au_choix'!$M$9=TRUE,Choix_des_couvert!D199,IF('Aide _au_choix'!$M$11=TRUE,Choix_des_couvert!D169,IF('Aide _au_choix'!$N$11=TRUE,Choix_des_couvert!J169,IF('Aide _au_choix'!$O$11=TRUE,Choix_des_couvert!D184,IF('Aide _au_choix'!$P$11=TRUE,Choix_des_couvert!J184,IF($J$54=TRUE,D109,IF($J$55=TRUE,D124,IF($J$56=TRUE,D139,IF($J$57=TRUE,D154,IF($K$54=TRUE,J109,IF($K$55=TRUE,J124,IF($K$56=TRUE,J139,IF($K$57=TRUE,J154,IF($J$60=FALSE,D94,IF($K$60=FALSE,D78,0)))))))))))))))))","v":""},{"$f":"IF('Aide _au_choix'!$O$9=TRUE, Choix_des_couvert!E229, IF('Aide _au_choix'!$N$9=TRUE, Choix_des_couvert!E214, IF('Aide _au_choix'!$M$9=TRUE,Choix_des_couvert!E199,IF('Aide _au_choix'!$M$11=TRUE,Choix_des_couvert!E169,IF('Aide _au_choix'!$N$11=TRUE,Choix_des_couvert!K169,IF('Aide _au_choix'!$O$11=TRUE,Choix_des_couvert!E184,IF('Aide _au_choix'!$P$11=TRUE,Choix_des_couvert!K184,IF($J$54=TRUE,E109,IF($J$55=TRUE,E124,IF($J$56=TRUE,E139,IF($J$57=TRUE,E154,IF($K$54=TRUE,K109,IF($K$55=TRUE,K124,IF($K$56=TRUE,K139,IF($K$57=TRUE,K154,IF($J$60=FALSE,E94,IF($K$60=FALSE,E78,0)))))))))))))))))","v":"Vesce de Narbonne"}]
[null,{"$f":"IF('Aide _au_choix'!$O$9=TRUE, Choix_des_couvert!B230, IF('Aide _au_choix'!$N$9=TRUE, Choix_des_couvert!B215, IF('Aide _au_choix'!$M$9=TRUE,Choix_des_couvert!B200,IF('Aide _au_choix'!$M$11=TRUE,Choix_des_couvert!B170,IF('Aide _au_choix'!$N$11=TRUE,Choix_des_couvert!H170,IF('Aide _au_choix'!$O$11=TRUE,Choix_des_couvert!B185,IF('Aide _au_choix'!$P$11=TRUE,Choix_des_couvert!H185,IF($J$54=TRUE,B110,IF($J$55=TRUE,B125,IF($J$56=TRUE,B140,IF($J$57=TRUE,B155,IF($K$54=TRUE,H110,IF($K$55=TRUE,H125,IF($K$56=TRUE,H140,IF($K$57=TRUE,H155,IF($J$60=FALSE,B95,IF($K$60=FALSE,B79,0)))))))))))))))))","v":"Fénugrec"},{"$f":"IF('Aide _au_choix'!$O$9=TRUE, Choix_des_couvert!C230, IF('Aide _au_choix'!$N$9=TRUE, Choix_des_couvert!C215, IF('Aide _au_choix'!$M$9=TRUE,Choix_des_couvert!C200,IF('Aide _au_choix'!$M$11=TRUE,Choix_des_couvert!C170,IF('Aide _au_choix'!$N$11=TRUE,Choix_des_couvert!I170,IF('Aide _au_choix'!$O$11=TRUE,Choix_des_couvert!C185,IF('Aide _au_choix'!$P$11=TRUE,Choix_des_couvert!I185,IF($J$54=TRUE,C110,IF($J$55=TRUE,C125,IF($J$56=TRUE,C140,IF($J$57=TRUE,C155,IF($K$54=TRUE,I110,IF($K$55=TRUE,I125,IF($K$56=TRUE,I140,IF($K$57=TRUE,I155,IF($J$60=FALSE,C95,IF($K$60=FALSE,C79,0)))))))))))))))))","v":""},{"$f":"IF('Aide _au_choix'!$O$9=TRUE, Choix_des_couvert!D230, IF('Aide _au_choix'!$N$9=TRUE, Choix_des_couvert!D215, IF('Aide _au_choix'!$M$9=TRUE,Choix_des_couvert!D200,IF('Aide _au_choix'!$M$11=TRUE,Choix_des_couvert!D170,IF('Aide _au_choix'!$N$11=TRUE,Choix_des_couvert!J170,IF('Aide _au_choix'!$O$11=TRUE,Choix_des_couvert!D185,IF('Aide _au_choix'!$P$11=TRUE,Choix_des_couvert!J185,IF($J$54=TRUE,D110,IF($J$55=TRUE,D125,IF($J$56=TRUE,D140,IF($J$57=TRUE,D155,IF($K$54=TRUE,J110,IF($K$55=TRUE,J125,IF($K$56=TRUE,J140,IF($K$57=TRUE,J155,IF($J$60=FALSE,D95,IF($K$60=FALSE,D79,0)))))))))))))))))","v":""},{"$f":"IF('Aide _au_choix'!$O$9=TRUE, Choix_des_couvert!E230, IF('Aide _au_choix'!$N$9=TRUE, Choix_des_couvert!E215, IF('Aide _au_choix'!$M$9=TRUE,Choix_des_couvert!E200,IF('Aide _au_choix'!$M$11=TRUE,Choix_des_couvert!E170,IF('Aide _au_choix'!$N$11=TRUE,Choix_des_couvert!K170,IF('Aide _au_choix'!$O$11=TRUE,Choix_des_couvert!E185,IF('Aide _au_choix'!$P$11=TRUE,Choix_des_couvert!K185,IF($J$54=TRUE,E110,IF($J$55=TRUE,E125,IF($J$56=TRUE,E140,IF($J$57=TRUE,E155,IF($K$54=TRUE,K110,IF($K$55=TRUE,K125,IF($K$56=TRUE,K140,IF($K$57=TRUE,K155,IF($J$60=FALSE,E95,IF($K$60=FALSE,E79,0)))))))))))))))))","v":"Vesce de Pannonie"}]
[null,{"$f":"IF('Aide _au_choix'!$O$9=TRUE, Choix_des_couvert!B231, IF('Aide _au_choix'!$N$9=TRUE, Choix_des_couvert!B216, IF('Aide _au_choix'!$M$9=TRUE,Choix_des_couvert!B201,IF('Aide _au_choix'!$M$11=TRUE,Choix_des_couvert!B171,IF('Aide _au_choix'!$N$11=TRUE,Choix_des_couvert!H171,IF('Aide _au_choix'!$O$11=TRUE,Choix_des_couvert!B186,IF('Aide _au_choix'!$P$11=TRUE,Choix_des_couvert!H186,IF($J$54=TRUE,B111,IF($J$55=TRUE,B126,IF($J$56=TRUE,B141,IF($J$57=TRUE,B156,IF($K$54=TRUE,H111,IF($K$55=TRUE,H126,IF($K$56=TRUE,H141,IF($K$57=TRUE,H156,IF($J$60=FALSE,B96,IF($K$60=FALSE,B80,0)))))))))))))))))","v":"Féverole"},{"$f":"IF('Aide _au_choix'!$O$9=TRUE, Choix_des_couvert!C231, IF('Aide _au_choix'!$N$9=TRUE, Choix_des_couvert!C216, IF('Aide _au_choix'!$M$9=TRUE,Choix_des_couvert!C201,IF('Aide _au_choix'!$M$11=TRUE,Choix_des_couvert!C171,IF('Aide _au_choix'!$N$11=TRUE,Choix_des_couvert!I171,IF('Aide _au_choix'!$O$11=TRUE,Choix_des_couvert!C186,IF('Aide _au_choix'!$P$11=TRUE,Choix_des_couvert!I186,IF($J$54=TRUE,C111,IF($J$55=TRUE,C126,IF($J$56=TRUE,C141,IF($J$57=TRUE,C156,IF($K$54=TRUE,I111,IF($K$55=TRUE,I126,IF($K$56=TRUE,I141,IF($K$57=TRUE,I156,IF($J$60=FALSE,C96,IF($K$60=FALSE,C80,0)))))))))))))))))","v":""},{"$f":"IF('Aide _au_choix'!$O$9=TRUE, Choix_des_couvert!D231, IF('Aide _au_choix'!$N$9=TRUE, Choix_des_couvert!D216, IF('Aide _au_choix'!$M$9=TRUE,Choix_des_couvert!D201,IF('Aide _au_choix'!$M$11=TRUE,Choix_des_couvert!D171,IF('Aide _au_choix'!$N$11=TRUE,Choix_des_couvert!J171,IF('Aide _au_choix'!$O$11=TRUE,Choix_des_couvert!D186,IF('Aide _au_choix'!$P$11=TRUE,Choix_des_couvert!J186,IF($J$54=TRUE,D111,IF($J$55=TRUE,D126,IF($J$56=TRUE,D141,IF($J$57=TRUE,D156,IF($K$54=TRUE,J111,IF($K$55=TRUE,J126,IF($K$56=TRUE,J141,IF($K$57=TRUE,J156,IF($J$60=FALSE,D96,IF($K$60=FALSE,D80,0)))))))))))))))))","v":""},{"$f":"IF('Aide _au_choix'!$O$9=TRUE, Choix_des_couvert!E231, IF('Aide _au_choix'!$N$9=TRUE, Choix_des_couvert!E216, IF('Aide _au_choix'!$M$9=TRUE,Choix_des_couvert!E201,IF('Aide _au_choix'!$M$11=TRUE,Choix_des_couvert!E171,IF('Aide _au_choix'!$N$11=TRUE,Choix_des_couvert!K171,IF('Aide _au_choix'!$O$11=TRUE,Choix_des_couvert!E186,IF('Aide _au_choix'!$P$11=TRUE,Choix_des_couvert!K186,IF($J$54=TRUE,E111,IF($J$55=TRUE,E126,IF($J$56=TRUE,E141,IF($J$57=TRUE,E156,IF($K$54=TRUE,K111,IF($K$55=TRUE,K126,IF($K$56=TRUE,K141,IF($K$57=TRUE,K156,IF($J$60=FALSE,E96,IF($K$60=FALSE,E80,0)))))))))))))))))","v":""}]
[null,{"$f":"IF('Aide _au_choix'!$O$9=TRUE, Choix_des_couvert!B232, IF('Aide _au_choix'!$N$9=TRUE, Choix_des_couvert!B217, IF('Aide _au_choix'!$M$9=TRUE,Choix_des_couvert!B202,IF('Aide _au_choix'!$M$11=TRUE,Choix_des_couvert!B172,IF('Aide _au_choix'!$N$11=TRUE,Choix_des_couvert!H172,IF('Aide _au_choix'!$O$11=TRUE,Choix_des_couvert!B187,IF('Aide _au_choix'!$P$11=TRUE,Choix_des_couvert!H187,IF($J$54=TRUE,B112,IF($J$55=TRUE,B127,IF($J$56=TRUE,B142,IF($J$57=TRUE,B157,IF($K$54=TRUE,H112,IF($K$55=TRUE,H127,IF($K$56=TRUE,H142,IF($K$57=TRUE,H157,IF($J$60=FALSE,B97,IF($K$60=FALSE,B81,0)))))))))))))))))","v":"Gesse"},{"$f":"IF('Aide _au_choix'!$O$9=TRUE, Choix_des_couvert!C232, IF('Aide _au_choix'!$N$9=TRUE, Choix_des_couvert!C217, IF('Aide _au_choix'!$M$9=TRUE,Choix_des_couvert!C202,IF('Aide _au_choix'!$M$11=TRUE,Choix_des_couvert!C172,IF('Aide _au_choix'!$N$11=TRUE,Choix_des_couvert!I172,IF('Aide _au_choix'!$O$11=TRUE,Choix_des_couvert!C187,IF('Aide _au_choix'!$P$11=TRUE,Choix_des_couvert!I187,IF($J$54=TRUE,C112,IF($J$55=TRUE,C127,IF($J$56=TRUE,C142,IF($J$57=TRUE,C157,IF($K$54=TRUE,I112,IF($K$55=TRUE,I127,IF($K$56=TRUE,I142,IF($K$57=TRUE,I157,IF($J$60=FALSE,C97,IF($K$60=FALSE,C81,0)))))))))))))))))","v":""},{"$f":"IF('Aide _au_choix'!$O$9=TRUE, Choix_des_couvert!D232, IF('Aide _au_choix'!$N$9=TRUE, Choix_des_couvert!D217, IF('Aide _au_choix'!$M$9=TRUE,Choix_des_couvert!D202,IF('Aide _au_choix'!$M$11=TRUE,Choix_des_couvert!D172,IF('Aide _au_choix'!$N$11=TRUE,Choix_des_couvert!J172,IF('Aide _au_choix'!$O$11=TRUE,Choix_des_couvert!D187,IF('Aide _au_choix'!$P$11=TRUE,Choix_des_couvert!J187,IF($J$54=TRUE,D112,IF($J$55=TRUE,D127,IF($J$56=TRUE,D142,IF($J$57=TRUE,D157,IF($K$54=TRUE,J112,IF($K$55=TRUE,J127,IF($K$56=TRUE,J142,IF($K$57=TRUE,J157,IF($J$60=FALSE,D97,IF($K$60=FALSE,D81,0)))))))))))))))))","v":"Trèfle Blanc"},{"$f":"IF('Aide _au_choix'!$O$9=TRUE, Choix_des_couvert!E232, IF('Aide _au_choix'!$N$9=TRUE, Choix_des_couvert!E217, IF('Aide _au_choix'!$M$9=TRUE,Choix_des_couvert!E202,IF('Aide _au_choix'!$M$11=TRUE,Choix_des_couvert!E172,IF('Aide _au_choix'!$N$11=TRUE,Choix_des_couvert!K172,IF('Aide _au_choix'!$O$11=TRUE,Choix_des_couvert!E187,IF('Aide _au_choix'!$P$11=TRUE,Choix_des_couvert!K187,IF($J$54=TRUE,E112,IF($J$55=TRUE,E127,IF($J$56=TRUE,E142,IF($J$57=TRUE,E157,IF($K$54=TRUE,K112,IF($K$55=TRUE,K127,IF($K$56=TRUE,K142,IF($K$57=TRUE,K157,IF($J$60=FALSE,E97,IF($K$60=FALSE,E81,0)))))))))))))))))","v":""}]
[null,{"$f":"IF('Aide _au_choix'!$O$9=TRUE, Choix_des_couvert!B233, IF('Aide _au_choix'!$N$9=TRUE, Choix_des_couvert!B218, IF('Aide _au_choix'!$M$9=TRUE,Choix_des_couvert!B203,IF('Aide _au_choix'!$M$11=TRUE,Choix_des_couvert!B173,IF('Aide _au_choix'!$N$11=TRUE,Choix_des_couvert!H173,IF('Aide _au_choix'!$O$11=TRUE,Choix_des_couvert!B188,IF('Aide _au_choix'!$P$11=TRUE,Choix_des_couvert!H188,IF($J$54=TRUE,B113,IF($J$55=TRUE,B128,IF($J$56=TRUE,B143,IF($J$57=TRUE,B158,IF($K$54=TRUE,H113,IF($K$55=TRUE,H128,IF($K$56=TRUE,H143,IF($K$57=TRUE,H158,IF($J$60=FALSE,B98,IF($K$60=FALSE,B82,0)))))))))))))))))","v":"Lentille fourragère"},{"$f":"IF('Aide _au_choix'!$O$9=TRUE, Choix_des_couvert!C233, IF('Aide _au_choix'!$N$9=TRUE, Choix_des_couvert!C218, IF('Aide _au_choix'!$M$9=TRUE,Choix_des_couvert!C203,IF('Aide _au_choix'!$M$11=TRUE,Choix_des_couvert!C173,IF('Aide _au_choix'!$N$11=TRUE,Choix_des_couvert!I173,IF('Aide _au_choix'!$O$11=TRUE,Choix_des_couvert!C188,IF('Aide _au_choix'!$P$11=TRUE,Choix_des_couvert!I188,IF($J$54=TRUE,C113,IF($J$55=TRUE,C128,IF($J$56=TRUE,C143,IF($J$57=TRUE,C158,IF($K$54=TRUE,I113,IF($K$55=TRUE,I128,IF($K$56=TRUE,I143,IF($K$57=TRUE,I158,IF($J$60=FALSE,C98,IF($K$60=FALSE,C82,0)))))))))))))))))","v":"Pois fourrager"},{"$f":"IF('Aide _au_choix'!$O$9=TRUE, Choix_des_couvert!D233, IF('Aide _au_choix'!$N$9=TRUE, Choix_des_couvert!D218, IF('Aide _au_choix'!$M$9=TRUE,Choix_des_couvert!D203,IF('Aide _au_choix'!$M$11=TRUE,Choix_des_couvert!D173,IF('Aide _au_choix'!$N$11=TRUE,Choix_des_couvert!J173,IF('Aide _au_choix'!$O$11=TRUE,Choix_des_couvert!D188,IF('Aide _au_choix'!$P$11=TRUE,Choix_des_couvert!J188,IF($J$54=TRUE,D113,IF($J$55=TRUE,D128,IF($J$56=TRUE,D143,IF($J$57=TRUE,D158,IF($K$54=TRUE,J113,IF($K$55=TRUE,J128,IF($K$56=TRUE,J143,IF($K$57=TRUE,J158,IF($J$60=FALSE,D98,IF($K$60=FALSE,D82,0)))))))))))))))))","v":"Trèfle d'Alexandrie"},{"$f":"IF('Aide _au_choix'!$O$9=TRUE, Choix_des_couvert!E233, IF('Aide _au_choix'!$N$9=TRUE, Choix_des_couvert!E218, IF('Aide _au_choix'!$M$9=TRUE,Choix_des_couvert!E203,IF('Aide _au_choix'!$M$11=TRUE,Choix_des_couvert!E173,IF('Aide _au_choix'!$N$11=TRUE,Choix_des_couvert!K173,IF('Aide _au_choix'!$O$11=TRUE,Choix_des_couvert!E188,IF('Aide _au_choix'!$P$11=TRUE,Choix_des_couvert!K188,IF($J$54=TRUE,E113,IF($J$55=TRUE,E128,IF($J$56=TRUE,E143,IF($J$57=TRUE,E158,IF($K$54=TRUE,K113,IF($K$55=TRUE,K128,IF($K$56=TRUE,K143,IF($K$57=TRUE,K158,IF($J$60=FALSE,E98,IF($K$60=FALSE,E82,0)))))))))))))))))","v":""}]
[null,{"$f":"IF('Aide _au_choix'!$O$9=TRUE, Choix_des_couvert!B234, IF('Aide _au_choix'!$N$9=TRUE, Choix_des_couvert!B219, IF('Aide _au_choix'!$M$9=TRUE,Choix_des_couvert!B204,IF('Aide _au_choix'!$M$11=TRUE,Choix_des_couvert!B174,IF('Aide _au_choix'!$N$11=TRUE,Choix_des_couvert!H174,IF('Aide _au_choix'!$O$11=TRUE,Choix_des_couvert!B189,IF('Aide _au_choix'!$P$11=TRUE,Choix_des_couvert!H189,IF($J$54=TRUE,B114,IF($J$55=TRUE,B129,IF($J$56=TRUE,B144,IF($J$57=TRUE,B159,IF($K$54=TRUE,H114,IF($K$55=TRUE,H129,IF($K$56=TRUE,H144,IF($K$57=TRUE,H159,IF($J$60=FALSE,B99,IF($K$60=FALSE,B83,0)))))))))))))))))","v":"Lin"},{"$f":"IF('Aide _au_choix'!$O$9=TRUE, Choix_des_couvert!C234, IF('Aide _au_choix'!$N$9=TRUE, Choix_des_couvert!C219, IF('Aide _au_choix'!$M$9=TRUE,Choix_des_couvert!C204,IF('Aide _au_choix'!$M$11=TRUE,Choix_des_couvert!C174,IF('Aide _au_choix'!$N$11=TRUE,Choix_des_couvert!I174,IF('Aide _au_choix'!$O$11=TRUE,Choix_des_couvert!C189,IF('Aide _au_choix'!$P$11=TRUE,Choix_des_couvert!I189,IF($J$54=TRUE,C114,IF($J$55=TRUE,C129,IF($J$56=TRUE,C144,IF($J$57=TRUE,C159,IF($K$54=TRUE,I114,IF($K$55=TRUE,I129,IF($K$56=TRUE,I144,IF($K$57=TRUE,I159,IF($J$60=FALSE,C99,IF($K$60=FALSE,C83,0)))))))))))))))))","v":"Pois protéagineux"},{"$f":"IF('Aide _au_choix'!$O$9=TRUE, Choix_des_couvert!D234, IF('Aide _au_choix'!$N$9=TRUE, Choix_des_couvert!D219, IF('Aide _au_choix'!$M$9=TRUE,Choix_des_couvert!D204,IF('Aide _au_choix'!$M$11=TRUE,Choix_des_couvert!D174,IF('Aide _au_choix'!$N$11=TRUE,Choix_des_couvert!J174,IF('Aide _au_choix'!$O$11=TRUE,Choix_des_couvert!D189,IF('Aide _au_choix'!$P$11=TRUE,Choix_des_couvert!J189,IF($J$54=TRUE,D114,IF($J$55=TRUE,D129,IF($J$56=TRUE,D144,IF($J$57=TRUE,D159,IF($K$54=TRUE,J114,IF($K$55=TRUE,J129,IF($K$56=TRUE,J144,IF($K$57=TRUE,J159,IF($J$60=FALSE,D99,IF($K$60=FALSE,D83,0)))))))))))))))))","v":"Trèfle de Micheli"},{"$f":"IF('Aide _au_choix'!$O$9=TRUE, Choix_des_couvert!E234, IF('Aide _au_choix'!$N$9=TRUE, Choix_des_couvert!E219, IF('Aide _au_choix'!$M$9=TRUE,Choix_des_couvert!E204,IF('Aide _au_choix'!$M$11=TRUE,Choix_des_couvert!E174,IF('Aide _au_choix'!$N$11=TRUE,Choix_des_couvert!K174,IF('Aide _au_choix'!$O$11=TRUE,Choix_des_couvert!E189,IF('Aide _au_choix'!$P$11=TRUE,Choix_des_couvert!K189,IF($J$54=TRUE,E114,IF($J$55=TRUE,E129,IF($J$56=TRUE,E144,IF($J$57=TRUE,E159,IF($K$54=TRUE,K114,IF($K$55=TRUE,K129,IF($K$56=TRUE,K144,IF($K$57=TRUE,K159,IF($J$60=FALSE,E99,IF($K$60=FALSE,E83,0)))))))))))))))))","v":""}]
[null,{"$f":"IF('Aide _au_choix'!$O$9=TRUE, Choix_des_couvert!B235, IF('Aide _au_choix'!$N$9=TRUE, Choix_des_couvert!B220, IF('Aide _au_choix'!$M$9=TRUE,Choix_des_couvert!B205,IF('Aide _au_choix'!$M$11=TRUE,Choix_des_couvert!B175,IF('Aide _au_choix'!$N$11=TRUE,Choix_des_couvert!H175,IF('Aide _au_choix'!$O$11=TRUE,Choix_des_couvert!B190,IF('Aide _au_choix'!$P$11=TRUE,Choix_des_couvert!H190,IF($J$54=TRUE,B115,IF($J$55=TRUE,B130,IF($J$56=TRUE,B145,IF($J$57=TRUE,B160,IF($K$54=TRUE,H115,IF($K$55=TRUE,H130,IF($K$56=TRUE,H145,IF($K$57=TRUE,H160,IF($J$60=FALSE,B100,IF($K$60=FALSE,B84,0)))))))))))))))))","v":"Lotier Corniculé"},{"$f":"IF('Aide _au_choix'!$O$9=TRUE, Choix_des_couvert!C235, IF('Aide _au_choix'!$N$9=TRUE, Choix_des_couvert!C220, IF('Aide _au_choix'!$M$9=TRUE,Choix_des_couvert!C205,IF('Aide _au_choix'!$M$11=TRUE,Choix_des_couvert!C175,IF('Aide _au_choix'!$N$11=TRUE,Choix_des_couvert!I175,IF('Aide _au_choix'!$O$11=TRUE,Choix_des_couvert!C190,IF('Aide _au_choix'!$P$11=TRUE,Choix_des_couvert!I190,IF($J$54=TRUE,C115,IF($J$55=TRUE,C130,IF($J$56=TRUE,C145,IF($J$57=TRUE,C160,IF($K$54=TRUE,I115,IF($K$55=TRUE,I130,IF($K$56=TRUE,I145,IF($K$57=TRUE,I160,IF($J$60=FALSE,C100,IF($K$60=FALSE,C84,0)))))))))))))))))","v":""},{"$f":"IF('Aide _au_choix'!$O$9=TRUE, Choix_des_couvert!D235, IF('Aide _au_choix'!$N$9=TRUE, Choix_des_couvert!D220, IF('Aide _au_choix'!$M$9=TRUE,Choix_des_couvert!D205,IF('Aide _au_choix'!$M$11=TRUE,Choix_des_couvert!D175,IF('Aide _au_choix'!$N$11=TRUE,Choix_des_couvert!J175,IF('Aide _au_choix'!$O$11=TRUE,Choix_des_couvert!D190,IF('Aide _au_choix'!$P$11=TRUE,Choix_des_couvert!J190,IF($J$54=TRUE,D115,IF($J$55=TRUE,D130,IF($J$56=TRUE,D145,IF($J$57=TRUE,D160,IF($K$54=TRUE,J115,IF($K$55=TRUE,J130,IF($K$56=TRUE,J145,IF($K$57=TRUE,J160,IF($J$60=FALSE,D100,IF($K$60=FALSE,D84,0)))))))))))))))))","v":"Trèfle de perse"},{"$f":"IF('Aide _au_choix'!$O$9=TRUE, Choix_des_couvert!E235, IF('Aide _au_choix'!$N$9=TRUE, Choix_des_couvert!E220, IF('Aide _au_choix'!$M$9=TRUE,Choix_des_couvert!E205,IF('Aide _au_choix'!$M$11=TRUE,Choix_des_couvert!E175,IF('Aide _au_choix'!$N$11=TRUE,Choix_des_couvert!K175,IF('Aide _au_choix'!$O$11=TRUE,Choix_des_couvert!E190,IF('Aide _au_choix'!$P$11=TRUE,Choix_des_couvert!K190,IF($J$54=TRUE,E115,IF($J$55=TRUE,E130,IF($J$56=TRUE,E145,IF($J$57=TRUE,E160,IF($K$54=TRUE,K115,IF($K$55=TRUE,K130,IF($K$56=TRUE,K145,IF($K$57=TRUE,K160,IF($J$60=FALSE,E100,IF($K$60=FALSE,E84,0)))))))))))))))))","v":""}]
[null,{"$f":"IF('Aide _au_choix'!$O$9=TRUE, Choix_des_couvert!B236, IF('Aide _au_choix'!$N$9=TRUE, Choix_des_couvert!B221, IF('Aide _au_choix'!$M$9=TRUE,Choix_des_couvert!B206,IF('Aide _au_choix'!$M$11=TRUE,Choix_des_couvert!B176,IF('Aide _au_choix'!$N$11=TRUE,Choix_des_couvert!H176,IF('Aide _au_choix'!$O$11=TRUE,Choix_des_couvert!B191,IF('Aide _au_choix'!$P$11=TRUE,Choix_des_couvert!H191,IF($J$54=TRUE,B116,IF($J$55=TRUE,B131,IF($J$56=TRUE,B146,IF($J$57=TRUE,B161,IF($K$54=TRUE,H116,IF($K$55=TRUE,H131,IF($K$56=TRUE,H146,IF($K$57=TRUE,H161,IF($J$60=FALSE,B101,IF($K$60=FALSE,B85,0)))))))))))))))))","v":"Luzerne Flamande"},{"$f":"IF('Aide _au_choix'!$O$9=TRUE, Choix_des_couvert!C236, IF('Aide _au_choix'!$N$9=TRUE, Choix_des_couvert!C221, IF('Aide _au_choix'!$M$9=TRUE,Choix_des_couvert!C206,IF('Aide _au_choix'!$M$11=TRUE,Choix_des_couvert!C176,IF('Aide _au_choix'!$N$11=TRUE,Choix_des_couvert!I176,IF('Aide _au_choix'!$O$11=TRUE,Choix_des_couvert!C191,IF('Aide _au_choix'!$P$11=TRUE,Choix_des_couvert!I191,IF($J$54=TRUE,C116,IF($J$55=TRUE,C131,IF($J$56=TRUE,C146,IF($J$57=TRUE,C161,IF($K$54=TRUE,I116,IF($K$55=TRUE,I131,IF($K$56=TRUE,I146,IF($K$57=TRUE,I161,IF($J$60=FALSE,C101,IF($K$60=FALSE,C85,0)))))))))))))))))","v":""},{"$f":"IF('Aide _au_choix'!$O$9=TRUE, Choix_des_couvert!D236, IF('Aide _au_choix'!$N$9=TRUE, Choix_des_couvert!D221, IF('Aide _au_choix'!$M$9=TRUE,Choix_des_couvert!D206,IF('Aide _au_choix'!$M$11=TRUE,Choix_des_couvert!D176,IF('Aide _au_choix'!$N$11=TRUE,Choix_des_couvert!J176,IF('Aide _au_choix'!$O$11=TRUE,Choix_des_couvert!D191,IF('Aide _au_choix'!$P$11=TRUE,Choix_des_couvert!J191,IF($J$54=TRUE,D116,IF($J$55=TRUE,D131,IF($J$56=TRUE,D146,IF($J$57=TRUE,D161,IF($K$54=TRUE,J116,IF($K$55=TRUE,J131,IF($K$56=TRUE,J146,IF($K$57=TRUE,J161,IF($J$60=FALSE,D101,IF($K$60=FALSE,D85,0)))))))))))))))))","v":"Trèfle incarnat"},{"$f":"IF('Aide _au_choix'!$O$9=TRUE, Choix_des_couvert!E236, IF('Aide _au_choix'!$N$9=TRUE, Choix_des_couvert!E221, IF('Aide _au_choix'!$M$9=TRUE,Choix_des_couvert!E206,IF('Aide _au_choix'!$M$11=TRUE,Choix_des_couvert!E176,IF('Aide _au_choix'!$N$11=TRUE,Choix_des_couvert!K176,IF('Aide _au_choix'!$O$11=TRUE,Choix_des_couvert!E191,IF('Aide _au_choix'!$P$11=TRUE,Choix_des_couvert!K191,IF($J$54=TRUE,E116,IF($J$55=TRUE,E131,IF($J$56=TRUE,E146,IF($J$57=TRUE,E161,IF($K$54=TRUE,K116,IF($K$55=TRUE,K131,IF($K$56=TRUE,K146,IF($K$57=TRUE,K161,IF($J$60=FALSE,E101,IF($K$60=FALSE,E85,0)))))))))))))))))","v":""}]
[]
[]
["Hivernal"]
[null,"Alpiste des canaries","Mélilot","Ray-grass Italien","Triticale",null,null,"Alpiste des canaries","Mélilot","Ray-grass Italien","Triticale"]
[null,"Avoine bresilienne","Millet perlé","Sainfoin (cosse)","Trèfle violet",null,null,"Avoine bresilienne","Millet perlé","Sainfoin (cosse)","Trèfle violet"]
[null,"Avoine de printemps","Minette","Sainfoin (décortiqué)","Vesce commune",null,null,"Avoine de printemps","Minette","Sainfoin (décortiqué)","Vesce commune"]
[null,"Avoine d'hiver","Moha fourrager","Sarrasin","Vesce pourpre",null,null,"Avoine d'hiver","Moha fourrager","Sarrasin","Vesce pourpre"]
[null,"Cameline","Moutarde blanche","Seigle forestier","Vesce velue",null,null,"Cameline","Moutarde blanche","Seigle forestier","Vesce velue"]
[null,"Colza","Moutarde brune","Seigle fourrager","Vesce de Narbonne",null,null,"Colza","Moutarde brune","Seigle fourrager","Vesce de Pannonie"]
[null,"Fénugrec","Moutarde d'Abyssinie","Sorgho fourrager",{"$f":"\"\"","v":""},null,null,"Fénugrec","Moutarde d'Abyssinie","Sorgho fourrager"]
[null,"Féverole","Niger","Tournesol",{"$f":"\"\"","v":""},null,null,"Féverole","Niger","Tournesol"]
[null,"Gesse","Phacélie","Trèfle Blanc",{"$f":"\"\"","v":""},null,null,"Gesse","Phacélie","Trèfle Blanc"]
[null,"Lentille fourragère","Pois fourrager","Trèfle d'Alexandrie",{"$f":"\"\"","v":""},null,null,"Lentille fourragère","Pois fourrager","Trèfle d'Alexandrie"]
[null,"Lin","Pois protéagineux","Trèfle de Micheli",{"$f":"\"\"","v":""},null,null,"Lin","Pois protéagineux","Trèfle de Micheli"]
[null,"Lotier Corniculé","Radis chinois","Trèfle de perse",{"$f":"\"\"","v":""},null,null,"Lotier Corniculé","Radis chinois","Trèfle de perse"]
[null,"Luzerne Flamande","Radis fourrager","Trèfle incarnat",{"$f":"\"\"","v":""},null,null,"Luzerne Flamande","Radis fourrager","Trèfle incarnat"]
[]
[]
["Estival"]
[null,{"$f":"\"\"","v":""},{"$f":"\"\"","v":""},{"$f":"\"\"","v":""},{"$f":"\"\"","v":""},null,null,"Alpiste des canaries","Mélilot","Ray-grass Italien","Triticale"]
[null,{"$f":"\"\"","v":""},"Millet perlé",{"$f":"\"\"","v":""},{"$f":"\"\"","v":""},null,null,"Avoine bresilienne","Millet perlé","Sainfoin (cosse)","Trèfle violet"]
[null,{"$f":"\"\"","v":""},{"$f":"\"\"","v":""},{"$f":"\"\"","v":""},"Vesce commune",null,null,"Avoine de printemps","Minette","Sainfoin (décortiqué)","Vesce commune"]
[null,"Chia","Moha fourrager","Sarrasin","Vesce pourpre",null,null,"Avoine d'hiver","Moha fourrager","Sarrasin","Vesce pourpre"]
[null,"Carthame","Moutarde blanche",{"$f":"\"\"","v":""},"Vesce de Narbonne",null,null,"Cameline","Moutarde blanche","Seigle forestier","Vesce velue"]
[null,"Colza","Moutarde brune",{"$f":"\"\"","v":""},{"$f":"\"\"","v":""},null,null,"Colza","Moutarde brune","Seigle fourrager"]
[null,"Fénugrec","Moutarde d'Abyssinie","Sorgho fourrager",{"$f":"\"\"","v":""},null,null,"Fénugrec","Moutarde d'Abyssinie","Sorgho fourrager"]
[null,"Féverole","Niger","Tournesol",{"$f":"\"\"","v":""},null,null,"Féverole","Niger","Tournesol"]
[null,"Gesse","Phacélie",{"$f":"\"\"","v":""},{"$f":"\"\"","v":""},null,null,"Gesse","Phacélie","Trèfle Blanc"]
[null,"Lentille fourragère","Pois fourrager","Trèfle d'Alexandrie",{"$f":"\"\"","v":""},null,null,"Lentille fourragère","Pois fourrager","Trèfle d'Alexandrie"]
[null,"Lin",{"$f":"\"\"","v":""},{"$f":"\"\"","v":""},{"$f":"\"\"","v":""},null,null,"Lin","Pois protéagineux","Trèfle de Micheli"]
[null,"Mauve","Radis chinois","Trèfle de perse",{"$f":"\"\"","v":""},null,null,"Lotier Corniculé","Radis chinois","Trèfle de perse"]
[null,{"$f":"\"\"","v":""},"Radis fourrager","Trèfle incarnat",{"$f":"\"\"","v":""},null,null,"Luzerne Flamande","Radis fourrager","Trèfle incarnat"]
[]
[]
["Apport d'azote",{"$f":"\"\"","v":""},{"$f":"\"\"","v":""},{"$f":"\"\"","v":""},{"$f":"\"\"","v":""},null,null,{"$f":"\"\"","v":""},"Mélilot",{"$f":"\"\"","v":""},{"$f":"\"\"","v":""}]
[null,{"$f":"\"\"","v":""},{"$f":"\"\"","v":""},{"$f":"\"\"","v":""},{"$f":"\"\"","v":""},null,null,{"$f":"\"\"","v":""},{"$f":"\"\"","v":""},"Sainfoin (cosse)","Trèfle violet"]
[null,{"$f":"\"\"","v":""},{"$f":"\"\"","v":""},{"$f":"\"\"","v":""},"Vesce commune",null,null,{"$f":"\"\"","v":""},"Minette","Sainfoin (décortiqué)","Vesce commune"]
[null,{"$f":"\"\"","v":""},{"$f":"\"\"","v":""},{"$f":"\"\"","v":""},"Vesce pourpre",null,null,{"$f":"\"\"","v":""},{"$f":"\"\"","v":""},{"$f":"\"\"","v":""},"Vesce pourpre"]
[null,{"$f":"\"\"","v":""},{"$f":"\"\"","v":""},{"$f":"\"\"","v":""},"Vesce de Narbonne",null,null,{"$f":"\"\"","v":""},{"$f":"\"\"","v":""},{"$f":"\"\"","v":""},"Vesce velue"]
[null,"Crotalaire",{"$f":"\"\"","v":""},{"$f":"\"\"","v":""},{"$f":"\"\"","v":""},null,null,"Crotalaire",{"$f":"\"\"","v":""},{"$f":"\"\"","v":""},"Vesce de Narbonne"]
[null,"Fénugrec",{"$f":"\"\"","v":""},{"$f":"\"\"","v":""},{"$f":"\"\"","v":""},null,null,"Fénugrec",{"$f":"\"\"","v":""},{"$f":"\"\"","v":""},"Vesce de Pannonie"]
[null,"Féverole",{"$f":"\"\"","v":""},{"$f":"\"\"","v":""},{"$f":"\"\"","v":""},null,null,"Féverole",{"$f":"\"\"","v":""},{"$f":"\"\"","v":""},{"$f":"\"\"","v":""}]
[null,"Gesse",{"$f":"\"\"","v":""},{"$f":"\"\"","v":""},{"$f":"\"\"","v":""},null,null,"Gesse",{"$f":"\"\"","v":""},"Trèfle Blanc",{"$f":"\"\"","v":""}]
[null,"Lentille fourragère","Pois fourrager","Trèfle d'Alexandrie",{"$f":"\"\"","v":""},null,null,"Lentille fourragère","Pois fourrager","Trèfle d'Alexandrie",{"$f":"\"\"","v":""}]
[null,{"$f":"\"\"","v":""},{"$f":"\"\"","v":""},"Trèfle vésiculeux",{"$f":"\"\"","v":""},null,null,"Lin","Pois protéagineux","Trèfle de Micheli",{"$f":"\"\"","v":""}]
[null,{"$f":"\"\"","v":""},{"$f":"\"\"","v":""},"Trèfle de perse",{"$f":"\"\"","v":""},null,null,"Lotier Corniculé",{"$f":"\"\"","v":""},"Trèfle de perse",{"$f":"\"\"","v":""}]
[null,{"$f":"\"\"","v":""},null,{"$f":"\"\"","v":""},{"$f":"\"\"","v":""},null,null,"Luzerne Flamande",{"$f":"\"\"","v":""},"Trèfle incarnat",{"$f":"\"\"","v":""}]
[]
[]
["Piegeage d'azote",{"$f":"\"\"","v":""},{"$f":"\"\"","v":""},{"$f":"\"\"","v":""},{"$f":"\"\"","v":""},null,null,"(Alpiste des canaries)",{"$f":"\"\"","v":""},"Ray-grass Italien","Triticale"]
[null,{"$f":"\"\"","v":""},"(Millet perlé)",{"$f":"\"\"","v":""},{"$f":"\"\"","v":""},null,null,"(Avoine bresilienne)","(Millet perlé)",{"$f":"\"\"","v":""},{"$f":"\"\"","v":""}]
[null,{"$f":"\"\"","v":""},{"$f":"\"\"","v":""},{"$f":"\"\"","v":""},{"$f":"\"\"","v":""},null,null,"(Avoine de printemps)",{"$f":"\"\"","v":""},{"$f":"\"\"","v":""},{"$f":"\"\"","v":""}]
[null,"Cameline","(Moha fourrager)","Sarrasin",{"$f":"\"\"","v":""},null,null,"(Avoine d'hiver)","(Moha fourrager)","(Sarrasin)",{"$f":"\"\"","v":""}]
[null,"Carthame","Moutarde blanche",{"$f":"\"\"","v":""},{"$f":"\"\"","v":""},null,null,"Carthame","Moutarde blanche","Seigle forestier",{"$f":"\"\"","v":""}]
[null,"Colza","Moutarde brune",{"$f":"\"\"","v":""},{"$f":"\"\"","v":""},null,null,"Colza","Moutarde brune","Seigle fourrager",{"$f":"\"\"","v":""}]
[null,"Chia","Moutarde d'Abyssinie","Sorgho fourrager",{"$f":"\"\"","v":""},null,null,{"$f":"\"\"","v":""},"Moutarde d'Abyssinie","(Sorgho fourrager)",{"$f":"\"\"","v":""}]
[null,{"$f":"\"\"","v":""},"(Niger)","(Tournesol)",{"$f":"\"\"","v":""},null,null,{"$f":"\"\"","v":""},{"$f":"\"\"","v":""},"(Tournesol)",{"$f":"\"\"","v":""}]
[null,{"$f":"\"\"","v":""},"(Phacélie)",{"$f":"\"\"","v":""},{"$f":"\"\"","v":""},null,null,{"$f":"\"\"","v":""},"Phacélie",{"$f":"\"\"","v":""},{"$f":"\"\"","v":""}]
[null,"Lin",{"$f":"\"\"","v":""},{"$f":"\"\"","v":""},{"$f":"\"\"","v":""},null,null,{"$f":"\"\"","v":""},{"$f":"\"\"","v":""},{"$f":"\"\"","v":""},{"$f":"\"\"","v":""}]
[null,"Mauve",{"$f":"\"\"","v":""},{"$f":"\"\"","v":""},{"$f":"\"\"","v":""},null,null,{"$f":"\"\"","v":""},{"$f":"\"\"","v":""},{"$f":"\"\"","v":""},{"$f":"\"\"","v":""}]
[null,{"$f":"\"\"","v":""},"Radis chinois",{"$f":"\"\"","v":""},{"$f":"\"\"","v":""},null,null,{"$f":"\"\"","v":""},"Radis chinois",{"$f":"\"\"","v":""},{"$f":"\"\"","v":""}]
[null,{"$f":"\"\"","v":""},"Radis fourrager",{"$f":"\"\"","v":""},{"$f":"\"\"","v":""},null,null,{"$f":"\"\"","v":""},"Radis fourrager",{"$f":"\"\"","v":""},{"$f":"\"\"","v":""}]
[]
[]
["Etouffement des adventices",{"$f":"\"\"","v":""},{"$f":"\"\"","v":""},{"$f":"\"\"","v":""},{"$f":"\"\"","v":""},null,null,"(Alpiste des canaries)",{"$f":"\"\"","v":""},"Ray-grass Italien",{"$f":"\"\"","v":""}]
[null,{"$f":"\"\"","v":""},{"$f":"\"\"","v":""},{"$f":"\"\"","v":""},{"$f":"\"\"","v":""},null,null,"(Avoine bresilienne)",{"$f":"\"\"","v":""},{"$f":"\"\"","v":""},{"$f":"\"\"","v":""}]
[null,{"$f":"\"\"","v":""},{"$f":"\"\"","v":""},{"$f":"\"\"","v":""},"Vesce commune",null,null,"(Avoine de printemps)",{"$f":"\"\"","v":""},{"$f":"\"\"","v":""},{"$f":"\"\"","v":""}]
[null,{"$f":"\"\"","v":""},"(Moha fourrager)","Sarrasin","Vesce velue",null,null,{"$f":"\"\"","v":""},{"$f":"\"\"","v":""},{"$f":"\"\"","v":""},{"$f":"\"\"","v":""}]
[null,"Cameline","Moutarde blanche",{"$f":"\"\"","v":""},{"$f":"\"\"","v":""},null,null,"Cameline","Moutarde blanche","Seigle forestier","Vesce velue"]
[null,"Colza","Moutarde brune",{"$f":"\"\"","v":""},{"$f":"\"\"","v":""},null,null,"Colza","Moutarde brune","Seigle fourrager",{"$f":"\"\"","v":""}]
[null,{"$f":"\"\"","v":""},{"$f":"\"\"","v":""},{"$f":"\"\"","v":""},{"$f":"\"\"","v":""},null,null,{"$f":"\"\"","v":""},{"$f":"\"\"","v":""},{"$f":"\"\"","v":""},{"$f":"\"\"","v":""}]
[null,{"$f":"\"\"","v":""},{"$f":"\"\"","v":""},{"$f":"\"\"","v":""},{"$f":"\"\"","v":""},null,null,{"$f":"\"\"","v":""},{"$f":"\"\"","v":""},{"$f":"\"\"","v":""},{"$f":"\"\"","v":""}]
[null,{"$f":"\"\"","v":""},"Phacélie",{"$f":"\"\"","v":""},{"$f":"\"\"","v":""},null,null,{"$f":"\"\"","v":""},"Phacélie",{"$f":"\"\"","v":""},{"$f":"\"\"","v":""}]
[null,"Lentille fourragère","Pois fourrager",{"$f":"\"\"","v":""},{"$f":"\"\"","v":""},null,null,"Lentille fourragère","Pois fourrager",{"$f":"\"\"","v":""},{"$f":"\"\"","v":""}]
[null,{"$f":"\"\"","v":""},{"$f":"\"\"","v":""},{"$f":"\"\"","v":""},{"$f":"\"\"","v":""},null,null,{"$f":"\"\"","v":""},{"$f":"\"\"","v":""},{"$f":"\"\"","v":""},{"$f":"\"\"","v":""}]
[null,{"$f":"\"\"","v":""},"Radis chinois",{"$f":"\"\"","v":""},{"$f":"\"\"","v":""},null,null,{"$f":"\"\"","v":""},"Radis chinois",{"$f":"\"\"","v":""},{"$f":"\"\"","v":""}]
[null,{"$f":"\"\"","v":""},"Radis fourrager",{"$f":"\"\"","v":""},{"$f":"\"\"","v":""},null,null,{"$f":"\"\"","v":""},"Radis fourrager","Trèfle incarnat",{"$f":"\"\"","v":""}]
[]
[]
["Production fourrage",{"$f":"\"\"","v":""},{"$f":"\"\"","v":""},{"$f":"\"\"","v":""},{"$f":"\"\"","v":""},null,null,{"$f":"\"\"","v":""},"Mélilot","Ray-grass Italien","Triticale"]
[null,{"$f":"\"\"","v":""},"(Millet perlé)",{"$f":"\"\"","v":""},{"$f":"\"\"","v":""},null,null,{"$f":"\"\"","v":""},"Millet perlé","Sainfoin (cosse)","Trèfle violet"]
[null,{"$f":"\"\"","v":""},{"$f":"\"\"","v":""},{"$f":"\"\"","v":""},"Vesce commune",null,null,{"$f":"\"\"","v":""},"Minette","Sainfoin (décortiqué)","Vesce commune"]
[null,{"$f":"\"\"","v":""},"Moha fourrager",{"$f":"\"\"","v":""},"Vesce pourpre",null,null,"Avoine d'hiver","Moha fourrager",{"$f":"\"\"","v":""},"Vesce pourpre"]
[null,{"$f":"\"\"","v":""},"Moutarde blanche",{"$f":"\"\"","v":""},"Vesce de Narbonne",null,null,"Cameline","Moutarde blanche","Seigle forestier","Vesce velue"]
[null,"Colza","Moutarde brune",{"$f":"\"\"","v":""},{"$f":"\"\"","v":""},null,null,"Colza","Moutarde brune","Seigle fourrager","Vesce de Narbonne"]
[null,"Fénugrec","Moutarde d'Abyssinie","Sorgho fourrager (> 60 cm)",{"$f":"\"\"","v":""},null,null,"Fénugrec","Moutarde d'Abyssinie","Sorgho fourrager  (> 60 cm)",{"$f":"\"\"","v":""}]
[null,"Féverole","(Niger)",{"$f":"\"\"","v":""},{"$f":"\"\"","v":""},null,null,"Féverole","Niger",{"$f":"\"\"","v":""},{"$f":"\"\"","v":""}]
[null,"Gesse","(Phacélie)",{"$f":"\"\"","v":""},{"$f":"\"\"","v":""},null,null,"Gesse","Phacélie","Trèfle Blanc",{"$f":"\"\"","v":""}]
[null,"Lentille fourragère","Pois fourrager","Trèfle d'Alexandrie",{"$f":"\"\"","v":""},null,null,"Lentille fourragère","Pois fourrager","Trèfle d'Alexandrie",{"$f":"\"\"","v":""}]
[null,{"$f":"\"\"","v":""},null,{"$f":"\"\"","v":""},{"$f":"\"\"","v":""},null,null,"Lin","Pois protéagineux","Trèfle de Micheli",{"$f":"\"\"","v":""}]
[null,{"$f":"\"\"","v":""},"Radis chinois","Trèfle de perse",{"$f":"\"\"","v":""},null,null,"Lotier Corniculé","Radis chinois","Trèfle de perse",{"$f":"\"\"","v":""}]
[null,{"$f":"\"\"","v":""},"Radis fourrager",{"$f":"\"\"","v":""},{"$f":"\"\"","v":""},null,null,"Luzerne Flamande","Radis fourrager","Trèfle incarnat",{"$f":"\"\"","v":""}]
[]
[]
["Maïs",{"$f":"\"\"","v":""},"Mélilot",{"$f":"\"\"","v":""},{"$f":"\"\"","v":""},null,"Tournesol","(Alpiste des canaries)","Mélilot","Ray-grass Italien","Triticale"]
[null,"Crotalaire",{"$f":"\"\"","v":""},"Sainfoin (cosse)","Trèfle violet",null,null,"(Avoine bresilienne)","(Millet perlé)","Sainfoin (cosse)","Trèfle violet"]
[null,"Chia","Minette","Sainfoin (décortiqué)","Vesce commune",null,null,"(Avoine de printemps)","Minette","Sainfoin (décortiqué)","Vesce commune"]
[null,"Carthame",{"$f":"\"\"","v":""},"(Sarrasin) pas en graines","Vesce pourpre",null,null,"Avoine d'hiver","(Moha fourrager)","(Sarrasin)pas en graines","Vesce pourpre"]
[null,"Cameline","(Moutarde blanche)",{"$f":"\"\"","v":""},"Vesce velue",null,null,"Cameline","Moutarde blanche","Seigle forestier","Vesce velue"]
[null,"Colza","(Moutarde brune)",{"$f":"\"\"","v":""},"Vesce de Narbonne",null,null,"Colza","Moutarde brune","Seigle fourrager","Vesce de Narbonne"]
[null,"Fénugrec","(Moutarde d'Abyssinie)",{"$f":"\"\"","v":""},"Vesce de Pannonie",null,null,"Fénugrec","Moutarde d'Abyssinie","(Sorgho fourrager)","Vesce de Pannonie"]
[null,"Féverole","Niger","Tournesol",{"$f":"\"\"","v":""},null,null,"Féverole",{"$f":"\"\"","v":""},{"$f":"\"\"","v":""},{"$f":"\"\"","v":""}]
[null,"Gesse","Phacélie","Trèfle Blanc",{"$f":"\"\"","v":""},null,null,"Gesse","Phacélie","Trèfle Blanc",{"$f":"\"\"","v":""}]
[null,"Lentille fourragère","Pois fourrager","Trèfle d'Alexandrie",{"$f":"\"\"","v":""},null,null,"Lentille fourragère","Pois fourrager","(Trèfle d'Alexandrie)",{"$f":"\"\"","v":""}]
[null,"Lin","Pois protéagineux","Trèfle de Micheli",{"$f":"\"\"","v":""},null,null,"Lin","Pois protéagineux","Trèfle de Micheli",{"$f":"\"\"","v":""}]
[null,"Lotier Corniculé","Radis chinois","Trèfle de perse",{"$f":"\"\"","v":""},null,null,"Lotier Corniculé","Radis chinois","Trèfle de perse",{"$f":"\"\"","v":""}]
[null,"Luzerne Flamande","Radis fourrager","Trèfle incarnat",{"$f":"\"\"","v":""},null,null,"Luzerne Flamande","Radis fourrager","Trèfle incarnat",{"$f":"\"\"","v":""}]
[]
[]
["Graminées",{"$f":"\"\"","v":""},{"$f":"\"\"","v":""},{"$f":"\"\"","v":""},{"$f":"\"\"","v":""},null,"Legumineuse","(Alpiste des canaries)",{"$f":"\"\"","v":""},"(Ray-grass Italien)","Triticale"]
[null,{"$f":"\"\"","v":""},{"$f":"\"\"","v":""},{"$f":"\"\"","v":""},"Trèfle violet",null,null,"(Avoine bresilienne)","(Millet perlé)",{"$f":"\"\"","v":""},{"$f":"\"\"","v":""}]
[null,{"$f":"\"\"","v":""},{"$f":"\"\"","v":""},{"$f":"\"\"","v":""},"Vesce commune",null,null,"(Avoine de printemps)",{"$f":"\"\"","v":""},{"$f":"\"\"","v":""},{"$f":"\"\"","v":""}]
[null,"Chia",{"$f":"\"\"","v":""},"Sarrasin","Vesce pourpre",null,null,"Chia","Moha fourrager","(Sarrasin) pas en graines",{"$f":"\"\"","v":""}]
[null,"Cameline","Moutarde blanche",{"$f":"\"\"","v":""},"Vesce de Narbonne",null,null,"Cameline","Moutarde blanche","Seigle forestier",{"$f":"\"\"","v":""}]
[null,"Carthame","Moutarde brune",{"$f":"\"\"","v":""},{"$f":"\"\"","v":""},null,null,"Colza","Moutarde brune","Seigle fourrager",{"$f":"\"\"","v":""}]
[null,"Fénugrec","Moutarde d'Abyssinie",{"$f":"\"\"","v":""},{"$f":"\"\"","v":""},null,null,"Carthame","Moutarde d'Abyssinie","Sorgho fourrager",{"$f":"\"\"","v":""}]
[null,"Féverole","Niger","Tournesol",{"$f":"\"\"","v":""},null,null,{"$f":"\"\"","v":""},"Niger","Tournesol",{"$f":"\"\"","v":""}]
[null,"Gesse","Phacélie","Trèfle Blanc",{"$f":"\"\"","v":""},null,null,{"$f":"\"\"","v":""},"Phacélie",{"$f":"\"\"","v":""},{"$f":"\"\"","v":""}]
[null,"Lentille fourragère","Pois fourrager","Trèfle d'Alexandrie",{"$f":"\"\"","v":""},null,null,{"$f":"\"\"","v":""},{"$f":"\"\"","v":""},{"$f":"\"\"","v":""},{"$f":"\"\"","v":""}]
[null,"Lin",{"$f":"\"\"","v":""},"Trèfle de Micheli",{"$f":"\"\"","v":""},null,null,"Lin",{"$f":"\"\"","v":""},{"$f":"\"\"","v":""},{"$f":"\"\"","v":""}]
[null,{"$f":"\"\"","v":""},"Radis chinois","Trèfle de perse",{"$f":"\"\"","v":""},null,null,{"$f":"\"\"","v":""},"Radis chinois",{"$f":"\"\"","v":""},{"$f":"\"\"","v":""}]
[null,{"$f":"\"\"","v":""},{"$f":"\"\"","v":""},{"$f":"\"\"","v":""},{"$f":"\"\"","v":""},null,null,{"$f":"\"\"","v":""},"Radis fourrager",{"$f":"\"\"","v":""},{"$f":"\"\"","v":""}]
[]
[]
["Couvert Permanent","Sol argilo-calcaire",{"$f":"\"\"","v":""},"Sol acide",{"$f":"\"\"","v":""}]
[null,"--------------------------",{"$f":"\"\"","v":""},"--------------------------",{"$f":"\"\"","v":""}]
[null,"Luzerne",{"$f":"\"\"","v":""},"Trèfle Violet",{"$f":"\"\"","v":""}]
[null,"Sainfoin",{"$f":"\"\"","v":""},"Lotier corniculé",{"$f":"\"\"","v":""}]
[null,"Lotier corniculé",{"$f":"\"\"","v":""},"Trèfle blanc",{"$f":"\"\"","v":""}]
[null,"Trèfle blanc ou violet",{"$f":"\"\"","v":""},{"$f":"\"\"","v":""},{"$f":"\"\"","v":""}]
[null,"Microtrèfle Pipolina",{"$f":"\"\"","v":""},"Sol drainé",{"$f":"\"\"","v":""}]
[null,{"$f":"\"\"","v":""},{"$f":"\"\"","v":""},"-------------------------",{"$f":"\"\"","v":""}]
[null,"Sol hydromorphe",{"$f":"\"\"","v":""},"Trèfle Blanc",{"$f":"\"\"","v":""}]
[null,"----------------------------",{"$f":"\"\"","v":""},"Microtrèfle Pipolina",{"$f":"\"\"","v":""}]
[null,"Trèfle violet",{"$f":"\"\"","v":""},"Trèfle violet",{"$f":"\"\"","v":""}]
[null,"Lotier des marais",{"$f":"\"\"","v":""},{"$f":"\"\"","v":""},{"$f":"\"\"","v":""}]
[null,{"$f":"\"\"","v":""},{"$f":"\"\"","v":""},{"$f":"\"\"","v":""},{"$f":"\"\"","v":""}]
[]
[]
["Sol acide","Sol acide","Mélilot","Ray-grass Italien","Triticale"]
[null,"Avoine bresilienne","Millet perlé","Sainfoin (cosse)","Trèfle violet"]
[null,"Avoine de printemps","Minette","Sainfoin (décortiqué)","Vesce commune"]
[null,"Avoine d'hiver","Moha fourrager","Sarrasin","Vesce pourpre"]
[null,"Cameline","Moutarde blanche","Seigle forestier","Vesce velue"]
[null,"Colza","Moutarde brune","Seigle fourrager","Vesce de Narbonne"]
[null,"Fénugrec","Moutarde d'Abyssinie","Sorgho fourrager",{"$f":"\"\"","v":""}]
[null,"Féverole","Niger","Tournesol",{"$f":"\"\"","v":""}]
[null,"Gesse","Phacélie","Trèfle Blanc",{"$f":"\"\"","v":""}]
[null,null,"Pois fourrager","Trèfle d'Alexandrie",{"$f":"\"\"","v":""}]
[null,"Lin","Pois protéagineux","Trèfle de Micheli",{"$f":"\"\"","v":""}]
[null,"Lotier Corniculé","Radis chinois","Trèfle de perse",{"$f":"\"\"","v":""}]
[null,"Luzerne Flamande","Radis fourrager","Trèfle incarnat",{"$f":"\"\"","v":""}]
[]
[]
["Sol hydromorphe","Sol hydromorphe",null,"Ray-grass Italien","Triticale"]
[null,"Avoine bresilienne","Millet perlé","Sainfoin (cosse)","Trèfle violet"]
[null,"Avoine de printemps","Minette","Sainfoin (décortiqué)","Vesce commune"]
[null,"Avoine d'hiver","Moha fourrager","Sarrasin","Vesce pourpre"]
[null,null,"Moutarde blanche","Seigle forestier","Vesce velue"]
[null,"Colza","Moutarde brune","Seigle fourrager",{"$f":"\"\"","v":""}]
[null,"Fénugrec","Moutarde d'Abyssinie","Sorgho fourrager",{"$f":"\"\"","v":""}]
[null,"Féverole","Niger",null,{"$f":"\"\"","v":""}]
[null,null,"Phacélie","Trèfle Blanc",{"$f":"\"\"","v":""}]
[null,null,"Pois fourrager","Trèfle d'Alexandrie",{"$f":"\"\"","v":""}]
[null,null,"Pois protéagineux","Trèfle de Micheli",{"$f":"\"\"","v":""}]
[null,"Lotier Corniculé","Radis chinois","Trèfle de perse",{"$f":"\"\"","v":""}]
[null,"Luzerne Flamande","Radis fourrager","Trèfle incarnat",{"$f":"\"\"","v":""}]

{"sheet":"Choix_engrais","index":103,"n_rows":6,"n_cols":6,"rows_kept":6,"cut":false,"hidden":false,"merged":[]}
["CHOIX DE L'ENGRAIS"]
[]
[]
[]
["Engrais","Prix unitaire (€/t)","Quantité épandue (t/ha)","Coût (€/ha)"]
[null,null,null,{"$f":"B6*C6","v":0},null,"Retour"]

{"sheet":"Choix_Herbi","index":104,"n_rows":32,"n_cols":4,"rows_kept":32,"cut":false,"hidden":false,"merged":[]}
["CHOIX DE L'HERBICIDE"]
[]
[]
[]
["Herbicide","Prix unitaire (€/l ou kg)","Quantité appliquée (l ou kg/ha)","Coût (€/ha)"]
[null,null,null,{"$f":"B6*C6","v":0}]
[]
[]
[]
[]
[]
[]
[]
[]
[]
[]
[]
[]
[]
[]
[]
[]
[]
[]
[]
[]
[]
[]
[]
[]
[]
["Retour"]

{"sheet":"BDD_Travaildusol","index":105,"n_rows":96,"n_cols":16384,"rows_kept":96,"cut":false,"hidden":false,"merged":[]}
[]
["CHARGES DE MECANISATION"]
[]
[]
[]
[]
["Travail superficiel","Coût Total €/ha","Perf ha/h","Temps (h/ha)"]
["Déchaumeur 3 m (dents + disques)",15.5,1.8,{"$f":"1/C8","v":0.55555555555555558}]
["Déchaumeur 4 m (dents + disques)",23.8,2.5,{"$f":"1/C9","v":0.4}]
["Déchaumeur 6 m (dents + disques)",34.200000000000003,3.5,0.2857142857142857]
["Déchaumeur 3 m disques indépendants",26.5,2.5,0.4]
["Déchaumeur 4 m porté disques indépendants",38.700000000000003,3.5,0.2857142857142857]
["Déchaumeur 4 m trainé disques indépendants",59,3.5,0.2857142857142857]
["Déchaumeur 6 m porté disques indépendants",69.099999999999994,6,0.16666666666666666]
["Déchaumeur 6 m trainé disques indépendants",87.6,6,0.16666666666666666]
["Bêche roulante 5.3 m + disques + rouleaux",128.69999999999999,5,0.2]
["Bêche roulante 7 m + disques + rouleaux",124.9,5,0.2]
["Pulvériseur 4.5 m - 40 disques + rouleau barre",22.2,2.2000000000000002,0.45454545454545453]
["Pulvériseur 4.8 m - 44 disques + rouleau barre",27.2,2.5,0.4]
["Pulvériseur 6 m - 56 disques + rouleau barre",37,3.5,0.2857142857142857]
["Vibroculteur 4 m 21 dents + rouleau",11,2.4,0.41666666666666669]
["Vibroculteur 6 m + rouleau",16,3.5,0.2857142857142857]
["Vibroculteur 8 m + rouleau",35.299999999999997,3.5,0.2857142857142857]
["Combiné 6 m vibroculteur + rotoherse + rouleau",69.5,3.5,0.2857142857142857]
[]
[]
[]
[]
["Travail profond","Coût Total €/ha","Perf ha/h","Temps (h/ha)"]
["Décompacteur 3 m (4 lames droites)",14.6,1.2]
["Décompacteur 3 m (6 lames) avec rouleau",20,1.2]
["Décompacteur 4 m (8 lames) avec rouleau",25.1,1.8]
["Charrue express 2.5 m",24.4,1.1000000000000001]
["Chisel lourd 3 m",47.5,2]
["Chisel lourd 4 m",58.4,2.5]
["Chisel lourd 5 m",81.900000000000006,3]
["Cultivateur lourd 3 m",5.9,1.2]
["Cultivateur lourd 4 m",8,1.6]
["Cultivateur lourd 4.5 m",9.1999999999999993,1.8]
["Charrue 4 corps portée",13.2,0.7]
["Charrue 5 corps portée",13.6,0.9]
["Charrue 6 corps portée",21,1.4]
["Charrue 6 - 7 corps semi-portée",23.4,1.3]
["Charrue 7 - 8 corps semi-portée",27.9,1.4]
[]
["Rappuyage","Coût Total €/ha","Perf ha/h","Temps (h/ha)"]
["Rouleau Cambridge 8 m",25.1,4]
["Rouleau Cambridge 10 m",30.1,5]
["Rouleau crosskill 10 m - repliage hydraulique",44.3,5]
[]
[]
[]
[]
["Travail du sol superficiel","Coût avec Carburant et MO","Carburant en l/ha","Temps ha/h","Temps h/ha"]
[]
["Déchaumeur à disques indépendants 3 à 6 m",26,8,4,{"$f":"1/D56","v":0.25}]
["Cover-crop 3 à 6 m",32,11,4,{"$f":"1/D57","v":0.25}]
["Déchaumeur à dents et disques 3 à 6 m",29,11,4,0.25]
["Combiné vibroculteur + rouleau 4 à 6 m",34,8,4,0.25]
["Herse rotative 3 à 6 m",41,12,1.5,0.66666666666666663]
["Rouleau 4 à 6 m",16,3,3,0.33333333333333331]
["Bêche roulante 5.3 à 7 m + disques + rouleaux",52,3,5,0.2,null,null,null,null,null,null,null,null,null,null,null,null,null,null,null,null,null,null,null,null,null,null,null,null,null,null,null,null,null,null,null,null,null,null,null,null,null,null,null,null,null,null,null,null,null,null,null,null,null,null,null,null,null,null,null,null,null,null,null,null,null,null,null,null,null,null,null,null,null,null,null,null,null,null,null,null,null,null,null,null,null,null,null,null,null,null,null,null,null,null,null,null,null,null,null,null,null,null,null,null,null,null,null,null,null,null,null,null,null,null,null,null,null,null,null,null,null,null,null,null,null,null,null,null,null,null,null,null,null,"Bêche roulante 5.3 m + disques + rouleaux","Bêche roulante 5.3 m + disques + rouleaux","Bêche roulante 5.3 m + disques + rouleaux","Bêche roulante 5.3 m + disques + rouleaux","Bêche roulante 5.3 m + disques + rouleaux","Bêche roulante 5.3 m + disques + rouleaux","Bêche roulante 5.3 m + disques + rouleaux","Bêche roulante 5.3 m + disques + rouleaux","Bêche roulante 5.3 m + disques + rouleaux","Bêche roulante 5.3 m + disques + rouleaux","Bêche roulante 5.3 m + disques + rouleaux","Bêche roulante 5.3 m + disques + rouleaux","Bêche roulante 5.3 m + disques + rouleaux","Bêche roulante 5.3 m + disques + rouleaux","Bêche roulante 5.3 m + disques + rouleaux","Bêche roulante 5.3 m + disques + rouleaux","Bêche roulante 5.3 m + disques + rouleaux","Bêche roulante 5.3 m + disques + rouleaux","Bêche roulante 5.3 m + disques + rouleaux","Bêche roulante 5.3 m + disques + rouleaux","Bêche roulante 5.3 m + disques + rouleaux","Bêche roulante 5.3 m + disques + rouleaux","Bêche roulante 5.3 m + disques + rouleaux","Bêche roulante 5.3 m + disques + rouleaux","Bêche roulante 5.3 m + disques + rouleaux","Bêche roulante 5.3 m + disques + rouleaux","Bêche roulante 5.3 m + disques + rouleaux","Bêche roulante 5.3 m + disques + rouleaux","Bêche roulante 5.3 m + disques + rouleaux","Bêche roulante 5.3 m + disques + rouleaux","Bêche roulante 5.3 m + disques + rouleaux","Bêche roulante 5.3 m + disques + rouleaux","Bêche roulante 5.3 m + disques + rouleaux","Bêche roulante 5.3 m + disques + rouleaux","Bêche roulante 5.3 m + disques + rouleaux","Bêche roulante 5.3 m + disques + rouleaux","Bêche roulante 5.3 m + disques + rouleaux","Bêche roulante 5.3 m + disques + rouleaux","Bêche roulante 5.3 m + disques + rouleaux","Bêche roulante 5.3 m + disques + rouleaux","Bêche roulante 5.3 m + disques + rouleaux","Bêche roulante 5.3 m + disques + rouleaux","Bêche roulante 5.3 m + disques + rouleaux","Bêche roulante 5.3 m + disques + rouleaux","Bêche roulante 5.3 m + disques + rouleaux","Bêche roulante 5.3 m + disques + rouleaux","Bêche roulante 5.3 m + disques + rouleaux","Bêche roulante 5.3 m + disques + rouleaux","Bêche roulante 5.3 m + disques + rouleaux","Bêche roulante 5.3 m + disques + rouleaux","Bêche roulante 5.3 m + disques + rouleaux","Bêche roulante 5.3 m + disques + rouleaux","Bêche roulante 5.3 m + disques + rouleaux","Bêche roulante 5.3 m + disques + rouleaux","Bêche roulante 5.3 m + disques + rouleaux","Bêche roulante 5.3 m + disques + rouleaux","Bêche roulante 5.3 m + disques + rouleaux","Bêche roulante 5.3 m + disques + rouleaux","Bêche roulante 5.3 m + disques + rouleaux","Bêche roulante 5.3 m + disques + rouleaux","Bêche roulante 5.3 m + disques + rouleaux","Bêche roulante 5.3 m + disques + rouleaux","Bêche roulante 5.3 m + disques + rouleaux","Bêche roulante 5.3 m + disques + rouleaux","Bêche roulante 5.3 m + disques + rouleaux","Bêche roulante 5.3 m + disques + rouleaux","Bêche roulante 5.3 m + disques + rouleaux","Bêche roulante 5.3 m + disques + rouleaux","Bêche roulante 5.3 m + disques + rouleaux","Bêche roulante 5.3 m + disques + rouleaux","Bêche roulante 5.3 m + disques + rouleaux","Bêche roulante 5.3 m + disques + rouleaux","Bêche roulante 5.3 m + disques + rouleaux","Bêche roulante 5.3 m + disques + rouleaux","Bêche roulante 5.3 m + disques + rouleaux","Bêche roulante 5.3 m + disques + rouleaux","Bêche roulante 5.3 m + disques + rouleaux","Bêche roulante 5.3 m + disques + rouleaux","Bêche roulante 5.3 m + disques + rouleaux","Bêche roulante 5.3 m + disques + rouleaux","Bêche roulante 5.3 m + disques + rouleaux","Bêche roulante 5.3 m + disques + rouleaux","Bêche roulante 5.3 m + disques + rouleaux","Bêche roulante 5.3 m + disques + rouleaux","Bêche roulante 5.3 m + disques + rouleaux","Bêche roulante 5.3 m + disques + rouleaux","Bêche roulante 5.3 m + disques + rouleaux","Bêche roulante 5.3 m + disques + rouleaux","Bêche roulante 5.3 m + disques + rouleaux","Bêche roulante 5.3 m + disques + rouleaux","Bêche roulante 5.3 m + disques + rouleaux","Bêche roulante 5.3 m + disques + rouleaux","Bêche roulante 5.3 m + disques + rouleaux","Bêche roulante 5.3 m + disques + rouleaux","Bêche roulante 5.3 m + disques + rouleaux","Bêche roulante 5.3 m + disques + rouleaux","Bêche roulante 5.3 m + disques + rouleaux","Bêche roulante 5.3 m + disques + rouleaux","Bêche roulante 5.3 m + disques + rouleaux","Bêche roulante 5.3 m + disques + rouleaux","Bêche roulante 5.3 m + disques + rouleaux","Bêche roulante 5.3 m + disques + rouleaux","Bêche roulante 5.3 m + disques + rouleaux","Bêche roulante 5.3 m + disques + rouleaux","Bêche roulante 5.3 m + disques + rouleaux","Bêche roulante 5.3 m + disques + rouleaux","Bêche roulante 5.3 m + disques + rouleaux","Bêche roulante 5.3 m + disques + rouleaux","Bêche roulante 5.3 m + disques + rouleaux","Bêche roulante 5.3 m + disques + rouleaux","Bêche roulante 5.3 m + disques + rouleaux","Bêche roulante 5.3 m + disques + rouleaux","Bêche roulante 5.3 m + disques + rouleaux","Bêche roulante 5.3 m + disques + rouleaux","Bêche roulante 5.3 m + disques + rouleaux","Bêche roulante 5.3 m + disques + rouleaux","Bêche roulante 5.3 m + disques + rouleaux","Bêche roulante 5.3 m + disques + rouleaux","Bêche roulante 5.3 m + disques + rouleaux","Bêche roulante 5.3 m + disques + rouleaux","Bêche roulante 5.3 m + disques + rouleaux","Bêche roulante 5.3 m + disques + rouleaux","Bêche roulante 5.3 m + disques + rouleaux","Bêche roulante 5.3 m + disques + rouleaux","Bêche roulante 5.3 m + disques + rouleaux","Bêche roulante 5.3 m + disques + rouleaux","Bêche roulante 5.3 m + disques + rouleaux","Bêche roulante 5.3 m + disques + rouleaux","Bêche roulante 5.3 m + disques + rouleaux","Bêche roulante 5.3 m + disques + rouleaux","Bêche roulante 5.3 m + disques + rouleaux","Bêche roulante 5.3 m + disques + rouleaux","Bêche roulante 5.3 m + disques + rouleaux","Bêche roulante 5.3 m + disques + rouleaux","Bêche roulante 5.3 m + disques + rouleaux","Bêche roulante 5.3 m + disques + rouleaux","Bêche roulante 5.3 m + disques + rouleaux","Bêche roulante 5.3 m + disques + rouleaux","Bêche roulante 5.3 m + disques + rouleaux","Bêche roulante 5.3 m + disques + rouleaux","Bêche roulante 5.3 m + disques + rouleaux","Bêche roulante 5.3 m + disques + rouleaux","Bêche roulante 5.3 m + disques + rouleaux","Bêche roulante 5.3 m + disques + rouleaux","Bêche roulante 5.3 m + disques + rouleaux","Bêche roulante 5.3 m + disques + rouleaux","Bêche roulante 5.3 m + disques + rouleaux","Bêche roulante 5.3 m + disques + rouleaux","Bêche roulante 5.3 m + disques + rouleaux","Bêche roulante 5.3 m + disques + rouleaux","Bêche roulante 5.3 m + disques + rouleaux","Bêche roulante 5.3 m + disques + rouleaux","Bêche roulante 5.3 m + disques + rouleaux","Bêche roulante 5.3 m + disques + rouleaux","Bêche roulante 5.3 m + disques + rouleaux","Bêche roulante 5.3 m + disques + rouleaux","Bêche roulante 5.3 m + disques + rouleaux","Bêche roulante 5.3 m + disques + rouleaux","Bêche roulante 5.3 m + disques + rouleaux","Bêche roulante 5.3 m + disques + rouleaux","Bêche roulante 5.3 m + disques + rouleaux","Bêche roulante 5.3 m + disques + rouleaux","Bêche roulante 5.3 m + disques + rouleaux","Bêche roulante 5.3 m + disques + rouleaux","Bêche roulante 5.3 m + disques + rouleaux","Bêche roulante 5.3 m + disques + rouleaux","Bêche roulante 5.3 m + disques + rouleaux","Bêche roulante 5.3 m + disques + rouleaux","Bêche roulante 5.3 m + disques + rouleaux","Bêche roulante 5.3 m + disques + rouleaux","Bêche roulante 5.3 m + disques + rouleaux","Bêche roulante 5.3 m + disques + rouleaux","Bêche roulante 5.3 m + disques + rouleaux","Bêche roulante 5.3 m + disques + rouleaux","Bêche roulante 5.3 m + disques + rouleaux","Bêche roulante 5.3 m + disques + rouleaux","Bêche roulante 5.3 m + disques + rouleaux","Bêche roulante 5.3 m + disques + rouleaux","Bêche roulante 5.3 m + disques + rouleaux","Bêche roulante 5.3 m + disques + rouleaux","Bêche roulante 5.3 m + disques + rouleaux","Bêche roulante 5.3 m + disques + rouleaux","Bêche roulante 5.3 m + disques + rouleaux","Bêche roulante 5.3 m + disques + rouleaux","Bêche roulante 5.3 m + disques + rouleaux","Bêche roulante 5.3 m + disques + rouleaux","Bêche roulante 5.3 m + disques + rouleaux","Bêche roulante 5.3 m + disques + rouleaux","Bêche roulante 5.3 m + disques + rouleaux","Bêche roulante 5.3 m + disques + rouleaux","Bêche roulante 5.3 m + disques + rouleaux","Bêche roulante 5.3 m + disques + rouleaux","Bêche roulante 5.3 m + disques + rouleaux","Bêche roulante 5.3 m + disques + rouleaux","Bêche roulante 5.3 m + disques + rouleaux","Bêche roulante 5.3 m + disques + rouleaux","Bêche roulante 5.3 m + disques + rouleaux","Bêche roulante 5.3 m + disques + rouleaux","Bêche roulante 5.3 m + disques + rouleaux","Bêche roulante 5.3 m + disques + rouleaux","Bêche roulante 5.3 m + disques + rouleaux","Bêche roulante 5.3 m + disques + rouleaux","Bêche roulante 5.3 m + disques + rouleaux","Bêche roulante 5.3 m + disques + rouleaux","Bêche roulante 5.3 m + disques + rouleaux","Bêche roulante 5.3 m + disques + rouleaux","Bêche roulante 5.3 m + disques + rouleaux","Bêche roulante 5.3 m + disques + rouleaux","Bêche roulante 5.3 m + disques + rouleaux","Bêche roulante 5.3 m + disques + rouleaux","Bêche roulante 5.3 m + disques + rouleaux","Bêche roulante 5.3 m + disques + rouleaux","Bêche roulante 5.3 m + disques + rouleaux","Bêche roulante 5.3 m + disques + rouleaux","Bêche roulante 5.3 m + disques + rouleaux","Bêche roulante 5.3 m + disques + rouleaux","Bêche roulante 5.3 m + disques + rouleaux","Bêche roulante 5.3 m + disques + rouleaux","Bêche roulante 5.3 m + disques + rouleaux","Bêche roulante 5.3 m + disques + rouleaux","Bêche roulante 5.3 m + disques + rouleaux","Bêche roulante 5.3 m + disques + rouleaux","Bêche roulante 5.3 m + disques + rouleaux","Bêche roulante 5.3 m + disques + rouleaux","Bêche roulante 5.3 m + disques + rouleaux","Bêche roulante 5.3 m + disques + rouleaux","Bêche roulante 5.3 m + disques + rouleaux","Bêche roulante 5.3 m + disques + rouleaux","Bêche roulante 5.3 m + disques + rouleaux","Bêche roulante 5.3 m + disques + rouleaux","Bêche roulante 5.3 m + disques + rouleaux","Bêche roulante 5.3 m + disques + rouleaux","Bêche roulante 5.3 m + disques + rouleaux","Bêche roulante 5.3 m + disques + rouleaux","Bêche roulante 5.3 m + disques + rouleaux","Bêche roulante 5.3 m + disques + rouleaux","Bêche roulante 5.3 m + disques + rouleaux","Bêche roulante 5.3 m + disques + rouleaux","Bêche roulante 5.3 m + disques + rouleaux","Bêche roulante 5.3 m + disques + rouleaux","Bêche roulante 5.3 m + disques + rouleaux","Bêche roulante 5.3 m + disques + rouleaux","Bêche roulante 5.3 m + disques + rouleaux","Bêche roulante 5.3 m + disques + rouleaux","Bêche roulante 5.3 m + disques + rouleaux","Bêche roulante 5.3 m + disques + rouleaux","Bêche roulante 5.3 m + disques + rouleaux","Bêche roulante 5.3 m + disques + rouleaux","Bêche roulante 5.3 m + disques + rouleaux","Bêche roulante 5.3 m + disques + rouleaux","Bêche roulante 5.3 m + disques + rouleaux","Bêche roulante 5.3 m + disques + rouleaux","Bêche roulante 5.3 m + disques + rouleaux","Bêche roulante 5.3 m + disques + rouleaux","Bêche roulante 5.3 m + disques + rouleaux","Bêche roulante 5.3 m + disques + rouleaux","Bêche roulante 5.3 m + disques + rouleaux","Bêche roulante 5.3 m + disques + rouleaux","Bêche roulante 5.3 m + disques + rouleaux","Bêche roulante 5.3 m + disques + rouleaux","Bêche roulante 5.3 m + disques + rouleaux","Bêche roulante 5.3 m + disques + rouleaux","Bêche roulante 5.3 m + disques + rouleaux","Bêche roulante 5.3 m + disques + rouleaux","Bêche roulante 5.3 m + disques + rouleaux","Bêche roulante 5.3 m + disques + rouleaux","Bêche roulante 5.3 m + disques + rouleaux","Bêche roulante 5.3 m + disques + rouleaux","Bêche roulante 5.3 m + disques + rouleaux","Bêche roulante 5.3 m + disques + rouleaux","Bêche roulante 5.3 m + disques + rouleaux","Bêche roulante 5.3 m + disques + rouleaux","Bêche roulante 5.3 m + disques + rouleaux","Bêche roulante 5.3 m + disques + rouleaux","Bêche roulante 5.3 m + disques + rouleaux","Bêche roulante 5.3 m + disques + rouleaux","Bêche roulante 5.3 m + disques + rouleaux","Bêche roulante 5.3 m + disques + rouleaux","Bêche roulante 5.3 m + disques + rouleaux","Bêche roulante 5.3 m + disques + rouleaux","Bêche roulante 5.3 m + disques + rouleaux","Bêche roulante 5.3 m + disques + rouleaux","Bêche roulante 5.3 m + disques + rouleaux","Bêche roulante 5.3 m + disques + rouleaux","Bêche roulante 5.3 m + disques + rouleaux","Bêche roulante 5.3 m + disques + rouleaux","Bêche roulante 5.3 m + disques + rouleaux","Bêche roulante 5.3 m + disques + rouleaux","Bêche roulante 5.3 m + disques + rouleaux","Bêche roulante 5.3 m + disques + rouleaux","Bêche roulante 5.3 m + disques + rouleaux","Bêche roulante 5.3 m + disques + rouleaux","Bêche roulante 5.3 m + disques + rouleaux","Bêche roulante 5.3 m + disques + rouleaux","Bêche roulante 5.3 m + disques + rouleaux","Bêche roulante 5.3 m + disques + rouleaux","Bêche roulante 5.3 m + disques + rouleaux","Bêche roulante 5.3 m + disques + rouleaux","Bêche roulante 5.3 m + disques + rouleaux","Bêche roulante 5.3 m + disques + rouleaux","Bêche roulante 5.3 m + disques + rouleaux","Bêche roulante 5.3 m + disques + rouleaux","Bêche roulante 5.3 m + disques + rouleaux","Bêche roulante 5.3 m + disques + rouleaux","Bêche roulante 5.3 m + disques + rouleaux","Bêche roulante 5.3 m + disques + rouleaux","Bêche roulante 5.3 m + disques + rouleaux","Bêche roulante 5.3 m + disques + rouleaux","Bêche roulante 5.3 m + disques + rouleaux","Bêche roulante 5.3 m + disques + rouleaux","Bêche roulante 5.3 m + disques + rouleaux","Bêche roulante 5.3 m + disques + rouleaux","Bêche roulante 5.3 m + disques + rouleaux","Bêche roulante 5.3 m + disques + rouleaux","Bêche roulante 5.3 m + disques + rouleaux","Bêche roulante 5.3 m + disques + rouleaux","Bêche roulante 5.3 m + disques + rouleaux","Bêche roulante 5.3 m + disques + rouleaux","Bêche roulante 5.3 m + disques + rouleaux","Bêche roulante 5.3 m + disques + rouleaux","Bêche roulante 5.3 m + disques + rouleaux","Bêche roulante 5.3 m + disques + rouleaux","Bêche roulante 5.3 m + disques + rouleaux","Bêche roulante 5.3 m + disques + rouleaux","Bêche roulante 5.3 m + disques + rouleaux","Bêche roulante 5.3 m + disques + rouleaux","Bêche roulante 5.3 m + disques + rouleaux","Bêche roulante 5.3 m + disques + rouleaux","Bêche roulante 5.3 m + disques + rouleaux","Bêche roulante 5.3 m + disques + rouleaux","Bêche roulante 5.3 m + disques + rouleaux","Bêche roulante 5.3 m + disques + rouleaux","Bêche roulante 5.3 m + disques + rouleaux","Bêche roulante 5.3 m + disques + rouleaux","Bêche roulante 5.3 m + disques + rouleaux","Bêche roulante 5.3 m + disques + rouleaux","Bêche roulante 5.3 m + disques + rouleaux","Bêche roulante 5.3 m + disques + rouleaux","Bêche roulante 5.3 m + disques + rouleaux","Bêche roulante 5.3 m + disques + rouleaux","Bêche roulante 5.3 m + disques + rouleaux","Bêche roulante 5.3 m + disques + rouleaux","Bêche roulante 5.3 m + disques + rouleaux","Bêche roulante 5.3 m + disques + rouleaux","Bêche roulante 5.3 m + disques + rouleaux","Bêche roulante 5.3 m + disques + rouleaux","Bêche roulante 5.3 m + disques + rouleaux","Bêche roulante 5.3 m + disques + rouleaux","Bêche roulante 5.3 m + disques + rouleaux","Bêche roulante 5.3 m + disques + rouleaux","Bêche roulante 5.3 m + disques + rouleaux","Bêche roulante 5.3 m + disques + rouleaux","Bêche roulante 5.3 m + disques + rouleaux","Bêche roulante 5.3 m + disques + rouleaux","Bêche roulante 5.3 m + disques + rouleaux","Bêche roulante 5.3 m + disques + rouleaux","Bêche roulante 5.3 m + disques + rouleaux","Bêche roulante 5.3 m + disques + rouleaux","Bêche roulante 5.3 m + disques + rouleaux","Bêche roulante 5.3 m + disques + rouleaux","Bêche roulante 5.3 m + disques + rouleaux","Bêche roulante 5.3 m + disques + rouleaux","Bêche roulante 5.3 m + disques + rouleaux","Bêche roulante 5.3 m + disques + rouleaux","Bêche roulante 5.3 m + disques + rouleaux","Bêche roulante 5.3 m + disques + rouleaux","Bêche roulante 5.3 m + disques + rouleaux","Bêche roulante 5.3 m + disques + rouleaux","Bêche roulante 5.3 m + disques + rouleaux","Bêche roulante 5.3 m + disques + rouleaux","Bêche roulante 5.3 m + disques + rouleaux","Bêche roulante 5.3 m + disques + rouleaux","Bêche roulante 5.3 m + disques + rouleaux","Bêche roulante 5.3 m + disques + rouleaux","Bêche roulante 5.3 m + disques + rouleaux","Bêche roulante 5.3 m + disques + rouleaux","Bêche roulante 5.3 m + disques + rouleaux","Bêche roulante 5.3 m + disques + rouleaux","Bêche roulante 5.3 m + disques + rouleaux","Bêche roulante 5.3 m + disques + rouleaux","Bêche roulante 5.3 m + disques + rouleaux","Bêche roulante 5.3 m + disques + rouleaux","Bêche roulante 5.3 m + disques + rouleaux","Bêche roulante 5.3 m + disques + rouleaux","Bêche roulante 5.3 m + disques + rouleaux","Bêche roulante 5.3 m + disques + rouleaux","Bêche roulante 5.3 m + disques + rouleaux","Bêche roulante 5.3 m + disques + rouleaux","Bêche roulante 5.3 m + disques + rouleaux","Bêche roulante 5.3 m + disques + rouleaux","Bêche roulante 5.3 m + disques + rouleaux","Bêche roulante 5.3 m + disques + rouleaux","Bêche roulante 5.3 m + disques + rouleaux","Bêche roulante 5.3 m + disques + rouleaux","Bêche roulante 5.3 m + disques + rouleaux","Bêche roulante 5.3 m + disques + rouleaux","Bêche roulante 5.3 m + disques + rouleaux","Bêche roulante 5.3 m + disques + rouleaux","Bêche roulante 5.3 m + disques + rouleaux","Bêche roulante 5.3 m + disques + rouleaux","Bêche roulante 5.3 m + disques + rouleaux","Bêche roulante 5.3 m + disques + rouleaux","Bêche roulante 5.3 m + disques + rouleaux","Bêche roulante 5.3 m + disques + rouleaux","Bêche roulante 5.3 m + disques + rouleaux","Bêche roulante 5.3 m + disques + rouleaux","Bêche roulante 5.3 m + disques + rouleaux","Bêche roulante 5.3 m + disques + rouleaux","Bêche roulante 5.3 m + disques + rouleaux","Bêche roulante 5.3 m + disques + rouleaux","Bêche roulante 5.3 m + disques + rouleaux","Bêche roulante 5.3 m + disques + rouleaux","Bêche roulante 5.3 m + disques + rouleaux","Bêche roulante 5.3 m + disques + rouleaux","Bêche roulante 5.3 m + disques + rouleaux","Bêche roulante 5.3 m + disques + rouleaux","Bêche roulante 5.3 m + disques + rouleaux","Bêche roulante 5.3 m + disques + rouleaux","Bêche roulante 5.3 m + disques + rouleaux","Bêche roulante 5.3 m + disques + rouleaux","Bêche roulante 5.3 m + disques + rouleaux","Bêche roulante 5.3 m + disques + rouleaux","Bêche roulante 5.3 m + disques + rouleaux","Bêche roulante 5.3 m + disques + rouleaux","Bêche roulante 5.3 m + disques + rouleaux","Bêche roulante 5.3 m + disques + rouleaux","Bêche roulante 5.3 m + disques + rouleaux","Bêche roulante 5.3 m + disques + rouleaux","Bêche roulante 5.3 m + disques + rouleaux","Bêche roulante 5.3 m + disques + rouleaux","Bêche roulante 5.3 m + disques + rouleaux","Bêche roulante 5.3 m + disques + rouleaux","Bêche roulante 5.3 m + disques + rouleaux","Bêche roulante 5.3 m + disques + rouleaux","Bêche roulante 5.3 m + disques + rouleaux","Bêche roulante 5.3 m + disques + rouleaux","Bêche roulante 5.3 m + disques + rouleaux","Bêche roulante 5.3 m + disques + rouleaux","Bêche roulante 5.3 m + disques + rouleaux","Bêche roulante 5.3 m + disques + rouleaux","Bêche roulante 5.3 m + disques + rouleaux","Bêche roulante 5.3 m + disques + rouleaux","Bêche roulante 5.3 m + disques + rouleaux","Bêche roulante 5.3 m + disques + rouleaux","Bêche roulante 5.3 m + disques + rouleaux","Bêche roulante 5.3 m + disques + rouleaux","Bêche roulante 5.3 m + disques + rouleaux","Bêche roulante 5.3 m + disques + rouleaux","Bêche roulante 5.3 m + disques + rouleaux","Bêche roulante 5.3 m + disques + rouleaux","Bêche roulante 5.3 m + disques + rouleaux","Bêche roulante 5.3 m + disques + rouleaux","Bêche roulante 5.3 m + disques + rouleaux","Bêche roulante 5.3 m + disques + rouleaux","Bêche roulante 5.3 m + disques + rouleaux","Bêche roulante 5.3 m + disques + rouleaux","Bêche roulante 5.3 m + disques + rouleaux","Bêche roulante 5.3 m + disques + rouleaux","Bêche roulante 5.3 m + disques + rouleaux","Bêche roulante 5.3 m + disques + rouleaux","Bêche roulante 5.3 m + disques + rouleaux","Bêche roulante 5.3 m + disques + rouleaux","Bêche roulante 5.3 m + disques + rouleaux","Bêche roulante 5.3 m + disques + rouleaux","Bêche roulante 5.3 m + disques + rouleaux","Bêche roulante 5.3 m + disques + rouleaux","Bêche roulante 5.3 m + disques + rouleaux","Bêche roulante 5.3 m + disques + rouleaux","Bêche roulante 5.3 m + disques + rouleaux","Bêche roulante 5.3 m + disques + rouleaux","Bêche roulante 5.3 m + disques + rouleaux","Bêche roulante 5.3 m + disques + rouleaux","Bêche roulante 5.3 m + disques + rouleaux","Bêche roulante 5.3 m + disques + rouleaux","Bêche roulante 5.3 m + disques + rouleaux","Bêche roulante 5.3 m + disques + rouleaux","Bêche roulante 5.3 m + disques + rouleaux","Bêche roulante 5.3 m + disques + rouleaux","Bêche roulante 5.3 m + disques + rouleaux","Bêche roulante 5.3 m + disques + rouleaux","Bêche roulante 5.3 m + disques + rouleaux","Bêche roulante 5.3 m + disques + rouleaux","Bêche roulante 5.3 m + disques + rouleaux","Bêche roulante 5.3 m + disques + rouleaux","Bêche roulante 5.3 m + disques + rouleaux","Bêche roulante 5.3 m + disques + rouleaux","Bêche roulante 5.3 m + disques + rouleaux","Bêche roulante 5.3 m + disques + rouleaux","Bêche roulante 5.3 m + disques + rouleaux","Bêche roulante 5.3 m + disques + rouleaux","Bêche roulante 5.3 m + disques + rouleaux","Bêche roulante 5.3 m + disques + rouleaux","Bêche roulante 5.3 m + disques + rouleaux","Bêche roulante 5.3 m + disques + rouleaux","Bêche roulante 5.3 m + disques + rouleaux","Bêche roulante 5.3 m + disques + rouleaux","Bêche roulante 5.3 m + disques + rouleaux","Bêche roulante 5.3 m + disques + rouleaux","Bêche roulante 5.3 m + disques + rouleaux","Bêche roulante 5.3 m + disques + rouleaux","Bêche roulante 5.3 m + disques + rouleaux","Bêche roulante 5.3 m + disques + rouleaux","Bêche roulante 5.3 m + disques + rouleaux","Bêche roulante 5.3 m + disques + rouleaux","Bêche roulante 5.3 m + disques + rouleaux","Bêche roulante 5.3 m + disques + rouleaux","Bêche roulante 5.3 m + disques + rouleaux","Bêche roulante 5.3 m + disques + rouleaux","Bêche roulante 5.3 m + disques + rouleaux","Bêche roulante 5.3 m + disques + rouleaux","Bêche roulante 5.3 m + disques + rouleaux","Bêche roulante 5.3 m + disques + rouleaux","Bêche roulante 5.3 m + disques + rouleaux","Bêche roulante 5.3 m + disques + rouleaux","Bêche roulante 5.3 m + disques + rouleaux","Bêche roulante 5.3 m + disques + rouleaux","Bêche roulante 5.3 m + disques + rouleaux","Bêche roulante 5.3 m + disques + rouleaux","Bêche roulante 5.3 m + disques + rouleaux","Bêche roulante 5.3 m + disques + rouleaux","Bêche roulante 5.3 m + disques + rouleaux","Bêche roulante 5.3 m + disques + rouleaux","Bêche roulante 5.3 m + disques + rouleaux","Bêche roulante 5.3 m + disques + rouleaux","Bêche roulante 5.3 m + disques + rouleaux","Bêche roulante 5.3 m + disques + rouleaux","Bêche roulante 5.3 m + disques + rouleaux","Bêche roulante 5.3 m + disques + rouleaux","Bêche roulante 5.3 m + disques + rouleaux","Bêche roulante 5.3 m + disques + rouleaux","Bêche roulante 5.3 m + disques + rouleaux","Bêche roulante 5.3 m + disques + rouleaux","Bêche roulante 5.3 m + disques + rouleaux","Bêche roulante 5.3 m + disques + rouleaux","Bêche roulante 5.3 m + disques + rouleaux","Bêche roulante 5.3 m + disques + rouleaux","Bêche roulante 5.3 m + disques + rouleaux","Bêche roulante 5.3 m + disques + rouleaux","Bêche roulante 5.3 m + disques + rouleaux","Bêche roulante 5.3 m + disques + rouleaux","Bêche roulante 5.3 m + disques + rouleaux","Bêche roulante 5.3 m + disques + rouleaux","Bêche roulante 5.3 m + disques + rouleaux","Bêche roulante 5.3 m + disques + rouleaux","Bêche roulante 5.3 m + disques + rouleaux","Bêche roulante 5.3 m + disques + rouleaux","Bêche roulante 5.3 m + disques + rouleaux","Bêche roulante 5.3 m + disques + rouleaux","Bêche roulante 5.3 m + disques + rouleaux","Bêche roulante 5.3 m + disques + rouleaux","Bêche roulante 5.3 m + disques + rouleaux","Bêche roulante 5.3 m + disques + rouleaux","Bêche roulante 5.3 m + disques + rouleaux","Bêche roulante 5.3 m + disques + rouleaux","Bêche roulante 5.3 m + disques + rouleaux","Bêche roulante 5.3 m + disques + rouleaux","Bêche roulante 5.3 m + disques + rouleaux","Bêche roulante 5.3 m + disques + rouleaux","Bêche roulante 5.3 m + disques + rouleaux","Bêche roulante 5.3 m + disques + rouleaux","Bêche roulante 5.3 m + disques + rouleaux","Bêche roulante 5.3 m + disques + rouleaux","Bêche roulante 5.3 m + disques + rouleaux","Bêche roulante 5.3 m + disques + rouleaux","Bêche roulante 5.3 m + disques + rouleaux","Bêche roulante 5.3 m + disques + rouleaux","Bêche roulante 5.3 m + disques + rouleaux","Bêche roulante 5.3 m + disques + rouleaux","Bêche roulante 5.3 m + disques + rouleaux","Bêche roulante 5.3 m + disques + rouleaux","Bêche roulante 5.3 m + disques + rouleaux","Bêche roulante 5.3 m + disques + rouleaux","Bêche roulante 5.3 m + disques + rouleaux","Bêche roulante 5.3 m + disques + rouleaux","Bêche roulante 5.3 m + disques + rouleaux","Bêche roulante 5.3 m + disques + rouleaux","Bêche roulante 5.3 m + disques + rouleaux","Bêche roulante 5.3 m + disques + rouleaux","Bêche roulante 5.3 m + disques + rouleaux","Bêche roulante 5.3 m + disques + rouleaux","Bêche roulante 5.3 m + disques + rouleaux","Bêche roulante 5.3 m + disques + rouleaux","Bêche roulante 5.3 m + disques + rouleaux","Bêche roulante 5.3 m + disques + rouleaux","Bêche roulante 5.3 m + disques + rouleaux","Bêche roulante 5.3 m + disques + rouleaux","Bêche roulante 5.3 m + disques + rouleaux","Bêche roulante 5.3 m + disques + rouleaux","Bêche roulante 5.3 m + disques + rouleaux","Bêche roulante 5.3 m + disques + rouleaux","Bêche roulante 5.3 m + disques + rouleaux","Bêche roulante 5.3 m + disques + rouleaux","Bêche roulante 5.3 m + disques + rouleaux","Bêche roulante 5.3 m + disques + rouleaux","Bêche roulante 5.3 m + disques + rouleaux","Bêche roulante 5.3 m + disques + rouleaux","Bêche roulante 5.3 m + disques + rouleaux","Bêche roulante 5.3 m + disques + rouleaux","Bêche roulante 5.3 m + disques + rouleaux","Bêche roulante 5.3 m + disques + rouleaux","Bêche roulante 5.3 m + disques + rouleaux","Bêche roulante 5.3 m + disques + rouleaux","Bêche roulante 5.3 m + disques + rouleaux","Bêche roulante 5.3 m + disques + rouleaux","Bêche roulante 5.3 m + disques + rouleaux","Bêche roulante 5.3 m + disques + rouleaux","Bêche roulante 5.3 m + disques + rouleaux","Bêche roulante 5.3 m + disques + rouleaux","Bêche roulante 5.3 m + disques + rouleaux","Bêche roulante 5.3 m + disques + rouleaux","Bêche roulante 5.3 m + disques + rouleaux","Bêche roulante 5.3 m + disques + rouleaux","Bêche roulante 5.3 m + disques + rouleaux","Bêche roulante 5.3 m + disques + rouleaux","Bêche roulante 5.3 m + disques + rouleaux","Bêche roulante 5.3 m + disques + rouleaux","Bêche roulante 5.3 m + disques + rouleaux","Bêche roulante 5.3 m + disques + rouleaux","Bêche roulante 5.3 m + disques + rouleaux","Bêche roulante 5.3 m + disques + rouleaux","Bêche roulante 5.3 m + disques + rouleaux","Bêche roulante 5.3 m + disques + rouleaux","Bêche roulante 5.3 m + disques + rouleaux","Bêche roulante 5.3 m + disques + rouleaux","Bêche roulante 5.3 m + disques + rouleaux","Bêche roulante 5.3 m + disques + rouleaux","Bêche roulante 5.3 m + disques + rouleaux","Bêche roulante 5.3 m + disques + rouleaux","Bêche roulante 5.3 m + disques + rouleaux","Bêche roulante 5.3 m + disques + rouleaux","Bêche roulante 5.3 m + disques + rouleaux","Bêche roulante 5.3 m + disques + rouleaux","Bêche roulante 5.3 m + disques + rouleaux","Bêche roulante 5.3 m + disques + rouleaux","Bêche roulante 5.3 m + disques + rouleaux","Bêche roulante 5.3 m + disques + rouleaux","Bêche roulante 5.3 m + disques + rouleaux","Bêche roulante 5.3 m + disques + rouleaux","Bêche roulante 5.3 m + disques + rouleaux","Bêche roulante 5.3 m + disques + rouleaux","Bêche roulante 5.3 m + disques + rouleaux","Bêche roulante 5.3 m + disques + rouleaux","Bêche roulante 5.3 m + disques + rouleaux","Bêche roulante 5.3 m + disques + rouleaux","Bêche roulante 5.3 m + disques + rouleaux","Bêche roulante 5.3 m + disques + rouleaux","Bêche roulante 5.3 m + disques + rouleaux","Bêche roulante 5.3 m + disques + rouleaux","Bêche roulante 5.3 m + disques + rouleaux","Bêche roulante 5.3 m + disques + rouleaux","Bêche roulante 5.3 m + disques + rouleaux","Bêche roulante 5.3 m + disques + rouleaux","Bêche roulante 5.3 m + disques + rouleaux","Bêche roulante 5.3 m + disques + rouleaux","Bêche roulante 5.3 m + disques + rouleaux","Bêche roulante 5.3 m + disques + rouleaux","Bêche roulante 5.3 m + disques + rouleaux","Bêche roulante 5.3 m + disques + rouleaux","Bêche roulante 5.3 m + disques + rouleaux","Bêche roulante 5.3 m + disques + rouleaux","Bêche roulante 5.3 m + disques + rouleaux","Bêche roulante 5.3 m + disques + rouleaux","Bêche roulante 5.3 m + disques + rouleaux","Bêche roulante 5.3 m + disques + rouleaux","Bêche roulante 5.3 m + disques + rouleaux","Bêche roulante 5.3 m + disques + rouleaux","Bêche roulante 5.3 m + disques + rouleaux","Bêche roulante 5.3 m + disques + rouleaux","Bêche roulante 5.3 m + disques + rouleaux","Bêche roulante 5.3 m + disques + rouleaux","Bêche roulante 5.3 m + disques + rouleaux","Bêche roulante 5.3 m + disques + rouleaux","Bêche roulante 5.3 m + disques + rouleaux","Bêche roulante 5.3 m + disques + rouleaux","Bêche roulante 5.3 m + disques + rouleaux","Bêche roulante 5.3 m + disques + rouleaux","Bêche roulante 5.3 m + disques + rouleaux","Bêche roulante 5.3 m + disques + rouleaux","Bêche roulante 5.3 m + disques + rouleaux","Bêche roulante 5.3 m + disques + rouleaux","Bêche roulante 5.3 m + disques + rouleaux","Bêche roulante 5.3 m + disques + rouleaux","Bêche roulante 5.3 m + disques + rouleaux","Bêche roulante 5.3 m + disques + rouleaux","Bêche roulante 5.3 m + disques + rouleaux","Bêche roulante 5.3 m + disques + rouleaux","Bêche roulante 5.3 m + disques + rouleaux","Bêche roulante 5.3 m + disques + rouleaux","Bêche roulante 5.3 m + disques + rouleaux","Bêche roulante 5.3 m + disques + rouleaux","Bêche roulante 5.3 m + disques + rouleaux","Bêche roulante 5.3 m + disques + rouleaux","Bêche roulante 5.3 m + disques + rouleaux","Bêche roulante 5.3 m + disques + rouleaux","Bêche roulante 5.3 m + disques + rouleaux","Bêche roulante 5.3 m + disques + rouleaux","Bêche roulante 5.3 m + disques + rouleaux","Bêche roulante 5.3 m + disques + rouleaux","Bêche roulante 5.3 m + disques + rouleaux","Bêche roulante 5.3 m + disques + rouleaux","Bêche roulante 5.3 m + disques + rouleaux","Bêche roulante 5.3 m + disques + rouleaux","Bêche roulante 5.3 m + disques + rouleaux","Bêche roulante 5.3 m + disques + rouleaux","Bêche roulante 5.3 m + disques + rouleaux","Bêche roulante 5.3 m + disques + rouleaux","Bêche roulante 5.3 m + disques + rouleaux","Bêche roulante 5.3 m + disques + rouleaux","Bêche roulante 5.3 m + disques + rouleaux","Bêche roulante 5.3 m + disques + rouleaux","Bêche roulante 5.3 m + disques + rouleaux","Bêche roulante 5.3 m + disques + rouleaux","Bêche roulante 5.3 m + disques + rouleaux","Bêche roulante 5.3 m + disques + rouleaux","Bêche roulante 5.3 m + disques + rouleaux","Bêche roulante 5.3 m + disques + rouleaux","Bêche roulante 5.3 m + disques + rouleaux","Bêche roulante 5.3 m + disques + rouleaux","Bêche roulante 5.3 m + disques + rouleaux","Bêche roulante 5.3 m + disques + rouleaux","Bêche roulante 5.3 m + disques + rouleaux","Bêche roulante 5.3 m + disques + rouleaux","Bêche roulante 5.3 m + disques + rouleaux","Bêche roulante 5.3 m + disques + rouleaux","Bêche roulante 5.3 m + disques + rouleaux","Bêche roulante 5.3 m + disques + rouleaux","Bêche roulante 5.3 m + disques + rouleaux","Bêche roulante 5.3 m + disques + rouleaux","Bêche roulante 5.3 m + disques + rouleaux","Bêche roulante 5.3 m + disques + rouleaux","Bêche roulante 5.3 m + disques + rouleaux","Bêche roulante 5.3 m + disques + rouleaux","Bêche roulante 5.3 m + disques + rouleaux","Bêche roulante 5.3 m + disques + rouleaux","Bêche roulante 5.3 m + disques + rouleaux","Bêche roulante 5.3 m + disques + rouleaux","Bêche roulante 5.3 m + disques + rouleaux","Bêche roulante 5.3 m + disques + rouleaux","Bêche roulante 5.3 m + disques + rouleaux","Bêche roulante 5.3 m + disques + rouleaux","Bêche roulante 5.3 m + disques + rouleaux","Bêche roulante 5.3 m + disques + rouleaux","Bêche roulante 5.3 m + disques + rouleaux","Bêche roulante 5.3 m + disques + rouleaux","Bêche roulante 5.3 m + disques + rouleaux","Bêche roulante 5.3 m + disques + rouleaux","Bêche roulante 5.3 m + disques + rouleaux","Bêche roulante 5.3 m + disques + rouleaux","Bêche roulante 5.3 m + disques + rouleaux","Bêche roulante 5.3 m + disques + rouleaux","Bêche roulante 5.3 m + disques + rouleaux","Bêche roulante 5.3 m + disques + rouleaux","Bêche roulante 5.3 m + disques + rouleaux","Bêche roulante 5.3 m + disques + rouleaux","Bêche roulante 5.3 m + disques + rouleaux","Bêche roulante 5.3 m + disques + rouleaux","Bêche roulante 5.3 m + disques + rouleaux","Bêche roulante 5.3 m + disques + rouleaux","Bêche roulante 5.3 m + disques + rouleaux","Bêche roulante 5.3 m + disques + rouleaux","Bêche roulante 5.3 m + disques + rouleaux","Bêche roulante 5.3 m + disques + rouleaux","Bêche roulante 5.3 m + disques + rouleaux","Bêche roulante 5.3 m + disques + rouleaux","Bêche roulante 5.3 m + disques + rouleaux","Bêche roulante 5.3 m + disques + rouleaux","Bêche roulante 5.3 m + disques + rouleaux","Bêche roulante 5.3 m + disques + rouleaux","Bêche roulante 5.3 m + disques + rouleaux","Bêche roulante 5.3 m + disques + rouleaux","Bêche roulante 5.3 m + disques + rouleaux","Bêche roulante 5.3 m + disques + rouleaux","Bêche roulante 5.3 m + disques + rouleaux","Bêche roulante 5.3 m + disques + rouleaux","Bêche roulante 5.3 m + disques + rouleaux","Bêche roulante 5.3 m + disques + rouleaux","Bêche roulante 5.3 m + disques + rouleaux","Bêche roulante 5.3 m + disques + rouleaux","Bêche roulante 5.3 m + disques + rouleaux","Bêche roulante 5.3 m + disques + rouleaux","Bêche roulante 5.3 m + disques + rouleaux","Bêche roulante 5.3 m + disques + rouleaux","Bêche roulante 5.3 m + disques + rouleaux","Bêche roulante 5.3 m + disques + rouleaux","Bêche roulante 5.3 m + disques + rouleaux","Bêche roulante 5.3 m + disques + rouleaux","Bêche roulante 5.3 m + disques + rouleaux","Bêche roulante 5.3 m + disques + rouleaux","Bêche roulante 5.3 m + disques + rouleaux","Bêche roulante 5.3 m + disques + rouleaux","Bêche roulante 5.3 m + disques + rouleaux","Bêche roulante 5.3 m + disques + rouleaux","Bêche roulante 5.3 m + disques + rouleaux","Bêche roulante 5.3 m + disques + rouleaux","Bêche roulante 5.3 m + disques + rouleaux","Bêche roulante 5.3 m + disques + rouleaux","Bêche roulante 5.3 m + disques + rouleaux","Bêche roulante 5.3 m + disques + rouleaux","Bêche roulante 5.3 m + disques + rouleaux","Bêche roulante 5.3 m + disques + rouleaux","Bêche roulante 5.3 m + disques + rouleaux","Bêche roulante 5.3 m + disques + rouleaux","Bêche roulante 5.3 m + disques + rouleaux","Bêche roulante 5.3 m + disques + rouleaux","Bêche roulante 5.3 m + disques + rouleaux","Bêche roulante 5.3 m + disques + rouleaux","Bêche roulante 5.3 m + disques + rouleaux","Bêche roulante 5.3 m + disques + rouleaux","Bêche roulante 5.3 m + disques + rouleaux","Bêche roulante 5.3 m + disques + rouleaux","Bêche roulante 5.3 m + disques + rouleaux","Bêche roulante 5.3 m + disques + rouleaux","Bêche roulante 5.3 m + disques + rouleaux","Bêche roulante 5.3 m + disques + rouleaux","Bêche roulante 5.3 m + disques + rouleaux","Bêche roulante 5.3 m + disques + rouleaux","Bêche roulante 5.3 m + disques + rouleaux","Bêche roulante 5.3 m + disques + rouleaux","Bêche roulante 5.3 m + disques + rouleaux","Bêche roulante 5.3 m + disques + rouleaux","Bêche roulante 5.3 m + disques + rouleaux","Bêche roulante 5.3 m + disques + rouleaux","Bêche roulante 5.3 m + disques + rouleaux","Bêche roulante 5.3 m + disques + rouleaux","Bêche roulante 5.3 m + disques + rouleaux","Bêche roulante 5.3 m + disques + rouleaux","Bêche roulante 5.3 m + disques + rouleaux","Bêche roulante 5.3 m + disques + rouleaux","Bêche roulante 5.3 m + disques + rouleaux","Bêche roulante 5.3 m + disques + rouleaux","Bêche roulante 5.3 m + disques + rouleaux","Bêche roulante 5.3 m + disques + rouleaux","Bêche roulante 5.3 m + disques + rouleaux","Bêche roulante 5.3 m + disques + rouleaux","Bêche roulante 5.3 m + disques + rouleaux","Bêche roulante 5.3 m + disques + rouleaux","Bêche roulante 5.3 m + disques + rouleaux","Bêche roulante 5.3 m + disques + rouleaux","Bêche roulante 5.3 m + disques + rouleaux","Bêche roulante 5.3 m + disques + rouleaux","Bêche roulante 5.3 m + disques + rouleaux","Bêche roulante 5.3 m + disques + rouleaux","Bêche roulante 5.3 m + disques + rouleaux","Bêche roulante 5.3 m + disques + rouleaux","Bêche roulante 5.3 m + disques + rouleaux","Bêche roulante 5.3 m + disques + rouleaux","Bêche roulante 5.3 m + disques + rouleaux","Bêche roulante 5.3 m + disques + rouleaux","Bêche roulante 5.3 m + disques + rouleaux","Bêche roulante 5.3 m + disques + rouleaux","Bêche roulante 5.3 m + disques + rouleaux","Bêche roulante 5.3 m + disques + rouleaux","Bêche roulante 5.3 m + disques + rouleaux","Bêche roulante 5.3 m + disques + rouleaux","Bêche roulante 5.3 m + disques + rouleaux","Bêche roulante 5.3 m + disques + rouleaux","Bêche roulante 5.3 m + disques + rouleaux","Bêche roulante 5.3 m + disques + rouleaux","Bêche roulante 5.3 m + disques + rouleaux","Bêche roulante 5.3 m + disques + rouleaux","Bêche roulante 5.3 m + disques + rouleaux","Bêche roulante 5.3 m + disques + rouleaux","Bêche roulante 5.3 m + disques + rouleaux","Bêche roulante 5.3 m + disques + rouleaux","Bêche roulante 5.3 m + disques + rouleaux","Bêche roulante 5.3 m + disques + rouleaux","Bêche roulante 5.3 m + disques + rouleaux","Bêche roulante 5.3 m + disques + rouleaux","Bêche roulante 5.3 m + disques + rouleaux","Bêche roulante 5.3 m + disques + rouleaux","Bêche roulante 5.3 m + disques + rouleaux","Bêche roulante 5.3 m + disques + rouleaux","Bêche roulante 5.3 m + disques + rouleaux","Bêche roulante 5.3 m + disques + rouleaux","Bêche roulante 5.3 m + disques + rouleaux","Bêche roulante 5.3 m + disques + rouleaux","Bêche roulante 5.3 m + disques + rouleaux","Bêche roulante 5.3 m + disques + rouleaux","Bêche roulante 5.3 m + disques + rouleaux","Bêche roulante 5.3 m + disques + rouleaux","Bêche roulante 5.3 m + disques + rouleaux","Bêche roulante 5.3 m + disques + rouleaux","Bêche roulante 5.3 m + disques + rouleaux","Bêche roulante 5.3 m + disques + rouleaux","Bêche roulante 5.3 m + disques + rouleaux","Bêche roulante 5.3 m + disques + rouleaux","Bêche roulante 5.3 m + disques + rouleaux","Bêche roulante 5.3 m + disques + rouleaux","Bêche roulante 5.3 m + disques + rouleaux","Bêche roulante 5.3 m + disques + rouleaux","Bêche roulante 5.3 m + disques + rouleaux","Bêche roulante 5.3 m + disques + rouleaux","Bêche roulante 5.3 m + disques + rouleaux","Bêche roulante 5.3 m + disques + rouleaux","Bêche roulante 5.3 m + disques + rouleaux","Bêche roulante 5.3 m + disques + rouleaux","Bêche roulante 5.3 m + disques + rouleaux","Bêche roulante 5.3 m + disques + rouleaux","Bêche roulante 5.3 m + disques + rouleaux","Bêche roulante 5.3 m + disques + rouleaux","Bêche roulante 5.3 m + disques + rouleaux","Bêche roulante 5.3 m + disques + rouleaux","Bêche roulante 5.3 m + disques + rouleaux","Bêche roulante 5.3 m + disques + rouleaux","Bêche roulante 5.3 m + disques + rouleaux","Bêche roulante 5.3 m + disques + rouleaux","Bêche roulante 5.3 m + disques + rouleaux","Bêche roulante 5.3 m + disques + rouleaux","Bêche roulante 5.3 m + disques + rouleaux","Bêche roulante 5.3 m + disques + rouleaux","Bêche roulante 5.3 m + disques + rouleaux","Bêche roulante 5.3 m + disques + rouleaux","Bêche roulante 5.3 m + disques + rouleaux","Bêche roulante 5.3 m + disques + rouleaux","Bêche roulante 5.3 m + disques + rouleaux","Bêche roulante 5.3 m + disques + rouleaux","Bêche roulante 5.3 m + disques + rouleaux","Bêche roulante 5.3 m + disques + rouleaux","Bêche roulante 5.3 m + disques + rouleaux","Bêche roulante 5.3 m + disques + rouleaux","Bêche roulante 5.3 m + disques + rouleaux","Bêche roulante 5.3 m + disques + rouleaux","Bêche roulante 5.3 m + disques + rouleaux","Bêche roulante 5.3 m + disques + rouleaux","Bêche roulante 5.3 m + disques + rouleaux","Bêche roulante 5.3 m + disques + rouleaux","Bêche roulante 5.3 m + disques + rouleaux","Bêche roulante 5.3 m + disques + rouleaux","Bêche roulante 5.3 m + disques + rouleaux","Bêche roulante 5.3 m + disques + rouleaux","Bêche roulante 5.3 m + disques + rouleaux","Bêche roulante 5.3 m + disques + rouleaux","Bêche roulante 5.3 m + disques + rouleaux","Bêche roulante 5.3 m + disques + rouleaux","Bêche roulante 5.3 m + disques + rouleaux","Bêche roulante 5.3 m + disques + rouleaux","Bêche roulante 5.3 m + disques + rouleaux","Bêche roulante 5.3 m + disques + rouleaux","Bêche roulante 5.3 m + disques + rouleaux","Bêche roulante 5.3 m + disques + rouleaux","Bêche roulante 5.3 m + disques + rouleaux","Bêche roulante 5.3 m + disques + rouleaux","Bêche roulante 5.3 m + disques + rouleaux","Bêche roulante 5.3 m + disques + rouleaux","Bêche roulante 5.3 m + disques + rouleaux","Bêche roulante 5.3 m + disques + rouleaux","Bêche roulante 5.3 m + disques + rouleaux","Bêche roulante 5.3 m + disques + rouleaux","Bêche roulante 5.3 m + disques + rouleaux","Bêche roulante 5.3 m + disques + rouleaux","Bêche roulante 5.3 m + disques + rouleaux","Bêche roulante 5.3 m + disques + rouleaux","Bêche roulante 5.3 m + disques + rouleaux","Bêche roulante 5.3 m + disques + rouleaux","Bêche roulante 5.3 m + disques + rouleaux","Bêche roulante 5.3 m + disques + rouleaux","Bêche roulante 5.3 m + disques + rouleaux","Bêche roulante 5.3 m + disques + rouleaux","Bêche roulante 5.3 m + disques + rouleaux","Bêche roulante 5.3 m + disques + rouleaux","Bêche roulante 5.3 m + disques + rouleaux","Bêche roulante 5.3 m + disques + rouleaux","Bêche roulante 5.3 m + disques + rouleaux","Bêche roulante 5.3 m + disques + rouleaux","Bêche roulante 5.3 m + disques + rouleaux","Bêche roulante 5.3 m + disques + rouleaux","Bêche roulante 5.3 m + disques + rouleaux","Bêche roulante 5.3 m + disques + rouleaux","Bêche roulante 5.3 m + disques + rouleaux","Bêche roulante 5.3 m + disques + rouleaux","Bêche roulante 5.3 m + disques + rouleaux","Bêche roulante 5.3 m + disques + rouleaux","Bêche roulante 5.3 m + disques + rouleaux","Bêche roulante 5.3 m + disques + rouleaux","Bêche roulante 5.3 m + disques + rouleaux","Bêche roulante 5.3 m + disques + rouleaux","Bêche roulante 5.3 m + disques + rouleaux","Bêche roulante 5.3 m + disques + rouleaux","Bêche roulante 5.3 m + disques + rouleaux","Bêche roulante 5.3 m + disques + rouleaux","Bêche roulante 5.3 m + disques + rouleaux","Bêche roulante 5.3 m + disques + rouleaux","Bêche roulante 5.3 m + disques + rouleaux","Bêche roulante 5.3 m + disques + rouleaux","Bêche roulante 5.3 m + disques + rouleaux","Bêche roulante 5.3 m + disques + rouleaux","Bêche roulante 5.3 m + disques + rouleaux","Bêche roulante 5.3 m + disques + rouleaux","Bêche roulante 5.3 m + disques + rouleaux","Bêche roulante 5.3 m + disques + rouleaux","Bêche roulante 5.3 m + disques + rouleaux","Bêche roulante 5.3 m + disques + rouleaux","Bêche roulante 5.3 m + disques + rouleaux","Bêche roulante 5.3 m + disques + rouleaux","Bêche roulante 5.3 m + disques + rouleaux","Bêche roulante 5.3 m + disques + rouleaux","Bêche roulante 5.3 m + disques + rouleaux","Bêche roulante 5.3 m + disques + rouleaux","Bêche roulante 5.3 m + disques + rouleaux","Bêche roulante 5.3 m + disques + rouleaux","Bêche roulante 5.3 m + disques + rouleaux","Bêche roulante 5.3 m + disques + rouleaux","Bêche roulante 5.3 m + disques + rouleaux","Bêche roulante 5.3 m + disques + rouleaux","Bêche roulante 5.3 m + disques + rouleaux","Bêche roulante 5.3 m + disques + rouleaux","Bêche roulante 5.3 m + disques + rouleaux","Bêche roulante 5.3 m + disques + rouleaux","Bêche roulante 5.3 m + disques + rouleaux","Bêche roulante 5.3 m + disques + rouleaux","Bêche roulante 5.3 m + disques + rouleaux","Bêche roulante 5.3 m + disques + rouleaux","Bêche roulante 5.3 m + disques + rouleaux","Bêche roulante 5.3 m + disques + rouleaux","Bêche roulante 5.3 m + disques + rouleaux","Bêche roulante 5.3 m + disques + rouleaux","Bêche roulante 5.3 m + disques + rouleaux","Bêche roulante 5.3 m + disques + rouleaux","Bêche roulante 5.3 m + disques + rouleaux","Bêche roulante 5.3 m + disques + rouleaux","Bêche roulante 5.3 m + disques + rouleaux","Bêche roulante 5.3 m + disques + rouleaux","Bêche roulante 5.3 m + disques + rouleaux","Bêche roulante 5.3 m + disques + rouleaux","Bêche roulante 5.3 m + disques + rouleaux","Bêche roulante 5.3 m + disques + rouleaux","Bêche roulante 5.3 m + disques + rouleaux","Bêche roulante 5.3 m + disques + rouleaux","Bêche roulante 5.3 m + disques + rouleaux","Bêche roulante 5.3 m + disques + rouleaux","Bêche roulante 5.3 m + disques + rouleaux","Bêche roulante 5.3 m + disques + rouleaux","Bêche roulante 5.3 m + disques + rouleaux","Bêche roulante 5.3 m + disques + rouleaux","Bêche roulante 5.3 m + disques + rouleaux","Bêche roulante 5.3 m + disques + rouleaux","Bêche roulante 5.3 m + disques + rouleaux","Bêche roulante 5.3 m + disques + rouleaux","Bêche roulante 5.3 m + disques + rouleaux","Bêche roulante 5.3 m + disques + rouleaux","Bêche roulante 5.3 m + disques + rouleaux","Bêche roulante 5.3 m + disques + rouleaux","Bêche roulante 5.3 m + disques + rouleaux","Bêche roulante 5.3 m + disques + rouleaux","Bêche roulante 5.3 m + disques + rouleaux","Bêche roulante 5.3 m + disques + rouleaux","Bêche roulante 5.3 m + disques + rouleaux","Bêche roulante 5.3 m + disques + rouleaux","Bêche roulante 5.3 m + disques + rouleaux","Bêche roulante 5.3 m + disques + rouleaux","Bêche roulante 5.3 m + disques + rouleaux","Bêche roulante 5.3 m + disques + rouleaux","Bêche roulante 5.3 m + disques + rouleaux","Bêche roulante 5.3 m + disques + rouleaux","Bêche roulante 5.3 m + disques + rouleaux","Bêche roulante 5.3 m + disques + rouleaux","Bêche roulante 5.3 m + disques + rouleaux","Bêche roulante 5.3 m + disques + rouleaux","Bêche roulante 5.3 m + disques + rouleaux","Bêche roulante 5.3 m + disques + rouleaux","Bêche roulante 5.3 m + disques + rouleaux","Bêche roulante 5.3 m + disques + rouleaux","Bêche roulante 5.3 m + disques + rouleaux","Bêche roulante 5.3 m + disques + rouleaux","Bêche roulante 5.3 m + disques + rouleaux","Bêche roulante 5.3 m + disques + rouleaux","Bêche roulante 5.3 m + disques + rouleaux","Bêche roulante 5.3 m + disques + rouleaux","Bêche roulante 5.3 m + disques + rouleaux","Bêche roulante 5.3 m + disques + rouleaux","Bêche roulante 5.3 m + disques + rouleaux","Bêche roulante 5.3 m + disques + rouleaux","Bêche roulante 5.3 m + disques + rouleaux","Bêche roulante 5.3 m + disques + rouleaux","Bêche roulante 5.3 m + disques + rouleaux","Bêche roulante 5.3 m + disques + rouleaux","Bêche roulante 5.3 m + disques + rouleaux","Bêche roulante 5.3 m + disques + rouleaux","Bêche roulante 5.3 m + disques + rouleaux","Bêche roulante 5.3 m + disques + rouleaux","Bêche roulante 5.3 m + disques + rouleaux","Bêche roulante 5.3 m + disques + rouleaux","Bêche roulante 5.3 m + disques + rouleaux","Bêche roulante 5.3 m + disques + rouleaux","Bêche roulante 5.3 m + disques + rouleaux","Bêche roulante 5.3 m + disques + rouleaux","Bêche roulante 5.3 m + disques + rouleaux","Bêche roulante 5.3 m + disques + rouleaux","Bêche roulante 5.3 m + disques + rouleaux","Bêche roulante 5.3 m + disques + rouleaux","Bêche roulante 5.3 m + disques + rouleaux","Bêche roulante 5.3 m + disques + rouleaux","Bêche roulante 5.3 m + disques + rouleaux","Bêche roulante 5.3 m + disques + rouleaux","Bêche roulante 5.3 m + disques + rouleaux","Bêche roulante 5.3 m + disques + rouleaux","Bêche roulante 5.3 m + disques + rouleaux","Bêche roulante 5.3 m + disques + rouleaux","Bêche roulante 5.3 m + disques + rouleaux","Bêche roulante 5.3 m + disques + rouleaux","Bêche roulante 5.3 m + disques + rouleaux","Bêche roulante 5.3 m + disques + rouleaux","Bêche roulante 5.3 m + disques + rouleaux","Bêche roulante 5.3 m + disques + rouleaux","Bêche roulante 5.3 m + disques + rouleaux","Bêche roulante 5.3 m + disques + rouleaux","Bêche roulante 5.3 m + disques + rouleaux","Bêche roulante 5.3 m + disques + rouleaux","Bêche roulante 5.3 m + disques + rouleaux","Bêche roulante 5.3 m + disques + rouleaux","Bêche roulante 5.3 m + disques + rouleaux","Bêche roulante 5.3 m + disques + rouleaux","Bêche roulante 5.3 m + disques + rouleaux","Bêche roulante 5.3 m + disques + rouleaux","Bêche roulante 5.3 m + disques + rouleaux","Bêche roulante 5.3 m + disques + rouleaux","Bêche roulante 5.3 m + disques + rouleaux","Bêche roulante 5.3 m + disques + rouleaux","Bêche roulante 5.3 m + disques + rouleaux","Bêche roulante 5.3 m + disques + rouleaux","Bêche roulante 5.3 m + disques + rouleaux","Bêche roulante 5.3 m + disques + rouleaux","Bêche roulante 5.3 m + disques + rouleaux","Bêche roulante 5.3 m + disques + rouleaux","Bêche roulante 5.3 m + disques + rouleaux","Bêche roulante 5.3 m + disques + rouleaux","Bêche roulante 5.3 m + disques + rouleaux","Bêche roulante 5.3 m + disques + rouleaux","Bêche roulante 5.3 m + disques + rouleaux","Bêche roulante 5.3 m + disques + rouleaux","Bêche roulante 5.3 m + disques + rouleaux","Bêche roulante 5.3 m + disques + rouleaux","Bêche roulante 5.3 m + disques + rouleaux","Bêche roulante 5.3 m + disques + rouleaux","Bêche roulante 5.3 m + disques + rouleaux","Bêche roulante 5.3 m + disques + rouleaux","Bêche roulante 5.3 m + disques + rouleaux","Bêche roulante 5.3 m + disques + rouleaux","Bêche roulante 5.3 m + disques + rouleaux","Bêche roulante 5.3 m + disques + rouleaux","Bêche roulante 5.3 m + disques + rouleaux","Bêche roulante 5.3 m + disques + rouleaux","Bêche roulante 5.3 m + disques + rouleaux","Bêche roulante 5.3 m + disques + rouleaux","Bêche roulante 5.3 m + disques + rouleaux","Bêche roulante 5.3 m + disques + rouleaux","Bêche roulante 5.3 m + disques + rouleaux","Bêche roulante 5.3 m + disques + rouleaux","Bêche roulante 5.3 m + disques + rouleaux","Bêche roulante 5.3 m + disques + rouleaux","Bêche roulante 5.3 m + disques + rouleaux","Bêche roulante 5.3 m + disques + rouleaux","Bêche roulante 5.3 m + disques + rouleaux","Bêche roulante 5.3 m + disques + rouleaux","Bêche roulante 5.3 m + disques + rouleaux","Bêche roulante 5.3 m + disques + rouleaux","Bêche roulante 5.3 m + disques + rouleaux","Bêche roulante 5.3 m + disques + rouleaux","Bêche roulante 5.3 m + disques + rouleaux","Bêche roulante 5.3 m + disques + rouleaux","Bêche roulante 5.3 m + disques + rouleaux","Bêche roulante 5.3 m + disques + rouleaux","Bêche roulante 5.3 m + disques + rouleaux","Bêche roulante 5.3 m + disques + rouleaux","Bêche roulante 5.3 m + disques + rouleaux","Bêche roulante 5.3 m + disques + rouleaux","Bêche roulante 5.3 m + disques + rouleaux","Bêche roulante 5.3 m + disques + rouleaux","Bêche roulante 5.3 m + disques + rouleaux","Bêche roulante 5.3 m + disques + rouleaux","Bêche roulante 5.3 m + disques + rouleaux","Bêche roulante 5.3 m + disques + rouleaux","Bêche roulante 5.3 m + disques + rouleaux","Bêche roulante 5.3 m + disques + rouleaux","Bêche roulante 5.3 m + disques + rouleaux","Bêche roulante 5.3 m + disques + rouleaux","Bêche roulante 5.3 m + disques + rouleaux","Bêche roulante 5.3 m + disques + rouleaux","Bêche roulante 5.3 m + disques + rouleaux","Bêche roulante 5.3 m + disques + rouleaux","Bêche roulante 5.3 m + disques + rouleaux","Bêche roulante 5.3 m + disques + rouleaux","Bêche roulante 5.3 m + disques + rouleaux","Bêche roulante 5.3 m + disques + rouleaux","Bêche roulante 5.3 m + disques + rouleaux","Bêche roulante 5.3 m + disques + rouleaux","Bêche roulante 5.3 m + disques + rouleaux","Bêche roulante 5.3 m + disques + rouleaux","Bêche roulante 5.3 m + disques + rouleaux","Bêche roulante 5.3 m + disques + rouleaux","Bêche roulante 5.3 m + disques + rouleaux","Bêche roulante 5.3 m + disques + rouleaux","Bêche roulante 5.3 m + disques + rouleaux","Bêche roulante 5.3 m + disques + rouleaux","Bêche roulante 5.3 m + disques + rouleaux","Bêche roulante 5.3 m + disques + rouleaux","Bêche roulante 5.3 m + disques + rouleaux","Bêche roulante 5.3 m + disques + rouleaux","Bêche roulante 5.3 m + disques + rouleaux","Bêche roulante 5.3 m + disques + rouleaux","Bêche roulante 5.3 m + disques + rouleaux","Bêche roulante 5.3 m + disques + rouleaux","Bêche roulante 5.3 m + disques + rouleaux","Bêche roulante 5.3 m + disques + rouleaux","Bêche roulante 5.3 m + disques + rouleaux","Bêche roulante 5.3 m + disques + rouleaux","Bêche roulante 5.3 m + disques + rouleaux","Bêche roulante 5.3 m + disques + rouleaux","Bêche roulante 5.3 m + disques + rouleaux","Bêche roulante 5.3 m + disques + rouleaux","Bêche roulante 5.3 m + disques + rouleaux","Bêche roulante 5.3 m + disques + rouleaux","Bêche roulante 5.3 m + disques + rouleaux","Bêche roulante 5.3 m + disques + rouleaux","Bêche roulante 5.3 m + disques + rouleaux","Bêche roulante 5.3 m + disques + rouleaux","Bêche roulante 5.3 m + disques + rouleaux","Bêche roulante 5.3 m + disques + rouleaux","Bêche roulante 5.3 m + disques + rouleaux","Bêche roulante 5.3 m + disques + rouleaux","Bêche roulante 5.3 m + disques + rouleaux","Bêche roulante 5.3 m + disques + rouleaux","Bêche roulante 5.3 m + disques + rouleaux","Bêche roulante 5.3 m + disques + rouleaux","Bêche roulante 5.3 m + disques + rouleaux","Bêche roulante 5.3 m + disques + rouleaux","Bêche roulante 5.3 m + disques + rouleaux","Bêche roulante 5.3 m + disques + rouleaux","Bêche roulante 5.3 m + disques + rouleaux","Bêche roulante 5.3 m + disques + rouleaux","Bêche roulante 5.3 m + disques + rouleaux","Bêche roulante 5.3 m + disques + rouleaux","Bêche roulante 5.3 m + disques + rouleaux","Bêche roulante 5.3 m + disques + rouleaux","Bêche roulante 5.3 m + disques + rouleaux","Bêche roulante 5.3 m + disques + rouleaux","Bêche roulante 5.3 m + disques + rouleaux","Bêche roulante 5.3 m + disques + rouleaux","Bêche roulante 5.3 m + disques + rouleaux","Bêche roulante 5.3 m + disques + rouleaux","Bêche roulante 5.3 m + disques + rouleaux","Bêche roulante 5.3 m + disques + rouleaux","Bêche roulante 5.3 m + disques + rouleaux","Bêche roulante 5.3 m + disques + rouleaux","Bêche roulante 5.3 m + disques + rouleaux","Bêche roulante 5.3 m + disques + rouleaux","Bêche roulante 5.3 m + disques + rouleaux","Bêche roulante 5.3 m + disques + rouleaux","Bêche roulante 5.3 m + disques + rouleaux","Bêche roulante 5.3 m + disques + rouleaux","Bêche roulante 5.3 m + disques + rouleaux","Bêche roulante 5.3 m + disques + rouleaux","Bêche roulante 5.3 m + disques + rouleaux","Bêche roulante 5.3 m + disques + rouleaux","Bêche roulante 5.3 m + disques + rouleaux","Bêche roulante 5.3 m + disques + rouleaux","Bêche roulante 5.3 m + disques + rouleaux","Bêche roulante 5.3 m + disques + rouleaux","Bêche roulante 5.3 m + disques + rouleaux","Bêche roulante 5.3 m + disques + rouleaux","Bêche roulante 5.3 m + disques + rouleaux","Bêche roulante 5.3 m + disques + rouleaux","Bêche roulante 5.3 m + disques + rouleaux","Bêche roulante 5.3 m + disques + rouleaux","Bêche roulante 5.3 m + disques + rouleaux","Bêche roulante 5.3 m + disques + rouleaux","Bêche roulante 5.3 m + disques + rouleaux","Bêche roulante 5.3 m + disques + rouleaux","Bêche roulante 5.3 m + disques + rouleaux","Bêche roulante 5.3 m + disques + rouleaux","Bêche roulante 5.3 m + disques + rouleaux","Bêche roulante 5.3 m + disques + rouleaux","Bêche roulante 5.3 m + disques + rouleaux","Bêche roulante 5.3 m + disques + rouleaux","Bêche roulante 5.3 m + disques + rouleaux","Bêche roulante 5.3 m + disques + rouleaux","Bêche roulante 5.3 m + disques + rouleaux","Bêche roulante 5.3 m + disques + rouleaux","Bêche roulante 5.3 m + disques + rouleaux","Bêche roulante 5.3 m + disques + rouleaux","Bêche roulante 5.3 m + disques + rouleaux","Bêche roulante 5.3 m + disques + rouleaux","Bêche roulante 5.3 m + disques + rouleaux","Bêche roulante 5.3 m + disques + rouleaux","Bêche roulante 5.3 m + disques + rouleaux","Bêche roulante 5.3 m + disques + rouleaux","Bêche roulante 5.3 m + disques + rouleaux","Bêche roulante 5.3 m + disques + rouleaux","Bêche roulante 5.3 m + disques + rouleaux","Bêche roulante 5.3 m + disques + rouleaux","Bêche roulante 5.3 m + disques + rouleaux","Bêche roulante 5.3 m + disques + rouleaux","Bêche roulante 5.3 m + disques + rouleaux","Bêche roulante 5.3 m + disques + rouleaux","Bêche roulante 5.3 m + disques + rouleaux","Bêche roulante 5.3 m + disques + rouleaux","Bêche roulante 5.3 m + disques + rouleaux","Bêche roulante 5.3 m + disques + rouleaux","Bêche roulante 5.3 m + disques + rouleaux","Bêche roulante 5.3 m + disques + rouleaux","Bêche roulante 5.3 m + disques + rouleaux","Bêche roulante 5.3 m + disques + rouleaux","Bêche roulante 5.3 m + disques + rouleaux","Bêche roulante 5.3 m + disques + rouleaux","Bêche roulante 5.3 m + disques + rouleaux","Bêche roulante 5.3 m + disques + rouleaux","Bêche roulante 5.3 m + disques + rouleaux","Bêche roulante 5.3 m + disques + rouleaux","Bêche roulante 5.3 m + disques + rouleaux","Bêche roulante 5.3 m + disques + rouleaux","Bêche roulante 5.3 m + disques + rouleaux","Bêche roulante 5.3 m + disques + rouleaux","Bêche roulante 5.3 m + disques + rouleaux","Bêche roulante 5.3 m + disques + rouleaux","Bêche roulante 5.3 m + disques + rouleaux","Bêche roulante 5.3 m + disques + rouleaux","Bêche roulante 5.3 m + disques + rouleaux","Bêche roulante 5.3 m + disques + rouleaux","Bêche roulante 5.3 m + disques + rouleaux","Bêche roulante 5.3 m + disques + rouleaux","Bêche roulante 5.3 m + disques + rouleaux","Bêche roulante 5.3 m + disques + rouleaux","Bêche roulante 5.3 m + disques + rouleaux","Bêche roulante 5.3 m + disques + rouleaux","Bêche roulante 5.3 m + disques + rouleaux","Bêche roulante 5.3 m + disques + rouleaux","Bêche roulante 5.3 m + disques + rouleaux","Bêche roulante 5.3 m + disques + rouleaux","Bêche roulante 5.3 m + disques + rouleaux","Bêche roulante 5.3 m + disques + rouleaux","Bêche roulante 5.3 m + disques + rouleaux","Bêche roulante 5.3 m + disques + rouleaux","Bêche roulante 5.3 m + disques + rouleaux","Bêche roulante 5.3 m + disques + rouleaux","Bêche roulante 5.3 m + disques + rouleaux","Bêche roulante 5.3 m + disques + rouleaux","Bêche roulante 5.3 m + disques + rouleaux","Bêche roulante 5.3 m + disques + rouleaux","Bêche roulante 5.3 m + disques + rouleaux","Bêche roulante 5.3 m + disques + rouleaux","Bêche roulante 5.3 m + disques + rouleaux","Bêche roulante 5.3 m + disques + rouleaux","Bêche roulante 5.3 m + disques + rouleaux","Bêche roulante 5.3 m + disques + rouleaux","Bêche roulante 5.3 m + disques + rouleaux","Bêche roulante 5.3 m + disques + rouleaux","Bêche roulante 5.3 m + disques + rouleaux","Bêche roulante 5.3 m + disques + rouleaux","Bêche roulante 5.3 m + disques + rouleaux","Bêche roulante 5.3 m + disques + rouleaux","Bêche roulante 5.3 m + disques + rouleaux","Bêche roulante 5.3 m + disques + rouleaux","Bêche roulante 5.3 m + disques + rouleaux","Bêche roulante 5.3 m + disques + rouleaux","Bêche roulante 5.3 m + disques + rouleaux","Bêche roulante 5.3 m + disques + rouleaux","Bêche roulante 5.3 m + disques + rouleaux","Bêche roulante 5.3 m + disques + rouleaux","Bêche roulante 5.3 m + disques + rouleaux","Bêche roulante 5.3 m + disques + rouleaux","Bêche roulante 5.3 m + disques + rouleaux","Bêche roulante 5.3 m + disques + rouleaux","Bêche roulante 5.3 m + disques + rouleaux","Bêche roulante 5.3 m + disques + rouleaux","Bêche roulante 5.3 m + disques + rouleaux","Bêche roulante 5.3 m + disques + rouleaux","Bêche roulante 5.3 m + disques + rouleaux","Bêche roulante 5.3 m + disques + rouleaux","Bêche roulante 5.3 m + disques + rouleaux","Bêche roulante 5.3 m + disques + rouleaux","Bêche roulante 5.3 m + disques + rouleaux","Bêche roulante 5.3 m + disques + rouleaux","Bêche roulante 5.3 m + disques + rouleaux","Bêche roulante 5.3 m + disques + rouleaux","Bêche roulante 5.3 m + disques + rouleaux","Bêche roulante 5.3 m + disques + rouleaux","Bêche roulante 5.3 m + disques + rouleaux","Bêche roulante 5.3 m + disques + rouleaux","Bêche roulante 5.3 m + disques + rouleaux","Bêche roulante 5.3 m + disques + rouleaux","Bêche roulante 5.3 m + disques + rouleaux","Bêche roulante 5.3 m + disques + rouleaux","Bêche roulante 5.3 m + disques + rouleaux","Bêche roulante 5.3 m + disques + rouleaux","Bêche roulante 5.3 m + disques + rouleaux","Bêche roulante 5.3 m + disques + rouleaux","Bêche roulante 5.3 m + disques + rouleaux","Bêche roulante 5.3 m + disques + rouleaux","Bêche roulante 5.3 m + disques + rouleaux","Bêche roulante 5.3 m + disques + rouleaux","Bêche roulante 5.3 m + disques + rouleaux","Bêche roulante 5.3 m + disques + rouleaux","Bêche roulante 5.3 m + disques + rouleaux","Bêche roulante 5.3 m + disques + rouleaux","Bêche roulante 5.3 m + disques + rouleaux","Bêche roulante 5.3 m + disques + rouleaux","Bêche roulante 5.3 m + disques + rouleaux","Bêche roulante 5.3 m + disques + rouleaux","Bêche roulante 5.3 m + disques + rouleaux","Bêche roulante 5.3 m + disques + rouleaux","Bêche roulante 5.3 m + disques + rouleaux","Bêche roulante 5.3 m + disques + rouleaux","Bêche roulante 5.3 m + disques + rouleaux","Bêche roulante 5.3 m + disques + rouleaux","Bêche roulante 5.3 m + disques + rouleaux","Bêche roulante 5.3 m + disques + rouleaux","Bêche roulante 5.3 m + disques + rouleaux","Bêche roulante 5.3 m + disques + rouleaux","Bêche roulante 5.3 m + disques + rouleaux","Bêche roulante 5.3 m + disques + rouleaux","Bêche roulante 5.3 m + disques + rouleaux","Bêche roulante 5.3 m + disques + rouleaux","Bêche roulante 5.3 m + disques + rouleaux","Bêche roulante 5.3 m + disques + rouleaux","Bêche roulante 5.3 m + disques + rouleaux","Bêche roulante 5.3 m + disques + rouleaux","Bêche roulante 5.3 m + disques + rouleaux","Bêche roulante 5.3 m + disques + rouleaux","Bêche roulante 5.3 m + disques + rouleaux","Bêche roulante 5.3 m + disques + rouleaux","Bêche roulante 5.3 m + disques + rouleaux","Bêche roulante 5.3 m + disques + rouleaux","Bêche roulante 5.3 m + disques + rouleaux","Bêche roulante 5.3 m + disques + rouleaux","Bêche roulante 5.3 m + disques + rouleaux","Bêche roulante 5.3 m + disques + rouleaux","Bêche roulante 5.3 m + disques + rouleaux","Bêche roulante 5.3 m + disques + rouleaux","Bêche roulante 5.3 m + disques + rouleaux","Bêche roulante 5.3 m + disques + rouleaux","Bêche roulante 5.3 m + disques + rouleaux","Bêche roulante 5.3 m + disques + rouleaux","Bêche roulante 5.3 m + disques + rouleaux","Bêche roulante 5.3 m + disques + rouleaux","Bêche roulante 5.3 m + disques + rouleaux","Bêche roulante 5.3 m + disques + rouleaux","Bêche roulante 5.3 m + disques + rouleaux","Bêche roulante 5.3 m + disques + rouleaux","Bêche roulante 5.3 m + disques + rouleaux","Bêche roulante 5.3 m + disques + rouleaux","Bêche roulante 5.3 m + disques + rouleaux","Bêche roulante 5.3 m + disques + rouleaux","Bêche roulante 5.3 m + disques + rouleaux","Bêche roulante 5.3 m + disques + rouleaux","Bêche roulante 5.3 m + disques + rouleaux","Bêche roulante 5.3 m + disques + rouleaux","Bêche roulante 5.3 m + disques + rouleaux","Bêche roulante 5.3 m + disques + rouleaux","Bêche roulante 5.3 m + disques + rouleaux","Bêche roulante 5.3 m + disques + rouleaux","Bêche roulante 5.3 m + disques + rouleaux","Bêche roulante 5.3 m + disques + rouleaux","Bêche roulante 5.3 m + disques + rouleaux","Bêche roulante 5.3 m + disques + rouleaux","Bêche roulante 5.3 m + disques + rouleaux","Bêche roulante 5.3 m + disques + rouleaux","Bêche roulante 5.3 m + disques + rouleaux","Bêche roulante 5.3 m + disques + rouleaux","Bêche roulante 5.3 m + disques + rouleaux","Bêche roulante 5.3 m + disques + rouleaux","Bêche roulante 5.3 m + disques + rouleaux","Bêche roulante 5.3 m + disques + rouleaux","Bêche roulante 5.3 m + disques + rouleaux","Bêche roulante 5.3 m + disques + rouleaux","Bêche roulante 5.3 m + disques + rouleaux","Bêche roulante 5.3 m + disques + rouleaux","Bêche roulante 5.3 m + disques + rouleaux","Bêche roulante 5.3 m + disques + rouleaux","Bêche roulante 5.3 m + disques + rouleaux","Bêche roulante 5.3 m + disques + rouleaux","Bêche roulante 5.3 m + disques + rouleaux","Bêche roulante 5.3 m + disques + rouleaux","Bêche roulante 5.3 m + disques + rouleaux","Bêche roulante 5.3 m + disques + rouleaux","Bêche roulante 5.3 m + disques + rouleaux","Bêche roulante 5.3 m + disques + rouleaux","Bêche roulante 5.3 m + disques + rouleaux","Bêche roulante 5.3 m + disques + rouleaux","Bêche roulante 5.3 m + disques + rouleaux","Bêche roulante 5.3 m + disques + rouleaux","Bêche roulante 5.3 m + disques + rouleaux","Bêche roulante 5.3 m + disques + rouleaux","Bêche roulante 5.3 m + disques + rouleaux","Bêche roulante 5.3 m + disques + rouleaux","Bêche roulante 5.3 m + disques + rouleaux","Bêche roulante 5.3 m + disques + rouleaux","Bêche roulante 5.3 m + disques + rouleaux","Bêche roulante 5.3 m + disques + rouleaux","Bêche roulante 5.3 m + disques + rouleaux","Bêche roulante 5.3 m + disques + rouleaux","Bêche roulante 5.3 m + disques + rouleaux","Bêche roulante 5.3 m + disques + rouleaux","Bêche roulante 5.3 m + disques + rouleaux","Bêche roulante 5.3 m + disques + rouleaux","Bêche roulante 5.3 m + disques + rouleaux","Bêche roulante 5.3 m + disques + rouleaux","Bêche roulante 5.3 m + disques + rouleaux","Bêche roulante 5.3 m + disques + rouleaux","Bêche roulante 5.3 m + disques + rouleaux","Bêche roulante 5.3 m + disques + rouleaux","Bêche roulante 5.3 m + disques + rouleaux","Bêche roulante 5.3 m + disques + rouleaux","Bêche roulante 5.3 m + disques + rouleaux","Bêche roulante 5.3 m + disques + rouleaux","Bêche roulante 5.3 m + disques + rouleaux","Bêche roulante 5.3 m + disques + rouleaux","Bêche roulante 5.3 m + disques + rouleaux","Bêche roulante 5.3 m + disques + rouleaux","Bêche roulante 5.3 m + disques + rouleaux","Bêche roulante 5.3 m + disques + rouleaux","Bêche roulante 5.3 m + disques + rouleaux","Bêche roulante 5.3 m + disques + rouleaux","Bêche roulante 5.3 m + disques + rouleaux","Bêche roulante 5.3 m + disques + rouleaux","Bêche roulante 5.3 m + disques + rouleaux","Bêche roulante 5.3 m + disques + rouleaux","Bêche roulante 5.3 m + disques + rouleaux","Bêche roulante 5.3 m + disques + rouleaux","Bêche roulante 5.3 m + disques + rouleaux","Bêche roulante 5.3 m + disques + rouleaux","Bêche roulante 5.3 m + disques + rouleaux","Bêche roulante 5.3 m + disques + rouleaux","Bêche roulante 5.3 m + disques + rouleaux","Bêche roulante 5.3 m + disques + rouleaux","Bêche roulante 5.3 m + disques + rouleaux","Bêche roulante 5.3 m + disques + rouleaux","Bêche roulante 5.3 m + disques + rouleaux","Bêche roulante 5.3 m + disques + rouleaux","Bêche roulante 5.3 m + disques + rouleaux","Bêche roulante 5.3 m + disques + rouleaux","Bêche roulante 5.3 m + disques + rouleaux","Bêche roulante 5.3 m + disques + rouleaux","Bêche roulante 5.3 m + disques + rouleaux","Bêche roulante 5.3 m + disques + rouleaux","Bêche roulante 5.3 m + disques + rouleaux","Bêche roulante 5.3 m + disques + rouleaux","Bêche roulante 5.3 m + disques + rouleaux","Bêche roulante 5.3 m + disques + rouleaux","Bêche roulante 5.3 m + disques + rouleaux","Bêche roulante 5.3 m + disques + rouleaux","Bêche roulante 5.3 m + disques + rouleaux","Bêche roulante 5.3 m + disques + rouleaux","Bêche roulante 5.3 m + disques + rouleaux","Bêche roulante 5.3 m + disques + rouleaux","Bêche roulante 5.3 m + disques + rouleaux","Bêche roulante 5.3 m + disques + rouleaux","Bêche roulante 5.3 m + disques + rouleaux","Bêche roulante 5.3 m + disques + rouleaux","Bêche roulante 5.3 m + disques + rouleaux","Bêche roulante 5.3 m + disques + rouleaux","Bêche roulante 5.3 m + disques + rouleaux","Bêche roulante 5.3 m + disques + rouleaux","Bêche roulante 5.3 m + disques + rouleaux","Bêche roulante 5.3 m + disques + rouleaux","Bêche roulante 5.3 m + disques + rouleaux","Bêche roulante 5.3 m + disques + rouleaux","Bêche roulante 5.3 m + disques + rouleaux","Bêche roulante 5.3 m + disques + rouleaux","Bêche roulante 5.3 m + disques + rouleaux","Bêche roulante 5.3 m + disques + rouleaux","Bêche roulante 5.3 m + disques + rouleaux","Bêche roulante 5.3 m + disques + rouleaux","Bêche roulante 5.3 m + disques + rouleaux","Bêche roulante 5.3 m + disques + rouleaux","Bêche roulante 5.3 m + disques + rouleaux","Bêche roulante 5.3 m + disques + rouleaux","Bêche roulante 5.3 m + disques + rouleaux","Bêche roulante 5.3 m + disques + rouleaux","Bêche roulante 5.3 m + disques + rouleaux","Bêche roulante 5.3 m + disques + rouleaux","Bêche roulante 5.3 m + disques + rouleaux","Bêche roulante 5.3 m + disques + rouleaux","Bêche roulante 5.3 m + disques + rouleaux","Bêche roulante 5.3 m + disques + rouleaux","Bêche roulante 5.3 m + disques + rouleaux","Bêche roulante 5.3 m + disques + rouleaux","Bêche roulante 5.3 m + disques + rouleaux","Bêche roulante 5.3 m + disques + rouleaux","Bêche roulante 5.3 m + disques + rouleaux","Bêche roulante 5.3 m + disques + rouleaux","Bêche roulante 5.3 m + disques + rouleaux","Bêche roulante 5.3 m + disques + rouleaux","Bêche roulante 5.3 m + disques + rouleaux","Bêche roulante 5.3 m + disques + rouleaux","Bêche roulante 5.3 m + disques + rouleaux","Bêche roulante 5.3 m + disques + rouleaux","Bêche roulante 5.3 m + disques + rouleaux","Bêche roulante 5.3 m + disques + rouleaux","Bêche roulante 5.3 m + disques + rouleaux","Bêche roulante 5.3 m + disques + rouleaux","Bêche roulante 5.3 m + disques + rouleaux","Bêche roulante 5.3 m + disques + rouleaux","Bêche roulante 5.3 m + disques + rouleaux","Bêche roulante 5.3 m + disques + rouleaux","Bêche roulante 5.3 m + disques + rouleaux","Bêche roulante 5.3 m + disques + rouleaux","Bêche roulante 5.3 m + disques + rouleaux","Bêche roulante 5.3 m + disques + rouleaux","Bêche roulante 5.3 m + disques + rouleaux","Bêche roulante 5.3 m + disques + rouleaux","Bêche roulante 5.3 m + disques + rouleaux","Bêche roulante 5.3 m + disques + rouleaux","Bêche roulante 5.3 m + disques + rouleaux","Bêche roulante 5.3 m + disques + rouleaux","Bêche roulante 5.3 m + disques + rouleaux","Bêche roulante 5.3 m + disques + rouleaux","Bêche roulante 5.3 m + disques + rouleaux","Bêche roulante 5.3 m + disques + rouleaux","Bêche roulante 5.3 m + disques + rouleaux","Bêche roulante 5.3 m + disques + rouleaux","Bêche roulante 5.3 m + disques + rouleaux","Bêche roulante 5.3 m + disques + rouleaux","Bêche roulante 5.3 m + disques + rouleaux","Bêche roulante 5.3 m + disques + rouleaux","Bêche roulante 5.3 m + disques + rouleaux","Bêche roulante 5.3 m + disques + rouleaux","Bêche roulante 5.3 m + disques + rouleaux","Bêche roulante 5.3 m + disques + rouleaux","Bêche roulante 5.3 m + disques + rouleaux","Bêche roulante 5.3 m + disques + rouleaux","Bêche roulante 5.3 m + disques + rouleaux","Bêche roulante 5.3 m + disques + rouleaux","Bêche roulante 5.3 m + disques + rouleaux","Bêche roulante 5.3 m + disques + rouleaux","Bêche roulante 5.3 m + disques + rouleaux","Bêche roulante 5.3 m + disques + rouleaux","Bêche roulante 5.3 m + disques + rouleaux","Bêche roulante 5.3 m + disques + rouleaux","Bêche roulante 5.3 m + disques + rouleaux","Bêche roulante 5.3 m + disques + rouleaux","Bêche roulante 5.3 m + disques + rouleaux","Bêche roulante 5.3 m + disques + rouleaux","Bêche roulante 5.3 m + disques + rouleaux","Bêche roulante 5.3 m + disques + rouleaux","Bêche roulante 5.3 m + disques + rouleaux","Bêche roulante 5.3 m + disques + rouleaux","Bêche roulante 5.3 m + disques + rouleaux","Bêche roulante 5.3 m + disques + rouleaux","Bêche roulante 5.3 m + disques + rouleaux","Bêche roulante 5.3 m + disques + rouleaux","Bêche roulante 5.3 m + disques + rouleaux","Bêche roulante 5.3 m + disques + rouleaux","Bêche roulante 5.3 m + disques + rouleaux","Bêche roulante 5.3 m + disques + rouleaux","Bêche roulante 5.3 m + disques + rouleaux","Bêche roulante 5.3 m + disques + rouleaux","Bêche roulante 5.3 m + disques + rouleaux","Bêche roulante 5.3 m + disques + rouleaux","Bêche roulante 5.3 m + disques + rouleaux","Bêche roulante 5.3 m + disques + rouleaux","Bêche roulante 5.3 m + disques + rouleaux","Bêche roulante 5.3 m + disques + rouleaux","Bêche roulante 5.3 m + disques + rouleaux","Bêche roulante 5.3 m + disques + rouleaux","Bêche roulante 5.3 m + disques + rouleaux","Bêche roulante 5.3 m + disques + rouleaux","Bêche roulante 5.3 m + disques + rouleaux","Bêche roulante 5.3 m + disques + rouleaux","Bêche roulante 5.3 m + disques + rouleaux","Bêche roulante 5.3 m + disques + rouleaux","Bêche roulante 5.3 m + disques + rouleaux","Bêche roulante 5.3 m + disques + rouleaux","Bêche roulante 5.3 m + disques + rouleaux","Bêche roulante 5.3 m + disques + rouleaux","Bêche roulante 5.3 m + disques + rouleaux","Bêche roulante 5.3 m + disques + rouleaux","Bêche roulante 5.3 m + disques + rouleaux","Bêche roulante 5.3 m + disques + rouleaux","Bêche roulante 5.3 m + disques + rouleaux","Bêche roulante 5.3 m + disques + rouleaux","Bêche roulante 5.3 m + disques + rouleaux","Bêche roulante 5.3 m + disques + rouleaux","Bêche roulante 5.3 m + disques + rouleaux","Bêche roulante 5.3 m + disques + rouleaux","Bêche roulante 5.3 m + disques + rouleaux","Bêche roulante 5.3 m + disques + rouleaux","Bêche roulante 5.3 m + disques + rouleaux","Bêche roulante 5.3 m + disques + rouleaux","Bêche roulante 5.3 m + disques + rouleaux","Bêche roulante 5.3 m + disques + rouleaux","Bêche roulante 5.3 m + disques + rouleaux","Bêche roulante 5.3 m + disques + rouleaux","Bêche roulante 5.3 m + disques + rouleaux","Bêche roulante 5.3 m + disques + rouleaux","Bêche roulante 5.3 m + disques + rouleaux","Bêche roulante 5.3 m + disques + rouleaux","Bêche roulante 5.3 m + disques + rouleaux","Bêche roulante 5.3 m + disques + rouleaux","Bêche roulante 5.3 m + disques + rouleaux","Bêche roulante 5.3 m + disques + rouleaux","Bêche roulante 5.3 m + disques + rouleaux","Bêche roulante 5.3 m + disques + rouleaux","Bêche roulante 5.3 m + disques + rouleaux","Bêche roulante 5.3 m + disques + rouleaux","Bêche roulante 5.3 m + disques + rouleaux","Bêche roulante 5.3 m + disques + rouleaux","Bêche roulante 5.3 m + disques + rouleaux","Bêche roulante 5.3 m + disques + rouleaux","Bêche roulante 5.3 m + disques + rouleaux","Bêche roulante 5.3 m + disques + rouleaux","Bêche roulante 5.3 m + disques + rouleaux","Bêche roulante 5.3 m + disques + rouleaux","Bêche roulante 5.3 m + disques + rouleaux","Bêche roulante 5.3 m + disques + rouleaux","Bêche roulante 5.3 m + disques + rouleaux","Bêche roulante 5.3 m + disques + rouleaux","Bêche roulante 5.3 m + disques + rouleaux","Bêche roulante 5.3 m + disques + rouleaux","Bêche roulante 5.3 m + disques + rouleaux","Bêche roulante 5.3 m + disques + rouleaux","Bêche roulante 5.3 m + disques + rouleaux","Bêche roulante 5.3 m + disques + rouleaux","Bêche roulante 5.3 m + disques + rouleaux","Bêche roulante 5.3 m + disques + rouleaux","Bêche roulante 5.3 m + disques + rouleaux","Bêche roulante 5.3 m + disques + rouleaux","Bêche roulante 5.3 m + disques + rouleaux","Bêche roulante 5.3 m + disques + rouleaux","Bêche roulante 5.3 m + disques + rouleaux","Bêche roulante 5.3 m + disques + rouleaux","Bêche roulante 5.3 m + disques + rouleaux","Bêche roulante 5.3 m + disques + rouleaux","Bêche roulante 5.3 m + disques + rouleaux","Bêche roulante 5.3 m + disques + rouleaux","Bêche roulante 5.3 m + disques + rouleaux","Bêche roulante 5.3 m + disques + rouleaux","Bêche roulante 5.3 m + disques + rouleaux","Bêche roulante 5.3 m + disques + rouleaux","Bêche roulante 5.3 m + disques + rouleaux","Bêche roulante 5.3 m + disques + rouleaux","Bêche roulante 5.3 m + disques + rouleaux","Bêche roulante 5.3 m + disques + rouleaux","Bêche roulante 5.3 m + disques + rouleaux","Bêche roulante 5.3 m + disques + rouleaux","Bêche roulante 5.3 m + disques + rouleaux","Bêche roulante 5.3 m + disques + rouleaux","Bêche roulante 5.3 m + disques + rouleaux","Bêche roulante 5.3 m + disques + rouleaux","Bêche roulante 5.3 m + disques + rouleaux","Bêche roulante 5.3 m + disques + rouleaux","Bêche roulante 5.3 m + disques + rouleaux","Bêche roulante 5.3 m + disques + rouleaux","Bêche roulante 5.3 m + disques + rouleaux","Bêche roulante 5.3 m + disques + rouleaux","Bêche roulante 5.3 m + disques + rouleaux","Bêche roulante 5.3 m + disques + rouleaux","Bêche roulante 5.3 m + disques + rouleaux","Bêche roulante 5.3 m + disques + rouleaux","Bêche roulante 5.3 m + disques + rouleaux","Bêche roulante 5.3 m + disques + rouleaux","Bêche roulante 5.3 m + disques + rouleaux","Bêche roulante 5.3 m + disques + rouleaux","Bêche roulante 5.3 m + disques + rouleaux","Bêche roulante 5.3 m + disques + rouleaux","Bêche roulante 5.3 m + disques + rouleaux","Bêche roulante 5.3 m + disques + rouleaux","Bêche roulante 5.3 m + disques + rouleaux","Bêche roulante 5.3 m + disques + rouleaux","Bêche roulante 5.3 m + disques + rouleaux","Bêche roulante 5.3 m + disques + rouleaux","Bêche roulante 5.3 m + disques + rouleaux","Bêche roulante 5.3 m + disques + rouleaux","Bêche roulante 5.3 m + disques + rouleaux","Bêche roulante 5.3 m + disques + rouleaux","Bêche roulante 5.3 m + disques + rouleaux","Bêche roulante 5.3 m + disques + rouleaux","Bêche roulante 5.3 m + disques + rouleaux","Bêche roulante 5.3 m + disques + rouleaux","Bêche roulante 5.3 m + disques + rouleaux","Bêche roulante 5.3 m + disques + rouleaux","Bêche roulante 5.3 m + disques + rouleaux","Bêche roulante 5.3 m + disques + rouleaux","Bêche roulante 5.3 m + disques + rouleaux","Bêche roulante 5.3 m + disques + rouleaux","Bêche roulante 5.3 m + disques + rouleaux","Bêche roulante 5.3 m + disques + rouleaux","Bêche roulante 5.3 m + disques + rouleaux","Bêche roulante 5.3 m + disques + rouleaux","Bêche roulante 5.3 m + disques + rouleaux","Bêche roulante 5.3 m + disques + rouleaux","Bêche roulante 5.3 m + disques + rouleaux","Bêche roulante 5.3 m + disques + rouleaux","Bêche roulante 5.3 m + disques + rouleaux","Bêche roulante 5.3 m + disques + rouleaux","Bêche roulante 5.3 m + disques + rouleaux","Bêche roulante 5.3 m + disques + rouleaux","Bêche roulante 5.3 m + disques + rouleaux","Bêche roulante 5.3 m + disques + rouleaux","Bêche roulante 5.3 m + disques + rouleaux","Bêche roulante 5.3 m + disques + rouleaux","Bêche roulante 5.3 m + disques + rouleaux","Bêche roulante 5.3 m + disques + rouleaux","Bêche roulante 5.3 m + disques + rouleaux","Bêche roulante 5.3 m + disques + rouleaux","Bêche roulante 5.3 m + disques + rouleaux","Bêche roulante 5.3 m + disques + rouleaux","Bêche roulante 5.3 m + disques + rouleaux","Bêche roulante 5.3 m + disques + rouleaux","Bêche roulante 5.3 m + disques + rouleaux","Bêche roulante 5.3 m + disques + rouleaux","Bêche roulante 5.3 m + disques + rouleaux","Bêche roulante 5.3 m + disques + rouleaux","Bêche roulante 5.3 m + disques + rouleaux","Bêche roulante 5.3 m + disques + rouleaux","Bêche roulante 5.3 m + disques + rouleaux","Bêche roulante 5.3 m + disques + rouleaux","Bêche roulante 5.3 m + disques + rouleaux","Bêche roulante 5.3 m + disques + rouleaux","Bêche roulante 5.3 m + disques + rouleaux","Bêche roulante 5.3 m + disques + rouleaux","Bêche roulante 5.3 m + disques + rouleaux","Bêche roulante 5.3 m + disques + rouleaux","Bêche roulante 5.3 m + disques + rouleaux","Bêche roulante 5.3 m + disques + rouleaux","Bêche roulante 5.3 m + disques + rouleaux","Bêche roulante 5.3 m + disques + rouleaux","Bêche roulante 5.3 m + disques + rouleaux","Bêche roulante 5.3 m + disques + rouleaux","Bêche roulante 5.3 m + disques + rouleaux","Bêche roulante 5.3 m + disques + rouleaux","Bêche roulante 5.3 m + disques + rouleaux","Bêche roulante 5.3 m + disques + rouleaux","Bêche roulante 5.3 m + disques + rouleaux","Bêche roulante 5.3 m + disques + rouleaux","Bêche roulante 5.3 m + disques + rouleaux","Bêche roulante 5.3 m + disques + rouleaux","Bêche roulante 5.3 m + disques + rouleaux","Bêche roulante 5.3 m + disques + rouleaux","Bêche roulante 5.3 m + disques + rouleaux","Bêche roulante 5.3 m + disques + rouleaux","Bêche roulante 5.3 m + disques + rouleaux","Bêche roulante 5.3 m + disques + rouleaux","Bêche roulante 5.3 m + disques + rouleaux","Bêche roulante 5.3 m + disques + rouleaux","Bêche roulante 5.3 m + disques + rouleaux","Bêche roulante 5.3 m + disques + rouleaux","Bêche roulante 5.3 m + disques + rouleaux","Bêche roulante 5.3 m + disques + rouleaux","Bêche roulante 5.3 m + disques + rouleaux","Bêche roulante 5.3 m + disques + rouleaux","Bêche roulante 5.3 m + disques + rouleaux","Bêche roulante 5.3 m + disques + rouleaux","Bêche roulante 5.3 m + disques + rouleaux","Bêche roulante 5.3 m + disques + rouleaux","Bêche roulante 5.3 m + disques + rouleaux","Bêche roulante 5.3 m + disques + rouleaux","Bêche roulante 5.3 m + disques + rouleaux","Bêche roulante 5.3 m + disques + rouleaux","Bêche roulante 5.3 m + disques + rouleaux","Bêche roulante 5.3 m + disques + rouleaux","Bêche roulante 5.3 m + disques + rouleaux","Bêche roulante 5.3 m + disques + rouleaux","Bêche roulante 5.3 m + disques + rouleaux","Bêche roulante 5.3 m + disques + rouleaux","Bêche roulante 5.3 m + disques + rouleaux","Bêche roulante 5.3 m + disques + rouleaux","Bêche roulante 5.3 m + disques + rouleaux","Bêche roulante 5.3 m + disques + rouleaux","Bêche roulante 5.3 m + disques + rouleaux","Bêche roulante 5.3 m + disques + rouleaux","Bêche roulante 5.3 m + disques + rouleaux","Bêche roulante 5.3 m + disques + rouleaux","Bêche roulante 5.3 m + disques + rouleaux","Bêche roulante 5.3 m + disques + rouleaux","Bêche roulante 5.3 m + disques + rouleaux","Bêche roulante 5.3 m + disques + rouleaux","Bêche roulante 5.3 m + disques + rouleaux","Bêche roulante 5.3 m + disques + rouleaux","Bêche roulante 5.3 m + disques + rouleaux","Bêche roulante 5.3 m + disques + rouleaux","Bêche roulante 5.3 m + disques + rouleaux","Bêche roulante 5.3 m + disques + rouleaux","Bêche roulante 5.3 m + disques + rouleaux","Bêche roulante 5.3 m + disques + rouleaux","Bêche roulante 5.3 m + disques + rouleaux","Bêche roulante 5.3 m + disques + rouleaux","Bêche roulante 5.3 m + disques + rouleaux","Bêche roulante 5.3 m + disques + rouleaux","Bêche roulante 5.3 m + disques + rouleaux","Bêche roulante 5.3 m + disques + rouleaux","Bêche roulante 5.3 m + disques + rouleaux","Bêche roulante 5.3 m + disques + rouleaux","Bêche roulante 5.3 m + disques + rouleaux","Bêche roulante 5.3 m + disques + rouleaux","Bêche roulante 5.3 m + disques + rouleaux","Bêche roulante 5.3 m + disques + rouleaux","Bêche roulante 5.3 m + disques + rouleaux","Bêche roulante 5.3 m + disques + rouleaux","Bêche roulante 5.3 m + disques + rouleaux","Bêche roulante 5.3 m + disques + rouleaux","Bêche roulante 5.3 m + disques + rouleaux","Bêche roulante 5.3 m + disques + rouleaux","Bêche roulante 5.3 m + disques + rouleaux","Bêche roulante 5.3 m + disques + rouleaux","Bêche roulante 5.3 m + disques + rouleaux","Bêche roulante 5.3 m + disques + rouleaux","Bêche roulante 5.3 m + disques + rouleaux","Bêche roulante 5.3 m + disques + rouleaux","Bêche roulante 5.3 m + disques + rouleaux","Bêche roulante 5.3 m + disques + rouleaux","Bêche roulante 5.3 m + disques + rouleaux","Bêche roulante 5.3 m + disques + rouleaux","Bêche roulante 5.3 m + disques + rouleaux","Bêche roulante 5.3 m + disques + rouleaux","Bêche roulante 5.3 m + disques + rouleaux","Bêche roulante 5.3 m + disques + rouleaux","Bêche roulante 5.3 m + disques + rouleaux","Bêche roulante 5.3 m + disques + rouleaux","Bêche roulante 5.3 m + disques + rouleaux","Bêche roulante 5.3 m + disques + rouleaux","Bêche roulante 5.3 m + disques + rouleaux","Bêche roulante 5.3 m + disques + rouleaux","Bêche roulante 5.3 m + disques + rouleaux","Bêche roulante 5.3 m + disques + rouleaux","Bêche roulante 5.3 m + disques + rouleaux","Bêche roulante 5.3 m + disques + rouleaux","Bêche roulante 5.3 m + disques + rouleaux","Bêche roulante 5.3 m + disques + rouleaux","Bêche roulante 5.3 m + disques + rouleaux","Bêche roulante 5.3 m + disques + rouleaux","Bêche roulante 5.3 m + disques + rouleaux","Bêche roulante 5.3 m + disques + rouleaux","Bêche roulante 5.3 m + disques + rouleaux","Bêche roulante 5.3 m + disques + rouleaux","Bêche roulante 5.3 m + disques + rouleaux","Bêche roulante 5.3 m + disques + rouleaux","Bêche roulante 5.3 m + disques + rouleaux","Bêche roulante 5.3 m + disques + rouleaux","Bêche roulante 5.3 m + disques + rouleaux","Bêche roulante 5.3 m + disques + rouleaux","Bêche roulante 5.3 m + disques + rouleaux","Bêche roulante 5.3 m + disques + rouleaux","Bêche roulante 5.3 m + disques + rouleaux","Bêche roulante 5.3 m + disques + rouleaux","Bêche roulante 5.3 m + disques + rouleaux","Bêche roulante 5.3 m + disques + rouleaux","Bêche roulante 5.3 m + disques + rouleaux","Bêche roulante 5.3 m + disques + rouleaux","Bêche roulante 5.3 m + disques + rouleaux","Bêche roulante 5.3 m + disques + rouleaux","Bêche roulante 5.3 m + disques + rouleaux","Bêche roulante 5.3 m + disques + rouleaux","Bêche roulante 5.3 m + disques + rouleaux","Bêche roulante 5.3 m + disques + rouleaux","Bêche roulante 5.3 m + disques + rouleaux","Bêche roulante 5.3 m + disques + rouleaux","Bêche roulante 5.3 m + disques + rouleaux","Bêche roulante 5.3 m + disques + rouleaux","Bêche roulante 5.3 m + disques + rouleaux","Bêche roulante 5.3 m + disques + rouleaux","Bêche roulante 5.3 m + disques + rouleaux","Bêche roulante 5.3 m + disques + rouleaux","Bêche roulante 5.3 m + disques + rouleaux","Bêche roulante 5.3 m + disques + rouleaux","Bêche roulante 5.3 m + disques + rouleaux","Bêche roulante 5.3 m + disques + rouleaux","Bêche roulante 5.3 m + disques + rouleaux","Bêche roulante 5.3 m + disques + rouleaux","Bêche roulante 5.3 m + disques + rouleaux","Bêche roulante 5.3 m + disques + rouleaux","Bêche roulante 5.3 m + disques + rouleaux","Bêche roulante 5.3 m + disques + rouleaux","Bêche roulante 5.3 m + disques + rouleaux","Bêche roulante 5.3 m + disques + rouleaux","Bêche roulante 5.3 m + disques + rouleaux","Bêche roulante 5.3 m + disques + rouleaux","Bêche roulante 5.3 m + disques + rouleaux","Bêche roulante 5.3 m + disques + rouleaux","Bêche roulante 5.3 m + disques + rouleaux","Bêche roulante 5.3 m + disques + rouleaux","Bêche roulante 5.3 m + disques + rouleaux","Bêche roulante 5.3 m + disques + rouleaux","Bêche roulante 5.3 m + disques + rouleaux","Bêche roulante 5.3 m + disques + rouleaux","Bêche roulante 5.3 m + disques + rouleaux","Bêche roulante 5.3 m + disques + rouleaux","Bêche roulante 5.3 m + disques + rouleaux","Bêche roulante 5.3 m + disques + rouleaux","Bêche roulante 5.3 m + disques + rouleaux","Bêche roulante 5.3 m + disques + rouleaux","Bêche roulante 5.3 m + disques + rouleaux","Bêche roulante 5.3 m + disques + rouleaux","Bêche roulante 5.3 m + disques + rouleaux","Bêche roulante 5.3 m + disques + rouleaux","Bêche roulante 5.3 m + disques + rouleaux","Bêche roulante 5.3 m + disques + rouleaux","Bêche roulante 5.3 m + disques + rouleaux","Bêche roulante 5.3 m + disques + rouleaux","Bêche roulante 5.3 m + disques + rouleaux","Bêche roulante 5.3 m + disques + rouleaux","Bêche roulante 5.3 m + disques + rouleaux","Bêche roulante 5.3 m + disques + rouleaux","Bêche roulante 5.3 m + disques + rouleaux","Bêche roulante 5.3 m + disques + rouleaux","Bêche roulante 5.3 m + disques + rouleaux","Bêche roulante 5.3 m + disques + rouleaux","Bêche roulante 5.3 m + disques + rouleaux","Bêche roulante 5.3 m + disques + rouleaux","Bêche roulante 5.3 m + disques + rouleaux","Bêche roulante 5.3 m + disques + rouleaux","Bêche roulante 5.3 m + disques + rouleaux","Bêche roulante 5.3 m + disques + rouleaux","Bêche roulante 5.3 m + disques + rouleaux","Bêche roulante 5.3 m + disques + rouleaux","Bêche roulante 5.3 m + disques + rouleaux","Bêche roulante 5.3 m + disques + rouleaux","Bêche roulante 5.3 m + disques + rouleaux","Bêche roulante 5.3 m + disques + rouleaux","Bêche roulante 5.3 m + disques + rouleaux","Bêche roulante 5.3 m + disques + rouleaux","Bêche roulante 5.3 m + disques + rouleaux","Bêche roulante 5.3 m + disques + rouleaux","Bêche roulante 5.3 m + disques + rouleaux","Bêche roulante 5.3 m + disques + rouleaux","Bêche roulante 5.3 m + disques + rouleaux","Bêche roulante 5.3 m + disques + rouleaux","Bêche roulante 5.3 m + disques + rouleaux","Bêche roulante 5.3 m + disques + rouleaux","Bêche roulante 5.3 m + disques + rouleaux","Bêche roulante 5.3 m + disques + rouleaux","Bêche roulante 5.3 m + disques + rouleaux","Bêche roulante 5.3 m + disques + rouleaux","Bêche roulante 5.3 m + disques + rouleaux","Bêche roulante 5.3 m + disques + rouleaux","Bêche roulante 5.3 m + disques + rouleaux","Bêche roulante 5.3 m + disques + rouleaux","Bêche roulante 5.3 m + disques + rouleaux","Bêche roulante 5.3 m + disques + rouleaux","Bêche roulante 5.3 m + disques + rouleaux","Bêche roulante 5.3 m + disques + rouleaux","Bêche roulante 5.3 m + disques + rouleaux","Bêche roulante 5.3 m + disques + rouleaux","Bêche roulante 5.3 m + disques + rouleaux","Bêche roulante 5.3 m + disques + rouleaux","Bêche roulante 5.3 m + disques + rouleaux","Bêche roulante 5.3 m + disques + rouleaux","Bêche roulante 5.3 m + disques + rouleaux","Bêche roulante 5.3 m + disques + rouleaux","Bêche roulante 5.3 m + disques + rouleaux","Bêche roulante 5.3 m + disques + rouleaux","Bêche roulante 5.3 m + disques + rouleaux","Bêche roulante 5.3 m + disques + rouleaux","Bêche roulante 5.3 m + disques + rouleaux","Bêche roulante 5.3 m + disques + rouleaux","Bêche roulante 5.3 m + disques + rouleaux","Bêche roulante 5.3 m + disques + rouleaux","Bêche roulante 5.3 m + disques + rouleaux","Bêche roulante 5.3 m + disques + rouleaux","Bêche roulante 5.3 m + disques + rouleaux","Bêche roulante 5.3 m + disques + rouleaux","Bêche roulante 5.3 m + disques + rouleaux","Bêche roulante 5.3 m + disques + rouleaux","Bêche roulante 5.3 m + disques + rouleaux","Bêche roulante 5.3 m + disques + rouleaux","Bêche roulante 5.3 m + disques + rouleaux","Bêche roulante 5.3 m + disques + rouleaux","Bêche roulante 5.3 m + disques + rouleaux","Bêche roulante 5.3 m + disques + rouleaux","Bêche roulante 5.3 m + disques + rouleaux","Bêche roulante 5.3 m + disques + rouleaux","Bêche roulante 5.3 m + disques + rouleaux","Bêche roulante 5.3 m + disques + rouleaux","Bêche roulante 5.3 m + disques + rouleaux","Bêche roulante 5.3 m + disques + rouleaux","Bêche roulante 5.3 m + disques + rouleaux","Bêche roulante 5.3 m + disques + rouleaux","Bêche roulante 5.3 m + disques + rouleaux","Bêche roulante 5.3 m + disques + rouleaux","Bêche roulante 5.3 m + disques + rouleaux","Bêche roulante 5.3 m + disques + rouleaux","Bêche roulante 5.3 m + disques + rouleaux","Bêche roulante 5.3 m + disques + rouleaux","Bêche roulante 5.3 m + disques + rouleaux","Bêche roulante 5.3 m + disques + rouleaux","Bêche roulante 5.3 m + disques + rouleaux","Bêche roulante 5.3 m + disques + rouleaux","Bêche roulante 5.3 m + disques + rouleaux","Bêche roulante 5.3 m + disques + rouleaux","Bêche roulante 5.3 m + disques + rouleaux","Bêche roulante 5.3 m + disques + rouleaux","Bêche roulante 5.3 m + disques + rouleaux","Bêche roulante 5.3 m + disques + rouleaux","Bêche roulante 5.3 m + disques + rouleaux","Bêche roulante 5.3 m + disques + rouleaux","Bêche roulante 5.3 m + disques + rouleaux","Bêche roulante 5.3 m + disques + rouleaux","Bêche roulante 5.3 m + disques + rouleaux","Bêche roulante 5.3 m + disques + rouleaux","Bêche roulante 5.3 m + disques + rouleaux","Bêche roulante 5.3 m + disques + rouleaux","Bêche roulante 5.3 m + disques + rouleaux","Bêche roulante 5.3 m + disques + rouleaux","Bêche roulante 5.3 m + disques + rouleaux","Bêche roulante 5.3 m + disques + rouleaux","Bêche roulante 5.3 m + disques + rouleaux","Bêche roulante 5.3 m + disques + rouleaux","Bêche roulante 5.3 m + disques + rouleaux","Bêche roulante 5.3 m + disques + rouleaux","Bêche roulante 5.3 m + disques + rouleaux","Bêche roulante 5.3 m + disques + rouleaux","Bêche roulante 5.3 m + disques + rouleaux","Bêche roulante 5.3 m + disques + rouleaux","Bêche roulante 5.3 m + disques + rouleaux","Bêche roulante 5.3 m + disques + rouleaux","Bêche roulante 5.3 m + disques + rouleaux","Bêche roulante 5.3 m + disques + rouleaux","Bêche roulante 5.3 m + disques + rouleaux","Bêche roulante 5.3 m + disques + rouleaux","Bêche roulante 5.3 m + disques + rouleaux","Bêche roulante 5.3 m + disques + rouleaux","Bêche roulante 5.3 m + disques + rouleaux","Bêche roulante 5.3 m + disques + rouleaux","Bêche roulante 5.3 m + disques + rouleaux","Bêche roulante 5.3 m + disques + rouleaux","Bêche roulante 5.3 m + disques + rouleaux","Bêche roulante 5.3 m + disques + rouleaux","Bêche roulante 5.3 m + disques + rouleaux","Bêche roulante 5.3 m + disques + rouleaux","Bêche roulante 5.3 m + disques + rouleaux","Bêche roulante 5.3 m + disques + rouleaux","Bêche roulante 5.3 m + disques + rouleaux","Bêche roulante 5.3 m + disques + rouleaux","Bêche roulante 5.3 m + disques + rouleaux","Bêche roulante 5.3 m + disques + rouleaux","Bêche roulante 5.3 m + disques + rouleaux","Bêche roulante 5.3 m + disques + rouleaux","Bêche roulante 5.3 m + disques + rouleaux","Bêche roulante 5.3 m + disques + rouleaux","Bêche roulante 5.3 m + disques + rouleaux","Bêche roulante 5.3 m + disques + rouleaux","Bêche roulante 5.3 m + disques + rouleaux","Bêche roulante 5.3 m + disques + rouleaux","Bêche roulante 5.3 m + disques + rouleaux","Bêche roulante 5.3 m + disques + rouleaux","Bêche roulante 5.3 m + disques + rouleaux","Bêche roulante 5.3 m + disques + rouleaux","Bêche roulante 5.3 m + disques + rouleaux","Bêche roulante 5.3 m + disques + rouleaux","Bêche roulante 5.3 m + disques + rouleaux","Bêche roulante 5.3 m + disques + rouleaux","Bêche roulante 5.3 m + disques + rouleaux","Bêche roulante 5.3 m + disques + rouleaux","Bêche roulante 5.3 m + disques + rouleaux","Bêche roulante 5.3 m + disques + rouleaux","Bêche roulante 5.3 m + disques + rouleaux","Bêche roulante 5.3 m + disques + rouleaux","Bêche roulante 5.3 m + disques + rouleaux","Bêche roulante 5.3 m + disques + rouleaux","Bêche roulante 5.3 m + disques + rouleaux","Bêche roulante 5.3 m + disques + rouleaux","Bêche roulante 5.3 m + disques + rouleaux","Bêche roulante 5.3 m + disques + rouleaux","Bêche roulante 5.3 m + disques + rouleaux","Bêche roulante 5.3 m + disques + rouleaux","Bêche roulante 5.3 m + disques + rouleaux","Bêche roulante 5.3 m + disques + rouleaux","Bêche roulante 5.3 m + disques + rouleaux","Bêche roulante 5.3 m + disques + rouleaux","Bêche roulante 5.3 m + disques + rouleaux","Bêche roulante 5.3 m + disques + rouleaux","Bêche roulante 5.3 m + disques + rouleaux","Bêche roulante 5.3 m + disques + rouleaux","Bêche roulante 5.3 m + disques + rouleaux","Bêche roulante 5.3 m + disques + rouleaux","Bêche roulante 5.3 m + disques + rouleaux","Bêche roulante 5.3 m + disques + rouleaux","Bêche roulante 5.3 m + disques + rouleaux","Bêche roulante 5.3 m + disques + rouleaux","Bêche roulante 5.3 m + disques + rouleaux","Bêche roulante 5.3 m + disques + rouleaux","Bêche roulante 5.3 m + disques + rouleaux","Bêche roulante 5.3 m + disques + rouleaux","Bêche roulante 5.3 m + disques + rouleaux","Bêche roulante 5.3 m + disques + rouleaux","Bêche roulante 5.3 m + disques + rouleaux","Bêche roulante 5.3 m + disques + rouleaux","Bêche roulante 5.3 m + disques + rouleaux","Bêche roulante 5.3 m + disques + rouleaux","Bêche roulante 5.3 m + disques + rouleaux","Bêche roulante 5.3 m + disques + rouleaux","Bêche roulante 5.3 m + disques + rouleaux","Bêche roulante 5.3 m + disques + rouleaux","Bêche roulante 5.3 m + disques + rouleaux","Bêche roulante 5.3 m + disques + rouleaux","Bêche roulante 5.3 m + disques + rouleaux","Bêche roulante 5.3 m + disques + rouleaux","Bêche roulante 5.3 m + disques + rouleaux","Bêche roulante 5.3 m + disques + rouleaux","Bêche roulante 5.3 m + disques + rouleaux","Bêche roulante 5.3 m + disques + rouleaux","Bêche roulante 5.3 m + disques + rouleaux","Bêche roulante 5.3 m + disques + rouleaux","Bêche roulante 5.3 m + disques + rouleaux","Bêche roulante 5.3 m + disques + rouleaux","Bêche roulante 5.3 m + disques + rouleaux","Bêche roulante 5.3 m + disques + rouleaux","Bêche roulante 5.3 m + disques + rouleaux","Bêche roulante 5.3 m + disques + rouleaux","Bêche roulante 5.3 m + disques + rouleaux","Bêche roulante 5.3 m + disques + rouleaux","Bêche roulante 5.3 m + disques + rouleaux","Bêche roulante 5.3 m + disques + rouleaux","Bêche roulante 5.3 m + disques + rouleaux","Bêche roulante 5.3 m + disques + rouleaux","Bêche roulante 5.3 m + disques + rouleaux","Bêche roulante 5.3 m + disques + rouleaux","Bêche roulante 5.3 m + disques + rouleaux","Bêche roulante 5.3 m + disques + rouleaux","Bêche roulante 5.3 m + disques + rouleaux","Bêche roulante 5.3 m + disques + rouleaux","Bêche roulante 5.3 m + disques + rouleaux","Bêche roulante 5.3 m + disques + rouleaux","Bêche roulante 5.3 m + disques + rouleaux","Bêche roulante 5.3 m + disques + rouleaux","Bêche roulante 5.3 m + disques + rouleaux","Bêche roulante 5.3 m + disques + rouleaux","Bêche roulante 5.3 m + disques + rouleaux","Bêche roulante 5.3 m + disques + rouleaux","Bêche roulante 5.3 m + disques + rouleaux","Bêche roulante 5.3 m + disques + rouleaux","Bêche roulante 5.3 m + disques + rouleaux","Bêche roulante 5.3 m + disques + rouleaux","Bêche roulante 5.3 m + disques + rouleaux","Bêche roulante 5.3 m + disques + rouleaux","Bêche roulante 5.3 m + disques + rouleaux","Bêche roulante 5.3 m + disques + rouleaux","Bêche roulante 5.3 m + disques + rouleaux","Bêche roulante 5.3 m + disques + rouleaux","Bêche roulante 5.3 m + disques + rouleaux","Bêche roulante 5.3 m + disques + rouleaux","Bêche roulante 5.3 m + disques + rouleaux","Bêche roulante 5.3 m + disques + rouleaux","Bêche roulante 5.3 m + disques + rouleaux","Bêche roulante 5.3 m + disques + rouleaux","Bêche roulante 5.3 m + disques + rouleaux","Bêche roulante 5.3 m + disques + rouleaux","Bêche roulante 5.3 m + disques + rouleaux","Bêche roulante 5.3 m + disques + rouleaux","Bêche roulante 5.3 m + disques + rouleaux","Bêche roulante 5.3 m + disques + rouleaux","Bêche roulante 5.3 m + disques + rouleaux","Bêche roulante 5.3 m + disques + rouleaux","Bêche roulante 5.3 m + disques + rouleaux","Bêche roulante 5.3 m + disques + rouleaux","Bêche roulante 5.3 m + disques + rouleaux","Bêche roulante 5.3 m + disques + rouleaux","Bêche roulante 5.3 m + disques + rouleaux","Bêche roulante 5.3 m + disques + rouleaux","Bêche roulante 5.3 m + disques + rouleaux","Bêche roulante 5.3 m + disques + rouleaux","Bêche roulante 5.3 m + disques + rouleaux","Bêche roulante 5.3 m + disques + rouleaux","Bêche roulante 5.3 m + disques + rouleaux","Bêche roulante 5.3 m + disques + rouleaux","Bêche roulante 5.3 m + disques + rouleaux","Bêche roulante 5.3 m + disques + rouleaux","Bêche roulante 5.3 m + disques + rouleaux","Bêche roulante 5.3 m + disques + rouleaux","Bêche roulante 5.3 m + disques + rouleaux","Bêche roulante 5.3 m + disques + rouleaux","Bêche roulante 5.3 m + disques + rouleaux","Bêche roulante 5.3 m + disques + rouleaux","Bêche roulante 5.3 m + disques + rouleaux","Bêche roulante 5.3 m + disques + rouleaux","Bêche roulante 5.3 m + disques + rouleaux","Bêche roulante 5.3 m + disques + rouleaux","Bêche roulante 5.3 m + disques + rouleaux","Bêche roulante 5.3 m + disques + rouleaux","Bêche roulante 5.3 m + disques + rouleaux","Bêche roulante 5.3 m + disques + rouleaux","Bêche roulante 5.3 m + disques + rouleaux","Bêche roulante 5.3 m + disques + rouleaux","Bêche roulante 5.3 m + disques + rouleaux","Bêche roulante 5.3 m + disques + rouleaux","Bêche roulante 5.3 m + disques + rouleaux","Bêche roulante 5.3 m + disques + rouleaux","Bêche roulante 5.3 m + disques + rouleaux","Bêche roulante 5.3 m + disques + rouleaux","Bêche roulante 5.3 m + disques + rouleaux","Bêche roulante 5.3 m + disques + rouleaux","Bêche roulante 5.3 m + disques + rouleaux","Bêche roulante 5.3 m + disques + rouleaux","Bêche roulante 5.3 m + disques + rouleaux","Bêche roulante 5.3 m + disques + rouleaux","Bêche roulante 5.3 m + disques + rouleaux","Bêche roulante 5.3 m + disques + rouleaux","Bêche roulante 5.3 m + disques + rouleaux","Bêche roulante 5.3 m + disques + rouleaux","Bêche roulante 5.3 m + disques + rouleaux","Bêche roulante 5.3 m + disques + rouleaux","Bêche roulante 5.3 m + disques + rouleaux","Bêche roulante 5.3 m + disques + rouleaux","Bêche roulante 5.3 m + disques + rouleaux","Bêche roulante 5.3 m + disques + rouleaux","Bêche roulante 5.3 m + disques + rouleaux","Bêche roulante 5.3 m + disques + rouleaux","Bêche roulante 5.3 m + disques + rouleaux","Bêche roulante 5.3 m + disques + rouleaux","Bêche roulante 5.3 m + disques + rouleaux","Bêche roulante 5.3 m + disques + rouleaux","Bêche roulante 5.3 m + disques + rouleaux","Bêche roulante 5.3 m + disques + rouleaux","Bêche roulante 5.3 m + disques + rouleaux","Bêche roulante 5.3 m + disques + rouleaux","Bêche roulante 5.3 m + disques + rouleaux","Bêche roulante 5.3 m + disques + rouleaux","Bêche roulante 5.3 m + disques + rouleaux","Bêche roulante 5.3 m + disques + rouleaux","Bêche roulante 5.3 m + disques + rouleaux","Bêche roulante 5.3 m + disques + rouleaux","Bêche roulante 5.3 m + disques + rouleaux","Bêche roulante 5.3 m + disques + rouleaux","Bêche roulante 5.3 m + disques + rouleaux","Bêche roulante 5.3 m + disques + rouleaux","Bêche roulante 5.3 m + disques + rouleaux","Bêche roulante 5.3 m + disques + rouleaux","Bêche roulante 5.3 m + disques + rouleaux","Bêche roulante 5.3 m + disques + rouleaux","Bêche roulante 5.3 m + disques + rouleaux","Bêche roulante 5.3 m + disques + rouleaux","Bêche roulante 5.3 m + disques + rouleaux","Bêche roulante 5.3 m + disques + rouleaux","Bêche roulante 5.3 m + disques + rouleaux","Bêche roulante 5.3 m + disques + rouleaux","Bêche roulante 5.3 m + disques + rouleaux","Bêche roulante 5.3 m + disques + rouleaux","Bêche roulante 5.3 m + disques + rouleaux","Bêche roulante 5.3 m + disques + rouleaux","Bêche roulante 5.3 m + disques + rouleaux","Bêche roulante 5.3 m + disques + rouleaux","Bêche roulante 5.3 m + disques + rouleaux","Bêche roulante 5.3 m + disques + rouleaux","Bêche roulante 5.3 m + disques + rouleaux","Bêche roulante 5.3 m + disques + rouleaux","Bêche roulante 5.3 m + disques + rouleaux","Bêche roulante 5.3 m + disques + rouleaux","Bêche roulante 5.3 m + disques + rouleaux","Bêche roulante 5.3 m + disques + rouleaux","Bêche roulante 5.3 m + disques + rouleaux","Bêche roulante 5.3 m + disques + rouleaux","Bêche roulante 5.3 m + disques + rouleaux","Bêche roulante 5.3 m + disques + rouleaux","Bêche roulante 5.3 m + disques + rouleaux","Bêche roulante 5.3 m + disques + rouleaux","Bêche roulante 5.3 m + disques + rouleaux","Bêche roulante 5.3 m + disques + rouleaux","Bêche roulante 5.3 m + disques + rouleaux","Bêche roulante 5.3 m + disques + rouleaux","Bêche roulante 5.3 m + disques + rouleaux","Bêche roulante 5.3 m + disques + rouleaux","Bêche roulante 5.3 m + disques + rouleaux","Bêche roulante 5.3 m + disques + rouleaux","Bêche roulante 5.3 m + disques + rouleaux","Bêche roulante 5.3 m + disques + rouleaux","Bêche roulante 5.3 m + disques + rouleaux","Bêche roulante 5.3 m + disques + rouleaux","Bêche roulante 5.3 m + disques + rouleaux","Bêche roulante 5.3 m + disques + rouleaux","Bêche roulante 5.3 m + disques + rouleaux","Bêche roulante 5.3 m + disques + rouleaux","Bêche roulante 5.3 m + disques + rouleaux","Bêche roulante 5.3 m + disques + rouleaux","Bêche roulante 5.3 m + disques + rouleaux","Bêche roulante 5.3 m + disques + rouleaux","Bêche roulante 5.3 m + disques + rouleaux","Bêche roulante 5.3 m + disques + rouleaux","Bêche roulante 5.3 m + disques + rouleaux","Bêche roulante 5.3 m + disques + rouleaux","Bêche roulante 5.3 m + disques + rouleaux","Bêche roulante 5.3 m + disques + rouleaux","Bêche roulante 5.3 m + disques + rouleaux","Bêche roulante 5.3 m + disques + rouleaux","Bêche roulante 5.3 m + disques + rouleaux","Bêche roulante 5.3 m + disques + rouleaux","Bêche roulante 5.3 m + disques + rouleaux","Bêche roulante 5.3 m + disques + rouleaux","Bêche roulante 5.3 m + disques + rouleaux","Bêche roulante 5.3 m + disques + rouleaux","Bêche roulante 5.3 m + disques + rouleaux","Bêche roulante 5.3 m + disques + rouleaux","Bêche roulante 5.3 m + disques + rouleaux","Bêche roulante 5.3 m + disques + rouleaux","Bêche roulante 5.3 m + disques + rouleaux","Bêche roulante 5.3 m + disques + rouleaux","Bêche roulante 5.3 m + disques + rouleaux","Bêche roulante 5.3 m + disques + rouleaux","Bêche roulante 5.3 m + disques + rouleaux","Bêche roulante 5.3 m + disques + rouleaux","Bêche roulante 5.3 m + disques + rouleaux","Bêche roulante 5.3 m + disques + rouleaux","Bêche roulante 5.3 m + disques + rouleaux","Bêche roulante 5.3 m + disques + rouleaux","Bêche roulante 5.3 m + disques + rouleaux","Bêche roulante 5.3 m + disques + rouleaux","Bêche roulante 5.3 m + disques + rouleaux","Bêche roulante 5.3 m + disques + rouleaux","Bêche roulante 5.3 m + disques + rouleaux","Bêche roulante 5.3 m + disques + rouleaux","Bêche roulante 5.3 m + disques + rouleaux","Bêche roulante 5.3 m + disques + rouleaux","Bêche roulante 5.3 m + disques + rouleaux","Bêche roulante 5.3 m + disques + rouleaux","Bêche roulante 5.3 m + disques + rouleaux","Bêche roulante 5.3 m + disques + rouleaux","Bêche roulante 5.3 m + disques + rouleaux","Bêche roulante 5.3 m + disques + rouleaux","Bêche roulante 5.3 m + disques + rouleaux","Bêche roulante 5.3 m + disques + rouleaux","Bêche roulante 5.3 m + disques + rouleaux","Bêche roulante 5.3 m + disques + rouleaux","Bêche roulante 5.3 m + disques + rouleaux","Bêche roulante 5.3 m + disques + rouleaux","Bêche roulante 5.3 m + disques + rouleaux","Bêche roulante 5.3 m + disques + rouleaux","Bêche roulante 5.3 m + disques + rouleaux","Bêche roulante 5.3 m + disques + rouleaux","Bêche roulante 5.3 m + disques + rouleaux","Bêche roulante 5.3 m + disques + rouleaux","Bêche roulante 5.3 m + disques + rouleaux","Bêche roulante 5.3 m + disques + rouleaux","Bêche roulante 5.3 m + disques + rouleaux","Bêche roulante 5.3 m + disques + rouleaux","Bêche roulante 5.3 m + disques + rouleaux","Bêche roulante 5.3 m + disques + rouleaux","Bêche roulante 5.3 m + disques + rouleaux","Bêche roulante 5.3 m + disques + rouleaux","Bêche roulante 5.3 m + disques + rouleaux","Bêche roulante 5.3 m + disques + rouleaux","Bêche roulante 5.3 m + disques + rouleaux","Bêche roulante 5.3 m + disques + rouleaux","Bêche roulante 5.3 m + disques + rouleaux","Bêche roulante 5.3 m + disques + rouleaux","Bêche roulante 5.3 m + disques + rouleaux","Bêche roulante 5.3 m + disques + rouleaux","Bêche roulante 5.3 m + disques + rouleaux","Bêche roulante 5.3 m + disques + rouleaux","Bêche roulante 5.3 m + disques + rouleaux","Bêche roulante 5.3 m + disques + rouleaux","Bêche roulante 5.3 m + disques + rouleaux","Bêche roulante 5.3 m + disques + rouleaux","Bêche roulante 5.3 m + disques + rouleaux","Bêche roulante 5.3 m + disques + rouleaux","Bêche roulante 5.3 m + disques + rouleaux","Bêche roulante 5.3 m + disques + rouleaux","Bêche roulante 5.3 m + disques + rouleaux","Bêche roulante 5.3 m + disques + rouleaux","Bêche roulante 5.3 m + disques + rouleaux","Bêche roulante 5.3 m + disques + rouleaux","Bêche roulante 5.3 m + disques + rouleaux","Bêche roulante 5.3 m + disques + rouleaux","Bêche roulante 5.3 m + disques + rouleaux","Bêche roulante 5.3 m + disques + rouleaux","Bêche roulante 5.3 m + disques + rouleaux","Bêche roulante 5.3 m + disques + rouleaux","Bêche roulante 5.3 m + disques + rouleaux","Bêche roulante 5.3 m + disques + rouleaux","Bêche roulante 5.3 m + disques + rouleaux","Bêche roulante 5.3 m + disques + rouleaux","Bêche roulante 5.3 m + disques + rouleaux","Bêche roulante 5.3 m + disques + rouleaux","Bêche roulante 5.3 m + disques + rouleaux","Bêche roulante 5.3 m + disques + rouleaux","Bêche roulante 5.3 m + disques + rouleaux","Bêche roulante 5.3 m + disques + rouleaux","Bêche roulante 5.3 m + disques + rouleaux","Bêche roulante 5.3 m + disques + rouleaux","Bêche roulante 5.3 m + disques + rouleaux","Bêche roulante 5.3 m + disques + rouleaux","Bêche roulante 5.3 m + disques + rouleaux","Bêche roulante 5.3 m + disques + rouleaux","Bêche roulante 5.3 m + disques + rouleaux","Bêche roulante 5.3 m + disques + rouleaux","Bêche roulante 5.3 m + disques + rouleaux","Bêche roulante 5.3 m + disques + rouleaux","Bêche roulante 5.3 m + disques + rouleaux","Bêche roulante 5.3 m + disques + rouleaux","Bêche roulante 5.3 m + disques + rouleaux","Bêche roulante 5.3 m + disques + rouleaux","Bêche roulante 5.3 m + disques + rouleaux","Bêche roulante 5.3 m + disques + rouleaux","Bêche roulante 5.3 m + disques + rouleaux","Bêche roulante 5.3 m + disques + rouleaux","Bêche roulante 5.3 m + disques + rouleaux","Bêche roulante 5.3 m + disques + rouleaux","Bêche roulante 5.3 m + disques + rouleaux","Bêche roulante 5.3 m + disques + rouleaux","Bêche roulante 5.3 m + disques + rouleaux","Bêche roulante 5.3 m + disques + rouleaux","Bêche roulante 5.3 m + disques + rouleaux","Bêche roulante 5.3 m + disques + rouleaux","Bêche roulante 5.3 m + disques + rouleaux","Bêche roulante 5.3 m + disques + rouleaux","Bêche roulante 5.3 m + disques + rouleaux","Bêche roulante 5.3 m + disques + rouleaux","Bêche roulante 5.3 m + disques + rouleaux","Bêche roulante 5.3 m + disques + rouleaux","Bêche roulante 5.3 m + disques + rouleaux","Bêche roulante 5.3 m + disques + rouleaux","Bêche roulante 5.3 m + disques + rouleaux","Bêche roulante 5.3 m + disques + rouleaux","Bêche roulante 5.3 m + disques + rouleaux","Bêche roulante 5.3 m + disques + rouleaux","Bêche roulante 5.3 m + disques + rouleaux","Bêche roulante 5.3 m + disques + rouleaux","Bêche roulante 5.3 m + disques + rouleaux","Bêche roulante 5.3 m + disques + rouleaux","Bêche roulante 5.3 m + disques + rouleaux","Bêche roulante 5.3 m + disques + rouleaux","Bêche roulante 5.3 m + disques + rouleaux","Bêche roulante 5.3 m + disques + rouleaux","Bêche roulante 5.3 m + disques + rouleaux","Bêche roulante 5.3 m + disques + rouleaux","Bêche roulante 5.3 m + disques + rouleaux","Bêche roulante 5.3 m + disques + rouleaux","Bêche roulante 5.3 m + disques + rouleaux","Bêche roulante 5.3 m + disques + rouleaux","Bêche roulante 5.3 m + disques + rouleaux","Bêche roulante 5.3 m + disques + rouleaux","Bêche roulante 5.3 m + disques + rouleaux","Bêche roulante 5.3 m + disques + rouleaux","Bêche roulante 5.3 m + disques + rouleaux","Bêche roulante 5.3 m + disques + rouleaux","Bêche roulante 5.3 m + disques + rouleaux","Bêche roulante 5.3 m + disques + rouleaux","Bêche roulante 5.3 m + disques + rouleaux","Bêche roulante 5.3 m + disques + rouleaux","Bêche roulante 5.3 m + disques + rouleaux","Bêche roulante 5.3 m + disques + rouleaux","Bêche roulante 5.3 m + disques + rouleaux","Bêche roulante 5.3 m + disques + rouleaux","Bêche roulante 5.3 m + disques + rouleaux","Bêche roulante 5.3 m + disques + rouleaux","Bêche roulante 5.3 m + disques + rouleaux","Bêche roulante 5.3 m + disques + rouleaux","Bêche roulante 5.3 m + disques + rouleaux","Bêche roulante 5.3 m + disques + rouleaux","Bêche roulante 5.3 m + disques + rouleaux","Bêche roulante 5.3 m + disques + rouleaux","Bêche roulante 5.3 m + disques + rouleaux","Bêche roulante 5.3 m + disques + rouleaux","Bêche roulante 5.3 m + disques + rouleaux","Bêche roulante 5.3 m + disques + rouleaux","Bêche roulante 5.3 m + disques + rouleaux","Bêche roulante 5.3 m + disques + rouleaux","Bêche roulante 5.3 m + disques + rouleaux","Bêche roulante 5.3 m + disques + rouleaux","Bêche roulante 5.3 m + disques + rouleaux","Bêche roulante 5.3 m + disques + rouleaux","Bêche roulante 5.3 m + disques + rouleaux","Bêche roulante 5.3 m + disques + rouleaux","Bêche roulante 5.3 m + disques + rouleaux","Bêche roulante 5.3 m + disques + rouleaux","Bêche roulante 5.3 m + disques + rouleaux","Bêche roulante 5.3 m + disques + rouleaux","Bêche roulante 5.3 m + disques + rouleaux","Bêche roulante 5.3 m + disques + rouleaux","Bêche roulante 5.3 m + disques + rouleaux","Bêche roulante 5.3 m + disques + rouleaux","Bêche roulante 5.3 m + disques + rouleaux","Bêche roulante 5.3 m + disques + rouleaux","Bêche roulante 5.3 m + disques + rouleaux","Bêche roulante 5.3 m + disques + rouleaux","Bêche roulante 5.3 m + disques + rouleaux","Bêche roulante 5.3 m + disques + rouleaux","Bêche roulante 5.3 m + disques + rouleaux","Bêche roulante 5.3 m + disques + rouleaux","Bêche roulante 5.3 m + disques + rouleaux","Bêche roulante 5.3 m + disques + rouleaux","Bêche roulante 5.3 m + disques + rouleaux","Bêche roulante 5.3 m + disques + rouleaux","Bêche roulante 5.3 m + disques + rouleaux","Bêche roulante 5.3 m + disques + rouleaux","Bêche roulante 5.3 m + disques + rouleaux","Bêche roulante 5.3 m + disques + rouleaux","Bêche roulante 5.3 m + disques + rouleaux","Bêche roulante 5.3 m + disques + rouleaux","Bêche roulante 5.3 m + disques + rouleaux","Bêche roulante 5.3 m + disques + rouleaux","Bêche roulante 5.3 m + disques + rouleaux","Bêche roulante 5.3 m + disques + rouleaux","Bêche roulante 5.3 m + disques + rouleaux","Bêche roulante 5.3 m + disques + rouleaux","Bêche roulante 5.3 m + disques + rouleaux","Bêche roulante 5.3 m + disques + rouleaux","Bêche roulante 5.3 m + disques + rouleaux","Bêche roulante 5.3 m + disques + rouleaux","Bêche roulante 5.3 m + disques + rouleaux","Bêche roulante 5.3 m + disques + rouleaux","Bêche roulante 5.3 m + disques + rouleaux","Bêche roulante 5.3 m + disques + rouleaux","Bêche roulante 5.3 m + disques + rouleaux","Bêche roulante 5.3 m + disques + rouleaux","Bêche roulante 5.3 m + disques + rouleaux","Bêche roulante 5.3 m + disques + rouleaux","Bêche roulante 5.3 m + disques + rouleaux","Bêche roulante 5.3 m + disques + rouleaux","Bêche roulante 5.3 m + disques + rouleaux","Bêche roulante 5.3 m + disques + rouleaux","Bêche roulante 5.3 m + disques + rouleaux","Bêche roulante 5.3 m + disques + rouleaux","Bêche roulante 5.3 m + disques + rouleaux","Bêche roulante 5.3 m + disques + rouleaux","Bêche roulante 5.3 m + disques + rouleaux","Bêche roulante 5.3 m + disques + rouleaux","Bêche roulante 5.3 m + disques + rouleaux","Bêche roulante 5.3 m + disques + rouleaux","Bêche roulante 5.3 m + disques + rouleaux","Bêche roulante 5.3 m + disques + rouleaux","Bêche roulante 5.3 m + disques + rouleaux","Bêche roulante 5.3 m + disques + rouleaux","Bêche roulante 5.3 m + disques + rouleaux","Bêche roulante 5.3 m + disques + rouleaux","Bêche roulante 5.3 m + disques + rouleaux","Bêche roulante 5.3 m + disques + rouleaux","Bêche roulante 5.3 m + disques + rouleaux","Bêche roulante 5.3 m + disques + rouleaux","Bêche roulante 5.3 m + disques + rouleaux","Bêche roulante 5.3 m + disques + rouleaux","Bêche roulante 5.3 m + disques + rouleaux","Bêche roulante 5.3 m + disques + rouleaux","Bêche roulante 5.3 m + disques + rouleaux","Bêche roulante 5.3 m + disques + rouleaux","Bêche roulante 5.3 m + disques + rouleaux","Bêche roulante 5.3 m + disques + rouleaux","Bêche roulante 5.3 m + disques + rouleaux","Bêche roulante 5.3 m + disques + rouleaux","Bêche roulante 5.3 m + disques + rouleaux","Bêche roulante 5.3 m + disques + rouleaux","Bêche roulante 5.3 m + disques + rouleaux","Bêche roulante 5.3 m + disques + rouleaux","Bêche roulante 5.3 m + disques + rouleaux","Bêche roulante 5.3 m + disques + rouleaux","Bêche roulante 5.3 m + disques + rouleaux","Bêche roulante 5.3 m + disques + rouleaux","Bêche roulante 5.3 m + disques + rouleaux","Bêche roulante 5.3 m + disques + rouleaux","Bêche roulante 5.3 m + disques + rouleaux","Bêche roulante 5.3 m + disques + rouleaux","Bêche roulante 5.3 m + disques + rouleaux","Bêche roulante 5.3 m + disques + rouleaux","Bêche roulante 5.3 m + disques + rouleaux","Bêche roulante 5.3 m + disques + rouleaux","Bêche roulante 5.3 m + disques + rouleaux","Bêche roulante 5.3 m + disques + rouleaux","Bêche roulante 5.3 m + disques + rouleaux","Bêche roulante 5.3 m + disques + rouleaux","Bêche roulante 5.3 m + disques + rouleaux","Bêche roulante 5.3 m + disques + rouleaux","Bêche roulante 5.3 m + disques + rouleaux","Bêche roulante 5.3 m + disques + rouleaux","Bêche roulante 5.3 m + disques + rouleaux","Bêche roulante 5.3 m + disques + rouleaux","Bêche roulante 5.3 m + disques + rouleaux","Bêche roulante 5.3 m + disques + rouleaux","Bêche roulante 5.3 m + disques + rouleaux","Bêche roulante 5.3 m + disques + rouleaux","Bêche roulante 5.3 m + disques + rouleaux","Bêche roulante 5.3 m + disques + rouleaux","Bêche roulante 5.3 m + disques + rouleaux","Bêche roulante 5.3 m + disques + rouleaux","Bêche roulante 5.3 m + disques + rouleaux","Bêche roulante 5.3 m + disques + rouleaux","Bêche roulante 5.3 m + disques + rouleaux","Bêche roulante 5.3 m + disques + rouleaux","Bêche roulante 5.3 m + disques + rouleaux","Bêche roulante 5.3 m + disques + rouleaux","Bêche roulante 5.3 m + disques + rouleaux","Bêche roulante 5.3 m + disques + rouleaux","Bêche roulante 5.3 m + disques + rouleaux","Bêche roulante 5.3 m + disques + rouleaux","Bêche roulante 5.3 m + disques + rouleaux","Bêche roulante 5.3 m + disques + rouleaux","Bêche roulante 5.3 m + disques + rouleaux","Bêche roulante 5.3 m + disques + rouleaux","Bêche roulante 5.3 m + disques + rouleaux","Bêche roulante 5.3 m + disques + rouleaux","Bêche roulante 5.3 m + disques + rouleaux","Bêche roulante 5.3 m + disques + rouleaux","Bêche roulante 5.3 m + disques + rouleaux","Bêche roulante 5.3 m + disques + rouleaux","Bêche roulante 5.3 m + disques + rouleaux","Bêche roulante 5.3 m + disques + rouleaux","Bêche roulante 5.3 m + disques + rouleaux","Bêche roulante 5.3 m + disques + rouleaux","Bêche roulante 5.3 m + disques + rouleaux","Bêche roulante 5.3 m + disques + rouleaux","Bêche roulante 5.3 m + disques + rouleaux","Bêche roulante 5.3 m + disques + rouleaux","Bêche roulante 5.3 m + disques + rouleaux","Bêche roulante 5.3 m + disques + rouleaux","Bêche roulante 5.3 m + disques + rouleaux","Bêche roulante 5.3 m + disques + rouleaux","Bêche roulante 5.3 m + disques + rouleaux","Bêche roulante 5.3 m + disques + rouleaux","Bêche roulante 5.3 m + disques + rouleaux","Bêche roulante 5.3 m + disques + rouleaux","Bêche roulante 5.3 m + disques + rouleaux","Bêche roulante 5.3 m + disques + rouleaux","Bêche roulante 5.3 m + disques + rouleaux","Bêche roulante 5.3 m + disques + rouleaux","Bêche roulante 5.3 m + disques + rouleaux","Bêche roulante 5.3 m + disques + rouleaux","Bêche roulante 5.3 m + disques + rouleaux","Bêche roulante 5.3 m + disques + rouleaux","Bêche roulante 5.3 m + disques + rouleaux","Bêche roulante 5.3 m + disques + rouleaux","Bêche roulante 5.3 m + disques + rouleaux","Bêche roulante 5.3 m + disques + rouleaux","Bêche roulante 5.3 m + disques + rouleaux","Bêche roulante 5.3 m + disques + rouleaux","Bêche roulante 5.3 m + disques + rouleaux","Bêche roulante 5.3 m + disques + rouleaux","Bêche roulante 5.3 m + disques + rouleaux","Bêche roulante 5.3 m + disques + rouleaux","Bêche roulante 5.3 m + disques + rouleaux","Bêche roulante 5.3 m + disques + rouleaux","Bêche roulante 5.3 m + disques + rouleaux","Bêche roulante 5.3 m + disques + rouleaux","Bêche roulante 5.3 m + disques + rouleaux","Bêche roulante 5.3 m + disques + rouleaux","Bêche roulante 5.3 m + disques + rouleaux","Bêche roulante 5.3 m + disques + rouleaux","Bêche roulante 5.3 m + disques + rouleaux","Bêche roulante 5.3 m + disques + rouleaux","Bêche roulante 5.3 m + disques + rouleaux","Bêche roulante 5.3 m + disques + rouleaux","Bêche roulante 5.3 m + disques + rouleaux","Bêche roulante 5.3 m + disques + rouleaux","Bêche roulante 5.3 m + disques + rouleaux","Bêche roulante 5.3 m + disques + rouleaux","Bêche roulante 5.3 m + disques + rouleaux","Bêche roulante 5.3 m + disques + rouleaux","Bêche roulante 5.3 m + disques + rouleaux","Bêche roulante 5.3 m + disques + rouleaux","Bêche roulante 5.3 m + disques + rouleaux","Bêche roulante 5.3 m + disques + rouleaux","Bêche roulante 5.3 m + disques + rouleaux","Bêche roulante 5.3 m + disques + rouleaux","Bêche roulante 5.3 m + disques + rouleaux","Bêche roulante 5.3 m + disques + rouleaux","Bêche roulante 5.3 m + disques + rouleaux","Bêche roulante 5.3 m + disques + rouleaux","Bêche roulante 5.3 m + disques + rouleaux","Bêche roulante 5.3 m + disques + rouleaux","Bêche roulante 5.3 m + disques + rouleaux","Bêche roulante 5.3 m + disques + rouleaux","Bêche roulante 5.3 m + disques + rouleaux","Bêche roulante 5.3 m + disques + rouleaux","Bêche roulante 5.3 m + disques + rouleaux","Bêche roulante 5.3 m + disques + rouleaux","Bêche roulante 5.3 m + disques + rouleaux","Bêche roulante 5.3 m + disques + rouleaux","Bêche roulante 5.3 m + disques + rouleaux","Bêche roulante 5.3 m + disques + rouleaux","Bêche roulante 5.3 m + disques + rouleaux","Bêche roulante 5.3 m + disques + rouleaux","Bêche roulante 5.3 m + disques + rouleaux","Bêche roulante 5.3 m + disques + rouleaux","Bêche roulante 5.3 m + disques + rouleaux","Bêche roulante 5.3 m + disques + rouleaux","Bêche roulante 5.3 m + disques + rouleaux","Bêche roulante 5.3 m + disques + rouleaux","Bêche roulante 5.3 m + disques + rouleaux","Bêche roulante 5.3 m + disques + rouleaux","Bêche roulante 5.3 m + disques + rouleaux","Bêche roulante 5.3 m + disques + rouleaux","Bêche roulante 5.3 m + disques + rouleaux","Bêche roulante 5.3 m + disques + rouleaux","Bêche roulante 5.3 m + disques + rouleaux","Bêche roulante 5.3 m + disques + rouleaux","Bêche roulante 5.3 m + disques + rouleaux","Bêche roulante 5.3 m + disques + rouleaux","Bêche roulante 5.3 m + disques + rouleaux","Bêche roulante 5.3 m + disques + rouleaux","Bêche roulante 5.3 m + disques + rouleaux","Bêche roulante 5.3 m + disques + rouleaux","Bêche roulante 5.3 m + disques + rouleaux","Bêche roulante 5.3 m + disques + rouleaux","Bêche roulante 5.3 m + disques + rouleaux","Bêche roulante 5.3 m + disques + rouleaux","Bêche roulante 5.3 m + disques + rouleaux","Bêche roulante 5.3 m + disques + rouleaux","Bêche roulante 5.3 m + disques + rouleaux","Bêche roulante 5.3 m + disques + rouleaux","Bêche roulante 5.3 m + disques + rouleaux","Bêche roulante 5.3 m + disques + rouleaux","Bêche roulante 5.3 m + disques + rouleaux","Bêche roulante 5.3 m + disques + rouleaux","Bêche roulante 5.3 m + disques + rouleaux","Bêche roulante 5.3 m + disques + rouleaux","Bêche roulante 5.3 m + disques + rouleaux","Bêche roulante 5.3 m + disques + rouleaux","Bêche roulante 5.3 m + disques + rouleaux","Bêche roulante 5.3 m + disques + rouleaux","Bêche roulante 5.3 m + disques + rouleaux","Bêche roulante 5.3 m + disques + rouleaux","Bêche roulante 5.3 m + disques + rouleaux","Bêche roulante 5.3 m + disques + rouleaux","Bêche roulante 5.3 m + disques + rouleaux","Bêche roulante 5.3 m + disques + rouleaux","Bêche roulante 5.3 m + disques + rouleaux","Bêche roulante 5.3 m + disques + rouleaux","Bêche roulante 5.3 m + disques + rouleaux","Bêche roulante 5.3 m + disques + rouleaux","Bêche roulante 5.3 m + disques + rouleaux","Bêche roulante 5.3 m + disques + rouleaux","Bêche roulante 5.3 m + disques + rouleaux","Bêche roulante 5.3 m + disques + rouleaux","Bêche roulante 5.3 m + disques + rouleaux","Bêche roulante 5.3 m + disques + rouleaux","Bêche roulante 5.3 m + disques + rouleaux","Bêche roulante 5.3 m + disques + rouleaux","Bêche roulante 5.3 m + disques + rouleaux","Bêche roulante 5.3 m + disques + rouleaux","Bêche roulante 5.3 m + disques + rouleaux","Bêche roulante 5.3 m + disques + rouleaux","Bêche roulante 5.3 m + disques + rouleaux","Bêche roulante 5.3 m + disques + rouleaux","Bêche roulante 5.3 m + disques + rouleaux","Bêche roulante 5.3 m + disques + rouleaux","Bêche roulante 5.3 m + disques + rouleaux","Bêche roulante 5.3 m + disques + rouleaux","Bêche roulante 5.3 m + disques + rouleaux","Bêche roulante 5.3 m + disques + rouleaux","Bêche roulante 5.3 m + disques + rouleaux","Bêche roulante 5.3 m + disques + rouleaux","Bêche roulante 5.3 m + disques + rouleaux","Bêche roulante 5.3 m + disques + rouleaux","Bêche roulante 5.3 m + disques + rouleaux","Bêche roulante 5.3 m + disques + rouleaux","Bêche roulante 5.3 m + disques + rouleaux","Bêche roulante 5.3 m + disques + rouleaux","Bêche roulante 5.3 m + disques + rouleaux","Bêche roulante 5.3 m + disques + rouleaux","Bêche roulante 5.3 m + disques + rouleaux","Bêche roulante 5.3 m + disques + rouleaux","Bêche roulante 5.3 m + disques + rouleaux","Bêche roulante 5.3 m + disques + rouleaux","Bêche roulante 5.3 m + disques + rouleaux","Bêche roulante 5.3 m + disques + rouleaux","Bêche roulante 5.3 m + disques + rouleaux","Bêche roulante 5.3 m + disques + rouleaux","Bêche roulante 5.3 m + disques + rouleaux","Bêche roulante 5.3 m + disques + rouleaux","Bêche roulante 5.3 m + disques + rouleaux","Bêche roulante 5.3 m + disques + rouleaux","Bêche roulante 5.3 m + disques + rouleaux","Bêche roulante 5.3 m + disques + rouleaux","Bêche roulante 5.3 m + disques + rouleaux","Bêche roulante 5.3 m + disques + rouleaux","Bêche roulante 5.3 m + disques + rouleaux","Bêche roulante 5.3 m + disques + rouleaux","Bêche roulante 5.3 m + disques + rouleaux","Bêche roulante 5.3 m + disques + rouleaux","Bêche roulante 5.3 m + disques + rouleaux","Bêche roulante 5.3 m + disques + rouleaux","Bêche roulante 5.3 m + disques + rouleaux","Bêche roulante 5.3 m + disques + rouleaux","Bêche roulante 5.3 m + disques + rouleaux","Bêche roulante 5.3 m + disques + rouleaux","Bêche roulante 5.3 m + disques + rouleaux","Bêche roulante 5.3 m + disques + rouleaux","Bêche roulante 5.3 m + disques + rouleaux","Bêche roulante 5.3 m + disques + rouleaux","Bêche roulante 5.3 m + disques + rouleaux","Bêche roulante 5.3 m + disques + rouleaux","Bêche roulante 5.3 m + disques + rouleaux","Bêche roulante 5.3 m + disques + rouleaux","Bêche roulante 5.3 m + disques + rouleaux","Bêche roulante 5.3 m + disques + rouleaux","Bêche roulante 5.3 m + disques + rouleaux","Bêche roulante 5.3 m + disques + rouleaux","Bêche roulante 5.3 m + disques + rouleaux","Bêche roulante 5.3 m + disques + rouleaux","Bêche roulante 5.3 m + disques + rouleaux","Bêche roulante 5.3 m + disques + rouleaux","Bêche roulante 5.3 m + disques + rouleaux","Bêche roulante 5.3 m + disques + rouleaux","Bêche roulante 5.3 m + disques + rouleaux","Bêche roulante 5.3 m + disques + rouleaux","Bêche roulante 5.3 m + disques + rouleaux","Bêche roulante 5.3 m + disques + rouleaux","Bêche roulante 5.3 m + disques + rouleaux","Bêche roulante 5.3 m + disques + rouleaux","Bêche roulante 5.3 m + disques + rouleaux","Bêche roulante 5.3 m + disques + rouleaux","Bêche roulante 5.3 m + disques + rouleaux","Bêche roulante 5.3 m + disques + rouleaux","Bêche roulante 5.3 m + disques + rouleaux","Bêche roulante 5.3 m + disques + rouleaux","Bêche roulante 5.3 m + disques + rouleaux","Bêche roulante 5.3 m + disques + rouleaux","Bêche roulante 5.3 m + disques + rouleaux","Bêche roulante 5.3 m + disques + rouleaux","Bêche roulante 5.3 m + disques + rouleaux","Bêche roulante 5.3 m + disques + rouleaux","Bêche roulante 5.3 m + disques + rouleaux","Bêche roulante 5.3 m + disques + rouleaux","Bêche roulante 5.3 m + disques + rouleaux","Bêche roulante 5.3 m + disques + rouleaux","Bêche roulante 5.3 m + disques + rouleaux","Bêche roulante 5.3 m + disques + rouleaux","Bêche roulante 5.3 m + disques + rouleaux","Bêche roulante 5.3 m + disques + rouleaux","Bêche roulante 5.3 m + disques + rouleaux","Bêche roulante 5.3 m + disques + rouleaux","Bêche roulante 5.3 m + disques + rouleaux","Bêche roulante 5.3 m + disques + rouleaux","Bêche roulante 5.3 m + disques + rouleaux","Bêche roulante 5.3 m + disques + rouleaux","Bêche roulante 5.3 m + disques + rouleaux","Bêche roulante 5.3 m + disques + rouleaux","Bêche roulante 5.3 m + disques + rouleaux","Bêche roulante 5.3 m + disques + rouleaux","Bêche roulante 5.3 m + disques + rouleaux","Bêche roulante 5.3 m + disques + rouleaux","Bêche roulante 5.3 m + disques + rouleaux","Bêche roulante 5.3 m + disques + rouleaux","Bêche roulante 5.3 m + disques + rouleaux","Bêche roulante 5.3 m + disques + rouleaux","Bêche roulante 5.3 m + disques + rouleaux","Bêche roulante 5.3 m + disques + rouleaux","Bêche roulante 5.3 m + disques + rouleaux","Bêche roulante 5.3 m + disques + rouleaux","Bêche roulante 5.3 m + disques + rouleaux","Bêche roulante 5.3 m + disques + rouleaux","Bêche roulante 5.3 m + disques + rouleaux","Bêche roulante 5.3 m + disques + rouleaux","Bêche roulante 5.3 m + disques + rouleaux","Bêche roulante 5.3 m + disques + rouleaux","Bêche roulante 5.3 m + disques + rouleaux","Bêche roulante 5.3 m + disques + rouleaux","Bêche roulante 5.3 m + disques + rouleaux","Bêche roulante 5.3 m + disques + rouleaux","Bêche roulante 5.3 m + disques + rouleaux","Bêche roulante 5.3 m + disques + rouleaux","Bêche roulante 5.3 m + disques + rouleaux","Bêche roulante 5.3 m + disques + rouleaux","Bêche roulante 5.3 m + disques + rouleaux","Bêche roulante 5.3 m + disques + rouleaux","Bêche roulante 5.3 m + disques + rouleaux","Bêche roulante 5.3 m + disques + rouleaux","Bêche roulante 5.3 m + disques + rouleaux","Bêche roulante 5.3 m + disques + rouleaux","Bêche roulante 5.3 m + disques + rouleaux","Bêche roulante 5.3 m + disques + rouleaux","Bêche roulante 5.3 m + disques + rouleaux","Bêche roulante 5.3 m + disques + rouleaux","Bêche roulante 5.3 m + disques + rouleaux","Bêche roulante 5.3 m + disques + rouleaux","Bêche roulante 5.3 m + disques + rouleaux","Bêche roulante 5.3 m + disques + rouleaux","Bêche roulante 5.3 m + disques + rouleaux","Bêche roulante 5.3 m + disques + rouleaux","Bêche roulante 5.3 m + disques + rouleaux","Bêche roulante 5.3 m + disques + rouleaux","Bêche roulante 5.3 m + disques + rouleaux","Bêche roulante 5.3 m + disques + rouleaux","Bêche roulante 5.3 m + disques + rouleaux","Bêche roulante 5.3 m + disques + rouleaux","Bêche roulante 5.3 m + disques + rouleaux","Bêche roulante 5.3 m + disques + rouleaux","Bêche roulante 5.3 m + disques + rouleaux","Bêche roulante 5.3 m + disques + rouleaux","Bêche roulante 5.3 m + disques + rouleaux","Bêche roulante 5.3 m + disques + rouleaux","Bêche roulante 5.3 m + disques + rouleaux","Bêche roulante 5.3 m + disques + rouleaux","Bêche roulante 5.3 m + disques + rouleaux","Bêche roulante 5.3 m + disques + rouleaux","Bêche roulante 5.3 m + disques + rouleaux","Bêche roulante 5.3 m + disques + rouleaux","Bêche roulante 5.3 m + disques + rouleaux","Bêche roulante 5.3 m + disques + rouleaux","Bêche roulante 5.3 m + disques + rouleaux","Bêche roulante 5.3 m + disques + rouleaux","Bêche roulante 5.3 m + disques + rouleaux","Bêche roulante 5.3 m + disques + rouleaux","Bêche roulante 5.3 m + disques + rouleaux","Bêche roulante 5.3 m + disques + rouleaux","Bêche roulante 5.3 m + disques + rouleaux","Bêche roulante 5.3 m + disques + rouleaux","Bêche roulante 5.3 m + disques + rouleaux","Bêche roulante 5.3 m + disques + rouleaux","Bêche roulante 5.3 m + disques + rouleaux","Bêche roulante 5.3 m + disques + rouleaux","Bêche roulante 5.3 m + disques + rouleaux","Bêche roulante 5.3 m + disques + rouleaux","Bêche roulante 5.3 m + disques + rouleaux","Bêche roulante 5.3 m + disques + rouleaux","Bêche roulante 5.3 m + disques + rouleaux","Bêche roulante 5.3 m + disques + rouleaux","Bêche roulante 5.3 m + disques + rouleaux","Bêche roulante 5.3 m + disques + rouleaux","Bêche roulante 5.3 m + disques + rouleaux","Bêche roulante 5.3 m + disques + rouleaux","Bêche roulante 5.3 m + disques + rouleaux","Bêche roulante 5.3 m + disques + rouleaux","Bêche roulante 5.3 m + disques + rouleaux","Bêche roulante 5.3 m + disques + rouleaux","Bêche roulante 5.3 m + disques + rouleaux","Bêche roulante 5.3 m + disques + rouleaux","Bêche roulante 5.3 m + disques + rouleaux","Bêche roulante 5.3 m + disques + rouleaux","Bêche roulante 5.3 m + disques + rouleaux","Bêche roulante 5.3 m + disques + rouleaux","Bêche roulante 5.3 m + disques + rouleaux","Bêche roulante 5.3 m + disques + rouleaux","Bêche roulante 5.3 m + disques + rouleaux","Bêche roulante 5.3 m + disques + rouleaux","Bêche roulante 5.3 m + disques + rouleaux","Bêche roulante 5.3 m + disques + rouleaux","Bêche roulante 5.3 m + disques + rouleaux","Bêche roulante 5.3 m + disques + rouleaux","Bêche roulante 5.3 m + disques + rouleaux","Bêche roulante 5.3 m + disques + rouleaux","Bêche roulante 5.3 m + disques + rouleaux","Bêche roulante 5.3 m + disques + rouleaux","Bêche roulante 5.3 m + disques + rouleaux","Bêche roulante 5.3 m + disques + rouleaux","Bêche roulante 5.3 m + disques + rouleaux","Bêche roulante 5.3 m + disques + rouleaux","Bêche roulante 5.3 m + disques + rouleaux","Bêche roulante 5.3 m + disques + rouleaux","Bêche roulante 5.3 m + disques + rouleaux","Bêche roulante 5.3 m + disques + rouleaux","Bêche roulante 5.3 m + disques + rouleaux","Bêche roulante 5.3 m + disques + rouleaux","Bêche roulante 5.3 m + disques + rouleaux","Bêche roulante 5.3 m + disques + rouleaux","Bêche roulante 5.3 m + disques + rouleaux","Bêche roulante 5.3 m + disques + rouleaux","Bêche roulante 5.3 m + disques + rouleaux","Bêche roulante 5.3 m + disques + rouleaux","Bêche roulante 5.3 m + disques + rouleaux","Bêche roulante 5.3 m + disques + rouleaux","Bêche roulante 5.3 m + disques + rouleaux","Bêche roulante 5.3 m + disques + rouleaux","Bêche roulante 5.3 m + disques + rouleaux","Bêche roulante 5.3 m + disques + rouleaux","Bêche roulante 5.3 m + disques + rouleaux","Bêche roulante 5.3 m + disques + rouleaux","Bêche roulante 5.3 m + disques + rouleaux","Bêche roulante 5.3 m + disques + rouleaux","Bêche roulante 5.3 m + disques + rouleaux","Bêche roulante 5.3 m + disques + rouleaux","Bêche roulante 5.3 m + disques + rouleaux","Bêche roulante 5.3 m + disques + rouleaux","Bêche roulante 5.3 m + disques + rouleaux","Bêche roulante 5.3 m + disques + rouleaux","Bêche roulante 5.3 m + disques + rouleaux","Bêche roulante 5.3 m + disques + rouleaux","Bêche roulante 5.3 m + disques + rouleaux","Bêche roulante 5.3 m + disques + rouleaux","Bêche roulante 5.3 m + disques + rouleaux","Bêche roulante 5.3 m + disques + rouleaux","Bêche roulante 5.3 m + disques + rouleaux","Bêche roulante 5.3 m + disques + rouleaux","Bêche roulante 5.3 m + disques + rouleaux","Bêche roulante 5.3 m + disques + rouleaux","Bêche roulante 5.3 m + disques + rouleaux","Bêche roulante 5.3 m + disques + rouleaux","Bêche roulante 5.3 m + disques + rouleaux","Bêche roulante 5.3 m + disques + rouleaux","Bêche roulante 5.3 m + disques + rouleaux","Bêche roulante 5.3 m + disques + rouleaux","Bêche roulante 5.3 m + disques + rouleaux","Bêche roulante 5.3 m + disques + rouleaux","Bêche roulante 5.3 m + disques + rouleaux","Bêche roulante 5.3 m + disques + rouleaux","Bêche roulante 5.3 m + disques + rouleaux","Bêche roulante 5.3 m + disques + rouleaux","Bêche roulante 5.3 m + disques + rouleaux","Bêche roulante 5.3 m + disques + rouleaux","Bêche roulante 5.3 m + disques + rouleaux","Bêche roulante 5.3 m + disques + rouleaux","Bêche roulante 5.3 m + disques + rouleaux","Bêche roulante 5.3 m + disques + rouleaux","Bêche roulante 5.3 m + disques + rouleaux","Bêche roulante 5.3 m + disques + rouleaux","Bêche roulante 5.3 m + disques + rouleaux","Bêche roulante 5.3 m + disques + rouleaux","Bêche roulante 5.3 m + disques + rouleaux","Bêche roulante 5.3 m + disques + rouleaux","Bêche roulante 5.3 m + disques + rouleaux","Bêche roulante 5.3 m + disques + rouleaux","Bêche roulante 5.3 m + disques + rouleaux","Bêche roulante 5.3 m + disques + rouleaux","Bêche roulante 5.3 m + disques + rouleaux","Bêche roulante 5.3 m + disques + rouleaux","Bêche roulante 5.3 m + disques + rouleaux","Bêche roulante 5.3 m + disques + rouleaux","Bêche roulante 5.3 m + disques + rouleaux","Bêche roulante 5.3 m + disques + rouleaux","Bêche roulante 5.3 m + disques + rouleaux","Bêche roulante 5.3 m + disques + rouleaux","Bêche roulante 5.3 m + disques + rouleaux","Bêche roulante 5.3 m + disques + rouleaux","Bêche roulante 5.3 m + disques + rouleaux","Bêche roulante 5.3 m + disques + rouleaux","Bêche roulante 5.3 m + disques + rouleaux","Bêche roulante 5.3 m + disques + rouleaux","Bêche roulante 5.3 m + disques + rouleaux","Bêche roulante 5.3 m + disques + rouleaux","Bêche roulante 5.3 m + disques + rouleaux","Bêche roulante 5.3 m + disques + rouleaux","Bêche roulante 5.3 m + disques + rouleaux","Bêche roulante 5.3 m + disques + rouleaux","Bêche roulante 5.3 m + disques + rouleaux","Bêche roulante 5.3 m + disques + rouleaux","Bêche roulante 5.3 m + disques + rouleaux","Bêche roulante 5.3 m + disques + rouleaux","Bêche roulante 5.3 m + disques + rouleaux","Bêche roulante 5.3 m + disques + rouleaux","Bêche roulante 5.3 m + disques + rouleaux","Bêche roulante 5.3 m + disques + rouleaux","Bêche roulante 5.3 m + disques + rouleaux","Bêche roulante 5.3 m + disques + rouleaux","Bêche roulante 5.3 m + disques + rouleaux","Bêche roulante 5.3 m + disques + rouleaux","Bêche roulante 5.3 m + disques + rouleaux","Bêche roulante 5.3 m + disques + rouleaux","Bêche roulante 5.3 m + disques + rouleaux","Bêche roulante 5.3 m + disques + rouleaux","Bêche roulante 5.3 m + disques + rouleaux","Bêche roulante 5.3 m + disques + rouleaux","Bêche roulante 5.3 m + disques + rouleaux","Bêche roulante 5.3 m + disques + rouleaux","Bêche roulante 5.3 m + disques + rouleaux","Bêche roulante 5.3 m + disques + rouleaux","Bêche roulante 5.3 m + disques + rouleaux","Bêche roulante 5.3 m + disques + rouleaux","Bêche roulante 5.3 m + disques + rouleaux","Bêche roulante 5.3 m + disques + rouleaux","Bêche roulante 5.3 m + disques + rouleaux","Bêche roulante 5.3 m + disques + rouleaux","Bêche roulante 5.3 m + disques + rouleaux","Bêche roulante 5.3 m + disques + rouleaux","Bêche roulante 5.3 m + disques + rouleaux","Bêche roulante 5.3 m + disques + rouleaux","Bêche roulante 5.3 m + disques + rouleaux","Bêche roulante 5.3 m + disques + rouleaux","Bêche roulante 5.3 m + disques + rouleaux","Bêche roulante 5.3 m + disques + rouleaux","Bêche roulante 5.3 m + disques + rouleaux","Bêche roulante 5.3 m + disques + rouleaux","Bêche roulante 5.3 m + disques + rouleaux","Bêche roulante 5.3 m + disques + rouleaux","Bêche roulante 5.3 m + disques + rouleaux","Bêche roulante 5.3 m + disques + rouleaux","Bêche roulante 5.3 m + disques + rouleaux","Bêche roulante 5.3 m + disques + rouleaux","Bêche roulante 5.3 m + disques + rouleaux","Bêche roulante 5.3 m + disques + rouleaux","Bêche roulante 5.3 m + disques + rouleaux","Bêche roulante 5.3 m + disques + rouleaux","Bêche roulante 5.3 m + disques + rouleaux","Bêche roulante 5.3 m + disques + rouleaux","Bêche roulante 5.3 m + disques + rouleaux","Bêche roulante 5.3 m + disques + rouleaux","Bêche roulante 5.3 m + disques + rouleaux","Bêche roulante 5.3 m + disques + rouleaux","Bêche roulante 5.3 m + disques + rouleaux","Bêche roulante 5.3 m + disques + rouleaux","Bêche roulante 5.3 m + disques + rouleaux","Bêche roulante 5.3 m + disques + rouleaux","Bêche roulante 5.3 m + disques + rouleaux","Bêche roulante 5.3 m + disques + rouleaux","Bêche roulante 5.3 m + disques + rouleaux","Bêche roulante 5.3 m + disques + rouleaux","Bêche roulante 5.3 m + disques + rouleaux","Bêche roulante 5.3 m + disques + rouleaux","Bêche roulante 5.3 m + disques + rouleaux","Bêche roulante 5.3 m + disques + rouleaux","Bêche roulante 5.3 m + disques + rouleaux","Bêche roulante 5.3 m + disques + rouleaux","Bêche roulante 5.3 m + disques + rouleaux","Bêche roulante 5.3 m + disques + rouleaux","Bêche roulante 5.3 m + disques + rouleaux","Bêche roulante 5.3 m + disques + rouleaux","Bêche roulante 5.3 m + disques + rouleaux","Bêche roulante 5.3 m + disques + rouleaux","Bêche roulante 5.3 m + disques + rouleaux","Bêche roulante 5.3 m + disques + rouleaux","Bêche roulante 5.3 m + disques + rouleaux","Bêche roulante 5.3 m + disques + rouleaux","Bêche roulante 5.3 m + disques + rouleaux","Bêche roulante 5.3 m + disques + rouleaux","Bêche roulante 5.3 m + disques + rouleaux","Bêche roulante 5.3 m + disques + rouleaux","Bêche roulante 5.3 m + disques + rouleaux","Bêche roulante 5.3 m + disques + rouleaux","Bêche roulante 5.3 m + disques + rouleaux","Bêche roulante 5.3 m + disques + rouleaux","Bêche roulante 5.3 m + disques + rouleaux","Bêche roulante 5.3 m + disques + rouleaux","Bêche roulante 5.3 m + disques + rouleaux","Bêche roulante 5.3 m + disques + rouleaux","Bêche roulante 5.3 m + disques + rouleaux","Bêche roulante 5.3 m + disques + rouleaux","Bêche roulante 5.3 m + disques + rouleaux","Bêche roulante 5.3 m + disques + rouleaux","Bêche roulante 5.3 m + disques + rouleaux","Bêche roulante 5.3 m + disques + rouleaux","Bêche roulante 5.3 m + disques + rouleaux","Bêche roulante 5.3 m + disques + rouleaux","Bêche roulante 5.3 m + disques + rouleaux","Bêche roulante 5.3 m + disques + rouleaux","Bêche roulante 5.3 m + disques + rouleaux","Bêche roulante 5.3 m + disques + rouleaux","Bêche roulante 5.3 m + disques + rouleaux","Bêche roulante 5.3 m + disques + rouleaux","Bêche roulante 5.3 m + disques + rouleaux","Bêche roulante 5.3 m + disques + rouleaux","Bêche roulante 5.3 m + disques + rouleaux","Bêche roulante 5.3 m + disques + rouleaux","Bêche roulante 5.3 m + disques + rouleaux","Bêche roulante 5.3 m + disques + rouleaux","Bêche roulante 5.3 m + disques + rouleaux","Bêche roulante 5.3 m + disques + rouleaux","Bêche roulante 5.3 m + disques + rouleaux","Bêche roulante 5.3 m + disques + rouleaux","Bêche roulante 5.3 m + disques + rouleaux","Bêche roulante 5.3 m + disques + rouleaux","Bêche roulante 5.3 m + disques + rouleaux","Bêche roulante 5.3 m + disques + rouleaux","Bêche roulante 5.3 m + disques + rouleaux","Bêche roulante 5.3 m + disques + rouleaux","Bêche roulante 5.3 m + disques + rouleaux","Bêche roulante 5.3 m + disques + rouleaux","Bêche roulante 5.3 m + disques + rouleaux","Bêche roulante 5.3 m + disques + rouleaux","Bêche roulante 5.3 m + disques + rouleaux","Bêche roulante 5.3 m + disques + rouleaux","Bêche roulante 5.3 m + disques + rouleaux","Bêche roulante 5.3 m + disques + rouleaux","Bêche roulante 5.3 m + disques + rouleaux","Bêche roulante 5.3 m + disques + rouleaux","Bêche roulante 5.3 m + disques + rouleaux","Bêche roulante 5.3 m + disques + rouleaux","Bêche roulante 5.3 m + disques + rouleaux","Bêche roulante 5.3 m + disques + rouleaux","Bêche roulante 5.3 m + disques + rouleaux","Bêche roulante 5.3 m + disques + rouleaux","Bêche roulante 5.3 m + disques + rouleaux","Bêche roulante 5.3 m + disques + rouleaux","Bêche roulante 5.3 m + disques + rouleaux","Bêche roulante 5.3 m + disques + rouleaux","Bêche roulante 5.3 m + disques + rouleaux","Bêche roulante 5.3 m + disques + rouleaux","Bêche roulante 5.3 m + disques + rouleaux","Bêche roulante 5.3 m + disques + rouleaux","Bêche roulante 5.3 m + disques + rouleaux","Bêche roulante 5.3 m + disques + rouleaux","Bêche roulante 5.3 m + disques + rouleaux","Bêche roulante 5.3 m + disques + rouleaux","Bêche roulante 5.3 m + disques + rouleaux","Bêche roulante 5.3 m + disques + rouleaux","Bêche roulante 5.3 m + disques + rouleaux","Bêche roulante 5.3 m + disques + rouleaux","Bêche roulante 5.3 m + disques + rouleaux","Bêche roulante 5.3 m + disques + rouleaux","Bêche roulante 5.3 m + disques + rouleaux","Bêche roulante 5.3 m + disques + rouleaux","Bêche roulante 5.3 m + disques + rouleaux","Bêche roulante 5.3 m + disques + rouleaux","Bêche roulante 5.3 m + disques + rouleaux","Bêche roulante 5.3 m + disques + rouleaux","Bêche roulante 5.3 m + disques + rouleaux","Bêche roulante 5.3 m + disques + rouleaux","Bêche roulante 5.3 m + disques + rouleaux","Bêche roulante 5.3 m + disques + rouleaux","Bêche roulante 5.3 m + disques + rouleaux","Bêche roulante 5.3 m + disques + rouleaux","Bêche roulante 5.3 m + disques + rouleaux","Bêche roulante 5.3 m + disques + rouleaux","Bêche roulante 5.3 m + disques + rouleaux","Bêche roulante 5.3 m + disques + rouleaux","Bêche roulante 5.3 m + disques + rouleaux","Bêche roulante 5.3 m + disques + rouleaux","Bêche roulante 5.3 m + disques + rouleaux","Bêche roulante 5.3 m + disques + rouleaux","Bêche roulante 5.3 m + disques + rouleaux","Bêche roulante 5.3 m + disques + rouleaux","Bêche roulante 5.3 m + disques + rouleaux","Bêche roulante 5.3 m + disques + rouleaux","Bêche roulante 5.3 m + disques + rouleaux","Bêche roulante 5.3 m + disques + rouleaux","Bêche roulante 5.3 m + disques + rouleaux","Bêche roulante 5.3 m + disques + rouleaux","Bêche roulante 5.3 m + disques + rouleaux","Bêche roulante 5.3 m + disques + rouleaux","Bêche roulante 5.3 m + disques + rouleaux","Bêche roulante 5.3 m + disques + rouleaux","Bêche roulante 5.3 m + disques + rouleaux","Bêche roulante 5.3 m + disques + rouleaux","Bêche roulante 5.3 m + disques + rouleaux","Bêche roulante 5.3 m + disques + rouleaux","Bêche roulante 5.3 m + disques + rouleaux","Bêche roulante 5.3 m + disques + rouleaux","Bêche roulante 5.3 m + disques + rouleaux","Bêche roulante 5.3 m + disques + rouleaux","Bêche roulante 5.3 m + disques + rouleaux","Bêche roulante 5.3 m + disques + rouleaux","Bêche roulante 5.3 m + disques + rouleaux","Bêche roulante 5.3 m + disques + rouleaux","Bêche roulante 5.3 m + disques + rouleaux","Bêche roulante 5.3 m + disques + rouleaux","Bêche roulante 5.3 m + disques + rouleaux","Bêche roulante 5.3 m + disques + rouleaux","Bêche roulante 5.3 m + disques + rouleaux","Bêche roulante 5.3 m + disques + rouleaux","Bêche roulante 5.3 m + disques + rouleaux","Bêche roulante 5.3 m + disques + rouleaux","Bêche roulante 5.3 m + disques + rouleaux","Bêche roulante 5.3 m + disques + rouleaux","Bêche roulante 5.3 m + disques + rouleaux","Bêche roulante 5.3 m + disques + rouleaux","Bêche roulante 5.3 m + disques + rouleaux","Bêche roulante 5.3 m + disques + rouleaux","Bêche roulante 5.3 m + disques + rouleaux","Bêche roulante 5.3 m + disques + rouleaux","Bêche roulante 5.3 m + disques + rouleaux","Bêche roulante 5.3 m + disques + rouleaux","Bêche roulante 5.3 m + disques + rouleaux","Bêche roulante 5.3 m + disques + rouleaux","Bêche roulante 5.3 m + disques + rouleaux","Bêche roulante 5.3 m + disques + rouleaux","Bêche roulante 5.3 m + disques + rouleaux","Bêche roulante 5.3 m + disques + rouleaux","Bêche roulante 5.3 m + disques + rouleaux","Bêche roulante 5.3 m + disques + rouleaux","Bêche roulante 5.3 m + disques + rouleaux","Bêche roulante 5.3 m + disques + rouleaux","Bêche roulante 5.3 m + disques + rouleaux","Bêche roulante 5.3 m + disques + rouleaux","Bêche roulante 5.3 m + disques + rouleaux","Bêche roulante 5.3 m + disques + rouleaux","Bêche roulante 5.3 m + disques + rouleaux","Bêche roulante 5.3 m + disques + rouleaux","Bêche roulante 5.3 m + disques + rouleaux","Bêche roulante 5.3 m + disques + rouleaux","Bêche roulante 5.3 m + disques + rouleaux","Bêche roulante 5.3 m + disques + rouleaux","Bêche roulante 5.3 m + disques + rouleaux","Bêche roulante 5.3 m + disques + rouleaux","Bêche roulante 5.3 m + disques + rouleaux","Bêche roulante 5.3 m + disques + rouleaux","Bêche roulante 5.3 m + disques + rouleaux","Bêche roulante 5.3 m + disques + rouleaux","Bêche roulante 5.3 m + disques + rouleaux","Bêche roulante 5.3 m + disques + rouleaux","Bêche roulante 5.3 m + disques + rouleaux","Bêche roulante 5.3 m + disques + rouleaux","Bêche roulante 5.3 m + disques + rouleaux","Bêche roulante 5.3 m + disques + rouleaux","Bêche roulante 5.3 m + disques + rouleaux","Bêche roulante 5.3 m + disques + rouleaux","Bêche roulante 5.3 m + disques + rouleaux","Bêche roulante 5.3 m + disques + rouleaux","Bêche roulante 5.3 m + disques + rouleaux","Bêche roulante 5.3 m + disques + rouleaux","Bêche roulante 5.3 m + disques + rouleaux","Bêche roulante 5.3 m + disques + rouleaux","Bêche roulante 5.3 m + disques + rouleaux","Bêche roulante 5.3 m + disques + rouleaux","Bêche roulante 5.3 m + disques + rouleaux","Bêche roulante 5.3 m + disques + rouleaux","Bêche roulante 5.3 m + disques + rouleaux","Bêche roulante 5.3 m + disques + rouleaux","Bêche roulante 5.3 m + disques + rouleaux","Bêche roulante 5.3 m + disques + rouleaux","Bêche roulante 5.3 m + disques + rouleaux","Bêche roulante 5.3 m + disques + rouleaux","Bêche roulante 5.3 m + disques + rouleaux","Bêche roulante 5.3 m + disques + rouleaux","Bêche roulante 5.3 m + disques + rouleaux","Bêche roulante 5.3 m + disques + rouleaux","Bêche roulante 5.3 m + disques + rouleaux","Bêche roulante 5.3 m + disques + rouleaux","Bêche roulante 5.3 m + disques + rouleaux","Bêche roulante 5.3 m + disques + rouleaux","Bêche roulante 5.3 m + disques + rouleaux","Bêche roulante 5.3 m + disques + rouleaux","Bêche roulante 5.3 m + disques + rouleaux","Bêche roulante 5.3 m + disques + rouleaux","Bêche roulante 5.3 m + disques + rouleaux","Bêche roulante 5.3 m + disques + rouleaux","Bêche roulante 5.3 m + disques + rouleaux","Bêche roulante 5.3 m + disques + rouleaux","Bêche roulante 5.3 m + disques + rouleaux","Bêche roulante 5.3 m + disques + rouleaux","Bêche roulante 5.3 m + disques + rouleaux","Bêche roulante 5.3 m + disques + rouleaux","Bêche roulante 5.3 m + disques + rouleaux","Bêche roulante 5.3 m + disques + rouleaux","Bêche roulante 5.3 m + disques + rouleaux","Bêche roulante 5.3 m + disques + rouleaux","Bêche roulante 5.3 m + disques + rouleaux","Bêche roulante 5.3 m + disques + rouleaux","Bêche roulante 5.3 m + disques + rouleaux","Bêche roulante 5.3 m + disques + rouleaux","Bêche roulante 5.3 m + disques + rouleaux","Bêche roulante 5.3 m + disques + rouleaux","Bêche roulante 5.3 m + disques + rouleaux","Bêche roulante 5.3 m + disques + rouleaux","Bêche roulante 5.3 m + disques + rouleaux","Bêche roulante 5.3 m + disques + rouleaux","Bêche roulante 5.3 m + disques + rouleaux","Bêche roulante 5.3 m + disques + rouleaux","Bêche roulante 5.3 m + disques + rouleaux","Bêche roulante 5.3 m + disques + rouleaux","Bêche roulante 5.3 m + disques + rouleaux","Bêche roulante 5.3 m + disques + rouleaux","Bêche roulante 5.3 m + disques + rouleaux","Bêche roulante 5.3 m + disques + rouleaux","Bêche roulante 5.3 m + disques + rouleaux","Bêche roulante 5.3 m + disques + rouleaux","Bêche roulante 5.3 m + disques + rouleaux","Bêche roulante 5.3 m + disques + rouleaux","Bêche roulante 5.3 m + disques + rouleaux","Bêche roulante 5.3 m + disques + rouleaux","Bêche roulante 5.3 m + disques + rouleaux","Bêche roulante 5.3 m + disques + rouleaux","Bêche roulante 5.3 m + disques + rouleaux","Bêche roulante 5.3 m + disques + rouleaux","Bêche roulante 5.3 m + disques + rouleaux","Bêche roulante 5.3 m + disques + rouleaux","Bêche roulante 5.3 m + disques + rouleaux","Bêche roulante 5.3 m + disques + rouleaux","Bêche roulante 5.3 m + disques + rouleaux","Bêche roulante 5.3 m + disques + rouleaux","Bêche roulante 5.3 m + disques + rouleaux","Bêche roulante 5.3 m + disques + rouleaux","Bêche roulante 5.3 m + disques + rouleaux","Bêche roulante 5.3 m + disques + rouleaux","Bêche roulante 5.3 m + disques + rouleaux","Bêche roulante 5.3 m + disques + rouleaux","Bêche roulante 5.3 m + disques + rouleaux","Bêche roulante 5.3 m + disques + rouleaux","Bêche roulante 5.3 m + disques + rouleaux","Bêche roulante 5.3 m + disques + rouleaux","Bêche roulante 5.3 m + disques + rouleaux","Bêche roulante 5.3 m + disques + rouleaux","Bêche roulante 5.3 m + disques + rouleaux","Bêche roulante 5.3 m + disques + rouleaux","Bêche roulante 5.3 m + disques + rouleaux","Bêche roulante 5.3 m + disques + rouleaux","Bêche roulante 5.3 m + disques + rouleaux","Bêche roulante 5.3 m + disques + rouleaux","Bêche roulante 5.3 m + disques + rouleaux","Bêche roulante 5.3 m + disques + rouleaux","Bêche roulante 5.3 m + disques + rouleaux","Bêche roulante 5.3 m + disques + rouleaux","Bêche roulante 5.3 m + disques + rouleaux","Bêche roulante 5.3 m + disques + rouleaux","Bêche roulante 5.3 m + disques + rouleaux","Bêche roulante 5.3 m + disques + rouleaux","Bêche roulante 5.3 m + disques + rouleaux","Bêche roulante 5.3 m + disques + rouleaux","Bêche roulante 5.3 m + disques + rouleaux","Bêche roulante 5.3 m + disques + rouleaux","Bêche roulante 5.3 m + disques + rouleaux","Bêche roulante 5.3 m + disques + rouleaux","Bêche roulante 5.3 m + disques + rouleaux","Bêche roulante 5.3 m + disques + rouleaux","Bêche roulante 5.3 m + disques + rouleaux","Bêche roulante 5.3 m + disques + rouleaux","Bêche roulante 5.3 m + disques + rouleaux","Bêche roulante 5.3 m + disques + rouleaux","Bêche roulante 5.3 m + disques + rouleaux","Bêche roulante 5.3 m + disques + rouleaux","Bêche roulante 5.3 m + disques + rouleaux","Bêche roulante 5.3 m + disques + rouleaux","Bêche roulante 5.3 m + disques + rouleaux","Bêche roulante 5.3 m + disques + rouleaux","Bêche roulante 5.3 m + disques + rouleaux","Bêche roulante 5.3 m + disques + rouleaux","Bêche roulante 5.3 m + disques + rouleaux","Bêche roulante 5.3 m + disques + rouleaux","Bêche roulante 5.3 m + disques + rouleaux","Bêche roulante 5.3 m + disques + rouleaux","Bêche roulante 5.3 m + disques + rouleaux","Bêche roulante 5.3 m + disques + rouleaux","Bêche roulante 5.3 m + disques + rouleaux","Bêche roulante 5.3 m + disques + rouleaux","Bêche roulante 5.3 m + disques + rouleaux","Bêche roulante 5.3 m + disques + rouleaux","Bêche roulante 5.3 m + disques + rouleaux","Bêche roulante 5.3 m + disques + rouleaux","Bêche roulante 5.3 m + disques + rouleaux","Bêche roulante 5.3 m + disques + rouleaux","Bêche roulante 5.3 m + disques + rouleaux","Bêche roulante 5.3 m + disques + rouleaux","Bêche roulante 5.3 m + disques + rouleaux","Bêche roulante 5.3 m + disques + rouleaux","Bêche roulante 5.3 m + disques + rouleaux","Bêche roulante 5.3 m + disques + rouleaux","Bêche roulante 5.3 m + disques + rouleaux","Bêche roulante 5.3 m + disques + rouleaux","Bêche roulante 5.3 m + disques + rouleaux","Bêche roulante 5.3 m + disques + rouleaux","Bêche roulante 5.3 m + disques + rouleaux","Bêche roulante 5.3 m + disques + rouleaux","Bêche roulante 5.3 m + disques + rouleaux","Bêche roulante 5.3 m + disques + rouleaux","Bêche roulante 5.3 m + disques + rouleaux","Bêche roulante 5.3 m + disques + rouleaux","Bêche roulante 5.3 m + disques + rouleaux","Bêche roulante 5.3 m + disques + rouleaux","Bêche roulante 5.3 m + disques + rouleaux","Bêche roulante 5.3 m + disques + rouleaux","Bêche roulante 5.3 m + disques + rouleaux","Bêche roulante 5.3 m + disques + rouleaux","Bêche roulante 5.3 m + disques + rouleaux","Bêche roulante 5.3 m + disques + rouleaux","Bêche roulante 5.3 m + disques + rouleaux","Bêche roulante 5.3 m + disques + rouleaux","Bêche roulante 5.3 m + disques + rouleaux","Bêche roulante 5.3 m + disques + rouleaux","Bêche roulante 5.3 m + disques + rouleaux","Bêche roulante 5.3 m + disques + rouleaux","Bêche roulante 5.3 m + disques + rouleaux","Bêche roulante 5.3 m + disques + rouleaux","Bêche roulante 5.3 m + disques + rouleaux","Bêche roulante 5.3 m + disques + rouleaux","Bêche roulante 5.3 m + disques + rouleaux","Bêche roulante 5.3 m + disques + rouleaux","Bêche roulante 5.3 m + disques + rouleaux","Bêche roulante 5.3 m + disques + rouleaux","Bêche roulante 5.3 m + disques + rouleaux","Bêche roulante 5.3 m + disques + rouleaux","Bêche roulante 5.3 m + disques + rouleaux","Bêche roulante 5.3 m + disques + rouleaux","Bêche roulante 5.3 m + disques + rouleaux","Bêche roulante 5.3 m + disques + rouleaux","Bêche roulante 5.3 m + disques + rouleaux","Bêche roulante 5.3 m + disques + rouleaux","Bêche roulante 5.3 m + disques + rouleaux","Bêche roulante 5.3 m + disques + rouleaux","Bêche roulante 5.3 m + disques + rouleaux","Bêche roulante 5.3 m + disques + rouleaux","Bêche roulante 5.3 m + disques + rouleaux","Bêche roulante 5.3 m + disques + rouleaux","Bêche roulante 5.3 m + disques + rouleaux","Bêche roulante 5.3 m + disques + rouleaux","Bêche roulante 5.3 m + disques + rouleaux","Bêche roulante 5.3 m + disques + rouleaux","Bêche roulante 5.3 m + disques + rouleaux","Bêche roulante 5.3 m + disques + rouleaux","Bêche roulante 5.3 m + disques + rouleaux","Bêche roulante 5.3 m + disques + rouleaux","Bêche roulante 5.3 m + disques + rouleaux","Bêche roulante 5.3 m + disques + rouleaux","Bêche roulante 5.3 m + disques + rouleaux","Bêche roulante 5.3 m + disques + rouleaux","Bêche roulante 5.3 m + disques + rouleaux","Bêche roulante 5.3 m + disques + rouleaux","Bêche roulante 5.3 m + disques + rouleaux","Bêche roulante 5.3 m + disques + rouleaux","Bêche roulante 5.3 m + disques + rouleaux","Bêche roulante 5.3 m + disques + rouleaux","Bêche roulante 5.3 m + disques + rouleaux","Bêche roulante 5.3 m + disques + rouleaux","Bêche roulante 5.3 m + disques + rouleaux","Bêche roulante 5.3 m + disques + rouleaux","Bêche roulante 5.3 m + disques + rouleaux","Bêche roulante 5.3 m + disques + rouleaux","Bêche roulante 5.3 m + disques + rouleaux","Bêche roulante 5.3 m + disques + rouleaux","Bêche roulante 5.3 m + disques + rouleaux","Bêche roulante 5.3 m + disques + rouleaux","Bêche roulante 5.3 m + disques + rouleaux","Bêche roulante 5.3 m + disques + rouleaux","Bêche roulante 5.3 m + disques + rouleaux","Bêche roulante 5.3 m + disques + rouleaux","Bêche roulante 5.3 m + disques + rouleaux","Bêche roulante 5.3 m + disques + rouleaux","Bêche roulante 5.3 m + disques + rouleaux","Bêche roulante 5.3 m + disques + rouleaux","Bêche roulante 5.3 m + disques + rouleaux","Bêche roulante 5.3 m + disques + rouleaux","Bêche roulante 5.3 m + disques + rouleaux","Bêche roulante 5.3 m + disques + rouleaux","Bêche roulante 5.3 m + disques + rouleaux","Bêche roulante 5.3 m + disques + rouleaux","Bêche roulante 5.3 m + disques + rouleaux","Bêche roulante 5.3 m + disques + rouleaux","Bêche roulante 5.3 m + disques + rouleaux","Bêche roulante 5.3 m + disques + rouleaux","Bêche roulante 5.3 m + disques + rouleaux","Bêche roulante 5.3 m + disques + rouleaux","Bêche roulante 5.3 m + disques + rouleaux","Bêche roulante 5.3 m + disques + rouleaux","Bêche roulante 5.3 m + disques + rouleaux","Bêche roulante 5.3 m + disques + rouleaux","Bêche roulante 5.3 m + disques + rouleaux","Bêche roulante 5.3 m + disques + rouleaux","Bêche roulante 5.3 m + disques + rouleaux","Bêche roulante 5.3 m + disques + rouleaux","Bêche roulante 5.3 m + disques + rouleaux","Bêche roulante 5.3 m + disques + rouleaux","Bêche roulante 5.3 m + disques + rouleaux","Bêche roulante 5.3 m + disques + rouleaux","Bêche roulante 5.3 m + disques + rouleaux","Bêche roulante 5.3 m + disques + rouleaux","Bêche roulante 5.3 m + disques + rouleaux","Bêche roulante 5.3 m + disques + rouleaux","Bêche roulante 5.3 m + disques + rouleaux","Bêche roulante 5.3 m + disques + rouleaux","Bêche roulante 5.3 m + disques + rouleaux","Bêche roulante 5.3 m + disques + rouleaux","Bêche roulante 5.3 m + disques + rouleaux","Bêche roulante 5.3 m + disques + rouleaux","Bêche roulante 5.3 m + disques + rouleaux","Bêche roulante 5.3 m + disques + rouleaux","Bêche roulante 5.3 m + disques + rouleaux","Bêche roulante 5.3 m + disques + rouleaux","Bêche roulante 5.3 m + disques + rouleaux","Bêche roulante 5.3 m + disques + rouleaux","Bêche roulante 5.3 m + disques + rouleaux","Bêche roulante 5.3 m + disques + rouleaux","Bêche roulante 5.3 m + disques + rouleaux","Bêche roulante 5.3 m + disques + rouleaux","Bêche roulante 5.3 m + disques + rouleaux","Bêche roulante 5.3 m + disques + rouleaux","Bêche roulante 5.3 m + disques + rouleaux","Bêche roulante 5.3 m + disques + rouleaux","Bêche roulante 5.3 m + disques + rouleaux","Bêche roulante 5.3 m + disques + rouleaux","Bêche roulante 5.3 m + disques + rouleaux","Bêche roulante 5.3 m + disques + rouleaux","Bêche roulante 5.3 m + disques + rouleaux","Bêche roulante 5.3 m + disques + rouleaux","Bêche roulante 5.3 m + disques + rouleaux","Bêche roulante 5.3 m + disques + rouleaux","Bêche roulante 5.3 m + disques + rouleaux","Bêche roulante 5.3 m + disques + rouleaux","Bêche roulante 5.3 m + disques + rouleaux","Bêche roulante 5.3 m + disques + rouleaux","Bêche roulante 5.3 m + disques + rouleaux","Bêche roulante 5.3 m + disques + rouleaux","Bêche roulante 5.3 m + disques + rouleaux","Bêche roulante 5.3 m + disques + rouleaux","Bêche roulante 5.3 m + disques + rouleaux","Bêche roulante 5.3 m + disques + rouleaux","Bêche roulante 5.3 m + disques + rouleaux","Bêche roulante 5.3 m + disques + rouleaux","Bêche roulante 5.3 m + disques + rouleaux","Bêche roulante 5.3 m + disques + rouleaux","Bêche roulante 5.3 m + disques + rouleaux","Bêche roulante 5.3 m + disques + rouleaux","Bêche roulante 5.3 m + disques + rouleaux","Bêche roulante 5.3 m + disques + rouleaux","Bêche roulante 5.3 m + disques + rouleaux","Bêche roulante 5.3 m + disques + rouleaux","Bêche roulante 5.3 m + disques + rouleaux","Bêche roulante 5.3 m + disques + rouleaux","Bêche roulante 5.3 m + disques + rouleaux","Bêche roulante 5.3 m + disques + rouleaux","Bêche roulante 5.3 m + disques + rouleaux","Bêche roulante 5.3 m + disques + rouleaux","Bêche roulante 5.3 m + disques + rouleaux","Bêche roulante 5.3 m + disques + rouleaux","Bêche roulante 5.3 m + disques + rouleaux","Bêche roulante 5.3 m + disques + rouleaux","Bêche roulante 5.3 m + disques + rouleaux","Bêche roulante 5.3 m + disques + rouleaux","Bêche roulante 5.3 m + disques + rouleaux","Bêche roulante 5.3 m + disques + rouleaux","Bêche roulante 5.3 m + disques + rouleaux","Bêche roulante 5.3 m + disques + rouleaux","Bêche roulante 5.3 m + disques + rouleaux","Bêche roulante 5.3 m + disques + rouleaux","Bêche roulante 5.3 m + disques + rouleaux","Bêche roulante 5.3 m + disques + rouleaux","Bêche roulante 5.3 m + disques + rouleaux","Bêche roulante 5.3 m + disques + rouleaux","Bêche roulante 5.3 m + disques + rouleaux","Bêche roulante 5.3 m + disques + rouleaux","Bêche roulante 5.3 m + disques + rouleaux","Bêche roulante 5.3 m + disques + rouleaux","Bêche roulante 5.3 m + disques + rouleaux","Bêche roulante 5.3 m + disques + rouleaux","Bêche roulante 5.3 m + disques + rouleaux","Bêche roulante 5.3 m + disques + rouleaux","Bêche roulante 5.3 m + disques + rouleaux","Bêche roulante 5.3 m + disques + rouleaux","Bêche roulante 5.3 m + disques + rouleaux","Bêche roulante 5.3 m + disques + rouleaux","Bêche roulante 5.3 m + disques + rouleaux","Bêche roulante 5.3 m + disques + rouleaux","Bêche roulante 5.3 m + disques + rouleaux","Bêche roulante 5.3 m + disques + rouleaux","Bêche roulante 5.3 m + disques + rouleaux","Bêche roulante 5.3 m + disques + rouleaux","Bêche roulante 5.3 m + disques + rouleaux","Bêche roulante 5.3 m + disques + rouleaux","Bêche roulante 5.3 m + disques + rouleaux","Bêche roulante 5.3 m + disques + rouleaux","Bêche roulante 5.3 m + disques + rouleaux","Bêche roulante 5.3 m + disques + rouleaux","Bêche roulante 5.3 m + disques + rouleaux","Bêche roulante 5.3 m + disques + rouleaux","Bêche roulante 5.3 m + disques + rouleaux","Bêche roulante 5.3 m + disques + rouleaux","Bêche roulante 5.3 m + disques + rouleaux","Bêche roulante 5.3 m + disques + rouleaux","Bêche roulante 5.3 m + disques + rouleaux","Bêche roulante 5.3 m + disques + rouleaux","Bêche roulante 5.3 m + disques + rouleaux","Bêche roulante 5.3 m + disques + rouleaux","Bêche roulante 5.3 m + disques + rouleaux","Bêche roulante 5.3 m + disques + rouleaux","Bêche roulante 5.3 m + disques + rouleaux","Bêche roulante 5.3 m + disques + rouleaux","Bêche roulante 5.3 m + disques + rouleaux","Bêche roulante 5.3 m + disques + rouleaux","Bêche roulante 5.3 m + disques + rouleaux","Bêche roulante 5.3 m + disques + rouleaux","Bêche roulante 5.3 m + disques + rouleaux","Bêche roulante 5.3 m + disques + rouleaux","Bêche roulante 5.3 m + disques + rouleaux","Bêche roulante 5.3 m + disques + rouleaux","Bêche roulante 5.3 m + disques + rouleaux","Bêche roulante 5.3 m + disques + rouleaux","Bêche roulante 5.3 m + disques + rouleaux","Bêche roulante 5.3 m + disques + rouleaux","Bêche roulante 5.3 m + disques + rouleaux","Bêche roulante 5.3 m + disques + rouleaux","Bêche roulante 5.3 m + disques + rouleaux","Bêche roulante 5.3 m + disques + rouleaux","Bêche roulante 5.3 m + disques + rouleaux","Bêche roulante 5.3 m + disques + rouleaux","Bêche roulante 5.3 m + disques + rouleaux","Bêche roulante 5.3 m + disques + rouleaux","Bêche roulante 5.3 m + disques + rouleaux","Bêche roulante 5.3 m + disques + rouleaux","Bêche roulante 5.3 m + disques + rouleaux","Bêche roulante 5.3 m + disques + rouleaux","Bêche roulante 5.3 m + disques + rouleaux","Bêche roulante 5.3 m + disques + rouleaux","Bêche roulante 5.3 m + disques + rouleaux","Bêche roulante 5.3 m + disques + rouleaux","Bêche roulante 5.3 m + disques + rouleaux","Bêche roulante 5.3 m + disques + rouleaux","Bêche roulante 5.3 m + disques + rouleaux","Bêche roulante 5.3 m + disques + rouleaux","Bêche roulante 5.3 m + disques + rouleaux","Bêche roulante 5.3 m + disques + rouleaux","Bêche roulante 5.3 m + disques + rouleaux","Bêche roulante 5.3 m + disques + rouleaux","Bêche roulante 5.3 m + disques + rouleaux","Bêche roulante 5.3 m + disques + rouleaux","Bêche roulante 5.3 m + disques + rouleaux","Bêche roulante 5.3 m + disques + rouleaux","Bêche roulante 5.3 m + disques + rouleaux","Bêche roulante 5.3 m + disques + rouleaux","Bêche roulante 5.3 m + disques + rouleaux","Bêche roulante 5.3 m + disques + rouleaux","Bêche roulante 5.3 m + disques + rouleaux","Bêche roulante 5.3 m + disques + rouleaux","Bêche roulante 5.3 m + disques + rouleaux","Bêche roulante 5.3 m + disques + rouleaux","Bêche roulante 5.3 m + disques + rouleaux","Bêche roulante 5.3 m + disques + rouleaux","Bêche roulante 5.3 m + disques + rouleaux","Bêche roulante 5.3 m + disques + rouleaux","Bêche roulante 5.3 m + disques + rouleaux","Bêche roulante 5.3 m + disques + rouleaux","Bêche roulante 5.3 m + disques + rouleaux","Bêche roulante 5.3 m + disques + rouleaux","Bêche roulante 5.3 m + disques + rouleaux","Bêche roulante 5.3 m + disques + rouleaux","Bêche roulante 5.3 m + disques + rouleaux","Bêche roulante 5.3 m + disques + rouleaux","Bêche roulante 5.3 m + disques + rouleaux","Bêche roulante 5.3 m + disques + rouleaux","Bêche roulante 5.3 m + disques + rouleaux","Bêche roulante 5.3 m + disques + rouleaux","Bêche roulante 5.3 m + disques + rouleaux","Bêche roulante 5.3 m + disques + rouleaux","Bêche roulante 5.3 m + disques + rouleaux","Bêche roulante 5.3 m + disques + rouleaux","Bêche roulante 5.3 m + disques + rouleaux","Bêche roulante 5.3 m + disques + rouleaux","Bêche roulante 5.3 m + disques + rouleaux","Bêche roulante 5.3 m + disques + rouleaux","Bêche roulante 5.3 m + disques + rouleaux","Bêche roulante 5.3 m + disques + rouleaux","Bêche roulante 5.3 m + disques + rouleaux","Bêche roulante 5.3 m + disques + rouleaux","Bêche roulante 5.3 m + disques + rouleaux","Bêche roulante 5.3 m + disques + rouleaux","Bêche roulante 5.3 m + disques + rouleaux","Bêche roulante 5.3 m + disques + rouleaux","Bêche roulante 5.3 m + disques + rouleaux","Bêche roulante 5.3 m + disques + rouleaux","Bêche roulante 5.3 m + disques + rouleaux","Bêche roulante 5.3 m + disques + rouleaux","Bêche roulante 5.3 m + disques + rouleaux","Bêche roulante 5.3 m + disques + rouleaux","Bêche roulante 5.3 m + disques + rouleaux","Bêche roulante 5.3 m + disques + rouleaux","Bêche roulante 5.3 m + disques + rouleaux","Bêche roulante 5.3 m + disques + rouleaux","Bêche roulante 5.3 m + disques + rouleaux","Bêche roulante 5.3 m + disques + rouleaux","Bêche roulante 5.3 m + disques + rouleaux","Bêche roulante 5.3 m + disques + rouleaux","Bêche roulante 5.3 m + disques + rouleaux","Bêche roulante 5.3 m + disques + rouleaux","Bêche roulante 5.3 m + disques + rouleaux","Bêche roulante 5.3 m + disques + rouleaux","Bêche roulante 5.3 m + disques + rouleaux","Bêche roulante 5.3 m + disques + rouleaux","Bêche roulante 5.3 m + disques + rouleaux","Bêche roulante 5.3 m + disques + rouleaux","Bêche roulante 5.3 m + disques + rouleaux","Bêche roulante 5.3 m + disques + rouleaux","Bêche roulante 5.3 m + disques + rouleaux","Bêche roulante 5.3 m + disques + rouleaux","Bêche roulante 5.3 m + disques + rouleaux","Bêche roulante 5.3 m + disques + rouleaux","Bêche roulante 5.3 m + disques + rouleaux","Bêche roulante 5.3 m + disques + rouleaux","Bêche roulante 5.3 m + disques + rouleaux","Bêche roulante 5.3 m + disques + rouleaux","Bêche roulante 5.3 m + disques + rouleaux","Bêche roulante 5.3 m + disques + rouleaux","Bêche roulante 5.3 m + disques + rouleaux","Bêche roulante 5.3 m + disques + rouleaux","Bêche roulante 5.3 m + disques + rouleaux","Bêche roulante 5.3 m + disques + rouleaux","Bêche roulante 5.3 m + disques + rouleaux","Bêche roulante 5.3 m + disques + rouleaux","Bêche roulante 5.3 m + disques + rouleaux","Bêche roulante 5.3 m + disques + rouleaux","Bêche roulante 5.3 m + disques + rouleaux","Bêche roulante 5.3 m + disques + rouleaux","Bêche roulante 5.3 m + disques + rouleaux","Bêche roulante 5.3 m + disques + rouleaux","Bêche roulante 5.3 m + disques + rouleaux","Bêche roulante 5.3 m + disques + rouleaux","Bêche roulante 5.3 m + disques + rouleaux","Bêche roulante 5.3 m + disques + rouleaux","Bêche roulante 5.3 m + disques + rouleaux","Bêche roulante 5.3 m + disques + rouleaux","Bêche roulante 5.3 m + disques + rouleaux","Bêche roulante 5.3 m + disques + rouleaux","Bêche roulante 5.3 m + disques + rouleaux","Bêche roulante 5.3 m + disques + rouleaux","Bêche roulante 5.3 m + disques + rouleaux","Bêche roulante 5.3 m + disques + rouleaux","Bêche roulante 5.3 m + disques + rouleaux","Bêche roulante 5.3 m + disques + rouleaux","Bêche roulante 5.3 m + disques + rouleaux","Bêche roulante 5.3 m + disques + rouleaux","Bêche roulante 5.3 m + disques + rouleaux","Bêche roulante 5.3 m + disques + rouleaux","Bêche roulante 5.3 m + disques + rouleaux","Bêche roulante 5.3 m + disques + rouleaux","Bêche roulante 5.3 m + disques + rouleaux","Bêche roulante 5.3 m + disques + rouleaux","Bêche roulante 5.3 m + disques + rouleaux","Bêche roulante 5.3 m + disques + rouleaux","Bêche roulante 5.3 m + disques + rouleaux","Bêche roulante 5.3 m + disques + rouleaux","Bêche roulante 5.3 m + disques + rouleaux","Bêche roulante 5.3 m + disques + rouleaux","Bêche roulante 5.3 m + disques + rouleaux","Bêche roulante 5.3 m + disques + rouleaux","Bêche roulante 5.3 m + disques + rouleaux","Bêche roulante 5.3 m + disques + rouleaux","Bêche roulante 5.3 m + disques + rouleaux","Bêche roulante 5.3 m + disques + rouleaux","Bêche roulante 5.3 m + disques + rouleaux","Bêche roulante 5.3 m + disques + rouleaux","Bêche roulante 5.3 m + disques + rouleaux","Bêche roulante 5.3 m + disques + rouleaux","Bêche roulante 5.3 m + disques + rouleaux","Bêche roulante 5.3 m + disques + rouleaux","Bêche roulante 5.3 m + disques + rouleaux","Bêche roulante 5.3 m + disques + rouleaux","Bêche roulante 5.3 m + disques + rouleaux","Bêche roulante 5.3 m + disques + rouleaux","Bêche roulante 5.3 m + disques + rouleaux","Bêche roulante 5.3 m + disques + rouleaux","Bêche roulante 5.3 m + disques + rouleaux","Bêche roulante 5.3 m + disques + rouleaux","Bêche roulante 5.3 m + disques + rouleaux","Bêche roulante 5.3 m + disques + rouleaux","Bêche roulante 5.3 m + disques + rouleaux","Bêche roulante 5.3 m + disques + rouleaux","Bêche roulante 5.3 m + disques + rouleaux","Bêche roulante 5.3 m + disques + rouleaux","Bêche roulante 5.3 m + disques + rouleaux","Bêche roulante 5.3 m + disques + rouleaux","Bêche roulante 5.3 m + disques + rouleaux","Bêche roulante 5.3 m + disques + rouleaux","Bêche roulante 5.3 m + disques + rouleaux","Bêche roulante 5.3 m + disques + rouleaux","Bêche roulante 5.3 m + disques + rouleaux","Bêche roulante 5.3 m + disques + rouleaux","Bêche roulante 5.3 m + disques + rouleaux","Bêche roulante 5.3 m + disques + rouleaux","Bêche roulante 5.3 m + disques + rouleaux","Bêche roulante 5.3 m + disques + rouleaux","Bêche roulante 5.3 m + disques + rouleaux","Bêche roulante 5.3 m + disques + rouleaux","Bêche roulante 5.3 m + disques + rouleaux","Bêche roulante 5.3 m + disques + rouleaux","Bêche roulante 5.3 m + disques + rouleaux","Bêche roulante 5.3 m + disques + rouleaux","Bêche roulante 5.3 m + disques + rouleaux","Bêche roulante 5.3 m + disques + rouleaux","Bêche roulante 5.3 m + disques + rouleaux","Bêche roulante 5.3 m + disques + rouleaux","Bêche roulante 5.3 m + disques + rouleaux","Bêche roulante 5.3 m + disques + rouleaux","Bêche roulante 5.3 m + disques + rouleaux","Bêche roulante 5.3 m + disques + rouleaux","Bêche roulante 5.3 m + disques + rouleaux","Bêche roulante 5.3 m + disques + rouleaux","Bêche roulante 5.3 m + disques + rouleaux","Bêche roulante 5.3 m + disques + rouleaux","Bêche roulante 5.3 m + disques + rouleaux","Bêche roulante 5.3 m + disques + rouleaux","Bêche roulante 5.3 m + disques + rouleaux","Bêche roulante 5.3 m + disques + rouleaux","Bêche roulante 5.3 m + disques + rouleaux","Bêche roulante 5.3 m + disques + rouleaux","Bêche roulante 5.3 m + disques + rouleaux","Bêche roulante 5.3 m + disques + rouleaux","Bêche roulante 5.3 m + disques + rouleaux","Bêche roulante 5.3 m + disques + rouleaux","Bêche roulante 5.3 m + disques + rouleaux","Bêche roulante 5.3 m + disques + rouleaux","Bêche roulante 5.3 m + disques + rouleaux","Bêche roulante 5.3 m + disques + rouleaux","Bêche roulante 5.3 m + disques + rouleaux","Bêche roulante 5.3 m + disques + rouleaux","Bêche roulante 5.3 m + disques + rouleaux","Bêche roulante 5.3 m + disques + rouleaux","Bêche roulante 5.3 m + disques + rouleaux","Bêche roulante 5.3 m + disques + rouleaux","Bêche roulante 5.3 m + disques + rouleaux","Bêche roulante 5.3 m + disques + rouleaux","Bêche roulante 5.3 m + disques + rouleaux","Bêche roulante 5.3 m + disques + rouleaux","Bêche roulante 5.3 m + disques + rouleaux","Bêche roulante 5.3 m + disques + rouleaux","Bêche roulante 5.3 m + disques + rouleaux","Bêche roulante 5.3 m + disques + rouleaux","Bêche roulante 5.3 m + disques + rouleaux","Bêche roulante 5.3 m + disques + rouleaux","Bêche roulante 5.3 m + disques + rouleaux","Bêche roulante 5.3 m + disques + rouleaux","Bêche roulante 5.3 m + disques + rouleaux","Bêche roulante 5.3 m + disques + rouleaux","Bêche roulante 5.3 m + disques + rouleaux","Bêche roulante 5.3 m + disques + rouleaux","Bêche roulante 5.3 m + disques + rouleaux","Bêche roulante 5.3 m + disques + rouleaux","Bêche roulante 5.3 m + disques + rouleaux","Bêche roulante 5.3 m + disques + rouleaux","Bêche roulante 5.3 m + disques + rouleaux","Bêche roulante 5.3 m + disques + rouleaux","Bêche roulante 5.3 m + disques + rouleaux","Bêche roulante 5.3 m + disques + rouleaux","Bêche roulante 5.3 m + disques + rouleaux","Bêche roulante 5.3 m + disques + rouleaux","Bêche roulante 5.3 m + disques + rouleaux","Bêche roulante 5.3 m + disques + rouleaux","Bêche roulante 5.3 m + disques + rouleaux","Bêche roulante 5.3 m + disques + rouleaux","Bêche roulante 5.3 m + disques + rouleaux","Bêche roulante 5.3 m + disques + rouleaux","Bêche roulante 5.3 m + disques + rouleaux","Bêche roulante 5.3 m + disques + rouleaux","Bêche roulante 5.3 m + disques + rouleaux","Bêche roulante 5.3 m + disques + rouleaux","Bêche roulante 5.3 m + disques + rouleaux","Bêche roulante 5.3 m + disques + rouleaux","Bêche roulante 5.3 m + disques + rouleaux","Bêche roulante 5.3 m + disques + rouleaux","Bêche roulante 5.3 m + disques + rouleaux","Bêche roulante 5.3 m + disques + rouleaux","Bêche roulante 5.3 m + disques + rouleaux","Bêche roulante 5.3 m + disques + rouleaux","Bêche roulante 5.3 m + disques + rouleaux","Bêche roulante 5.3 m + disques + rouleaux","Bêche roulante 5.3 m + disques + rouleaux","Bêche roulante 5.3 m + disques + rouleaux","Bêche roulante 5.3 m + disques + rouleaux","Bêche roulante 5.3 m + disques + rouleaux","Bêche roulante 5.3 m + disques + rouleaux","Bêche roulante 5.3 m + disques + rouleaux","Bêche roulante 5.3 m + disques + rouleaux","Bêche roulante 5.3 m + disques + rouleaux","Bêche roulante 5.3 m + disques + rouleaux","Bêche roulante 5.3 m + disques + rouleaux","Bêche roulante 5.3 m + disques + rouleaux","Bêche roulante 5.3 m + disques + rouleaux","Bêche roulante 5.3 m + disques + rouleaux","Bêche roulante 5.3 m + disques + rouleaux","Bêche roulante 5.3 m + disques + rouleaux","Bêche roulante 5.3 m + disques + rouleaux","Bêche roulante 5.3 m + disques + rouleaux","Bêche roulante 5.3 m + disques + rouleaux","Bêche roulante 5.3 m + disques + rouleaux","Bêche roulante 5.3 m + disques + rouleaux","Bêche roulante 5.3 m + disques + rouleaux","Bêche roulante 5.3 m + disques + rouleaux","Bêche roulante 5.3 m + disques + rouleaux","Bêche roulante 5.3 m + disques + rouleaux","Bêche roulante 5.3 m + disques + rouleaux","Bêche roulante 5.3 m + disques + rouleaux","Bêche roulante 5.3 m + disques + rouleaux","Bêche roulante 5.3 m + disques + rouleaux","Bêche roulante 5.3 m + disques + rouleaux","Bêche roulante 5.3 m + disques + rouleaux","Bêche roulante 5.3 m + disques + rouleaux","Bêche roulante 5.3 m + disques + rouleaux","Bêche roulante 5.3 m + disques + rouleaux","Bêche roulante 5.3 m + disques + rouleaux","Bêche roulante 5.3 m + disques + rouleaux","Bêche roulante 5.3 m + disques + rouleaux","Bêche roulante 5.3 m + disques + rouleaux","Bêche roulante 5.3 m + disques + rouleaux","Bêche roulante 5.3 m + disques + rouleaux","Bêche roulante 5.3 m + disques + rouleaux","Bêche roulante 5.3 m + disques + rouleaux","Bêche roulante 5.3 m + disques + rouleaux","Bêche roulante 5.3 m + disques + rouleaux","Bêche roulante 5.3 m + disques + rouleaux","Bêche roulante 5.3 m + disques + rouleaux","Bêche roulante 5.3 m + disques + rouleaux","Bêche roulante 5.3 m + disques + rouleaux","Bêche roulante 5.3 m + disques + rouleaux","Bêche roulante 5.3 m + disques + rouleaux","Bêche roulante 5.3 m + disques + rouleaux","Bêche roulante 5.3 m + disques + rouleaux","Bêche roulante 5.3 m + disques + rouleaux","Bêche roulante 5.3 m + disques + rouleaux","Bêche roulante 5.3 m + disques + rouleaux","Bêche roulante 5.3 m + disques + rouleaux","Bêche roulante 5.3 m + disques + rouleaux","Bêche roulante 5.3 m + disques + rouleaux","Bêche roulante 5.3 m + disques + rouleaux","Bêche roulante 5.3 m + disques + rouleaux","Bêche roulante 5.3 m + disques + rouleaux","Bêche roulante 5.3 m + disques + rouleaux","Bêche roulante 5.3 m + disques + rouleaux","Bêche roulante 5.3 m + disques + rouleaux","Bêche roulante 5.3 m + disques + rouleaux","Bêche roulante 5.3 m + disques + rouleaux","Bêche roulante 5.3 m + disques + rouleaux","Bêche roulante 5.3 m + disques + rouleaux","Bêche roulante 5.3 m + disques + rouleaux","Bêche roulante 5.3 m + disques + rouleaux","Bêche roulante 5.3 m + disques + rouleaux","Bêche roulante 5.3 m + disques + rouleaux","Bêche roulante 5.3 m + disques + rouleaux","Bêche roulante 5.3 m + disques + rouleaux","Bêche roulante 5.3 m + disques + rouleaux","Bêche roulante 5.3 m + disques + rouleaux","Bêche roulante 5.3 m + disques + rouleaux","Bêche roulante 5.3 m + disques + rouleaux","Bêche roulante 5.3 m + disques + rouleaux","Bêche roulante 5.3 m + disques + rouleaux","Bêche roulante 5.3 m + disques + rouleaux","Bêche roulante 5.3 m + disques + rouleaux","Bêche roulante 5.3 m + disques + rouleaux","Bêche roulante 5.3 m + disques + rouleaux","Bêche roulante 5.3 m + disques + rouleaux","Bêche roulante 5.3 m + disques + rouleaux","Bêche roulante 5.3 m + disques + rouleaux","Bêche roulante 5.3 m + disques + rouleaux","Bêche roulante 5.3 m + disques + rouleaux","Bêche roulante 5.3 m + disques + rouleaux","Bêche roulante 5.3 m + disques + rouleaux","Bêche roulante 5.3 m + disques + rouleaux","Bêche roulante 5.3 m + disques + rouleaux","Bêche roulante 5.3 m + disques + rouleaux","Bêche roulante 5.3 m + disques + rouleaux","Bêche roulante 5.3 m + disques + rouleaux","Bêche roulante 5.3 m + disques + rouleaux","Bêche roulante 5.3 m + disques + rouleaux","Bêche roulante 5.3 m + disques + rouleaux","Bêche roulante 5.3 m + disques + rouleaux","Bêche roulante 5.3 m + disques + rouleaux","Bêche roulante 5.3 m + disques + rouleaux","Bêche roulante 5.3 m + disques + rouleaux","Bêche roulante 5.3 m + disques + rouleaux","Bêche roulante 5.3 m + disques + rouleaux","Bêche roulante 5.3 m + disques + rouleaux","Bêche roulante 5.3 m + disques + rouleaux","Bêche roulante 5.3 m + disques + rouleaux","Bêche roulante 5.3 m + disques + rouleaux","Bêche roulante 5.3 m + disques + rouleaux","Bêche roulante 5.3 m + disques + rouleaux","Bêche roulante 5.3 m + disques + rouleaux","Bêche roulante 5.3 m + disques + rouleaux","Bêche roulante 5.3 m + disques + rouleaux","Bêche roulante 5.3 m + disques + rouleaux","Bêche roulante 5.3 m + disques + rouleaux","Bêche roulante 5.3 m + disques + rouleaux","Bêche roulante 5.3 m + disques + rouleaux","Bêche roulante 5.3 m + disques + rouleaux","Bêche roulante 5.3 m + disques + rouleaux","Bêche roulante 5.3 m + disques + rouleaux","Bêche roulante 5.3 m + disques + rouleaux","Bêche roulante 5.3 m + disques + rouleaux","Bêche roulante 5.3 m + disques + rouleaux","Bêche roulante 5.3 m + disques + rouleaux","Bêche roulante 5.3 m + disques + rouleaux","Bêche roulante 5.3 m + disques + rouleaux","Bêche roulante 5.3 m + disques + rouleaux","Bêche roulante 5.3 m + disques + rouleaux","Bêche roulante 5.3 m + disques + rouleaux","Bêche roulante 5.3 m + disques + rouleaux","Bêche roulante 5.3 m + disques + rouleaux","Bêche roulante 5.3 m + disques + rouleaux","Bêche roulante 5.3 m + disques + rouleaux","Bêche roulante 5.3 m + disques + rouleaux","Bêche roulante 5.3 m + disques + rouleaux","Bêche roulante 5.3 m + disques + rouleaux","Bêche roulante 5.3 m + disques + rouleaux","Bêche roulante 5.3 m + disques + rouleaux","Bêche roulante 5.3 m + disques + rouleaux","Bêche roulante 5.3 m + disques + rouleaux","Bêche roulante 5.3 m + disques + rouleaux","Bêche roulante 5.3 m + disques + rouleaux","Bêche roulante 5.3 m + disques + rouleaux","Bêche roulante 5.3 m + disques + rouleaux","Bêche roulante 5.3 m + disques + rouleaux","Bêche roulante 5.3 m + disques + rouleaux","Bêche roulante 5.3 m + disques + rouleaux","Bêche roulante 5.3 m + disques + rouleaux","Bêche roulante 5.3 m + disques + rouleaux","Bêche roulante 5.3 m + disques + rouleaux","Bêche roulante 5.3 m + disques + rouleaux","Bêche roulante 5.3 m + disques + rouleaux","Bêche roulante 5.3 m + disques + rouleaux","Bêche roulante 5.3 m + disques + rouleaux","Bêche roulante 5.3 m + disques + rouleaux","Bêche roulante 5.3 m + disques + rouleaux","Bêche roulante 5.3 m + disques + rouleaux","Bêche roulante 5.3 m + disques + rouleaux","Bêche roulante 5.3 m + disques + rouleaux","Bêche roulante 5.3 m + disques + rouleaux","Bêche roulante 5.3 m + disques + rouleaux","Bêche roulante 5.3 m + disques + rouleaux","Bêche roulante 5.3 m + disques + rouleaux","Bêche roulante 5.3 m + disques + rouleaux","Bêche roulante 5.3 m + disques + rouleaux","Bêche roulante 5.3 m + disques + rouleaux","Bêche roulante 5.3 m + disques + rouleaux","Bêche roulante 5.3 m + disques + rouleaux","Bêche roulante 5.3 m + disques + rouleaux","Bêche roulante 5.3 m + disques + rouleaux","Bêche roulante 5.3 m + disques + rouleaux","Bêche roulante 5.3 m + disques + rouleaux","Bêche roulante 5.3 m + disques + rouleaux","Bêche roulante 5.3 m + disques + rouleaux","Bêche roulante 5.3 m + disques + rouleaux","Bêche roulante 5.3 m + disques + rouleaux","Bêche roulante 5.3 m + disques + rouleaux","Bêche roulante 5.3 m + disques + rouleaux","Bêche roulante 5.3 m + disques + rouleaux","Bêche roulante 5.3 m + disques + rouleaux","Bêche roulante 5.3 m + disques + rouleaux","Bêche roulante 5.3 m + disques + rouleaux","Bêche roulante 5.3 m + disques + rouleaux","Bêche roulante 5.3 m + disques + rouleaux","Bêche roulante 5.3 m + disques + rouleaux","Bêche roulante 5.3 m + disques + rouleaux","Bêche roulante 5.3 m + disques + rouleaux","Bêche roulante 5.3 m + disques + rouleaux","Bêche roulante 5.3 m + disques + rouleaux","Bêche roulante 5.3 m + disques + rouleaux","Bêche roulante 5.3 m + disques + rouleaux","Bêche roulante 5.3 m + disques + rouleaux","Bêche roulante 5.3 m + disques + rouleaux","Bêche roulante 5.3 m + disques + rouleaux","Bêche roulante 5.3 m + disques + rouleaux","Bêche roulante 5.3 m + disques + rouleaux","Bêche roulante 5.3 m + disques + rouleaux","Bêche roulante 5.3 m + disques + rouleaux","Bêche roulante 5.3 m + disques + rouleaux","Bêche roulante 5.3 m + disques + rouleaux","Bêche roulante 5.3 m + disques + rouleaux","Bêche roulante 5.3 m + disques + rouleaux","Bêche roulante 5.3 m + disques + rouleaux","Bêche roulante 5.3 m + disques + rouleaux","Bêche roulante 5.3 m + disques + rouleaux","Bêche roulante 5.3 m + disques + rouleaux","Bêche roulante 5.3 m + disques + rouleaux","Bêche roulante 5.3 m + disques + rouleaux","Bêche roulante 5.3 m + disques + rouleaux","Bêche roulante 5.3 m + disques + rouleaux","Bêche roulante 5.3 m + disques + rouleaux","Bêche roulante 5.3 m + disques + rouleaux","Bêche roulante 5.3 m + disques + rouleaux","Bêche roulante 5.3 m + disques + rouleaux","Bêche roulante 5.3 m + disques + rouleaux","Bêche roulante 5.3 m + disques + rouleaux","Bêche roulante 5.3 m + disques + rouleaux","Bêche roulante 5.3 m + disques + rouleaux","Bêche roulante 5.3 m + disques + rouleaux","Bêche roulante 5.3 m + disques + rouleaux","Bêche roulante 5.3 m + disques + rouleaux","Bêche roulante 5.3 m + disques + rouleaux","Bêche roulante 5.3 m + disques + rouleaux","Bêche roulante 5.3 m + disques + rouleaux","Bêche roulante 5.3 m + disques + rouleaux","Bêche roulante 5.3 m + disques + rouleaux","Bêche roulante 5.3 m + disques + rouleaux","Bêche roulante 5.3 m + disques + rouleaux","Bêche roulante 5.3 m + disques + rouleaux","Bêche roulante 5.3 m + disques + rouleaux","Bêche roulante 5.3 m + disques + rouleaux","Bêche roulante 5.3 m + disques + rouleaux","Bêche roulante 5.3 m + disques + rouleaux","Bêche roulante 5.3 m + disques + rouleaux","Bêche roulante 5.3 m + disques + rouleaux","Bêche roulante 5.3 m + disques + rouleaux","Bêche roulante 5.3 m + disques + rouleaux","Bêche roulante 5.3 m + disques + rouleaux","Bêche roulante 5.3 m + disques + rouleaux","Bêche roulante 5.3 m + disques + rouleaux","Bêche roulante 5.3 m + disques + rouleaux","Bêche roulante 5.3 m + disques + rouleaux","Bêche roulante 5.3 m + disques + rouleaux","Bêche roulante 5.3 m + disques + rouleaux","Bêche roulante 5.3 m + disques + rouleaux","Bêche roulante 5.3 m + disques + rouleaux","Bêche roulante 5.3 m + disques + rouleaux","Bêche roulante 5.3 m + disques + rouleaux","Bêche roulante 5.3 m + disques + rouleaux","Bêche roulante 5.3 m + disques + rouleaux","Bêche roulante 5.3 m + disques + rouleaux","Bêche roulante 5.3 m + disques + rouleaux","Bêche roulante 5.3 m + disques + rouleaux","Bêche roulante 5.3 m + disques + rouleaux","Bêche roulante 5.3 m + disques + rouleaux","Bêche roulante 5.3 m + disques + rouleaux","Bêche roulante 5.3 m + disques + rouleaux","Bêche roulante 5.3 m + disques + rouleaux","Bêche roulante 5.3 m + disques + rouleaux","Bêche roulante 5.3 m + disques + rouleaux","Bêche roulante 5.3 m + disques + rouleaux","Bêche roulante 5.3 m + disques + rouleaux","Bêche roulante 5.3 m + disques + rouleaux","Bêche roulante 5.3 m + disques + rouleaux","Bêche roulante 5.3 m + disques + rouleaux","Bêche roulante 5.3 m + disques + rouleaux","Bêche roulante 5.3 m + disques + rouleaux","Bêche roulante 5.3 m + disques + rouleaux","Bêche roulante 5.3 m + disques + rouleaux","Bêche roulante 5.3 m + disques + rouleaux","Bêche roulante 5.3 m + disques + rouleaux","Bêche roulante 5.3 m + disques + rouleaux","Bêche roulante 5.3 m + disques + rouleaux","Bêche roulante 5.3 m + disques + rouleaux","Bêche roulante 5.3 m + disques + rouleaux","Bêche roulante 5.3 m + disques + rouleaux","Bêche roulante 5.3 m + disques + rouleaux","Bêche roulante 5.3 m + disques + rouleaux","Bêche roulante 5.3 m + disques + rouleaux","Bêche roulante 5.3 m + disques + rouleaux","Bêche roulante 5.3 m + disques + rouleaux","Bêche roulante 5.3 m + disques + rouleaux","Bêche roulante 5.3 m + disques + rouleaux","Bêche roulante 5.3 m + disques + rouleaux","Bêche roulante 5.3 m + disques + rouleaux","Bêche roulante 5.3 m + disques + rouleaux","Bêche roulante 5.3 m + disques + rouleaux","Bêche roulante 5.3 m + disques + rouleaux","Bêche roulante 5.3 m + disques + rouleaux","Bêche roulante 5.3 m + disques + rouleaux","Bêche roulante 5.3 m + disques + rouleaux","Bêche roulante 5.3 m + disques + rouleaux","Bêche roulante 5.3 m + disques + rouleaux","Bêche roulante 5.3 m + disques + rouleaux","Bêche roulante 5.3 m + disques + rouleaux","Bêche roulante 5.3 m + disques + rouleaux","Bêche roulante 5.3 m + disques + rouleaux","Bêche roulante 5.3 m + disques + rouleaux","Bêche roulante 5.3 m + disques + rouleaux","Bêche roulante 5.3 m + disques + rouleaux","Bêche roulante 5.3 m + disques + rouleaux","Bêche roulante 5.3 m + disques + rouleaux","Bêche roulante 5.3 m + disques + rouleaux","Bêche roulante 5.3 m + disques + rouleaux","Bêche roulante 5.3 m + disques + rouleaux","Bêche roulante 5.3 m + disques + rouleaux","Bêche roulante 5.3 m + disques + rouleaux","Bêche roulante 5.3 m + disques + rouleaux","Bêche roulante 5.3 m + disques + rouleaux","Bêche roulante 5.3 m + disques + rouleaux","Bêche roulante 5.3 m + disques + rouleaux","Bêche roulante 5.3 m + disques + rouleaux","Bêche roulante 5.3 m + disques + rouleaux","Bêche roulante 5.3 m + disques + rouleaux","Bêche roulante 5.3 m + disques + rouleaux","Bêche roulante 5.3 m + disques + rouleaux","Bêche roulante 5.3 m + disques + rouleaux","Bêche roulante 5.3 m + disques + rouleaux","Bêche roulante 5.3 m + disques + rouleaux","Bêche roulante 5.3 m + disques + rouleaux","Bêche roulante 5.3 m + disques + rouleaux","Bêche roulante 5.3 m + disques + rouleaux","Bêche roulante 5.3 m + disques + rouleaux","Bêche roulante 5.3 m + disques + rouleaux","Bêche roulante 5.3 m + disques + rouleaux","Bêche roulante 5.3 m + disques + rouleaux","Bêche roulante 5.3 m + disques + rouleaux","Bêche roulante 5.3 m + disques + rouleaux","Bêche roulante 5.3 m + disques + rouleaux","Bêche roulante 5.3 m + disques + rouleaux","Bêche roulante 5.3 m + disques + rouleaux","Bêche roulante 5.3 m + disques + rouleaux","Bêche roulante 5.3 m + disques + rouleaux","Bêche roulante 5.3 m + disques + rouleaux","Bêche roulante 5.3 m + disques + rouleaux","Bêche roulante 5.3 m + disques + rouleaux","Bêche roulante 5.3 m + disques + rouleaux","Bêche roulante 5.3 m + disques + rouleaux","Bêche roulante 5.3 m + disques + rouleaux","Bêche roulante 5.3 m + disques + rouleaux","Bêche roulante 5.3 m + disques + rouleaux","Bêche roulante 5.3 m + disques + rouleaux","Bêche roulante 5.3 m + disques + rouleaux","Bêche roulante 5.3 m + disques + rouleaux","Bêche roulante 5.3 m + disques + rouleaux","Bêche roulante 5.3 m + disques + rouleaux","Bêche roulante 5.3 m + disques + rouleaux","Bêche roulante 5.3 m + disques + rouleaux","Bêche roulante 5.3 m + disques + rouleaux","Bêche roulante 5.3 m + disques + rouleaux","Bêche roulante 5.3 m + disques + rouleaux","Bêche roulante 5.3 m + disques + rouleaux","Bêche roulante 5.3 m + disques + rouleaux","Bêche roulante 5.3 m + disques + rouleaux","Bêche roulante 5.3 m + disques + rouleaux","Bêche roulante 5.3 m + disques + rouleaux","Bêche roulante 5.3 m + disques + rouleaux","Bêche roulante 5.3 m + disques + rouleaux","Bêche roulante 5.3 m + disques + rouleaux","Bêche roulante 5.3 m + disques + rouleaux","Bêche roulante 5.3 m + disques + rouleaux","Bêche roulante 5.3 m + disques + rouleaux","Bêche roulante 5.3 m + disques + rouleaux","Bêche roulante 5.3 m + disques + rouleaux","Bêche roulante 5.3 m + disques + rouleaux","Bêche roulante 5.3 m + disques + rouleaux","Bêche roulante 5.3 m + disques + rouleaux","Bêche roulante 5.3 m + disques + rouleaux","Bêche roulante 5.3 m + disques + rouleaux","Bêche roulante 5.3 m + disques + rouleaux","Bêche roulante 5.3 m + disques + rouleaux","Bêche roulante 5.3 m + disques + rouleaux","Bêche roulante 5.3 m + disques + rouleaux","Bêche roulante 5.3 m + disques + rouleaux","Bêche roulante 5.3 m + disques + rouleaux","Bêche roulante 5.3 m + disques + rouleaux","Bêche roulante 5.3 m + disques + rouleaux","Bêche roulante 5.3 m + disques + rouleaux","Bêche roulante 5.3 m + disques + rouleaux","Bêche roulante 5.3 m + disques + rouleaux","Bêche roulante 5.3 m + disques + rouleaux","Bêche roulante 5.3 m + disques + rouleaux","Bêche roulante 5.3 m + disques + rouleaux","Bêche roulante 5.3 m + disques + rouleaux","Bêche roulante 5.3 m + disques + rouleaux","Bêche roulante 5.3 m + disques + rouleaux","Bêche roulante 5.3 m + disques + rouleaux","Bêche roulante 5.3 m + disques + rouleaux","Bêche roulante 5.3 m + disques + rouleaux","Bêche roulante 5.3 m + disques + rouleaux","Bêche roulante 5.3 m + disques + rouleaux","Bêche roulante 5.3 m + disques + rouleaux","Bêche roulante 5.3 m + disques + rouleaux","Bêche roulante 5.3 m + disques + rouleaux","Bêche roulante 5.3 m + disques + rouleaux","Bêche roulante 5.3 m + disques + rouleaux","Bêche roulante 5.3 m + disques + rouleaux","Bêche roulante 5.3 m + disques + rouleaux","Bêche roulante 5.3 m + disques + rouleaux","Bêche roulante 5.3 m + disques + rouleaux","Bêche roulante 5.3 m + disques + rouleaux","Bêche roulante 5.3 m + disques + rouleaux","Bêche roulante 5.3 m + disques + rouleaux","Bêche roulante 5.3 m + disques + rouleaux","Bêche roulante 5.3 m + disques + rouleaux","Bêche roulante 5.3 m + disques + rouleaux","Bêche roulante 5.3 m + disques + rouleaux","Bêche roulante 5.3 m + disques + rouleaux","Bêche roulante 5.3 m + disques + rouleaux","Bêche roulante 5.3 m + disques + rouleaux","Bêche roulante 5.3 m + disques + rouleaux","Bêche roulante 5.3 m + disques + rouleaux","Bêche roulante 5.3 m + disques + rouleaux","Bêche roulante 5.3 m + disques + rouleaux","Bêche roulante 5.3 m + disques + rouleaux","Bêche roulante 5.3 m + disques + rouleaux","Bêche roulante 5.3 m + disques + rouleaux","Bêche roulante 5.3 m + disques + rouleaux","Bêche roulante 5.3 m + disques + rouleaux","Bêche roulante 5.3 m + disques + rouleaux","Bêche roulante 5.3 m + disques + rouleaux","Bêche roulante 5.3 m + disques + rouleaux","Bêche roulante 5.3 m + disques + rouleaux","Bêche roulante 5.3 m + disques + rouleaux","Bêche roulante 5.3 m + disques + rouleaux","Bêche roulante 5.3 m + disques + rouleaux","Bêche roulante 5.3 m + disques + rouleaux","Bêche roulante 5.3 m + disques + rouleaux","Bêche roulante 5.3 m + disques + rouleaux","Bêche roulante 5.3 m + disques + rouleaux","Bêche roulante 5.3 m + disques + rouleaux","Bêche roulante 5.3 m + disques + rouleaux","Bêche roulante 5.3 m + disques + rouleaux","Bêche roulante 5.3 m + disques + rouleaux","Bêche roulante 5.3 m + disques + rouleaux","Bêche roulante 5.3 m + disques + rouleaux","Bêche roulante 5.3 m + disques + rouleaux","Bêche roulante 5.3 m + disques + rouleaux","Bêche roulante 5.3 m + disques + rouleaux","Bêche roulante 5.3 m + disques + rouleaux","Bêche roulante 5.3 m + disques + rouleaux","Bêche roulante 5.3 m + disques + rouleaux","Bêche roulante 5.3 m + disques + rouleaux","Bêche roulante 5.3 m + disques + rouleaux","Bêche roulante 5.3 m + disques + rouleaux","Bêche roulante 5.3 m + disques + rouleaux","Bêche roulante 5.3 m + disques + rouleaux","Bêche roulante 5.3 m + disques + rouleaux","Bêche roulante 5.3 m + disques + rouleaux","Bêche roulante 5.3 m + disques + rouleaux","Bêche roulante 5.3 m + disques + rouleaux","Bêche roulante 5.3 m + disques + rouleaux","Bêche roulante 5.3 m + disques + rouleaux","Bêche roulante 5.3 m + disques + rouleaux","Bêche roulante 5.3 m + disques + rouleaux","Bêche roulante 5.3 m + disques + rouleaux","Bêche roulante 5.3 m + disques + rouleaux","Bêche roulante 5.3 m + disques + rouleaux","Bêche roulante 5.3 m + disques + rouleaux","Bêche roulante 5.3 m + disques + rouleaux","Bêche roulante 5.3 m + disques + rouleaux","Bêche roulante 5.3 m + disques + rouleaux","Bêche roulante 5.3 m + disques + rouleaux","Bêche roulante 5.3 m + disques + rouleaux","Bêche roulante 5.3 m + disques + rouleaux","Bêche roulante 5.3 m + disques + rouleaux","Bêche roulante 5.3 m + disques + rouleaux","Bêche roulante 5.3 m + disques + rouleaux","Bêche roulante 5.3 m + disques + rouleaux","Bêche roulante 5.3 m + disques + rouleaux","Bêche roulante 5.3 m + disques + rouleaux","Bêche roulante 5.3 m + disques + rouleaux","Bêche roulante 5.3 m + disques + rouleaux","Bêche roulante 5.3 m + disques + rouleaux","Bêche roulante 5.3 m + disques + rouleaux","Bêche roulante 5.3 m + disques + rouleaux","Bêche roulante 5.3 m + disques + rouleaux","Bêche roulante 5.3 m + disques + rouleaux","Bêche roulante 5.3 m + disques + rouleaux","Bêche roulante 5.3 m + disques + rouleaux","Bêche roulante 5.3 m + disques + rouleaux","Bêche roulante 5.3 m + disques + rouleaux","Bêche roulante 5.3 m + disques + rouleaux","Bêche roulante 5.3 m + disques + rouleaux","Bêche roulante 5.3 m + disques + rouleaux","Bêche roulante 5.3 m + disques + rouleaux","Bêche roulante 5.3 m + disques + rouleaux","Bêche roulante 5.3 m + disques + rouleaux","Bêche roulante 5.3 m + disques + rouleaux","Bêche roulante 5.3 m + disques + rouleaux","Bêche roulante 5.3 m + disques + rouleaux","Bêche roulante 5.3 m + disques + rouleaux","Bêche roulante 5.3 m + disques + rouleaux","Bêche roulante 5.3 m + disques + rouleaux","Bêche roulante 5.3 m + disques + rouleaux","Bêche roulante 5.3 m + disques + rouleaux","Bêche roulante 5.3 m + disques + rouleaux","Bêche roulante 5.3 m + disques + rouleaux","Bêche roulante 5.3 m + disques + rouleaux","Bêche roulante 5.3 m + disques + rouleaux","Bêche roulante 5.3 m + disques + rouleaux","Bêche roulante 5.3 m + disques + rouleaux","Bêche roulante 5.3 m + disques + rouleaux","Bêche roulante 5.3 m + disques + rouleaux","Bêche roulante 5.3 m + disques + rouleaux","Bêche roulante 5.3 m + disques + rouleaux","Bêche roulante 5.3 m + disques + rouleaux","Bêche roulante 5.3 m + disques + rouleaux","Bêche roulante 5.3 m + disques + rouleaux","Bêche roulante 5.3 m + disques + rouleaux","Bêche roulante 5.3 m + disques + rouleaux","Bêche roulante 5.3 m + disques + rouleaux","Bêche roulante 5.3 m + disques + rouleaux","Bêche roulante 5.3 m + disques + rouleaux","Bêche roulante 5.3 m + disques + rouleaux","Bêche roulante 5.3 m + disques + rouleaux","Bêche roulante 5.3 m + disques + rouleaux","Bêche roulante 5.3 m + disques + rouleaux","Bêche roulante 5.3 m + disques + rouleaux","Bêche roulante 5.3 m + disques + rouleaux","Bêche roulante 5.3 m + disques + rouleaux","Bêche roulante 5.3 m + disques + rouleaux","Bêche roulante 5.3 m + disques + rouleaux","Bêche roulante 5.3 m + disques + rouleaux","Bêche roulante 5.3 m + disques + rouleaux","Bêche roulante 5.3 m + disques + rouleaux","Bêche roulante 5.3 m + disques + rouleaux","Bêche roulante 5.3 m + disques + rouleaux","Bêche roulante 5.3 m + disques + rouleaux","Bêche roulante 5.3 m + disques + rouleaux","Bêche roulante 5.3 m + disques + rouleaux","Bêche roulante 5.3 m + disques + rouleaux","Bêche roulante 5.3 m + disques + rouleaux","Bêche roulante 5.3 m + disques + rouleaux","Bêche roulante 5.3 m + disques + rouleaux","Bêche roulante 5.3 m + disques + rouleaux","Bêche roulante 5.3 m + disques + rouleaux","Bêche roulante 5.3 m + disques + rouleaux","Bêche roulante 5.3 m + disques + rouleaux","Bêche roulante 5.3 m + disques + rouleaux","Bêche roulante 5.3 m + disques + rouleaux","Bêche roulante 5.3 m + disques + rouleaux","Bêche roulante 5.3 m + disques + rouleaux","Bêche roulante 5.3 m + disques + rouleaux","Bêche roulante 5.3 m + disques + rouleaux","Bêche roulante 5.3 m + disques + rouleaux","Bêche roulante 5.3 m + disques + rouleaux","Bêche roulante 5.3 m + disques + rouleaux","Bêche roulante 5.3 m + disques + rouleaux","Bêche roulante 5.3 m + disques + rouleaux","Bêche roulante 5.3 m + disques + rouleaux","Bêche roulante 5.3 m + disques + rouleaux","Bêche roulante 5.3 m + disques + rouleaux","Bêche roulante 5.3 m + disques + rouleaux","Bêche roulante 5.3 m + disques + rouleaux","Bêche roulante 5.3 m + disques + rouleaux","Bêche roulante 5.3 m + disques + rouleaux","Bêche roulante 5.3 m + disques + rouleaux","Bêche roulante 5.3 m + disques + rouleaux","Bêche roulante 5.3 m + disques + rouleaux","Bêche roulante 5.3 m + disques + rouleaux","Bêche roulante 5.3 m + disques + rouleaux","Bêche roulante 5.3 m + disques + rouleaux","Bêche roulante 5.3 m + disques + rouleaux","Bêche roulante 5.3 m + disques + rouleaux","Bêche roulante 5.3 m + disques + rouleaux","Bêche roulante 5.3 m + disques + rouleaux","Bêche roulante 5.3 m + disques + rouleaux","Bêche roulante 5.3 m + disques + rouleaux","Bêche roulante 5.3 m + disques + rouleaux","Bêche roulante 5.3 m + disques + rouleaux","Bêche roulante 5.3 m + disques + rouleaux","Bêche roulante 5.3 m + disques + rouleaux","Bêche roulante 5.3 m + disques + rouleaux","Bêche roulante 5.3 m + disques + rouleaux","Bêche roulante 5.3 m + disques + rouleaux","Bêche roulante 5.3 m + disques + rouleaux","Bêche roulante 5.3 m + disques + rouleaux","Bêche roulante 5.3 m + disques + rouleaux","Bêche roulante 5.3 m + disques + rouleaux","Bêche roulante 5.3 m + disques + rouleaux","Bêche roulante 5.3 m + disques + rouleaux","Bêche roulante 5.3 m + disques + rouleaux","Bêche roulante 5.3 m + disques + rouleaux","Bêche roulante 5.3 m + disques + rouleaux","Bêche roulante 5.3 m + disques + rouleaux","Bêche roulante 5.3 m + disques + rouleaux","Bêche roulante 5.3 m + disques + rouleaux","Bêche roulante 5.3 m + disques + rouleaux","Bêche roulante 5.3 m + disques + rouleaux","Bêche roulante 5.3 m + disques + rouleaux","Bêche roulante 5.3 m + disques + rouleaux","Bêche roulante 5.3 m + disques + rouleaux","Bêche roulante 5.3 m + disques + rouleaux","Bêche roulante 5.3 m + disques + rouleaux","Bêche roulante 5.3 m + disques + rouleaux","Bêche roulante 5.3 m + disques + rouleaux","Bêche roulante 5.3 m + disques + rouleaux","Bêche roulante 5.3 m + disques + rouleaux","Bêche roulante 5.3 m + disques + rouleaux","Bêche roulante 5.3 m + disques + rouleaux","Bêche roulante 5.3 m + disques + rouleaux","Bêche roulante 5.3 m + disques + rouleaux","Bêche roulante 5.3 m + disques + rouleaux","Bêche roulante 5.3 m + disques + rouleaux","Bêche roulante 5.3 m + disques + rouleaux","Bêche roulante 5.3 m + disques + rouleaux","Bêche roulante 5.3 m + disques + rouleaux","Bêche roulante 5.3 m + disques + rouleaux","Bêche roulante 5.3 m + disques + rouleaux","Bêche roulante 5.3 m + disques + rouleaux","Bêche roulante 5.3 m + disques + rouleaux","Bêche roulante 5.3 m + disques + rouleaux","Bêche roulante 5.3 m + disques + rouleaux","Bêche roulante 5.3 m + disques + rouleaux","Bêche roulante 5.3 m + disques + rouleaux","Bêche roulante 5.3 m + disques + rouleaux","Bêche roulante 5.3 m + disques + rouleaux","Bêche roulante 5.3 m + disques + rouleaux","Bêche roulante 5.3 m + disques + rouleaux","Bêche roulante 5.3 m + disques + rouleaux","Bêche roulante 5.3 m + disques + rouleaux","Bêche roulante 5.3 m + disques + rouleaux","Bêche roulante 5.3 m + disques + rouleaux","Bêche roulante 5.3 m + disques + rouleaux","Bêche roulante 5.3 m + disques + rouleaux","Bêche roulante 5.3 m + disques + rouleaux","Bêche roulante 5.3 m + disques + rouleaux","Bêche roulante 5.3 m + disques + rouleaux","Bêche roulante 5.3 m + disques + rouleaux","Bêche roulante 5.3 m + disques + rouleaux","Bêche roulante 5.3 m + disques + rouleaux","Bêche roulante 5.3 m + disques + rouleaux","Bêche roulante 5.3 m + disques + rouleaux","Bêche roulante 5.3 m + disques + rouleaux","Bêche roulante 5.3 m + disques + rouleaux","Bêche roulante 5.3 m + disques + rouleaux","Bêche roulante 5.3 m + disques + rouleaux","Bêche roulante 5.3 m + disques + rouleaux","Bêche roulante 5.3 m + disques + rouleaux","Bêche roulante 5.3 m + disques + rouleaux","Bêche roulante 5.3 m + disques + rouleaux","Bêche roulante 5.3 m + disques + rouleaux","Bêche roulante 5.3 m + disques + rouleaux","Bêche roulante 5.3 m + disques + rouleaux","Bêche roulante 5.3 m + disques + rouleaux","Bêche roulante 5.3 m + disques + rouleaux","Bêche roulante 5.3 m + disques + rouleaux","Bêche roulante 5.3 m + disques + rouleaux","Bêche roulante 5.3 m + disques + rouleaux","Bêche roulante 5.3 m + disques + rouleaux","Bêche roulante 5.3 m + disques + rouleaux","Bêche roulante 5.3 m + disques + rouleaux","Bêche roulante 5.3 m + disques + rouleaux","Bêche roulante 5.3 m + disques + rouleaux","Bêche roulante 5.3 m + disques + rouleaux","Bêche roulante 5.3 m + disques + rouleaux","Bêche roulante 5.3 m + disques + rouleaux","Bêche roulante 5.3 m + disques + rouleaux","Bêche roulante 5.3 m + disques + rouleaux","Bêche roulante 5.3 m + disques + rouleaux","Bêche roulante 5.3 m + disques + rouleaux","Bêche roulante 5.3 m + disques + rouleaux","Bêche roulante 5.3 m + disques + rouleaux","Bêche roulante 5.3 m + disques + rouleaux","Bêche roulante 5.3 m + disques + rouleaux","Bêche roulante 5.3 m + disques + rouleaux","Bêche roulante 5.3 m + disques + rouleaux","Bêche roulante 5.3 m + disques + rouleaux","Bêche roulante 5.3 m + disques + rouleaux","Bêche roulante 5.3 m + disques + rouleaux","Bêche roulante 5.3 m + disques + rouleaux","Bêche roulante 5.3 m + disques + rouleaux","Bêche roulante 5.3 m + disques + rouleaux","Bêche roulante 5.3 m + disques + rouleaux","Bêche roulante 5.3 m + disques + rouleaux","Bêche roulante 5.3 m + disques + rouleaux","Bêche roulante 5.3 m + disques + rouleaux","Bêche roulante 5.3 m + disques + rouleaux","Bêche roulante 5.3 m + disques + rouleaux","Bêche roulante 5.3 m + disques + rouleaux","Bêche roulante 5.3 m + disques + rouleaux","Bêche roulante 5.3 m + disques + rouleaux","Bêche roulante 5.3 m + disques + rouleaux","Bêche roulante 5.3 m + disques + rouleaux","Bêche roulante 5.3 m + disques + rouleaux","Bêche roulante 5.3 m + disques + rouleaux","Bêche roulante 5.3 m + disques + rouleaux","Bêche roulante 5.3 m + disques + rouleaux","Bêche roulante 5.3 m + disques + rouleaux","Bêche roulante 5.3 m + disques + rouleaux","Bêche roulante 5.3 m + disques + rouleaux","Bêche roulante 5.3 m + disques + rouleaux","Bêche roulante 5.3 m + disques + rouleaux","Bêche roulante 5.3 m + disques + rouleaux","Bêche roulante 5.3 m + disques + rouleaux","Bêche roulante 5.3 m + disques + rouleaux","Bêche roulante 5.3 m + disques + rouleaux","Bêche roulante 5.3 m + disques + rouleaux","Bêche roulante 5.3 m + disques + rouleaux","Bêche roulante 5.3 m + disques + rouleaux","Bêche roulante 5.3 m + disques + rouleaux","Bêche roulante 5.3 m + disques + rouleaux","Bêche roulante 5.3 m + disques + rouleaux","Bêche roulante 5.3 m + disques + rouleaux","Bêche roulante 5.3 m + disques + rouleaux","Bêche roulante 5.3 m + disques + rouleaux","Bêche roulante 5.3 m + disques + rouleaux","Bêche roulante 5.3 m + disques + rouleaux","Bêche roulante 5.3 m + disques + rouleaux","Bêche roulante 5.3 m + disques + rouleaux","Bêche roulante 5.3 m + disques + rouleaux","Bêche roulante 5.3 m + disques + rouleaux","Bêche roulante 5.3 m + disques + rouleaux","Bêche roulante 5.3 m + disques + rouleaux","Bêche roulante 5.3 m + disques + rouleaux","Bêche roulante 5.3 m + disques + rouleaux","Bêche roulante 5.3 m + disques + rouleaux","Bêche roulante 5.3 m + disques + rouleaux","Bêche roulante 5.3 m + disques + rouleaux","Bêche roulante 5.3 m + disques + rouleaux","Bêche roulante 5.3 m + disques + rouleaux","Bêche roulante 5.3 m + disques + rouleaux","Bêche roulante 5.3 m + disques + rouleaux","Bêche roulante 5.3 m + disques + rouleaux","Bêche roulante 5.3 m + disques + rouleaux","Bêche roulante 5.3 m + disques + rouleaux","Bêche roulante 5.3 m + disques + rouleaux","Bêche roulante 5.3 m + disques + rouleaux","Bêche roulante 5.3 m + disques + rouleaux","Bêche roulante 5.3 m + disques + rouleaux","Bêche roulante 5.3 m + disques + rouleaux","Bêche roulante 5.3 m + disques + rouleaux","Bêche roulante 5.3 m + disques + rouleaux","Bêche roulante 5.3 m + disques + rouleaux","Bêche roulante 5.3 m + disques + rouleaux","Bêche roulante 5.3 m + disques + rouleaux","Bêche roulante 5.3 m + disques + rouleaux","Bêche roulante 5.3 m + disques + rouleaux","Bêche roulante 5.3 m + disques + rouleaux","Bêche roulante 5.3 m + disques + rouleaux","Bêche roulante 5.3 m + disques + rouleaux","Bêche roulante 5.3 m + disques + rouleaux","Bêche roulante 5.3 m + disques + rouleaux","Bêche roulante 5.3 m + disques + rouleaux","Bêche roulante 5.3 m + disques + rouleaux","Bêche roulante 5.3 m + disques + rouleaux","Bêche roulante 5.3 m + disques + rouleaux","Bêche roulante 5.3 m + disques + rouleaux","Bêche roulante 5.3 m + disques + rouleaux","Bêche roulante 5.3 m + disques + rouleaux","Bêche roulante 5.3 m + disques + rouleaux","Bêche roulante 5.3 m + disques + rouleaux","Bêche roulante 5.3 m + disques + rouleaux","Bêche roulante 5.3 m + disques + rouleaux","Bêche roulante 5.3 m + disques + rouleaux","Bêche roulante 5.3 m + disques + rouleaux","Bêche roulante 5.3 m + disques + rouleaux","Bêche roulante 5.3 m + disques + rouleaux","Bêche roulante 5.3 m + disques + rouleaux","Bêche roulante 5.3 m + disques + rouleaux","Bêche roulante 5.3 m + disques + rouleaux","Bêche roulante 5.3 m + disques + rouleaux","Bêche roulante 5.3 m + disques + rouleaux","Bêche roulante 5.3 m + disques + rouleaux","Bêche roulante 5.3 m + disques + rouleaux","Bêche roulante 5.3 m + disques + rouleaux","Bêche roulante 5.3 m + disques + rouleaux","Bêche roulante 5.3 m + disques + rouleaux","Bêche roulante 5.3 m + disques + rouleaux","Bêche roulante 5.3 m + disques + rouleaux","Bêche roulante 5.3 m + disques + rouleaux","Bêche roulante 5.3 m + disques + rouleaux","Bêche roulante 5.3 m + disques + rouleaux","Bêche roulante 5.3 m + disques + rouleaux","Bêche roulante 5.3 m + disques + rouleaux","Bêche roulante 5.3 m + disques + rouleaux","Bêche roulante 5.3 m + disques + rouleaux","Bêche roulante 5.3 m + disques + rouleaux","Bêche roulante 5.3 m + disques + rouleaux","Bêche roulante 5.3 m + disques + rouleaux","Bêche roulante 5.3 m + disques + rouleaux","Bêche roulante 5.3 m + disques + rouleaux","Bêche roulante 5.3 m + disques + rouleaux","Bêche roulante 5.3 m + disques + rouleaux","Bêche roulante 5.3 m + disques + rouleaux","Bêche roulante 5.3 m + disques + rouleaux","Bêche roulante 5.3 m + disques + rouleaux","Bêche roulante 5.3 m + disques + rouleaux","Bêche roulante 5.3 m + disques + rouleaux","Bêche roulante 5.3 m + disques + rouleaux","Bêche roulante 5.3 m + disques + rouleaux","Bêche roulante 5.3 m + disques + rouleaux","Bêche roulante 5.3 m + disques + rouleaux","Bêche roulante 5.3 m + disques + rouleaux","Bêche roulante 5.3 m + disques + rouleaux","Bêche roulante 5.3 m + disques + rouleaux","Bêche roulante 5.3 m + disques + rouleaux","Bêche roulante 5.3 m + disques + rouleaux","Bêche roulante 5.3 m + disques + rouleaux","Bêche roulante 5.3 m + disques + rouleaux","Bêche roulante 5.3 m + disques + rouleaux","Bêche roulante 5.3 m + disques + rouleaux","Bêche roulante 5.3 m + disques + rouleaux","Bêche roulante 5.3 m + disques + rouleaux","Bêche roulante 5.3 m + disques + rouleaux","Bêche roulante 5.3 m + disques + rouleaux","Bêche roulante 5.3 m + disques + rouleaux","Bêche roulante 5.3 m + disques + rouleaux","Bêche roulante 5.3 m + disques + rouleaux","Bêche roulante 5.3 m + disques + rouleaux","Bêche roulante 5.3 m + disques + rouleaux","Bêche roulante 5.3 m + disques + rouleaux","Bêche roulante 5.3 m + disques + rouleaux","Bêche roulante 5.3 m + disques + rouleaux","Bêche roulante 5.3 m + disques + rouleaux","Bêche roulante 5.3 m + disques + rouleaux","Bêche roulante 5.3 m + disques + rouleaux","Bêche roulante 5.3 m + disques + rouleaux","Bêche roulante 5.3 m + disques + rouleaux","Bêche roulante 5.3 m + disques + rouleaux","Bêche roulante 5.3 m + disques + rouleaux","Bêche roulante 5.3 m + disques + rouleaux","Bêche roulante 5.3 m + disques + rouleaux","Bêche roulante 5.3 m + disques + rouleaux","Bêche roulante 5.3 m + disques + rouleaux","Bêche roulante 5.3 m + disques + rouleaux","Bêche roulante 5.3 m + disques + rouleaux","Bêche roulante 5.3 m + disques + rouleaux","Bêche roulante 5.3 m + disques + rouleaux","Bêche roulante 5.3 m + disques + rouleaux","Bêche roulante 5.3 m + disques + rouleaux","Bêche roulante 5.3 m + disques + rouleaux","Bêche roulante 5.3 m + disques + rouleaux","Bêche roulante 5.3 m + disques + rouleaux","Bêche roulante 5.3 m + disques + rouleaux","Bêche roulante 5.3 m + disques + rouleaux","Bêche roulante 5.3 m + disques + rouleaux","Bêche roulante 5.3 m + disques + rouleaux","Bêche roulante 5.3 m + disques + rouleaux","Bêche roulante 5.3 m + disques + rouleaux","Bêche roulante 5.3 m + disques + rouleaux","Bêche roulante 5.3 m + disques + rouleaux","Bêche roulante 5.3 m + disques + rouleaux","Bêche roulante 5.3 m + disques + rouleaux","Bêche roulante 5.3 m + disques + rouleaux","Bêche roulante 5.3 m + disques + rouleaux","Bêche roulante 5.3 m + disques + rouleaux","Bêche roulante 5.3 m + disques + rouleaux","Bêche roulante 5.3 m + disques + rouleaux","Bêche roulante 5.3 m + disques + rouleaux","Bêche roulante 5.3 m + disques + rouleaux","Bêche roulante 5.3 m + disques + rouleaux","Bêche roulante 5.3 m + disques + rouleaux","Bêche roulante 5.3 m + disques + rouleaux","Bêche roulante 5.3 m + disques + rouleaux","Bêche roulante 5.3 m + disques + rouleaux","Bêche roulante 5.3 m + disques + rouleaux","Bêche roulante 5.3 m + disques + rouleaux","Bêche roulante 5.3 m + disques + rouleaux","Bêche roulante 5.3 m + disques + rouleaux","Bêche roulante 5.3 m + disques + rouleaux","Bêche roulante 5.3 m + disques + rouleaux","Bêche roulante 5.3 m + disques + rouleaux","Bêche roulante 5.3 m + disques + rouleaux","Bêche roulante 5.3 m + disques + rouleaux","Bêche roulante 5.3 m + disques + rouleaux","Bêche roulante 5.3 m + disques + rouleaux","Bêche roulante 5.3 m + disques + rouleaux","Bêche roulante 5.3 m + disques + rouleaux","Bêche roulante 5.3 m + disques + rouleaux","Bêche roulante 5.3 m + disques + rouleaux","Bêche roulante 5.3 m + disques + rouleaux","Bêche roulante 5.3 m + disques + rouleaux","Bêche roulante 5.3 m + disques + rouleaux","Bêche roulante 5.3 m + disques + rouleaux","Bêche roulante 5.3 m + disques + rouleaux","Bêche roulante 5.3 m + disques + rouleaux","Bêche roulante 5.3 m + disques + rouleaux","Bêche roulante 5.3 m + disques + rouleaux","Bêche roulante 5.3 m + disques + rouleaux","Bêche roulante 5.3 m + disques + rouleaux","Bêche roulante 5.3 m + disques + rouleaux","Bêche roulante 5.3 m + disques + rouleaux","Bêche roulante 5.3 m + disques + rouleaux","Bêche roulante 5.3 m + disques + rouleaux","Bêche roulante 5.3 m + disques + rouleaux","Bêche roulante 5.3 m + disques + rouleaux","Bêche roulante 5.3 m + disques + rouleaux","Bêche roulante 5.3 m + disques + rouleaux","Bêche roulante 5.3 m + disques + rouleaux","Bêche roulante 5.3 m + disques + rouleaux","Bêche roulante 5.3 m + disques + rouleaux","Bêche roulante 5.3 m + disques + rouleaux","Bêche roulante 5.3 m + disques + rouleaux","Bêche roulante 5.3 m + disques + rouleaux","Bêche roulante 5.3 m + disques + rouleaux","Bêche roulante 5.3 m + disques + rouleaux","Bêche roulante 5.3 m + disques + rouleaux","Bêche roulante 5.3 m + disques + rouleaux","Bêche roulante 5.3 m + disques + rouleaux","Bêche roulante 5.3 m + disques + rouleaux","Bêche roulante 5.3 m + disques + rouleaux","Bêche roulante 5.3 m + disques + rouleaux","Bêche roulante 5.3 m + disques + rouleaux","Bêche roulante 5.3 m + disques + rouleaux","Bêche roulante 5.3 m + disques + rouleaux","Bêche roulante 5.3 m + disques + rouleaux","Bêche roulante 5.3 m + disques + rouleaux","Bêche roulante 5.3 m + disques + rouleaux","Bêche roulante 5.3 m + disques + rouleaux","Bêche roulante 5.3 m + disques + rouleaux","Bêche roulante 5.3 m + disques + rouleaux","Bêche roulante 5.3 m + disques + rouleaux","Bêche roulante 5.3 m + disques + rouleaux","Bêche roulante 5.3 m + disques + rouleaux","Bêche roulante 5.3 m + disques + rouleaux","Bêche roulante 5.3 m + disques + rouleaux","Bêche roulante 5.3 m + disques + rouleaux","Bêche roulante 5.3 m + disques + rouleaux","Bêche roulante 5.3 m + disques + rouleaux","Bêche roulante 5.3 m + disques + rouleaux","Bêche roulante 5.3 m + disques + rouleaux","Bêche roulante 5.3 m + disques + rouleaux","Bêche roulante 5.3 m + disques + rouleaux","Bêche roulante 5.3 m + disques + rouleaux","Bêche roulante 5.3 m + disques + rouleaux","Bêche roulante 5.3 m + disques + rouleaux","Bêche roulante 5.3 m + disques + rouleaux","Bêche roulante 5.3 m + disques + rouleaux","Bêche roulante 5.3 m + disques + rouleaux","Bêche roulante 5.3 m + disques + rouleaux","Bêche roulante 5.3 m + disques + rouleaux","Bêche roulante 5.3 m + disques + rouleaux","Bêche roulante 5.3 m + disques + rouleaux","Bêche roulante 5.3 m + disques + rouleaux","Bêche roulante 5.3 m + disques + rouleaux","Bêche roulante 5.3 m + disques + rouleaux","Bêche roulante 5.3 m + disques + rouleaux","Bêche roulante 5.3 m + disques + rouleaux","Bêche roulante 5.3 m + disques + rouleaux","Bêche roulante 5.3 m + disques + rouleaux","Bêche roulante 5.3 m + disques + rouleaux","Bêche roulante 5.3 m + disques + rouleaux","Bêche roulante 5.3 m + disques + rouleaux","Bêche roulante 5.3 m + disques + rouleaux","Bêche roulante 5.3 m + disques + rouleaux","Bêche roulante 5.3 m + disques + rouleaux","Bêche roulante 5.3 m + disques + rouleaux","Bêche roulante 5.3 m + disques + rouleaux","Bêche roulante 5.3 m + disques + rouleaux","Bêche roulante 5.3 m + disques + rouleaux","Bêche roulante 5.3 m + disques + rouleaux","Bêche roulante 5.3 m + disques + rouleaux","Bêche roulante 5.3 m + disques + rouleaux","Bêche roulante 5.3 m + disques + rouleaux","Bêche roulante 5.3 m + disques + rouleaux","Bêche roulante 5.3 m + disques + rouleaux","Bêche roulante 5.3 m + disques + rouleaux","Bêche roulante 5.3 m + disques + rouleaux","Bêche roulante 5.3 m + disques + rouleaux","Bêche roulante 5.3 m + disques + rouleaux","Bêche roulante 5.3 m + disques + rouleaux","Bêche roulante 5.3 m + disques + rouleaux","Bêche roulante 5.3 m + disques + rouleaux","Bêche roulante 5.3 m + disques + rouleaux","Bêche roulante 5.3 m + disques + rouleaux","Bêche roulante 5.3 m + disques + rouleaux","Bêche roulante 5.3 m + disques + rouleaux","Bêche roulante 5.3 m + disques + rouleaux","Bêche roulante 5.3 m + disques + rouleaux","Bêche roulante 5.3 m + disques + rouleaux","Bêche roulante 5.3 m + disques + rouleaux","Bêche roulante 5.3 m + disques + rouleaux","Bêche roulante 5.3 m + disques + rouleaux","Bêche roulante 5.3 m + disques + rouleaux","Bêche roulante 5.3 m + disques + rouleaux","Bêche roulante 5.3 m + disques + rouleaux","Bêche roulante 5.3 m + disques + rouleaux","Bêche roulante 5.3 m + disques + rouleaux","Bêche roulante 5.3 m + disques + rouleaux","Bêche roulante 5.3 m + disques + rouleaux","Bêche roulante 5.3 m + disques + rouleaux","Bêche roulante 5.3 m + disques + rouleaux","Bêche roulante 5.3 m + disques + rouleaux","Bêche roulante 5.3 m + disques + rouleaux","Bêche roulante 5.3 m + disques + rouleaux","Bêche roulante 5.3 m + disques + rouleaux","Bêche roulante 5.3 m + disques + rouleaux","Bêche roulante 5.3 m + disques + rouleaux","Bêche roulante 5.3 m + disques + rouleaux","Bêche roulante 5.3 m + disques + rouleaux","Bêche roulante 5.3 m + disques + rouleaux","Bêche roulante 5.3 m + disques + rouleaux","Bêche roulante 5.3 m + disques + rouleaux","Bêche roulante 5.3 m + disques + rouleaux","Bêche roulante 5.3 m + disques + rouleaux","Bêche roulante 5.3 m + disques + rouleaux","Bêche roulante 5.3 m + disques + rouleaux","Bêche roulante 5.3 m + disques + rouleaux","Bêche roulante 5.3 m + disques + rouleaux","Bêche roulante 5.3 m + disques + rouleaux","Bêche roulante 5.3 m + disques + rouleaux","Bêche roulante 5.3 m + disques + rouleaux","Bêche roulante 5.3 m + disques + rouleaux","Bêche roulante 5.3 m + disques + rouleaux","Bêche roulante 5.3 m + disques + rouleaux","Bêche roulante 5.3 m + disques + rouleaux","Bêche roulante 5.3 m + disques + rouleaux","Bêche roulante 5.3 m + disques + rouleaux","Bêche roulante 5.3 m + disques + rouleaux","Bêche roulante 5.3 m + disques + rouleaux","Bêche roulante 5.3 m + disques + rouleaux","Bêche roulante 5.3 m + disques + rouleaux","Bêche roulante 5.3 m + disques + rouleaux","Bêche roulante 5.3 m + disques + rouleaux","Bêche roulante 5.3 m + disques + rouleaux","Bêche roulante 5.3 m + disques + rouleaux","Bêche roulante 5.3 m + disques + rouleaux","Bêche roulante 5.3 m + disques + rouleaux","Bêche roulante 5.3 m + disques + rouleaux","Bêche roulante 5.3 m + disques + rouleaux","Bêche roulante 5.3 m + disques + rouleaux","Bêche roulante 5.3 m + disques + rouleaux","Bêche roulante 5.3 m + disques + rouleaux","Bêche roulante 5.3 m + disques + rouleaux","Bêche roulante 5.3 m + disques + rouleaux","Bêche roulante 5.3 m + disques + rouleaux","Bêche roulante 5.3 m + disques + rouleaux","Bêche roulante 5.3 m + disques + rouleaux","Bêche roulante 5.3 m + disques + rouleaux","Bêche roulante 5.3 m + disques + rouleaux","Bêche roulante 5.3 m + disques + rouleaux","Bêche roulante 5.3 m + disques + rouleaux","Bêche roulante 5.3 m + disques + rouleaux","Bêche roulante 5.3 m + disques + rouleaux","Bêche roulante 5.3 m + disques + rouleaux","Bêche roulante 5.3 m + disques + rouleaux","Bêche roulante 5.3 m + disques + rouleaux","Bêche roulante 5.3 m + disques + rouleaux","Bêche roulante 5.3 m + disques + rouleaux","Bêche roulante 5.3 m + disques + rouleaux","Bêche roulante 5.3 m + disques + rouleaux","Bêche roulante 5.3 m + disques + rouleaux","Bêche roulante 5.3 m + disques + rouleaux","Bêche roulante 5.3 m + disques + rouleaux","Bêche roulante 5.3 m + disques + rouleaux","Bêche roulante 5.3 m + disques + rouleaux","Bêche roulante 5.3 m + disques + rouleaux","Bêche roulante 5.3 m + disques + rouleaux","Bêche roulante 5.3 m + disques + rouleaux","Bêche roulante 5.3 m + disques + rouleaux","Bêche roulante 5.3 m + disques + rouleaux","Bêche roulante 5.3 m + disques + rouleaux","Bêche roulante 5.3 m + disques + rouleaux","Bêche roulante 5.3 m + disques + rouleaux","Bêche roulante 5.3 m + disques + rouleaux","Bêche roulante 5.3 m + disques + rouleaux","Bêche roulante 5.3 m + disques + rouleaux","Bêche roulante 5.3 m + disques + rouleaux","Bêche roulante 5.3 m + disques + rouleaux","Bêche roulante 5.3 m + disques + rouleaux","Bêche roulante 5.3 m + disques + rouleaux","Bêche roulante 5.3 m + disques + rouleaux","Bêche roulante 5.3 m + disques + rouleaux","Bêche roulante 5.3 m + disques + rouleaux","Bêche roulante 5.3 m + disques + rouleaux","Bêche roulante 5.3 m + disques + rouleaux","Bêche roulante 5.3 m + disques + rouleaux","Bêche roulante 5.3 m + disques + rouleaux","Bêche roulante 5.3 m + disques + rouleaux","Bêche roulante 5.3 m + disques + rouleaux","Bêche roulante 5.3 m + disques + rouleaux","Bêche roulante 5.3 m + disques + rouleaux","Bêche roulante 5.3 m + disques + rouleaux","Bêche roulante 5.3 m + disques + rouleaux","Bêche roulante 5.3 m + disques + rouleaux","Bêche roulante 5.3 m + disques + rouleaux","Bêche roulante 5.3 m + disques + rouleaux","Bêche roulante 5.3 m + disques + rouleaux","Bêche roulante 5.3 m + disques + rouleaux","Bêche roulante 5.3 m + disques + rouleaux","Bêche roulante 5.3 m + disques + rouleaux","Bêche roulante 5.3 m + disques + rouleaux","Bêche roulante 5.3 m + disques + rouleaux","Bêche roulante 5.3 m + disques + rouleaux","Bêche roulante 5.3 m + disques + rouleaux","Bêche roulante 5.3 m + disques + rouleaux","Bêche roulante 5.3 m + disques + rouleaux","Bêche roulante 5.3 m + disques + rouleaux","Bêche roulante 5.3 m + disques + rouleaux","Bêche roulante 5.3 m + disques + rouleaux","Bêche roulante 5.3 m + disques + rouleaux","Bêche roulante 5.3 m + disques + rouleaux","Bêche roulante 5.3 m + disques + rouleaux","Bêche roulante 5.3 m + disques + rouleaux","Bêche roulante 5.3 m + disques + rouleaux","Bêche roulante 5.3 m + disques + rouleaux","Bêche roulante 5.3 m + disques + rouleaux","Bêche roulante 5.3 m + disques + rouleaux","Bêche roulante 5.3 m + disques + rouleaux","Bêche roulante 5.3 m + disques + rouleaux","Bêche roulante 5.3 m + disques + rouleaux","Bêche roulante 5.3 m + disques + rouleaux","Bêche roulante 5.3 m + disques + rouleaux","Bêche roulante 5.3 m + disques + rouleaux","Bêche roulante 5.3 m + disques + rouleaux","Bêche roulante 5.3 m + disques + rouleaux","Bêche roulante 5.3 m + disques + rouleaux","Bêche roulante 5.3 m + disques + rouleaux","Bêche roulante 5.3 m + disques + rouleaux","Bêche roulante 5.3 m + disques + rouleaux","Bêche roulante 5.3 m + disques + rouleaux","Bêche roulante 5.3 m + disques + rouleaux","Bêche roulante 5.3 m + disques + rouleaux","Bêche roulante 5.3 m + disques + rouleaux","Bêche roulante 5.3 m + disques + rouleaux","Bêche roulante 5.3 m + disques + rouleaux","Bêche roulante 5.3 m + disques + rouleaux","Bêche roulante 5.3 m + disques + rouleaux","Bêche roulante 5.3 m + disques + rouleaux","Bêche roulante 5.3 m + disques + rouleaux","Bêche roulante 5.3 m + disques + rouleaux","Bêche roulante 5.3 m + disques + rouleaux","Bêche roulante 5.3 m + disques + rouleaux","Bêche roulante 5.3 m + disques + rouleaux","Bêche roulante 5.3 m + disques + rouleaux","Bêche roulante 5.3 m + disques + rouleaux","Bêche roulante 5.3 m + disques + rouleaux","Bêche roulante 5.3 m + disques + rouleaux","Bêche roulante 5.3 m + disques + rouleaux","Bêche roulante 5.3 m + disques + rouleaux","Bêche roulante 5.3 m + disques + rouleaux","Bêche roulante 5.3 m + disques + rouleaux","Bêche roulante 5.3 m + disques + rouleaux","Bêche roulante 5.3 m + disques + rouleaux","Bêche roulante 5.3 m + disques + rouleaux","Bêche roulante 5.3 m + disques + rouleaux","Bêche roulante 5.3 m + disques + rouleaux","Bêche roulante 5.3 m + disques + rouleaux","Bêche roulante 5.3 m + disques + rouleaux","Bêche roulante 5.3 m + disques + rouleaux","Bêche roulante 5.3 m + disques + rouleaux","Bêche roulante 5.3 m + disques + rouleaux","Bêche roulante 5.3 m + disques + rouleaux","Bêche roulante 5.3 m + disques + rouleaux","Bêche roulante 5.3 m + disques + rouleaux","Bêche roulante 5.3 m + disques + rouleaux","Bêche roulante 5.3 m + disques + rouleaux","Bêche roulante 5.3 m + disques + rouleaux","Bêche roulante 5.3 m + disques + rouleaux","Bêche roulante 5.3 m + disques + rouleaux","Bêche roulante 5.3 m + disques + rouleaux","Bêche roulante 5.3 m + disques + rouleaux","Bêche roulante 5.3 m + disques + rouleaux","Bêche roulante 5.3 m + disques + rouleaux","Bêche roulante 5.3 m + disques + rouleaux","Bêche roulante 5.3 m + disques + rouleaux","Bêche roulante 5.3 m + disques + rouleaux","Bêche roulante 5.3 m + disques + rouleaux","Bêche roulante 5.3 m + disques + rouleaux","Bêche roulante 5.3 m + disques + rouleaux","Bêche roulante 5.3 m + disques + rouleaux","Bêche roulante 5.3 m + disques + rouleaux","Bêche roulante 5.3 m + disques + rouleaux","Bêche roulante 5.3 m + disques + rouleaux","Bêche roulante 5.3 m + disques + rouleaux","Bêche roulante 5.3 m + disques + rouleaux","Bêche roulante 5.3 m + disques + rouleaux","Bêche roulante 5.3 m + disques + rouleaux","Bêche roulante 5.3 m + disques + rouleaux","Bêche roulante 5.3 m + disques + rouleaux","Bêche roulante 5.3 m + disques + rouleaux","Bêche roulante 5.3 m + disques + rouleaux","Bêche roulante 5.3 m + disques + rouleaux","Bêche roulante 5.3 m + disques + rouleaux","Bêche roulante 5.3 m + disques + rouleaux","Bêche roulante 5.3 m + disques + rouleaux","Bêche roulante 5.3 m + disques + rouleaux","Bêche roulante 5.3 m + disques + rouleaux","Bêche roulante 5.3 m + disques + rouleaux","Bêche roulante 5.3 m + disques + rouleaux","Bêche roulante 5.3 m + disques + rouleaux","Bêche roulante 5.3 m + disques + rouleaux","Bêche roulante 5.3 m + disques + rouleaux","Bêche roulante 5.3 m + disques + rouleaux","Bêche roulante 5.3 m + disques + rouleaux","Bêche roulante 5.3 m + disques + rouleaux","Bêche roulante 5.3 m + disques + rouleaux","Bêche roulante 5.3 m + disques + rouleaux","Bêche roulante 5.3 m + disques + rouleaux","Bêche roulante 5.3 m + disques + rouleaux","Bêche roulante 5.3 m + disques + rouleaux","Bêche roulante 5.3 m + disques + rouleaux","Bêche roulante 5.3 m + disques + rouleaux","Bêche roulante 5.3 m + disques + rouleaux","Bêche roulante 5.3 m + disques + rouleaux","Bêche roulante 5.3 m + disques + rouleaux","Bêche roulante 5.3 m + disques + rouleaux","Bêche roulante 5.3 m + disques + rouleaux","Bêche roulante 5.3 m + disques + rouleaux","Bêche roulante 5.3 m + disques + rouleaux","Bêche roulante 5.3 m + disques + rouleaux","Bêche roulante 5.3 m + disques + rouleaux","Bêche roulante 5.3 m + disques + rouleaux","Bêche roulante 5.3 m + disques + rouleaux","Bêche roulante 5.3 m + disques + rouleaux","Bêche roulante 5.3 m + disques + rouleaux","Bêche roulante 5.3 m + disques + rouleaux","Bêche roulante 5.3 m + disques + rouleaux","Bêche roulante 5.3 m + disques + rouleaux","Bêche roulante 5.3 m + disques + rouleaux","Bêche roulante 5.3 m + disques + rouleaux","Bêche roulante 5.3 m + disques + rouleaux","Bêche roulante 5.3 m + disques + rouleaux","Bêche roulante 5.3 m + disques + rouleaux","Bêche roulante 5.3 m + disques + rouleaux","Bêche roulante 5.3 m + disques + rouleaux","Bêche roulante 5.3 m + disques + rouleaux","Bêche roulante 5.3 m + disques + rouleaux","Bêche roulante 5.3 m + disques + rouleaux","Bêche roulante 5.3 m + disques + rouleaux","Bêche roulante 5.3 m + disques + rouleaux","Bêche roulante 5.3 m + disques + rouleaux","Bêche roulante 5.3 m + disques + rouleaux","Bêche roulante 5.3 m + disques + rouleaux","Bêche roulante 5.3 m + disques + rouleaux","Bêche roulante 5.3 m + disques + rouleaux","Bêche roulante 5.3 m + disques + rouleaux","Bêche roulante 5.3 m + disques + rouleaux","Bêche roulante 5.3 m + disques + rouleaux","Bêche roulante 5.3 m + disques + rouleaux","Bêche roulante 5.3 m + disques + rouleaux","Bêche roulante 5.3 m + disques + rouleaux","Bêche roulante 5.3 m + disques + rouleaux","Bêche roulante 5.3 m + disques + rouleaux","Bêche roulante 5.3 m + disques + rouleaux","Bêche roulante 5.3 m + disques + rouleaux","Bêche roulante 5.3 m + disques + rouleaux","Bêche roulante 5.3 m + disques + rouleaux","Bêche roulante 5.3 m + disques + rouleaux","Bêche roulante 5.3 m + disques + rouleaux","Bêche roulante 5.3 m + disques + rouleaux","Bêche roulante 5.3 m + disques + rouleaux","Bêche roulante 5.3 m + disques + rouleaux","Bêche roulante 5.3 m + disques + rouleaux","Bêche roulante 5.3 m + disques + rouleaux","Bêche roulante 5.3 m + disques + rouleaux","Bêche roulante 5.3 m + disques + rouleaux","Bêche roulante 5.3 m + disques + rouleaux","Bêche roulante 5.3 m + disques + rouleaux","Bêche roulante 5.3 m + disques + rouleaux","Bêche roulante 5.3 m + disques + rouleaux","Bêche roulante 5.3 m + disques + rouleaux","Bêche roulante 5.3 m + disques + rouleaux","Bêche roulante 5.3 m + disques + rouleaux","Bêche roulante 5.3 m + disques + rouleaux","Bêche roulante 5.3 m + disques + rouleaux","Bêche roulante 5.3 m + disques + rouleaux","Bêche roulante 5.3 m + disques + rouleaux","Bêche roulante 5.3 m + disques + rouleaux","Bêche roulante 5.3 m + disques + rouleaux","Bêche roulante 5.3 m + disques + rouleaux","Bêche roulante 5.3 m + disques + rouleaux","Bêche roulante 5.3 m + disques + rouleaux","Bêche roulante 5.3 m + disques + rouleaux","Bêche roulante 5.3 m + disques + rouleaux","Bêche roulante 5.3 m + disques + rouleaux","Bêche roulante 5.3 m + disques + rouleaux","Bêche roulante 5.3 m + disques + rouleaux","Bêche roulante 5.3 m + disques + rouleaux","Bêche roulante 5.3 m + disques + rouleaux","Bêche roulante 5.3 m + disques + rouleaux","Bêche roulante 5.3 m + disques + rouleaux","Bêche roulante 5.3 m + disques + rouleaux","Bêche roulante 5.3 m + disques + rouleaux","Bêche roulante 5.3 m + disques + rouleaux","Bêche roulante 5.3 m + disques + rouleaux","Bêche roulante 5.3 m + disques + rouleaux","Bêche roulante 5.3 m + disques + rouleaux","Bêche roulante 5.3 m + disques + rouleaux","Bêche roulante 5.3 m + disques + rouleaux","Bêche roulante 5.3 m + disques + rouleaux","Bêche roulante 5.3 m + disques + rouleaux","Bêche roulante 5.3 m + disques + rouleaux","Bêche roulante 5.3 m + disques + rouleaux","Bêche roulante 5.3 m + disques + rouleaux","Bêche roulante 5.3 m + disques + rouleaux","Bêche roulante 5.3 m + disques + rouleaux","Bêche roulante 5.3 m + disques + rouleaux","Bêche roulante 5.3 m + disques + rouleaux","Bêche roulante 5.3 m + disques + rouleaux","Bêche roulante 5.3 m + disques + rouleaux","Bêche roulante 5.3 m + disques + rouleaux","Bêche roulante 5.3 m + disques + rouleaux","Bêche roulante 5.3 m + disques + rouleaux","Bêche roulante 5.3 m + disques + rouleaux","Bêche roulante 5.3 m + disques + rouleaux","Bêche roulante 5.3 m + disques + rouleaux","Bêche roulante 5.3 m + disques + rouleaux","Bêche roulante 5.3 m + disques + rouleaux","Bêche roulante 5.3 m + disques + rouleaux","Bêche roulante 5.3 m + disques + rouleaux","Bêche roulante 5.3 m + disques + rouleaux","Bêche roulante 5.3 m + disques + rouleaux","Bêche roulante 5.3 m + disques + rouleaux","Bêche roulante 5.3 m + disques + rouleaux","Bêche roulante 5.3 m + disques + rouleaux","Bêche roulante 5.3 m + disques + rouleaux","Bêche roulante 5.3 m + disques + rouleaux","Bêche roulante 5.3 m + disques + rouleaux","Bêche roulante 5.3 m + disques + rouleaux","Bêche roulante 5.3 m + disques + rouleaux","Bêche roulante 5.3 m + disques + rouleaux","Bêche roulante 5.3 m + disques + rouleaux","Bêche roulante 5.3 m + disques + rouleaux","Bêche roulante 5.3 m + disques + rouleaux","Bêche roulante 5.3 m + disques + rouleaux","Bêche roulante 5.3 m + disques + rouleaux","Bêche roulante 5.3 m + disques + rouleaux","Bêche roulante 5.3 m + disques + rouleaux","Bêche roulante 5.3 m + disques + rouleaux","Bêche roulante 5.3 m + disques + rouleaux","Bêche roulante 5.3 m + disques + rouleaux","Bêche roulante 5.3 m + disques + rouleaux","Bêche roulante 5.3 m + disques + rouleaux","Bêche roulante 5.3 m + disques + rouleaux","Bêche roulante 5.3 m + disques + rouleaux","Bêche roulante 5.3 m + disques + rouleaux","Bêche roulante 5.3 m + disques + rouleaux","Bêche roulante 5.3 m + disques + rouleaux","Bêche roulante 5.3 m + disques + rouleaux","Bêche roulante 5.3 m + disques + rouleaux","Bêche roulante 5.3 m + disques + rouleaux","Bêche roulante 5.3 m + disques + rouleaux","Bêche roulante 5.3 m + disques + rouleaux","Bêche roulante 5.3 m + disques + rouleaux","Bêche roulante 5.3 m + disques + rouleaux","Bêche roulante 5.3 m + disques + rouleaux","Bêche roulante 5.3 m + disques + rouleaux","Bêche roulante 5.3 m + disques + rouleaux","Bêche roulante 5.3 m + disques + rouleaux","Bêche roulante 5.3 m + disques + rouleaux","Bêche roulante 5.3 m + disques + rouleaux","Bêche roulante 5.3 m + disques + rouleaux","Bêche roulante 5.3 m + disques + rouleaux","Bêche roulante 5.3 m + disques + rouleaux","Bêche roulante 5.3 m + disques + rouleaux","Bêche roulante 5.3 m + disques + rouleaux","Bêche roulante 5.3 m + disques + rouleaux","Bêche roulante 5.3 m + disques + rouleaux","Bêche roulante 5.3 m + disques + rouleaux","Bêche roulante 5.3 m + disques + rouleaux","Bêche roulante 5.3 m + disques + rouleaux","Bêche roulante 5.3 m + disques + rouleaux","Bêche roulante 5.3 m + disques + rouleaux","Bêche roulante 5.3 m + disques + rouleaux","Bêche roulante 5.3 m + disques + rouleaux","Bêche roulante 5.3 m + disques + rouleaux","Bêche roulante 5.3 m + disques + rouleaux","Bêche roulante 5.3 m + disques + rouleaux","Bêche roulante 5.3 m + disques + rouleaux","Bêche roulante 5.3 m + disques + rouleaux","Bêche roulante 5.3 m + disques + rouleaux","Bêche roulante 5.3 m + disques + rouleaux","Bêche roulante 5.3 m + disques + rouleaux","Bêche roulante 5.3 m + disques + rouleaux","Bêche roulante 5.3 m + disques + rouleaux","Bêche roulante 5.3 m + disques + rouleaux","Bêche roulante 5.3 m + disques + rouleaux","Bêche roulante 5.3 m + disques + rouleaux","Bêche roulante 5.3 m + disques + rouleaux","Bêche roulante 5.3 m + disques + rouleaux","Bêche roulante 5.3 m + disques + rouleaux","Bêche roulante 5.3 m + disques + rouleaux","Bêche roulante 5.3 m + disques + rouleaux","Bêche roulante 5.3 m + disques + rouleaux","Bêche roulante 5.3 m + disques + rouleaux","Bêche roulante 5.3 m + disques + rouleaux","Bêche roulante 5.3 m + disques + rouleaux","Bêche roulante 5.3 m + disques + rouleaux","Bêche roulante 5.3 m + disques + rouleaux","Bêche roulante 5.3 m + disques + rouleaux","Bêche roulante 5.3 m + disques + rouleaux","Bêche roulante 5.3 m + disques + rouleaux","Bêche roulante 5.3 m + disques + rouleaux","Bêche roulante 5.3 m + disques + rouleaux","Bêche roulante 5.3 m + disques + rouleaux","Bêche roulante 5.3 m + disques + rouleaux","Bêche roulante 5.3 m + disques + rouleaux","Bêche roulante 5.3 m + disques + rouleaux","Bêche roulante 5.3 m + disques + rouleaux","Bêche roulante 5.3 m + disques + rouleaux","Bêche roulante 5.3 m + disques + rouleaux","Bêche roulante 5.3 m + disques + rouleaux","Bêche roulante 5.3 m + disques + rouleaux","Bêche roulante 5.3 m + disques + rouleaux","Bêche roulante 5.3 m + disques + rouleaux","Bêche roulante 5.3 m + disques + rouleaux","Bêche roulante 5.3 m + disques + rouleaux","Bêche roulante 5.3 m + disques + rouleaux","Bêche roulante 5.3 m + disques + rouleaux","Bêche roulante 5.3 m + disques + rouleaux","Bêche roulante 5.3 m + disques + rouleaux","Bêche roulante 5.3 m + disques + rouleaux","Bêche roulante 5.3 m + disques + rouleaux","Bêche roulante 5.3 m + disques + rouleaux","Bêche roulante 5.3 m + disques + rouleaux","Bêche roulante 5.3 m + disques + rouleaux","Bêche roulante 5.3 m + disques + rouleaux","Bêche roulante 5.3 m + disques + rouleaux","Bêche roulante 5.3 m + disques + rouleaux","Bêche roulante 5.3 m + disques + rouleaux","Bêche roulante 5.3 m + disques + rouleaux","Bêche roulante 5.3 m + disques + rouleaux","Bêche roulante 5.3 m + disques + rouleaux","Bêche roulante 5.3 m + disques + rouleaux","Bêche roulante 5.3 m + disques + rouleaux","Bêche roulante 5.3 m + disques + rouleaux","Bêche roulante 5.3 m + disques + rouleaux","Bêche roulante 5.3 m + disques + rouleaux","Bêche roulante 5.3 m + disques + rouleaux","Bêche roulante 5.3 m + disques + rouleaux","Bêche roulante 5.3 m + disques + rouleaux","Bêche roulante 5.3 m + disques + rouleaux","Bêche roulante 5.3 m + disques + rouleaux","Bêche roulante 5.3 m + disques + rouleaux","Bêche roulante 5.3 m + disques + rouleaux","Bêche roulante 5.3 m + disques + rouleaux","Bêche roulante 5.3 m + disques + rouleaux","Bêche roulante 5.3 m + disques + rouleaux","Bêche roulante 5.3 m + disques + rouleaux","Bêche roulante 5.3 m + disques + rouleaux","Bêche roulante 5.3 m + disques + rouleaux","Bêche roulante 5.3 m + disques + rouleaux","Bêche roulante 5.3 m + disques + rouleaux","Bêche roulante 5.3 m + disques + rouleaux","Bêche roulante 5.3 m + disques + rouleaux","Bêche roulante 5.3 m + disques + rouleaux","Bêche roulante 5.3 m + disques + rouleaux","Bêche roulante 5.3 m + disques + rouleaux","Bêche roulante 5.3 m + disques + rouleaux","Bêche roulante 5.3 m + disques + rouleaux","Bêche roulante 5.3 m + disques + rouleaux","Bêche roulante 5.3 m + disques + rouleaux","Bêche roulante 5.3 m + disques + rouleaux","Bêche roulante 5.3 m + disques + rouleaux","Bêche roulante 5.3 m + disques + rouleaux","Bêche roulante 5.3 m + disques + rouleaux","Bêche roulante 5.3 m + disques + rouleaux","Bêche roulante 5.3 m + disques + rouleaux","Bêche roulante 5.3 m + disques + rouleaux","Bêche roulante 5.3 m + disques + rouleaux","Bêche roulante 5.3 m + disques + rouleaux","Bêche roulante 5.3 m + disques + rouleaux","Bêche roulante 5.3 m + disques + rouleaux","Bêche roulante 5.3 m + disques + rouleaux","Bêche roulante 5.3 m + disques + rouleaux","Bêche roulante 5.3 m + disques + rouleaux","Bêche roulante 5.3 m + disques + rouleaux","Bêche roulante 5.3 m + disques + rouleaux","Bêche roulante 5.3 m + disques + rouleaux","Bêche roulante 5.3 m + disques + rouleaux","Bêche roulante 5.3 m + disques + rouleaux","Bêche roulante 5.3 m + disques + rouleaux","Bêche roulante 5.3 m + disques + rouleaux","Bêche roulante 5.3 m + disques + rouleaux","Bêche roulante 5.3 m + disques + rouleaux","Bêche roulante 5.3 m + disques + rouleaux","Bêche roulante 5.3 m + disques + rouleaux","Bêche roulante 5.3 m + disques + rouleaux","Bêche roulante 5.3 m + disques + rouleaux","Bêche roulante 5.3 m + disques + rouleaux","Bêche roulante 5.3 m + disques + rouleaux","Bêche roulante 5.3 m + disques + rouleaux","Bêche roulante 5.3 m + disques + rouleaux","Bêche roulante 5.3 m + disques + rouleaux","Bêche roulante 5.3 m + disques + rouleaux","Bêche roulante 5.3 m + disques + rouleaux","Bêche roulante 5.3 m + disques + rouleaux","Bêche roulante 5.3 m + disques + rouleaux","Bêche roulante 5.3 m + disques + rouleaux","Bêche roulante 5.3 m + disques + rouleaux","Bêche roulante 5.3 m + disques + rouleaux","Bêche roulante 5.3 m + disques + rouleaux","Bêche roulante 5.3 m + disques + rouleaux","Bêche roulante 5.3 m + disques + rouleaux","Bêche roulante 5.3 m + disques + rouleaux","Bêche roulante 5.3 m + disques + rouleaux","Bêche roulante 5.3 m + disques + rouleaux","Bêche roulante 5.3 m + disques + rouleaux","Bêche roulante 5.3 m + disques + rouleaux","Bêche roulante 5.3 m + disques + rouleaux","Bêche roulante 5.3 m + disques + rouleaux","Bêche roulante 5.3 m + disques + rouleaux","Bêche roulante 5.3 m + disques + rouleaux","Bêche roulante 5.3 m + disques + rouleaux","Bêche roulante 5.3 m + disques + rouleaux","Bêche roulante 5.3 m + disques + rouleaux","Bêche roulante 5.3 m + disques + rouleaux","Bêche roulante 5.3 m + disques + rouleaux","Bêche roulante 5.3 m + disques + rouleaux","Bêche roulante 5.3 m + disques + rouleaux","Bêche roulante 5.3 m + disques + rouleaux","Bêche roulante 5.3 m + disques + rouleaux","Bêche roulante 5.3 m + disques + rouleaux","Bêche roulante 5.3 m + disques + rouleaux","Bêche roulante 5.3 m + disques + rouleaux","Bêche roulante 5.3 m + disques + rouleaux","Bêche roulante 5.3 m + disques + rouleaux","Bêche roulante 5.3 m + disques + rouleaux","Bêche roulante 5.3 m + disques + rouleaux","Bêche roulante 5.3 m + disques + rouleaux","Bêche roulante 5.3 m + disques + rouleaux","Bêche roulante 5.3 m + disques + rouleaux","Bêche roulante 5.3 m + disques + rouleaux","Bêche roulante 5.3 m + disques + rouleaux","Bêche roulante 5.3 m + disques + rouleaux","Bêche roulante 5.3 m + disques + rouleaux","Bêche roulante 5.3 m + disques + rouleaux","Bêche roulante 5.3 m + disques + rouleaux","Bêche roulante 5.3 m + disques + rouleaux","Bêche roulante 5.3 m + disques + rouleaux","Bêche roulante 5.3 m + disques + rouleaux","Bêche roulante 5.3 m + disques + rouleaux","Bêche roulante 5.3 m + disques + rouleaux","Bêche roulante 5.3 m + disques + rouleaux","Bêche roulante 5.3 m + disques + rouleaux","Bêche roulante 5.3 m + disques + rouleaux","Bêche roulante 5.3 m + disques + rouleaux","Bêche roulante 5.3 m + disques + rouleaux","Bêche roulante 5.3 m + disques + rouleaux","Bêche roulante 5.3 m + disques + rouleaux","Bêche roulante 5.3 m + disques + rouleaux","Bêche roulante 5.3 m + disques + rouleaux","Bêche roulante 5.3 m + disques + rouleaux","Bêche roulante 5.3 m + disques + rouleaux","Bêche roulante 5.3 m + disques + rouleaux","Bêche roulante 5.3 m + disques + rouleaux","Bêche roulante 5.3 m + disques + rouleaux","Bêche roulante 5.3 m + disques + rouleaux","Bêche roulante 5.3 m + disques + rouleaux","Bêche roulante 5.3 m + disques + rouleaux","Bêche roulante 5.3 m + disques + rouleaux","Bêche roulante 5.3 m + disques + rouleaux","Bêche roulante 5.3 m + disques + rouleaux","Bêche roulante 5.3 m + disques + rouleaux","Bêche roulante 5.3 m + disques + rouleaux","Bêche roulante 5.3 m + disques + rouleaux","Bêche roulante 5.3 m + disques + rouleaux","Bêche roulante 5.3 m + disques + rouleaux","Bêche roulante 5.3 m + disques + rouleaux","Bêche roulante 5.3 m + disques + rouleaux","Bêche roulante 5.3 m + disques + rouleaux","Bêche roulante 5.3 m + disques + rouleaux","Bêche roulante 5.3 m + disques + rouleaux","Bêche roulante 5.3 m + disques + rouleaux","Bêche roulante 5.3 m + disques + rouleaux","Bêche roulante 5.3 m + disques + rouleaux","Bêche roulante 5.3 m + disques + rouleaux","Bêche roulante 5.3 m + disques + rouleaux","Bêche roulante 5.3 m + disques + rouleaux","Bêche roulante 5.3 m + disques + rouleaux","Bêche roulante 5.3 m + disques + rouleaux","Bêche roulante 5.3 m + disques + rouleaux","Bêche roulante 5.3 m + disques + rouleaux","Bêche roulante 5.3 m + disques + rouleaux","Bêche roulante 5.3 m + disques + rouleaux","Bêche roulante 5.3 m + disques + rouleaux","Bêche roulante 5.3 m + disques + rouleaux","Bêche roulante 5.3 m + disques + rouleaux","Bêche roulante 5.3 m + disques + rouleaux","Bêche roulante 5.3 m + disques + rouleaux","Bêche roulante 5.3 m + disques + rouleaux","Bêche roulante 5.3 m + disques + rouleaux","Bêche roulante 5.3 m + disques + rouleaux","Bêche roulante 5.3 m + disques + rouleaux","Bêche roulante 5.3 m + disques + rouleaux","Bêche roulante 5.3 m + disques + rouleaux","Bêche roulante 5.3 m + disques + rouleaux","Bêche roulante 5.3 m + disques + rouleaux","Bêche roulante 5.3 m + disques + rouleaux","Bêche roulante 5.3 m + disques + rouleaux","Bêche roulante 5.3 m + disques + rouleaux","Bêche roulante 5.3 m + disques + rouleaux","Bêche roulante 5.3 m + disques + rouleaux","Bêche roulante 5.3 m + disques + rouleaux","Bêche roulante 5.3 m + disques + rouleaux","Bêche roulante 5.3 m + disques + rouleaux","Bêche roulante 5.3 m + disques + rouleaux","Bêche roulante 5.3 m + disques + rouleaux","Bêche roulante 5.3 m + disques + rouleaux","Bêche roulante 5.3 m + disques + rouleaux","Bêche roulante 5.3 m + disques + rouleaux","Bêche roulante 5.3 m + disques + rouleaux","Bêche roulante 5.3 m + disques + rouleaux","Bêche roulante 5.3 m + disques + rouleaux","Bêche roulante 5.3 m + disques + rouleaux","Bêche roulante 5.3 m + disques + rouleaux","Bêche roulante 5.3 m + disques + rouleaux","Bêche roulante 5.3 m + disques + rouleaux","Bêche roulante 5.3 m + disques + rouleaux","Bêche roulante 5.3 m + disques + rouleaux","Bêche roulante 5.3 m + disques + rouleaux","Bêche roulante 5.3 m + disques + rouleaux","Bêche roulante 5.3 m + disques + rouleaux","Bêche roulante 5.3 m + disques + rouleaux","Bêche roulante 5.3 m + disques + rouleaux","Bêche roulante 5.3 m + disques + rouleaux","Bêche roulante 5.3 m + disques + rouleaux","Bêche roulante 5.3 m + disques + rouleaux","Bêche roulante 5.3 m + disques + rouleaux","Bêche roulante 5.3 m + disques + rouleaux","Bêche roulante 5.3 m + disques + rouleaux","Bêche roulante 5.3 m + disques + rouleaux","Bêche roulante 5.3 m + disques + rouleaux","Bêche roulante 5.3 m + disques + rouleaux","Bêche roulante 5.3 m + disques + rouleaux","Bêche roulante 5.3 m + disques + rouleaux","Bêche roulante 5.3 m + disques + rouleaux","Bêche roulante 5.3 m + disques + rouleaux","Bêche roulante 5.3 m + disques + rouleaux","Bêche roulante 5.3 m + disques + rouleaux","Bêche roulante 5.3 m + disques + rouleaux","Bêche roulante 5.3 m + disques + rouleaux","Bêche roulante 5.3 m + disques + rouleaux","Bêche roulante 5.3 m + disques + rouleaux","Bêche roulante 5.3 m + disques + rouleaux","Bêche roulante 5.3 m + disques + rouleaux","Bêche roulante 5.3 m + disques + rouleaux","Bêche roulante 5.3 m + disques + rouleaux","Bêche roulante 5.3 m + disques + rouleaux","Bêche roulante 5.3 m + disques + rouleaux","Bêche roulante 5.3 m + disques + rouleaux","Bêche roulante 5.3 m + disques + rouleaux","Bêche roulante 5.3 m + disques + rouleaux","Bêche roulante 5.3 m + disques + rouleaux","Bêche roulante 5.3 m + disques + rouleaux","Bêche roulante 5.3 m + disques + rouleaux","Bêche roulante 5.3 m + disques + rouleaux","Bêche roulante 5.3 m + disques + rouleaux","Bêche roulante 5.3 m + disques + rouleaux","Bêche roulante 5.3 m + disques + rouleaux","Bêche roulante 5.3 m + disques + rouleaux","Bêche roulante 5.3 m + disques + rouleaux","Bêche roulante 5.3 m + disques + rouleaux","Bêche roulante 5.3 m + disques + rouleaux","Bêche roulante 5.3 m + disques + rouleaux","Bêche roulante 5.3 m + disques + rouleaux","Bêche roulante 5.3 m + disques + rouleaux","Bêche roulante 5.3 m + disques + rouleaux","Bêche roulante 5.3 m + disques + rouleaux","Bêche roulante 5.3 m + disques + rouleaux","Bêche roulante 5.3 m + disques + rouleaux","Bêche roulante 5.3 m + disques + rouleaux","Bêche roulante 5.3 m + disques + rouleaux","Bêche roulante 5.3 m + disques + rouleaux","Bêche roulante 5.3 m + disques + rouleaux","Bêche roulante 5.3 m + disques + rouleaux","Bêche roulante 5.3 m + disques + rouleaux","Bêche roulante 5.3 m + disques + rouleaux","Bêche roulante 5.3 m + disques + rouleaux","Bêche roulante 5.3 m + disques + rouleaux","Bêche roulante 5.3 m + disques + rouleaux","Bêche roulante 5.3 m + disques + rouleaux","Bêche roulante 5.3 m + disques + rouleaux","Bêche roulante 5.3 m + disques + rouleaux","Bêche roulante 5.3 m + disques + rouleaux","Bêche roulante 5.3 m + disques + rouleaux","Bêche roulante 5.3 m + disques + rouleaux","Bêche roulante 5.3 m + disques + rouleaux","Bêche roulante 5.3 m + disques + rouleaux","Bêche roulante 5.3 m + disques + rouleaux","Bêche roulante 5.3 m + disques + rouleaux","Bêche roulante 5.3 m + disques + rouleaux","Bêche roulante 5.3 m + disques + rouleaux","Bêche roulante 5.3 m + disques + rouleaux","Bêche roulante 5.3 m + disques + rouleaux","Bêche roulante 5.3 m + disques + rouleaux","Bêche roulante 5.3 m + disques + rouleaux","Bêche roulante 5.3 m + disques + rouleaux","Bêche roulante 5.3 m + disques + rouleaux","Bêche roulante 5.3 m + disques + rouleaux","Bêche roulante 5.3 m + disques + rouleaux","Bêche roulante 5.3 m + disques + rouleaux","Bêche roulante 5.3 m + disques + rouleaux","Bêche roulante 5.3 m + disques + rouleaux","Bêche roulante 5.3 m + disques + rouleaux","Bêche roulante 5.3 m + disques + rouleaux","Bêche roulante 5.3 m + disques + rouleaux","Bêche roulante 5.3 m + disques + rouleaux","Bêche roulante 5.3 m + disques + rouleaux","Bêche roulante 5.3 m + disques + rouleaux","Bêche roulante 5.3 m + disques + rouleaux","Bêche roulante 5.3 m + disques + rouleaux","Bêche roulante 5.3 m + disques + rouleaux","Bêche roulante 5.3 m + disques + rouleaux","Bêche roulante 5.3 m + disques + rouleaux","Bêche roulante 5.3 m + disques + rouleaux","Bêche roulante 5.3 m + disques + rouleaux","Bêche roulante 5.3 m + disques + rouleaux","Bêche roulante 5.3 m + disques + rouleaux","Bêche roulante 5.3 m + disques + rouleaux","Bêche roulante 5.3 m + disques + rouleaux","Bêche roulante 5.3 m + disques + rouleaux","Bêche roulante 5.3 m + disques + rouleaux","Bêche roulante 5.3 m + disques + rouleaux","Bêche roulante 5.3 m + disques + rouleaux","Bêche roulante 5.3 m + disques + rouleaux","Bêche roulante 5.3 m + disques + rouleaux","Bêche roulante 5.3 m + disques + rouleaux","Bêche roulante 5.3 m + disques + rouleaux","Bêche roulante 5.3 m + disques + rouleaux","Bêche roulante 5.3 m + disques + rouleaux","Bêche roulante 5.3 m + disques + rouleaux","Bêche roulante 5.3 m + disques + rouleaux","Bêche roulante 5.3 m + disques + rouleaux","Bêche roulante 5.3 m + disques + rouleaux","Bêche roulante 5.3 m + disques + rouleaux","Bêche roulante 5.3 m + disques + rouleaux","Bêche roulante 5.3 m + disques + rouleaux","Bêche roulante 5.3 m + disques + rouleaux","Bêche roulante 5.3 m + disques + rouleaux","Bêche roulante 5.3 m + disques + rouleaux","Bêche roulante 5.3 m + disques + rouleaux","Bêche roulante 5.3 m + disques + rouleaux","Bêche roulante 5.3 m + disques + rouleaux","Bêche roulante 5.3 m + disques + rouleaux","Bêche roulante 5.3 m + disques + rouleaux","Bêche roulante 5.3 m + disques + rouleaux","Bêche roulante 5.3 m + disques + rouleaux","Bêche roulante 5.3 m + disques + rouleaux","Bêche roulante 5.3 m + disques + rouleaux","Bêche roulante 5.3 m + disques + rouleaux","Bêche roulante 5.3 m + disques + rouleaux","Bêche roulante 5.3 m + disques + rouleaux","Bêche roulante 5.3 m + disques + rouleaux","Bêche roulante 5.3 m + disques + rouleaux","Bêche roulante 5.3 m + disques + rouleaux","Bêche roulante 5.3 m + disques + rouleaux","Bêche roulante 5.3 m + disques + rouleaux","Bêche roulante 5.3 m + disques + rouleaux","Bêche roulante 5.3 m + disques + rouleaux","Bêche roulante 5.3 m + disques + rouleaux","Bêche roulante 5.3 m + disques + rouleaux","Bêche roulante 5.3 m + disques + rouleaux","Bêche roulante 5.3 m + disques + rouleaux","Bêche roulante 5.3 m + disques + rouleaux","Bêche roulante 5.3 m + disques + rouleaux","Bêche roulante 5.3 m + disques + rouleaux","Bêche roulante 5.3 m + disques + rouleaux","Bêche roulante 5.3 m + disques + rouleaux","Bêche roulante 5.3 m + disques + rouleaux","Bêche roulante 5.3 m + disques + rouleaux","Bêche roulante 5.3 m + disques + rouleaux","Bêche roulante 5.3 m + disques + rouleaux","Bêche roulante 5.3 m + disques + rouleaux","Bêche roulante 5.3 m + disques + rouleaux","Bêche roulante 5.3 m + disques + rouleaux","Bêche roulante 5.3 m + disques + rouleaux","Bêche roulante 5.3 m + disques + rouleaux","Bêche roulante 5.3 m + disques + rouleaux","Bêche roulante 5.3 m + disques + rouleaux","Bêche roulante 5.3 m + disques + rouleaux","Bêche roulante 5.3 m + disques + rouleaux","Bêche roulante 5.3 m + disques + rouleaux","Bêche roulante 5.3 m + disques + rouleaux","Bêche roulante 5.3 m + disques + rouleaux","Bêche roulante 5.3 m + disques + rouleaux","Bêche roulante 5.3 m + disques + rouleaux","Bêche roulante 5.3 m + disques + rouleaux","Bêche roulante 5.3 m + disques + rouleaux","Bêche roulante 5.3 m + disques + rouleaux","Bêche roulante 5.3 m + disques + rouleaux","Bêche roulante 5.3 m + disques + rouleaux","Bêche roulante 5.3 m + disques + rouleaux","Bêche roulante 5.3 m + disques + rouleaux","Bêche roulante 5.3 m + disques + rouleaux","Bêche roulante 5.3 m + disques + rouleaux","Bêche roulante 5.3 m + disques + rouleaux","Bêche roulante 5.3 m + disques + rouleaux","Bêche roulante 5.3 m + disques + rouleaux","Bêche roulante 5.3 m + disques + rouleaux","Bêche roulante 5.3 m + disques + rouleaux","Bêche roulante 5.3 m + disques + rouleaux","Bêche roulante 5.3 m + disques + rouleaux","Bêche roulante 5.3 m + disques + rouleaux","Bêche roulante 5.3 m + disques + rouleaux","Bêche roulante 5.3 m + disques + rouleaux","Bêche roulante 5.3 m + disques + rouleaux","Bêche roulante 5.3 m + disques + rouleaux","Bêche roulante 5.3 m + disques + rouleaux","Bêche roulante 5.3 m + disques + rouleaux","Bêche roulante 5.3 m + disques + rouleaux","Bêche roulante 5.3 m + disques + rouleaux","Bêche roulante 5.3 m + disques + rouleaux","Bêche roulante 5.3 m + disques + rouleaux","Bêche roulante 5.3 m + disques + rouleaux","Bêche roulante 5.3 m + disques + rouleaux","Bêche roulante 5.3 m + disques + rouleaux","Bêche roulante 5.3 m + disques + rouleaux","Bêche roulante 5.3 m + disques + rouleaux","Bêche roulante 5.3 m + disques + rouleaux","Bêche roulante 5.3 m + disques + rouleaux","Bêche roulante 5.3 m + disques + rouleaux","Bêche roulante 5.3 m + disques + rouleaux","Bêche roulante 5.3 m + disques + rouleaux","Bêche roulante 5.3 m + disques + rouleaux","Bêche roulante 5.3 m + disques + rouleaux","Bêche roulante 5.3 m + disques + rouleaux","Bêche roulante 5.3 m + disques + rouleaux","Bêche roulante 5.3 m + disques + rouleaux","Bêche roulante 5.3 m + disques + rouleaux","Bêche roulante 5.3 m + disques + rouleaux","Bêche roulante 5.3 m + disques + rouleaux","Bêche roulante 5.3 m + disques + rouleaux","Bêche roulante 5.3 m + disques + rouleaux","Bêche roulante 5.3 m + disques + rouleaux","Bêche roulante 5.3 m + disques + rouleaux","Bêche roulante 5.3 m + disques + rouleaux","Bêche roulante 5.3 m + disques + rouleaux","Bêche roulante 5.3 m + disques + rouleaux","Bêche roulante 5.3 m + disques + rouleaux","Bêche roulante 5.3 m + disques + rouleaux","Bêche roulante 5.3 m + disques + rouleaux","Bêche roulante 5.3 m + disques + rouleaux","Bêche roulante 5.3 m + disques + rouleaux","Bêche roulante 5.3 m + disques + rouleaux","Bêche roulante 5.3 m + disques + rouleaux","Bêche roulante 5.3 m + disques + rouleaux","Bêche roulante 5.3 m + disques + rouleaux","Bêche roulante 5.3 m + disques + rouleaux","Bêche roulante 5.3 m + disques + rouleaux","Bêche roulante 5.3 m + disques + rouleaux","Bêche roulante 5.3 m + disques + rouleaux","Bêche roulante 5.3 m + disques + rouleaux","Bêche roulante 5.3 m + disques + rouleaux","Bêche roulante 5.3 m + disques + rouleaux","Bêche roulante 5.3 m + disques + rouleaux","Bêche roulante 5.3 m + disques + rouleaux","Bêche roulante 5.3 m + disques + rouleaux","Bêche roulante 5.3 m + disques + rouleaux","Bêche roulante 5.3 m + disques + rouleaux","Bêche roulante 5.3 m + disques + rouleaux","Bêche roulante 5.3 m + disques + rouleaux","Bêche roulante 5.3 m + disques + rouleaux","Bêche roulante 5.3 m + disques + rouleaux","Bêche roulante 5.3 m + disques + rouleaux","Bêche roulante 5.3 m + disques + rouleaux","Bêche roulante 5.3 m + disques + rouleaux","Bêche roulante 5.3 m + disques + rouleaux","Bêche roulante 5.3 m + disques + rouleaux","Bêche roulante 5.3 m + disques + rouleaux","Bêche roulante 5.3 m + disques + rouleaux","Bêche roulante 5.3 m + disques + rouleaux","Bêche roulante 5.3 m + disques + rouleaux","Bêche roulante 5.3 m + disques + rouleaux","Bêche roulante 5.3 m + disques + rouleaux","Bêche roulante 5.3 m + disques + rouleaux","Bêche roulante 5.3 m + disques + rouleaux","Bêche roulante 5.3 m + disques + rouleaux","Bêche roulante 5.3 m + disques + rouleaux","Bêche roulante 5.3 m + disques + rouleaux","Bêche roulante 5.3 m + disques + rouleaux","Bêche roulante 5.3 m + disques + rouleaux","Bêche roulante 5.3 m + disques + rouleaux","Bêche roulante 5.3 m + disques + rouleaux","Bêche roulante 5.3 m + disques + rouleaux","Bêche roulante 5.3 m + disques + rouleaux","Bêche roulante 5.3 m + disques + rouleaux","Bêche roulante 5.3 m + disques + rouleaux","Bêche roulante 5.3 m + disques + rouleaux","Bêche roulante 5.3 m + disques + rouleaux","Bêche roulante 5.3 m + disques + rouleaux","Bêche roulante 5.3 m + disques + rouleaux","Bêche roulante 5.3 m + disques + rouleaux","Bêche roulante 5.3 m + disques + rouleaux","Bêche roulante 5.3 m + disques + rouleaux","Bêche roulante 5.3 m + disques + rouleaux","Bêche roulante 5.3 m + disques + rouleaux","Bêche roulante 5.3 m + disques + rouleaux","Bêche roulante 5.3 m + disques + rouleaux","Bêche roulante 5.3 m + disques + rouleaux","Bêche roulante 5.3 m + disques + rouleaux","Bêche roulante 5.3 m + disques + rouleaux","Bêche roulante 5.3 m + disques + rouleaux","Bêche roulante 5.3 m + disques + rouleaux","Bêche roulante 5.3 m + disques + rouleaux","Bêche roulante 5.3 m + disques + rouleaux","Bêche roulante 5.3 m + disques + rouleaux","Bêche roulante 5.3 m + disques + rouleaux","Bêche roulante 5.3 m + disques + rouleaux","Bêche roulante 5.3 m + disques + rouleaux","Bêche roulante 5.3 m + disques + rouleaux","Bêche roulante 5.3 m + disques + rouleaux","Bêche roulante 5.3 m + disques + rouleaux","Bêche roulante 5.3 m + disques + rouleaux","Bêche roulante 5.3 m + disques + rouleaux","Bêche roulante 5.3 m + disques + rouleaux","Bêche roulante 5.3 m + disques + rouleaux","Bêche roulante 5.3 m + disques + rouleaux","Bêche roulante 5.3 m + disques + rouleaux","Bêche roulante 5.3 m + disques + rouleaux","Bêche roulante 5.3 m + disques + rouleaux","Bêche roulante 5.3 m + disques + rouleaux","Bêche roulante 5.3 m + disques + rouleaux","Bêche roulante 5.3 m + disques + rouleaux","Bêche roulante 5.3 m + disques + rouleaux","Bêche roulante 5.3 m + disques + rouleaux","Bêche roulante 5.3 m + disques + rouleaux","Bêche roulante 5.3 m + disques + rouleaux","Bêche roulante 5.3 m + disques + rouleaux","Bêche roulante 5.3 m + disques + rouleaux","Bêche roulante 5.3 m + disques + rouleaux","Bêche roulante 5.3 m + disques + rouleaux","Bêche roulante 5.3 m + disques + rouleaux","Bêche roulante 5.3 m + disques + rouleaux","Bêche roulante 5.3 m + disques + rouleaux","Bêche roulante 5.3 m + disques + rouleaux","Bêche roulante 5.3 m + disques + rouleaux","Bêche roulante 5.3 m + disques + rouleaux","Bêche roulante 5.3 m + disques + rouleaux","Bêche roulante 5.3 m + disques + rouleaux","Bêche roulante 5.3 m + disques + rouleaux","Bêche roulante 5.3 m + disques + rouleaux","Bêche roulante 5.3 m + disques + rouleaux","Bêche roulante 5.3 m + disques + rouleaux","Bêche roulante 5.3 m + disques + rouleaux","Bêche roulante 5.3 m + disques + rouleaux","Bêche roulante 5.3 m + disques + rouleaux","Bêche roulante 5.3 m + disques + rouleaux","Bêche roulante 5.3 m + disques + rouleaux","Bêche roulante 5.3 m + disques + rouleaux","Bêche roulante 5.3 m + disques + rouleaux","Bêche roulante 5.3 m + disques + rouleaux","Bêche roulante 5.3 m + disques + rouleaux","Bêche roulante 5.3 m + disques + rouleaux","Bêche roulante 5.3 m + disques + rouleaux","Bêche roulante 5.3 m + disques + rouleaux","Bêche roulante 5.3 m + disques + rouleaux","Bêche roulante 5.3 m + disques + rouleaux","Bêche roulante 5.3 m + disques + rouleaux","Bêche roulante 5.3 m + disques + rouleaux","Bêche roulante 5.3 m + disques + rouleaux","Bêche roulante 5.3 m + disques + rouleaux","Bêche roulante 5.3 m + disques + rouleaux","Bêche roulante 5.3 m + disques + rouleaux","Bêche roulante 5.3 m + disques + rouleaux","Bêche roulante 5.3 m + disques + rouleaux","Bêche roulante 5.3 m + disques + rouleaux","Bêche roulante 5.3 m + disques + rouleaux","Bêche roulante 5.3 m + disques + rouleaux","Bêche roulante 5.3 m + disques + rouleaux","Bêche roulante 5.3 m + disques + rouleaux","Bêche roulante 5.3 m + disques + rouleaux","Bêche roulante 5.3 m + disques + rouleaux","Bêche roulante 5.3 m + disques + rouleaux","Bêche roulante 5.3 m + disques + rouleaux","Bêche roulante 5.3 m + disques + rouleaux","Bêche roulante 5.3 m + disques + rouleaux","Bêche roulante 5.3 m + disques + rouleaux","Bêche roulante 5.3 m + disques + rouleaux","Bêche roulante 5.3 m + disques + rouleaux","Bêche roulante 5.3 m + disques + rouleaux","Bêche roulante 5.3 m + disques + rouleaux","Bêche roulante 5.3 m + disques + rouleaux","Bêche roulante 5.3 m + disques + rouleaux","Bêche roulante 5.3 m + disques + rouleaux","Bêche roulante 5.3 m + disques + rouleaux","Bêche roulante 5.3 m + disques + rouleaux","Bêche roulante 5.3 m + disques + rouleaux","Bêche roulante 5.3 m + disques + rouleaux","Bêche roulante 5.3 m + disques + rouleaux","Bêche roulante 5.3 m + disques + rouleaux","Bêche roulante 5.3 m + disques + rouleaux","Bêche roulante 5.3 m + disques + rouleaux","Bêche roulante 5.3 m + disques + rouleaux","Bêche roulante 5.3 m + disques + rouleaux","Bêche roulante 5.3 m + disques + rouleaux","Bêche roulante 5.3 m + disques + rouleaux","Bêche roulante 5.3 m + disques + rouleaux","Bêche roulante 5.3 m + disques + rouleaux","Bêche roulante 5.3 m + disques + rouleaux","Bêche roulante 5.3 m + disques + rouleaux","Bêche roulante 5.3 m + disques + rouleaux","Bêche roulante 5.3 m + disques + rouleaux","Bêche roulante 5.3 m + disques + rouleaux","Bêche roulante 5.3 m + disques + rouleaux","Bêche roulante 5.3 m + disques + rouleaux","Bêche roulante 5.3 m + disques + rouleaux","Bêche roulante 5.3 m + disques + rouleaux","Bêche roulante 5.3 m + disques + rouleaux","Bêche roulante 5.3 m + disques + rouleaux","Bêche roulante 5.3 m + disques + rouleaux","Bêche roulante 5.3 m + disques + rouleaux","Bêche roulante 5.3 m + disques + rouleaux","Bêche roulante 5.3 m + disques + rouleaux","Bêche roulante 5.3 m + disques + rouleaux","Bêche roulante 5.3 m + disques + rouleaux","Bêche roulante 5.3 m + disques + rouleaux","Bêche roulante 5.3 m + disques + rouleaux","Bêche roulante 5.3 m + disques + rouleaux","Bêche roulante 5.3 m + disques + rouleaux","Bêche roulante 5.3 m + disques + rouleaux","Bêche roulante 5.3 m + disques + rouleaux","Bêche roulante 5.3 m + disques + rouleaux","Bêche roulante 5.3 m + disques + rouleaux","Bêche roulante 5.3 m + disques + rouleaux","Bêche roulante 5.3 m + disques + rouleaux","Bêche roulante 5.3 m + disques + rouleaux","Bêche roulante 5.3 m + disques + rouleaux","Bêche roulante 5.3 m + disques + rouleaux","Bêche roulante 5.3 m + disques + rouleaux","Bêche roulante 5.3 m + disques + rouleaux","Bêche roulante 5.3 m + disques + rouleaux","Bêche roulante 5.3 m + disques + rouleaux","Bêche roulante 5.3 m + disques + rouleaux","Bêche roulante 5.3 m + disques + rouleaux","Bêche roulante 5.3 m + disques + rouleaux","Bêche roulante 5.3 m + disques + rouleaux","Bêche roulante 5.3 m + disques + rouleaux","Bêche roulante 5.3 m + disques + rouleaux","Bêche roulante 5.3 m + disques + rouleaux","Bêche roulante 5.3 m + disques + rouleaux","Bêche roulante 5.3 m + disques + rouleaux","Bêche roulante 5.3 m + disques + rouleaux","Bêche roulante 5.3 m + disques + rouleaux","Bêche roulante 5.3 m + disques + rouleaux","Bêche roulante 5.3 m + disques + rouleaux","Bêche roulante 5.3 m + disques + rouleaux","Bêche roulante 5.3 m + disques + rouleaux","Bêche roulante 5.3 m + disques + rouleaux","Bêche roulante 5.3 m + disques + rouleaux","Bêche roulante 5.3 m + disques + rouleaux","Bêche roulante 5.3 m + disques + rouleaux","Bêche roulante 5.3 m + disques + rouleaux","Bêche roulante 5.3 m + disques + rouleaux","Bêche roulante 5.3 m + disques + rouleaux","Bêche roulante 5.3 m + disques + rouleaux","Bêche roulante 5.3 m + disques + rouleaux","Bêche roulante 5.3 m + disques + rouleaux","Bêche roulante 5.3 m + disques + rouleaux","Bêche roulante 5.3 m + disques + rouleaux","Bêche roulante 5.3 m + disques + rouleaux","Bêche roulante 5.3 m + disques + rouleaux","Bêche roulante 5.3 m + disques + rouleaux","Bêche roulante 5.3 m + disques + rouleaux","Bêche roulante 5.3 m + disques + rouleaux","Bêche roulante 5.3 m + disques + rouleaux","Bêche roulante 5.3 m + disques + rouleaux","Bêche roulante 5.3 m + disques + rouleaux","Bêche roulante 5.3 m + disques + rouleaux","Bêche roulante 5.3 m + disques + rouleaux","Bêche roulante 5.3 m + disques + rouleaux","Bêche roulante 5.3 m + disques + rouleaux","Bêche roulante 5.3 m + disques + rouleaux","Bêche roulante 5.3 m + disques + rouleaux","Bêche roulante 5.3 m + disques + rouleaux","Bêche roulante 5.3 m + disques + rouleaux","Bêche roulante 5.3 m + disques + rouleaux","Bêche roulante 5.3 m + disques + rouleaux","Bêche roulante 5.3 m + disques + rouleaux","Bêche roulante 5.3 m + disques + rouleaux","Bêche roulante 5.3 m + disques + rouleaux","Bêche roulante 5.3 m + disques + rouleaux","Bêche roulante 5.3 m + disques + rouleaux","Bêche roulante 5.3 m + disques + rouleaux","Bêche roulante 5.3 m + disques + rouleaux","Bêche roulante 5.3 m + disques + rouleaux","Bêche roulante 5.3 m + disques + rouleaux","Bêche roulante 5.3 m + disques + rouleaux","Bêche roulante 5.3 m + disques + rouleaux","Bêche roulante 5.3 m + disques + rouleaux","Bêche roulante 5.3 m + disques + rouleaux","Bêche roulante 5.3 m + disques + rouleaux","Bêche roulante 5.3 m + disques + rouleaux","Bêche roulante 5.3 m + disques + rouleaux","Bêche roulante 5.3 m + disques + rouleaux","Bêche roulante 5.3 m + disques + rouleaux","Bêche roulante 5.3 m + disques + rouleaux","Bêche roulante 5.3 m + disques + rouleaux","Bêche roulante 5.3 m + disques + rouleaux","Bêche roulante 5.3 m + disques + rouleaux","Bêche roulante 5.3 m + disques + rouleaux","Bêche roulante 5.3 m + disques + rouleaux","Bêche roulante 5.3 m + disques + rouleaux","Bêche roulante 5.3 m + disques + rouleaux","Bêche roulante 5.3 m + disques + rouleaux","Bêche roulante 5.3 m + disques + rouleaux","Bêche roulante 5.3 m + disques + rouleaux","Bêche roulante 5.3 m + disques + rouleaux","Bêche roulante 5.3 m + disques + rouleaux","Bêche roulante 5.3 m + disques + rouleaux","Bêche roulante 5.3 m + disques + rouleaux","Bêche roulante 5.3 m + disques + rouleaux","Bêche roulante 5.3 m + disques + rouleaux","Bêche roulante 5.3 m + disques + rouleaux","Bêche roulante 5.3 m + disques + rouleaux","Bêche roulante 5.3 m + disques + rouleaux","Bêche roulante 5.3 m + disques + rouleaux","Bêche roulante 5.3 m + disques + rouleaux","Bêche roulante 5.3 m + disques + rouleaux","Bêche roulante 5.3 m + disques + rouleaux","Bêche roulante 5.3 m + disques + rouleaux","Bêche roulante 5.3 m + disques + rouleaux","Bêche roulante 5.3 m + disques + rouleaux","Bêche roulante 5.3 m + disques + rouleaux","Bêche roulante 5.3 m + disques + rouleaux","Bêche roulante 5.3 m + disques + rouleaux","Bêche roulante 5.3 m + disques + rouleaux","Bêche roulante 5.3 m + disques + rouleaux","Bêche roulante 5.3 m + disques + rouleaux","Bêche roulante 5.3 m + disques + rouleaux","Bêche roulante 5.3 m + disques + rouleaux","Bêche roulante 5.3 m + disques + rouleaux","Bêche roulante 5.3 m + disques + rouleaux","Bêche roulante 5.3 m + disques + rouleaux","Bêche roulante 5.3 m + disques + rouleaux","Bêche roulante 5.3 m + disques + rouleaux","Bêche roulante 5.3 m + disques + rouleaux","Bêche roulante 5.3 m + disques + rouleaux","Bêche roulante 5.3 m + disques + rouleaux","Bêche roulante 5.3 m + disques + rouleaux","Bêche roulante 5.3 m + disques + rouleaux","Bêche roulante 5.3 m + disques + rouleaux","Bêche roulante 5.3 m + disques + rouleaux","Bêche roulante 5.3 m + disques + rouleaux","Bêche roulante 5.3 m + disques + rouleaux","Bêche roulante 5.3 m + disques + rouleaux","Bêche roulante 5.3 m + disques + rouleaux","Bêche roulante 5.3 m + disques + rouleaux","Bêche roulante 5.3 m + disques + rouleaux","Bêche roulante 5.3 m + disques + rouleaux","Bêche roulante 5.3 m + disques + rouleaux","Bêche roulante 5.3 m + disques + rouleaux","Bêche roulante 5.3 m + disques + rouleaux","Bêche roulante 5.3 m + disques + rouleaux","Bêche roulante 5.3 m + disques + rouleaux","Bêche roulante 5.3 m + disques + rouleaux","Bêche roulante 5.3 m + disques + rouleaux","Bêche roulante 5.3 m + disques + rouleaux","Bêche roulante 5.3 m + disques + rouleaux","Bêche roulante 5.3 m + disques + rouleaux","Bêche roulante 5.3 m + disques + rouleaux","Bêche roulante 5.3 m + disques + rouleaux","Bêche roulante 5.3 m + disques + rouleaux","Bêche roulante 5.3 m + disques + rouleaux","Bêche roulante 5.3 m + disques + rouleaux","Bêche roulante 5.3 m + disques + rouleaux","Bêche roulante 5.3 m + disques + rouleaux","Bêche roulante 5.3 m + disques + rouleaux","Bêche roulante 5.3 m + disques + rouleaux","Bêche roulante 5.3 m + disques + rouleaux","Bêche roulante 5.3 m + disques + rouleaux","Bêche roulante 5.3 m + disques + rouleaux","Bêche roulante 5.3 m + disques + rouleaux","Bêche roulante 5.3 m + disques + rouleaux","Bêche roulante 5.3 m + disques + rouleaux","Bêche roulante 5.3 m + disques + rouleaux","Bêche roulante 5.3 m + disques + rouleaux","Bêche roulante 5.3 m + disques + rouleaux","Bêche roulante 5.3 m + disques + rouleaux","Bêche roulante 5.3 m + disques + rouleaux","Bêche roulante 5.3 m + disques + rouleaux","Bêche roulante 5.3 m + disques + rouleaux","Bêche roulante 5.3 m + disques + rouleaux","Bêche roulante 5.3 m + disques + rouleaux","Bêche roulante 5.3 m + disques + rouleaux","Bêche roulante 5.3 m + disques + rouleaux","Bêche roulante 5.3 m + disques + rouleaux","Bêche roulante 5.3 m + disques + rouleaux","Bêche roulante 5.3 m + disques + rouleaux","Bêche roulante 5.3 m + disques + rouleaux","Bêche roulante 5.3 m + disques + rouleaux","Bêche roulante 5.3 m + disques + rouleaux","Bêche roulante 5.3 m + disques + rouleaux","Bêche roulante 5.3 m + disques + rouleaux","Bêche roulante 5.3 m + disques + rouleaux","Bêche roulante 5.3 m + disques + rouleaux","Bêche roulante 5.3 m + disques + rouleaux","Bêche roulante 5.3 m + disques + rouleaux","Bêche roulante 5.3 m + disques + rouleaux","Bêche roulante 5.3 m + disques + rouleaux","Bêche roulante 5.3 m + disques + rouleaux","Bêche roulante 5.3 m + disques + rouleaux","Bêche roulante 5.3 m + disques + rouleaux","Bêche roulante 5.3 m + disques + rouleaux","Bêche roulante 5.3 m + disques + rouleaux","Bêche roulante 5.3 m + disques + rouleaux","Bêche roulante 5.3 m + disques + rouleaux","Bêche roulante 5.3 m + disques + rouleaux","Bêche roulante 5.3 m + disques + rouleaux","Bêche roulante 5.3 m + disques + rouleaux","Bêche roulante 5.3 m + disques + rouleaux","Bêche roulante 5.3 m + disques + rouleaux","Bêche roulante 5.3 m + disques + rouleaux","Bêche roulante 5.3 m + disques + rouleaux","Bêche roulante 5.3 m + disques + rouleaux","Bêche roulante 5.3 m + disques + rouleaux","Bêche roulante 5.3 m + disques + rouleaux","Bêche roulante 5.3 m + disques + rouleaux","Bêche roulante 5.3 m + disques + rouleaux","Bêche roulante 5.3 m + disques + rouleaux","Bêche roulante 5.3 m + disques + rouleaux","Bêche roulante 5.3 m + disques + rouleaux","Bêche roulante 5.3 m + disques + rouleaux","Bêche roulante 5.3 m + disques + rouleaux","Bêche roulante 5.3 m + disques + rouleaux","Bêche roulante 5.3 m + disques + rouleaux","Bêche roulante 5.3 m + disques + rouleaux","Bêche roulante 5.3 m + disques + rouleaux","Bêche roulante 5.3 m + disques + rouleaux","Bêche roulante 5.3 m + disques + rouleaux","Bêche roulante 5.3 m + disques + rouleaux","Bêche roulante 5.3 m + disques + rouleaux","Bêche roulante 5.3 m + disques + rouleaux","Bêche roulante 5.3 m + disques + rouleaux","Bêche roulante 5.3 m + disques + rouleaux","Bêche roulante 5.3 m + disques + rouleaux","Bêche roulante 5.3 m + disques + rouleaux","Bêche roulante 5.3 m + disques + rouleaux","Bêche roulante 5.3 m + disques + rouleaux","Bêche roulante 5.3 m + disques + rouleaux","Bêche roulante 5.3 m + disques + rouleaux","Bêche roulante 5.3 m + disques + rouleaux","Bêche roulante 5.3 m + disques + rouleaux","Bêche roulante 5.3 m + disques + rouleaux","Bêche roulante 5.3 m + disques + rouleaux","Bêche roulante 5.3 m + disques + rouleaux","Bêche roulante 5.3 m + disques + rouleaux","Bêche roulante 5.3 m + disques + rouleaux","Bêche roulante 5.3 m + disques + rouleaux","Bêche roulante 5.3 m + disques + rouleaux","Bêche roulante 5.3 m + disques + rouleaux","Bêche roulante 5.3 m + disques + rouleaux","Bêche roulante 5.3 m + disques + rouleaux","Bêche roulante 5.3 m + disques + rouleaux","Bêche roulante 5.3 m + disques + rouleaux","Bêche roulante 5.3 m + disques + rouleaux","Bêche roulante 5.3 m + disques + rouleaux","Bêche roulante 5.3 m + disques + rouleaux","Bêche roulante 5.3 m + disques + rouleaux","Bêche roulante 5.3 m + disques + rouleaux","Bêche roulante 5.3 m + disques + rouleaux","Bêche roulante 5.3 m + disques + rouleaux","Bêche roulante 5.3 m + disques + rouleaux","Bêche roulante 5.3 m + disques + rouleaux","Bêche roulante 5.3 m + disques + rouleaux","Bêche roulante 5.3 m + disques + rouleaux","Bêche roulante 5.3 m + disques + rouleaux","Bêche roulante 5.3 m + disques + rouleaux","Bêche roulante 5.3 m + disques + rouleaux","Bêche roulante 5.3 m + disques + rouleaux","Bêche roulante 5.3 m + disques + rouleaux","Bêche roulante 5.3 m + disques + rouleaux","Bêche roulante 5.3 m + disques + rouleaux","Bêche roulante 5.3 m + disques + rouleaux","Bêche roulante 5.3 m + disques + rouleaux","Bêche roulante 5.3 m + disques + rouleaux","Bêche roulante 5.3 m + disques + rouleaux","Bêche roulante 5.3 m + disques + rouleaux","Bêche roulante 5.3 m + disques + rouleaux","Bêche roulante 5.3 m + disques + rouleaux","Bêche roulante 5.3 m + disques + rouleaux","Bêche roulante 5.3 m + disques + rouleaux","Bêche roulante 5.3 m + disques + rouleaux","Bêche roulante 5.3 m + disques + rouleaux","Bêche roulante 5.3 m + disques + rouleaux","Bêche roulante 5.3 m + disques + rouleaux","Bêche roulante 5.3 m + disques + rouleaux","Bêche roulante 5.3 m + disques + rouleaux","Bêche roulante 5.3 m + disques + rouleaux","Bêche roulante 5.3 m + disques + rouleaux","Bêche roulante 5.3 m + disques + rouleaux","Bêche roulante 5.3 m + disques + rouleaux","Bêche roulante 5.3 m + disques + rouleaux","Bêche roulante 5.3 m + disques + rouleaux","Bêche roulante 5.3 m + disques + rouleaux","Bêche roulante 5.3 m + disques + rouleaux","Bêche roulante 5.3 m + disques + rouleaux","Bêche roulante 5.3 m + disques + rouleaux","Bêche roulante 5.3 m + disques + rouleaux","Bêche roulante 5.3 m + disques + rouleaux","Bêche roulante 5.3 m + disques + rouleaux","Bêche roulante 5.3 m + disques + rouleaux","Bêche roulante 5.3 m + disques + rouleaux","Bêche roulante 5.3 m + disques + rouleaux","Bêche roulante 5.3 m + disques + rouleaux","Bêche roulante 5.3 m + disques + rouleaux","Bêche roulante 5.3 m + disques + rouleaux","Bêche roulante 5.3 m + disques + rouleaux","Bêche roulante 5.3 m + disques + rouleaux","Bêche roulante 5.3 m + disques + rouleaux","Bêche roulante 5.3 m + disques + rouleaux","Bêche roulante 5.3 m + disques + rouleaux","Bêche roulante 5.3 m + disques + rouleaux","Bêche roulante 5.3 m + disques + rouleaux","Bêche roulante 5.3 m + disques + rouleaux","Bêche roulante 5.3 m + disques + rouleaux","Bêche roulante 5.3 m + disques + rouleaux","Bêche roulante 5.3 m + disques + rouleaux","Bêche roulante 5.3 m + disques + rouleaux","Bêche roulante 5.3 m + disques + rouleaux","Bêche roulante 5.3 m + disques + rouleaux","Bêche roulante 5.3 m + disques + rouleaux","Bêche roulante 5.3 m + disques + rouleaux","Bêche roulante 5.3 m + disques + rouleaux","Bêche roulante 5.3 m + disques + rouleaux","Bêche roulante 5.3 m + disques + rouleaux","Bêche roulante 5.3 m + disques + rouleaux","Bêche roulante 5.3 m + disques + rouleaux","Bêche roulante 5.3 m + disques + rouleaux","Bêche roulante 5.3 m + disques + rouleaux","Bêche roulante 5.3 m + disques + rouleaux","Bêche roulante 5.3 m + disques + rouleaux","Bêche roulante 5.3 m + disques + rouleaux","Bêche roulante 5.3 m + disques + rouleaux","Bêche roulante 5.3 m + disques + rouleaux","Bêche roulante 5.3 m + disques + rouleaux","Bêche roulante 5.3 m + disques + rouleaux","Bêche roulante 5.3 m + disques + rouleaux","Bêche roulante 5.3 m + disques + rouleaux","Bêche roulante 5.3 m + disques + rouleaux","Bêche roulante 5.3 m + disques + rouleaux","Bêche roulante 5.3 m + disques + rouleaux","Bêche roulante 5.3 m + disques + rouleaux","Bêche roulante 5.3 m + disques + rouleaux","Bêche roulante 5.3 m + disques + rouleaux","Bêche roulante 5.3 m + disques + rouleaux","Bêche roulante 5.3 m + disques + rouleaux","Bêche roulante 5.3 m + disques + rouleaux","Bêche roulante 5.3 m + disques + rouleaux","Bêche roulante 5.3 m + disques + rouleaux","Bêche roulante 5.3 m + disques + rouleaux","Bêche roulante 5.3 m + disques + rouleaux","Bêche roulante 5.3 m + disques + rouleaux","Bêche roulante 5.3 m + disques + rouleaux","Bêche roulante 5.3 m + disques + rouleaux","Bêche roulante 5.3 m + disques + rouleaux","Bêche roulante 5.3 m + disques + rouleaux","Bêche roulante 5.3 m + disques + rouleaux","Bêche roulante 5.3 m + disques + rouleaux","Bêche roulante 5.3 m + disques + rouleaux","Bêche roulante 5.3 m + disques + rouleaux","Bêche roulante 5.3 m + disques + rouleaux","Bêche roulante 5.3 m + disques + rouleaux","Bêche roulante 5.3 m + disques + rouleaux","Bêche roulante 5.3 m + disques + rouleaux","Bêche roulante 5.3 m + disques + rouleaux","Bêche roulante 5.3 m + disques + rouleaux","Bêche roulante 5.3 m + disques + rouleaux","Bêche roulante 5.3 m + disques + rouleaux","Bêche roulante 5.3 m + disques + rouleaux","Bêche roulante 5.3 m + disques + rouleaux","Bêche roulante 5.3 m + disques + rouleaux","Bêche roulante 5.3 m + disques + rouleaux","Bêche roulante 5.3 m + disques + rouleaux","Bêche roulante 5.3 m + disques + rouleaux","Bêche roulante 5.3 m + disques + rouleaux","Bêche roulante 5.3 m + disques + rouleaux","Bêche roulante 5.3 m + disques + rouleaux","Bêche roulante 5.3 m + disques + rouleaux","Bêche roulante 5.3 m + disques + rouleaux","Bêche roulante 5.3 m + disques + rouleaux","Bêche roulante 5.3 m + disques + rouleaux","Bêche roulante 5.3 m + disques + rouleaux","Bêche roulante 5.3 m + disques + rouleaux","Bêche roulante 5.3 m + disques + rouleaux","Bêche roulante 5.3 m + disques + rouleaux","Bêche roulante 5.3 m + disques + rouleaux","Bêche roulante 5.3 m + disques + rouleaux","Bêche roulante 5.3 m + disques + rouleaux","Bêche roulante 5.3 m + disques + rouleaux","Bêche roulante 5.3 m + disques + rouleaux","Bêche roulante 5.3 m + disques + rouleaux","Bêche roulante 5.3 m + disques + rouleaux","Bêche roulante 5.3 m + disques + rouleaux","Bêche roulante 5.3 m + disques + rouleaux","Bêche roulante 5.3 m + disques + rouleaux","Bêche roulante 5.3 m + disques + rouleaux","Bêche roulante 5.3 m + disques + rouleaux","Bêche roulante 5.3 m + disques + rouleaux","Bêche roulante 5.3 m + disques + rouleaux","Bêche roulante 5.3 m + disques + rouleaux","Bêche roulante 5.3 m + disques + rouleaux","Bêche roulante 5.3 m + disques + rouleaux","Bêche roulante 5.3 m + disques + rouleaux","Bêche roulante 5.3 m + disques + rouleaux","Bêche roulante 5.3 m + disques + rouleaux","Bêche roulante 5.3 m + disques + rouleaux","Bêche roulante 5.3 m + disques + rouleaux","Bêche roulante 5.3 m + disques + rouleaux","Bêche roulante 5.3 m + disques + rouleaux","Bêche roulante 5.3 m + disques + rouleaux","Bêche roulante 5.3 m + disques + rouleaux","Bêche roulante 5.3 m + disques + rouleaux","Bêche roulante 5.3 m + disques + rouleaux","Bêche roulante 5.3 m + disques + rouleaux","Bêche roulante 5.3 m + disques + rouleaux","Bêche roulante 5.3 m + disques + rouleaux","Bêche roulante 5.3 m + disques + rouleaux","Bêche roulante 5.3 m + disques + rouleaux","Bêche roulante 5.3 m + disques + rouleaux","Bêche roulante 5.3 m + disques + rouleaux","Bêche roulante 5.3 m + disques + rouleaux","Bêche roulante 5.3 m + disques + rouleaux","Bêche roulante 5.3 m + disques + rouleaux","Bêche roulante 5.3 m + disques + rouleaux","Bêche roulante 5.3 m + disques + rouleaux","Bêche roulante 5.3 m + disques + rouleaux","Bêche roulante 5.3 m + disques + rouleaux","Bêche roulante 5.3 m + disques + rouleaux","Bêche roulante 5.3 m + disques + rouleaux","Bêche roulante 5.3 m + disques + rouleaux","Bêche roulante 5.3 m + disques + rouleaux","Bêche roulante 5.3 m + disques + rouleaux","Bêche roulante 5.3 m + disques + rouleaux","Bêche roulante 5.3 m + disques + rouleaux","Bêche roulante 5.3 m + disques + rouleaux","Bêche roulante 5.3 m + disques + rouleaux","Bêche roulante 5.3 m + disques + rouleaux","Bêche roulante 5.3 m + disques + rouleaux","Bêche roulante 5.3 m + disques + rouleaux","Bêche roulante 5.3 m + disques + rouleaux","Bêche roulante 5.3 m + disques + rouleaux","Bêche roulante 5.3 m + disques + rouleaux","Bêche roulante 5.3 m + disques + rouleaux","Bêche roulante 5.3 m + disques + rouleaux","Bêche roulante 5.3 m + disques + rouleaux","Bêche roulante 5.3 m + disques + rouleaux","Bêche roulante 5.3 m + disques + rouleaux","Bêche roulante 5.3 m + disques + rouleaux","Bêche roulante 5.3 m + disques + rouleaux","Bêche roulante 5.3 m + disques + rouleaux","Bêche roulante 5.3 m + disques + rouleaux","Bêche roulante 5.3 m + disques + rouleaux","Bêche roulante 5.3 m + disques + rouleaux","Bêche roulante 5.3 m + disques + rouleaux","Bêche roulante 5.3 m + disques + rouleaux","Bêche roulante 5.3 m + disques + rouleaux","Bêche roulante 5.3 m + disques + rouleaux","Bêche roulante 5.3 m + disques + rouleaux","Bêche roulante 5.3 m + disques + rouleaux","Bêche roulante 5.3 m + disques + rouleaux","Bêche roulante 5.3 m + disques + rouleaux","Bêche roulante 5.3 m + disques + rouleaux","Bêche roulante 5.3 m + disques + rouleaux","Bêche roulante 5.3 m + disques + rouleaux","Bêche roulante 5.3 m + disques + rouleaux","Bêche roulante 5.3 m + disques + rouleaux","Bêche roulante 5.3 m + disques + rouleaux","Bêche roulante 5.3 m + disques + rouleaux","Bêche roulante 5.3 m + disques + rouleaux","Bêche roulante 5.3 m + disques + rouleaux","Bêche roulante 5.3 m + disques + rouleaux","Bêche roulante 5.3 m + disques + rouleaux","Bêche roulante 5.3 m + disques + rouleaux","Bêche roulante 5.3 m + disques + rouleaux","Bêche roulante 5.3 m + disques + rouleaux","Bêche roulante 5.3 m + disques + rouleaux","Bêche roulante 5.3 m + disques + rouleaux","Bêche roulante 5.3 m + disques + rouleaux","Bêche roulante 5.3 m + disques + rouleaux","Bêche roulante 5.3 m + disques + rouleaux","Bêche roulante 5.3 m + disques + rouleaux","Bêche roulante 5.3 m + disques + rouleaux","Bêche roulante 5.3 m + disques + rouleaux","Bêche roulante 5.3 m + disques + rouleaux","Bêche roulante 5.3 m + disques + rouleaux","Bêche roulante 5.3 m + disques + rouleaux","Bêche roulante 5.3 m + disques + rouleaux","Bêche roulante 5.3 m + disques + rouleaux","Bêche roulante 5.3 m + disques + rouleaux","Bêche roulante 5.3 m + disques + rouleaux","Bêche roulante 5.3 m + disques + rouleaux","Bêche roulante 5.3 m + disques + rouleaux","Bêche roulante 5.3 m + disques + rouleaux","Bêche roulante 5.3 m + disques + rouleaux","Bêche roulante 5.3 m + disques + rouleaux","Bêche roulante 5.3 m + disques + rouleaux","Bêche roulante 5.3 m + disques + rouleaux","Bêche roulante 5.3 m + disques + rouleaux","Bêche roulante 5.3 m + disques + rouleaux","Bêche roulante 5.3 m + disques + rouleaux","Bêche roulante 5.3 m + disques + rouleaux","Bêche roulante 5.3 m + disques + rouleaux","Bêche roulante 5.3 m + disques + rouleaux","Bêche roulante 5.3 m + disques + rouleaux","Bêche roulante 5.3 m + disques + rouleaux","Bêche roulante 5.3 m + disques + rouleaux","Bêche roulante 5.3 m + disques + rouleaux","Bêche roulante 5.3 m + disques + rouleaux","Bêche roulante 5.3 m + disques + rouleaux","Bêche roulante 5.3 m + disques + rouleaux","Bêche roulante 5.3 m + disques + rouleaux","Bêche roulante 5.3 m + disques + rouleaux","Bêche roulante 5.3 m + disques + rouleaux","Bêche roulante 5.3 m + disques + rouleaux","Bêche roulante 5.3 m + disques + rouleaux","Bêche roulante 5.3 m + disques + rouleaux","Bêche roulante 5.3 m + disques + rouleaux","Bêche roulante 5.3 m + disques + rouleaux","Bêche roulante 5.3 m + disques + rouleaux","Bêche roulante 5.3 m + disques + rouleaux","Bêche roulante 5.3 m + disques + rouleaux","Bêche roulante 5.3 m + disques + rouleaux","Bêche roulante 5.3 m + disques + rouleaux","Bêche roulante 5.3 m + disques + rouleaux","Bêche roulante 5.3 m + disques + rouleaux","Bêche roulante 5.3 m + disques + rouleaux","Bêche roulante 5.3 m + disques + rouleaux","Bêche roulante 5.3 m + disques + rouleaux","Bêche roulante 5.3 m + disques + rouleaux","Bêche roulante 5.3 m + disques + rouleaux","Bêche roulante 5.3 m + disques + rouleaux","Bêche roulante 5.3 m + disques + rouleaux","Bêche roulante 5.3 m + disques + rouleaux","Bêche roulante 5.3 m + disques + rouleaux","Bêche roulante 5.3 m + disques + rouleaux","Bêche roulante 5.3 m + disques + rouleaux","Bêche roulante 5.3 m + disques + rouleaux","Bêche roulante 5.3 m + disques + rouleaux","Bêche roulante 5.3 m + disques + rouleaux","Bêche roulante 5.3 m + disques + rouleaux","Bêche roulante 5.3 m + disques + rouleaux","Bêche roulante 5.3 m + disques + rouleaux","Bêche roulante 5.3 m + disques + rouleaux","Bêche roulante 5.3 m + disques + rouleaux","Bêche roulante 5.3 m + disques + rouleaux","Bêche roulante 5.3 m + disques + rouleaux","Bêche roulante 5.3 m + disques + rouleaux","Bêche roulante 5.3 m + disques + rouleaux","Bêche roulante 5.3 m + disques + rouleaux","Bêche roulante 5.3 m + disques + rouleaux","Bêche roulante 5.3 m + disques + rouleaux","Bêche roulante 5.3 m + disques + rouleaux","Bêche roulante 5.3 m + disques + rouleaux","Bêche roulante 5.3 m + disques + rouleaux","Bêche roulante 5.3 m + disques + rouleaux","Bêche roulante 5.3 m + disques + rouleaux","Bêche roulante 5.3 m + disques + rouleaux","Bêche roulante 5.3 m + disques + rouleaux","Bêche roulante 5.3 m + disques + rouleaux","Bêche roulante 5.3 m + disques + rouleaux","Bêche roulante 5.3 m + disques + rouleaux","Bêche roulante 5.3 m + disques + rouleaux","Bêche roulante 5.3 m + disques + rouleaux","Bêche roulante 5.3 m + disques + rouleaux","Bêche roulante 5.3 m + disques + rouleaux","Bêche roulante 5.3 m + disques + rouleaux","Bêche roulante 5.3 m + disques + rouleaux","Bêche roulante 5.3 m + disques + rouleaux","Bêche roulante 5.3 m + disques + rouleaux","Bêche roulante 5.3 m + disques + rouleaux","Bêche roulante 5.3 m + disques + rouleaux","Bêche roulante 5.3 m + disques + rouleaux","Bêche roulante 5.3 m + disques + rouleaux","Bêche roulante 5.3 m + disques + rouleaux","Bêche roulante 5.3 m + disques + rouleaux","Bêche roulante 5.3 m + disques + rouleaux","Bêche roulante 5.3 m + disques + rouleaux","Bêche roulante 5.3 m + disques + rouleaux","Bêche roulante 5.3 m + disques + rouleaux","Bêche roulante 5.3 m + disques + rouleaux","Bêche roulante 5.3 m + disques + rouleaux","Bêche roulante 5.3 m + disques + rouleaux","Bêche roulante 5.3 m + disques + rouleaux","Bêche roulante 5.3 m + disques + rouleaux","Bêche roulante 5.3 m + disques + rouleaux","Bêche roulante 5.3 m + disques + rouleaux","Bêche roulante 5.3 m + disques + rouleaux","Bêche roulante 5.3 m + disques + rouleaux","Bêche roulante 5.3 m + disques + rouleaux","Bêche roulante 5.3 m + disques + rouleaux","Bêche roulante 5.3 m + disques + rouleaux","Bêche roulante 5.3 m + disques + rouleaux","Bêche roulante 5.3 m + disques + rouleaux","Bêche roulante 5.3 m + disques + rouleaux","Bêche roulante 5.3 m + disques + rouleaux","Bêche roulante 5.3 m + disques + rouleaux","Bêche roulante 5.3 m + disques + rouleaux","Bêche roulante 5.3 m + disques + rouleaux","Bêche roulante 5.3 m + disques + rouleaux","Bêche roulante 5.3 m + disques + rouleaux","Bêche roulante 5.3 m + disques + rouleaux","Bêche roulante 5.3 m + disques + rouleaux","Bêche roulante 5.3 m + disques + rouleaux","Bêche roulante 5.3 m + disques + rouleaux","Bêche roulante 5.3 m + disques + rouleaux","Bêche roulante 5.3 m + disques + rouleaux","Bêche roulante 5.3 m + disques + rouleaux","Bêche roulante 5.3 m + disques + rouleaux","Bêche roulante 5.3 m + disques + rouleaux","Bêche roulante 5.3 m + disques + rouleaux","Bêche roulante 5.3 m + disques + rouleaux","Bêche roulante 5.3 m + disques + rouleaux","Bêche roulante 5.3 m + disques + rouleaux","Bêche roulante 5.3 m + disques + rouleaux","Bêche roulante 5.3 m + disques + rouleaux","Bêche roulante 5.3 m + disques + rouleaux","Bêche roulante 5.3 m + disques + rouleaux","Bêche roulante 5.3 m + disques + rouleaux","Bêche roulante 5.3 m + disques + rouleaux","Bêche roulante 5.3 m + disques + rouleaux","Bêche roulante 5.3 m + disques + rouleaux","Bêche roulante 5.3 m + disques + rouleaux","Bêche roulante 5.3 m + disques + rouleaux","Bêche roulante 5.3 m + disques + rouleaux","Bêche roulante 5.3 m + disques + rouleaux","Bêche roulante 5.3 m + disques + rouleaux","Bêche roulante 5.3 m + disques + rouleaux","Bêche roulante 5.3 m + disques + rouleaux","Bêche roulante 5.3 m + disques + rouleaux","Bêche roulante 5.3 m + disques + rouleaux","Bêche roulante 5.3 m + disques + rouleaux","Bêche roulante 5.3 m + disques + rouleaux","Bêche roulante 5.3 m + disques + rouleaux","Bêche roulante 5.3 m + disques + rouleaux","Bêche roulante 5.3 m + disques + rouleaux","Bêche roulante 5.3 m + disques + rouleaux","Bêche roulante 5.3 m + disques + rouleaux","Bêche roulante 5.3 m + disques + rouleaux","Bêche roulante 5.3 m + disques + rouleaux","Bêche roulante 5.3 m + disques + rouleaux","Bêche roulante 5.3 m + disques + rouleaux","Bêche roulante 5.3 m + disques + rouleaux","Bêche roulante 5.3 m + disques + rouleaux","Bêche roulante 5.3 m + disques + rouleaux","Bêche roulante 5.3 m + disques + rouleaux","Bêche roulante 5.3 m + disques + rouleaux","Bêche roulante 5.3 m + disques + rouleaux","Bêche roulante 5.3 m + disques + rouleaux","Bêche roulante 5.3 m + disques + rouleaux","Bêche roulante 5.3 m + disques + rouleaux","Bêche roulante 5.3 m + disques + rouleaux","Bêche roulante 5.3 m + disques + rouleaux","Bêche roulante 5.3 m + disques + rouleaux","Bêche roulante 5.3 m + disques + rouleaux","Bêche roulante 5.3 m + disques + rouleaux","Bêche roulante 5.3 m + disques + rouleaux","Bêche roulante 5.3 m + disques + rouleaux","Bêche roulante 5.3 m + disques + rouleaux","Bêche roulante 5.3 m + disques + rouleaux","Bêche roulante 5.3 m + disques + rouleaux","Bêche roulante 5.3 m + disques + rouleaux","Bêche roulante 5.3 m + disques + rouleaux","Bêche roulante 5.3 m + disques + rouleaux","Bêche roulante 5.3 m + disques + rouleaux","Bêche roulante 5.3 m + disques + rouleaux","Bêche roulante 5.3 m + disques + rouleaux","Bêche roulante 5.3 m + disques + rouleaux","Bêche roulante 5.3 m + disques + rouleaux","Bêche roulante 5.3 m + disques + rouleaux","Bêche roulante 5.3 m + disques + rouleaux","Bêche roulante 5.3 m + disques + rouleaux","Bêche roulante 5.3 m + disques + rouleaux","Bêche roulante 5.3 m + disques + rouleaux","Bêche roulante 5.3 m + disques + rouleaux","Bêche roulante 5.3 m + disques + rouleaux","Bêche roulante 5.3 m + disques + rouleaux","Bêche roulante 5.3 m + disques + rouleaux","Bêche roulante 5.3 m + disques + rouleaux","Bêche roulante 5.3 m + disques + rouleaux","Bêche roulante 5.3 m + disques + rouleaux","Bêche roulante 5.3 m + disques + rouleaux","Bêche roulante 5.3 m + disques + rouleaux","Bêche roulante 5.3 m + disques + rouleaux","Bêche roulante 5.3 m + disques + rouleaux","Bêche roulante 5.3 m + disques + rouleaux","Bêche roulante 5.3 m + disques + rouleaux","Bêche roulante 5.3 m + disques + rouleaux","Bêche roulante 5.3 m + disques + rouleaux","Bêche roulante 5.3 m + disques + rouleaux","Bêche roulante 5.3 m + disques + rouleaux","Bêche roulante 5.3 m + disques + rouleaux","Bêche roulante 5.3 m + disques + rouleaux","Bêche roulante 5.3 m + disques + rouleaux","Bêche roulante 5.3 m + disques + rouleaux","Bêche roulante 5.3 m + disques + rouleaux","Bêche roulante 5.3 m + disques + rouleaux","Bêche roulante 5.3 m + disques + rouleaux","Bêche roulante 5.3 m + disques + rouleaux","Bêche roulante 5.3 m + disques + rouleaux","Bêche roulante 5.3 m + disques + rouleaux","Bêche roulante 5.3 m + disques + rouleaux","Bêche roulante 5.3 m + disques + rouleaux","Bêche roulante 5.3 m + disques + rouleaux","Bêche roulante 5.3 m + disques + rouleaux","Bêche roulante 5.3 m + disques + rouleaux","Bêche roulante 5.3 m + disques + rouleaux","Bêche roulante 5.3 m + disques + rouleaux","Bêche roulante 5.3 m + disques + rouleaux","Bêche roulante 5.3 m + disques + rouleaux","Bêche roulante 5.3 m + disques + rouleaux","Bêche roulante 5.3 m + disques + rouleaux","Bêche roulante 5.3 m + disques + rouleaux","Bêche roulante 5.3 m + disques + rouleaux","Bêche roulante 5.3 m + disques + rouleaux","Bêche roulante 5.3 m + disques + rouleaux","Bêche roulante 5.3 m + disques + rouleaux","Bêche roulante 5.3 m + disques + rouleaux","Bêche roulante 5.3 m + disques + rouleaux","Bêche roulante 5.3 m + disques + rouleaux","Bêche roulante 5.3 m + disques + rouleaux","Bêche roulante 5.3 m + disques + rouleaux","Bêche roulante 5.3 m + disques + rouleaux","Bêche roulante 5.3 m + disques + rouleaux","Bêche roulante 5.3 m + disques + rouleaux","Bêche roulante 5.3 m + disques + rouleaux","Bêche roulante 5.3 m + disques + rouleaux","Bêche roulante 5.3 m + disques + rouleaux","Bêche roulante 5.3 m + disques + rouleaux","Bêche roulante 5.3 m + disques + rouleaux","Bêche roulante 5.3 m + disques + rouleaux","Bêche roulante 5.3 m + disques + rouleaux","Bêche roulante 5.3 m + disques + rouleaux","Bêche roulante 5.3 m + disques + rouleaux","Bêche roulante 5.3 m + disques + rouleaux","Bêche roulante 5.3 m + disques + rouleaux","Bêche roulante 5.3 m + disques + rouleaux","Bêche roulante 5.3 m + disques + rouleaux","Bêche roulante 5.3 m + disques + rouleaux","Bêche roulante 5.3 m + disques + rouleaux","Bêche roulante 5.3 m + disques + rouleaux","Bêche roulante 5.3 m + disques + rouleaux","Bêche roulante 5.3 m + disques + rouleaux","Bêche roulante 5.3 m + disques + rouleaux","Bêche roulante 5.3 m + disques + rouleaux","Bêche roulante 5.3 m + disques + rouleaux","Bêche roulante 5.3 m + disques + rouleaux","Bêche roulante 5.3 m + disques + rouleaux","Bêche roulante 5.3 m + disques + rouleaux","Bêche roulante 5.3 m + disques + rouleaux","Bêche roulante 5.3 m + disques + rouleaux","Bêche roulante 5.3 m + disques + rouleaux","Bêche roulante 5.3 m + disques + rouleaux","Bêche roulante 5.3 m + disques + rouleaux","Bêche roulante 5.3 m + disques + rouleaux","Bêche roulante 5.3 m + disques + rouleaux","Bêche roulante 5.3 m + disques + rouleaux","Bêche roulante 5.3 m + disques + rouleaux","Bêche roulante 5.3 m + disques + rouleaux","Bêche roulante 5.3 m + disques + rouleaux","Bêche roulante 5.3 m + disques + rouleaux","Bêche roulante 5.3 m + disques + rouleaux","Bêche roulante 5.3 m + disques + rouleaux","Bêche roulante 5.3 m + disques + rouleaux","Bêche roulante 5.3 m + disques + rouleaux","Bêche roulante 5.3 m + disques + rouleaux","Bêche roulante 5.3 m + disques + rouleaux","Bêche roulante 5.3 m + disques + rouleaux","Bêche roulante 5.3 m + disques + rouleaux","Bêche roulante 5.3 m + disques + rouleaux","Bêche roulante 5.3 m + disques + rouleaux","Bêche roulante 5.3 m + disques + rouleaux","Bêche roulante 5.3 m + disques + rouleaux","Bêche roulante 5.3 m + disques + rouleaux","Bêche roulante 5.3 m + disques + rouleaux","Bêche roulante 5.3 m + disques + rouleaux","Bêche roulante 5.3 m + disques + rouleaux","Bêche roulante 5.3 m + disques + rouleaux","Bêche roulante 5.3 m + disques + rouleaux","Bêche roulante 5.3 m + disques + rouleaux","Bêche roulante 5.3 m + disques + rouleaux","Bêche roulante 5.3 m + disques + rouleaux","Bêche roulante 5.3 m + disques + rouleaux","Bêche roulante 5.3 m + disques + rouleaux","Bêche roulante 5.3 m + disques + rouleaux","Bêche roulante 5.3 m + disques + rouleaux","Bêche roulante 5.3 m + disques + rouleaux","Bêche roulante 5.3 m + disques + rouleaux","Bêche roulante 5.3 m + disques + rouleaux","Bêche roulante 5.3 m + disques + rouleaux","Bêche roulante 5.3 m + disques + rouleaux","Bêche roulante 5.3 m + disques + rouleaux","Bêche roulante 5.3 m + disques + rouleaux","Bêche roulante 5.3 m + disques + rouleaux","Bêche roulante 5.3 m + disques + rouleaux","Bêche roulante 5.3 m + disques + rouleaux","Bêche roulante 5.3 m + disques + rouleaux","Bêche roulante 5.3 m + disques + rouleaux","Bêche roulante 5.3 m + disques + rouleaux","Bêche roulante 5.3 m + disques + rouleaux","Bêche roulante 5.3 m + disques + rouleaux","Bêche roulante 5.3 m + disques + rouleaux","Bêche roulante 5.3 m + disques + rouleaux","Bêche roulante 5.3 m + disques + rouleaux","Bêche roulante 5.3 m + disques + rouleaux","Bêche roulante 5.3 m + disques + rouleaux","Bêche roulante 5.3 m + disques + rouleaux","Bêche roulante 5.3 m + disques + rouleaux","Bêche roulante 5.3 m + disques + rouleaux","Bêche roulante 5.3 m + disques + rouleaux","Bêche roulante 5.3 m + disques + rouleaux","Bêche roulante 5.3 m + disques + rouleaux","Bêche roulante 5.3 m + disques + rouleaux","Bêche roulante 5.3 m + disques + rouleaux","Bêche roulante 5.3 m + disques + rouleaux","Bêche roulante 5.3 m + disques + rouleaux","Bêche roulante 5.3 m + disques + rouleaux","Bêche roulante 5.3 m + disques + rouleaux","Bêche roulante 5.3 m + disques + rouleaux","Bêche roulante 5.3 m + disques + rouleaux","Bêche roulante 5.3 m + disques + rouleaux","Bêche roulante 5.3 m + disques + rouleaux","Bêche roulante 5.3 m + disques + rouleaux","Bêche roulante 5.3 m + disques + rouleaux","Bêche roulante 5.3 m + disques + rouleaux","Bêche roulante 5.3 m + disques + rouleaux","Bêche roulante 5.3 m + disques + rouleaux","Bêche roulante 5.3 m + disques + rouleaux","Bêche roulante 5.3 m + disques + rouleaux","Bêche roulante 5.3 m + disques + rouleaux","Bêche roulante 5.3 m + disques + rouleaux","Bêche roulante 5.3 m + disques + rouleaux","Bêche roulante 5.3 m + disques + rouleaux","Bêche roulante 5.3 m + disques + rouleaux","Bêche roulante 5.3 m + disques + rouleaux","Bêche roulante 5.3 m + disques + rouleaux","Bêche roulante 5.3 m + disques + rouleaux","Bêche roulante 5.3 m + disques + rouleaux","Bêche roulante 5.3 m + disques + rouleaux","Bêche roulante 5.3 m + disques + rouleaux","Bêche roulante 5.3 m + disques + rouleaux","Bêche roulante 5.3 m + disques + rouleaux","Bêche roulante 5.3 m + disques + rouleaux","Bêche roulante 5.3 m + disques + rouleaux","Bêche roulante 5.3 m + disques + rouleaux","Bêche roulante 5.3 m + disques + rouleaux","Bêche roulante 5.3 m + disques + rouleaux","Bêche roulante 5.3 m + disques + rouleaux","Bêche roulante 5.3 m + disques + rouleaux","Bêche roulante 5.3 m + disques + rouleaux","Bêche roulante 5.3 m + disques + rouleaux","Bêche roulante 5.3 m + disques + rouleaux","Bêche roulante 5.3 m + disques + rouleaux","Bêche roulante 5.3 m + disques + rouleaux","Bêche roulante 5.3 m + disques + rouleaux","Bêche roulante 5.3 m + disques + rouleaux","Bêche roulante 5.3 m + disques + rouleaux","Bêche roulante 5.3 m + disques + rouleaux","Bêche roulante 5.3 m + disques + rouleaux","Bêche roulante 5.3 m + disques + rouleaux","Bêche roulante 5.3 m + disques + rouleaux","Bêche roulante 5.3 m + disques + rouleaux","Bêche roulante 5.3 m + disques + rouleaux","Bêche roulante 5.3 m + disques + rouleaux","Bêche roulante 5.3 m + disques + rouleaux","Bêche roulante 5.3 m + disques + rouleaux","Bêche roulante 5.3 m + disques + rouleaux","Bêche roulante 5.3 m + disques + rouleaux","Bêche roulante 5.3 m + disques + rouleaux","Bêche roulante 5.3 m + disques + rouleaux","Bêche roulante 5.3 m + disques + rouleaux","Bêche roulante 5.3 m + disques + rouleaux","Bêche roulante 5.3 m + disques + rouleaux","Bêche roulante 5.3 m + disques + rouleaux","Bêche roulante 5.3 m + disques + rouleaux","Bêche roulante 5.3 m + disques + rouleaux","Bêche roulante 5.3 m + disques + rouleaux","Bêche roulante 5.3 m + disques + rouleaux","Bêche roulante 5.3 m + disques + rouleaux","Bêche roulante 5.3 m + disques + rouleaux","Bêche roulante 5.3 m + disques + rouleaux","Bêche roulante 5.3 m + disques + rouleaux","Bêche roulante 5.3 m + disques + rouleaux","Bêche roulante 5.3 m + disques + rouleaux","Bêche roulante 5.3 m + disques + rouleaux","Bêche roulante 5.3 m + disques + rouleaux","Bêche roulante 5.3 m + disques + rouleaux","Bêche roulante 5.3 m + disques + rouleaux","Bêche roulante 5.3 m + disques + rouleaux","Bêche roulante 5.3 m + disques + rouleaux","Bêche roulante 5.3 m + disques + rouleaux","Bêche roulante 5.3 m + disques + rouleaux","Bêche roulante 5.3 m + disques + rouleaux","Bêche roulante 5.3 m + disques + rouleaux","Bêche roulante 5.3 m + disques + rouleaux","Bêche roulante 5.3 m + disques + rouleaux","Bêche roulante 5.3 m + disques + rouleaux","Bêche roulante 5.3 m + disques + rouleaux","Bêche roulante 5.3 m + disques + rouleaux","Bêche roulante 5.3 m + disques + rouleaux","Bêche roulante 5.3 m + disques + rouleaux","Bêche roulante 5.3 m + disques + rouleaux","Bêche roulante 5.3 m + disques + rouleaux","Bêche roulante 5.3 m + disques + rouleaux","Bêche roulante 5.3 m + disques + rouleaux","Bêche roulante 5.3 m + disques + rouleaux","Bêche roulante 5.3 m + disques + rouleaux","Bêche roulante 5.3 m + disques + rouleaux","Bêche roulante 5.3 m + disques + rouleaux","Bêche roulante 5.3 m + disques + rouleaux","Bêche roulante 5.3 m + disques + rouleaux","Bêche roulante 5.3 m + disques + rouleaux","Bêche roulante 5.3 m + disques + rouleaux","Bêche roulante 5.3 m + disques + rouleaux","Bêche roulante 5.3 m + disques + rouleaux","Bêche roulante 5.3 m + disques + rouleaux","Bêche roulante 5.3 m + disques + rouleaux","Bêche roulante 5.3 m + disques + rouleaux","Bêche roulante 5.3 m + disques + rouleaux","Bêche roulante 5.3 m + disques + rouleaux","Bêche roulante 5.3 m + disques + rouleaux","Bêche roulante 5.3 m + disques + rouleaux","Bêche roulante 5.3 m + disques + rouleaux","Bêche roulante 5.3 m + disques + rouleaux","Bêche roulante 5.3 m + disques + rouleaux","Bêche roulante 5.3 m + disques + rouleaux","Bêche roulante 5.3 m + disques + rouleaux","Bêche roulante 5.3 m + disques + rouleaux","Bêche roulante 5.3 m + disques + rouleaux","Bêche roulante 5.3 m + disques + rouleaux","Bêche roulante 5.3 m + disques + rouleaux","Bêche roulante 5.3 m + disques + rouleaux","Bêche roulante 5.3 m + disques + rouleaux","Bêche roulante 5.3 m + disques + rouleaux","Bêche roulante 5.3 m + disques + rouleaux","Bêche roulante 5.3 m + disques + rouleaux","Bêche roulante 5.3 m + disques + rouleaux","Bêche roulante 5.3 m + disques + rouleaux","Bêche roulante 5.3 m + disques + rouleaux","Bêche roulante 5.3 m + disques + rouleaux","Bêche roulante 5.3 m + disques + rouleaux","Bêche roulante 5.3 m + disques + rouleaux","Bêche roulante 5.3 m + disques + rouleaux","Bêche roulante 5.3 m + disques + rouleaux","Bêche roulante 5.3 m + disques + rouleaux","Bêche roulante 5.3 m + disques + rouleaux","Bêche roulante 5.3 m + disques + rouleaux","Bêche roulante 5.3 m + disques + rouleaux","Bêche roulante 5.3 m + disques + rouleaux","Bêche roulante 5.3 m + disques + rouleaux","Bêche roulante 5.3 m + disques + rouleaux","Bêche roulante 5.3 m + disques + rouleaux","Bêche roulante 5.3 m + disques + rouleaux","Bêche roulante 5.3 m + disques + rouleaux","Bêche roulante 5.3 m + disques + rouleaux","Bêche roulante 5.3 m + disques + rouleaux","Bêche roulante 5.3 m + disques + rouleaux","Bêche roulante 5.3 m + disques + rouleaux","Bêche roulante 5.3 m + disques + rouleaux","Bêche roulante 5.3 m + disques + rouleaux","Bêche roulante 5.3 m + disques + rouleaux","Bêche roulante 5.3 m + disques + rouleaux","Bêche roulante 5.3 m + disques + rouleaux","Bêche roulante 5.3 m + disques + rouleaux","Bêche roulante 5.3 m + disques + rouleaux","Bêche roulante 5.3 m + disques + rouleaux","Bêche roulante 5.3 m + disques + rouleaux","Bêche roulante 5.3 m + disques + rouleaux","Bêche roulante 5.3 m + disques + rouleaux","Bêche roulante 5.3 m + disques + rouleaux","Bêche roulante 5.3 m + disques + rouleaux","Bêche roulante 5.3 m + disques + rouleaux","Bêche roulante 5.3 m + disques + rouleaux","Bêche roulante 5.3 m + disques + rouleaux","Bêche roulante 5.3 m + disques + rouleaux","Bêche roulante 5.3 m + disques + rouleaux","Bêche roulante 5.3 m + disques + rouleaux","Bêche roulante 5.3 m + disques + rouleaux","Bêche roulante 5.3 m + disques + rouleaux","Bêche roulante 5.3 m + disques + rouleaux","Bêche roulante 5.3 m + disques + rouleaux","Bêche roulante 5.3 m + disques + rouleaux","Bêche roulante 5.3 m + disques + rouleaux","Bêche roulante 5.3 m + disques + rouleaux","Bêche roulante 5.3 m + disques + rouleaux","Bêche roulante 5.3 m + disques + rouleaux","Bêche roulante 5.3 m + disques + rouleaux","Bêche roulante 5.3 m + disques + rouleaux","Bêche roulante 5.3 m + disques + rouleaux","Bêche roulante 5.3 m + disques + rouleaux","Bêche roulante 5.3 m + disques + rouleaux","Bêche roulante 5.3 m + disques + rouleaux","Bêche roulante 5.3 m + disques + rouleaux","Bêche roulante 5.3 m + disques + rouleaux","Bêche roulante 5.3 m + disques + rouleaux","Bêche roulante 5.3 m + disques + rouleaux","Bêche roulante 5.3 m + disques + rouleaux","Bêche roulante 5.3 m + disques + rouleaux","Bêche roulante 5.3 m + disques + rouleaux","Bêche roulante 5.3 m + disques + rouleaux","Bêche roulante 5.3 m + disques + rouleaux","Bêche roulante 5.3 m + disques + rouleaux","Bêche roulante 5.3 m + disques + rouleaux","Bêche roulante 5.3 m + disques + rouleaux","Bêche roulante 5.3 m + disques + rouleaux","Bêche roulante 5.3 m + disques + rouleaux","Bêche roulante 5.3 m + disques + rouleaux","Bêche roulante 5.3 m + disques + rouleaux","Bêche roulante 5.3 m + disques + rouleaux","Bêche roulante 5.3 m + disques + rouleaux","Bêche roulante 5.3 m + disques + rouleaux","Bêche roulante 5.3 m + disques + rouleaux","Bêche roulante 5.3 m + disques + rouleaux","Bêche roulante 5.3 m + disques + rouleaux","Bêche roulante 5.3 m + disques + rouleaux","Bêche roulante 5.3 m + disques + rouleaux","Bêche roulante 5.3 m + disques + rouleaux","Bêche roulante 5.3 m + disques + rouleaux","Bêche roulante 5.3 m + disques + rouleaux","Bêche roulante 5.3 m + disques + rouleaux","Bêche roulante 5.3 m + disques + rouleaux","Bêche roulante 5.3 m + disques + rouleaux","Bêche roulante 5.3 m + disques + rouleaux","Bêche roulante 5.3 m + disques + rouleaux","Bêche roulante 5.3 m + disques + rouleaux","Bêche roulante 5.3 m + disques + rouleaux","Bêche roulante 5.3 m + disques + rouleaux","Bêche roulante 5.3 m + disques + rouleaux","Bêche roulante 5.3 m + disques + rouleaux","Bêche roulante 5.3 m + disques + rouleaux","Bêche roulante 5.3 m + disques + rouleaux","Bêche roulante 5.3 m + disques + rouleaux","Bêche roulante 5.3 m + disques + rouleaux","Bêche roulante 5.3 m + disques + rouleaux","Bêche roulante 5.3 m + disques + rouleaux","Bêche roulante 5.3 m + disques + rouleaux","Bêche roulante 5.3 m + disques + rouleaux","Bêche roulante 5.3 m + disques + rouleaux","Bêche roulante 5.3 m + disques + rouleaux","Bêche roulante 5.3 m + disques + rouleaux","Bêche roulante 5.3 m + disques + rouleaux","Bêche roulante 5.3 m + disques + rouleaux","Bêche roulante 5.3 m + disques + rouleaux","Bêche roulante 5.3 m + disques + rouleaux","Bêche roulante 5.3 m + disques + rouleaux","Bêche roulante 5.3 m + disques + rouleaux","Bêche roulante 5.3 m + disques + rouleaux","Bêche roulante 5.3 m + disques + rouleaux","Bêche roulante 5.3 m + disques + rouleaux","Bêche roulante 5.3 m + disques + rouleaux","Bêche roulante 5.3 m + disques + rouleaux","Bêche roulante 5.3 m + disques + rouleaux","Bêche roulante 5.3 m + disques + rouleaux","Bêche roulante 5.3 m + disques + rouleaux","Bêche roulante 5.3 m + disques + rouleaux","Bêche roulante 5.3 m + disques + rouleaux","Bêche roulante 5.3 m + disques + rouleaux","Bêche roulante 5.3 m + disques + rouleaux","Bêche roulante 5.3 m + disques + rouleaux","Bêche roulante 5.3 m + disques + rouleaux","Bêche roulante 5.3 m + disques + rouleaux","Bêche roulante 5.3 m + disques + rouleaux","Bêche roulante 5.3 m + disques + rouleaux","Bêche roulante 5.3 m + disques + rouleaux","Bêche roulante 5.3 m + disques + rouleaux","Bêche roulante 5.3 m + disques + rouleaux","Bêche roulante 5.3 m + disques + rouleaux","Bêche roulante 5.3 m + disques + rouleaux","Bêche roulante 5.3 m + disques + rouleaux","Bêche roulante 5.3 m + disques + rouleaux","Bêche roulante 5.3 m + disques + rouleaux","Bêche roulante 5.3 m + disques + rouleaux","Bêche roulante 5.3 m + disques + rouleaux","Bêche roulante 5.3 m + disques + rouleaux","Bêche roulante 5.3 m + disques + rouleaux","Bêche roulante 5.3 m + disques + rouleaux","Bêche roulante 5.3 m + disques + rouleaux","Bêche roulante 5.3 m + disques + rouleaux","Bêche roulante 5.3 m + disques + rouleaux","Bêche roulante 5.3 m + disques + rouleaux","Bêche roulante 5.3 m + disques + rouleaux","Bêche roulante 5.3 m + disques + rouleaux","Bêche roulante 5.3 m + disques + rouleaux","Bêche roulante 5.3 m + disques + rouleaux","Bêche roulante 5.3 m + disques + rouleaux","Bêche roulante 5.3 m + disques + rouleaux","Bêche roulante 5.3 m + disques + rouleaux","Bêche roulante 5.3 m + disques + rouleaux","Bêche roulante 5.3 m + disques + rouleaux","Bêche roulante 5.3 m + disques + rouleaux","Bêche roulante 5.3 m + disques + rouleaux","Bêche roulante 5.3 m + disques + rouleaux","Bêche roulante 5.3 m + disques + rouleaux","Bêche roulante 5.3 m + disques + rouleaux","Bêche roulante 5.3 m + disques + rouleaux","Bêche roulante 5.3 m + disques + rouleaux","Bêche roulante 5.3 m + disques + rouleaux","Bêche roulante 5.3 m + disques + rouleaux","Bêche roulante 5.3 m + disques + rouleaux","Bêche roulante 5.3 m + disques + rouleaux","Bêche roulante 5.3 m + disques + rouleaux","Bêche roulante 5.3 m + disques + rouleaux","Bêche roulante 5.3 m + disques + rouleaux","Bêche roulante 5.3 m + disques + rouleaux","Bêche roulante 5.3 m + disques + rouleaux","Bêche roulante 5.3 m + disques + rouleaux","Bêche roulante 5.3 m + disques + rouleaux","Bêche roulante 5.3 m + disques + rouleaux","Bêche roulante 5.3 m + disques + rouleaux","Bêche roulante 5.3 m + disques + rouleaux","Bêche roulante 5.3 m + disques + rouleaux","Bêche roulante 5.3 m + disques + rouleaux","Bêche roulante 5.3 m + disques + rouleaux","Bêche roulante 5.3 m + disques + rouleaux","Bêche roulante 5.3 m + disques + rouleaux","Bêche roulante 5.3 m + disques + rouleaux","Bêche roulante 5.3 m + disques + rouleaux","Bêche roulante 5.3 m + disques + rouleaux","Bêche roulante 5.3 m + disques + rouleaux","Bêche roulante 5.3 m + disques + rouleaux","Bêche roulante 5.3 m + disques + rouleaux","Bêche roulante 5.3 m + disques + rouleaux","Bêche roulante 5.3 m + disques + rouleaux","Bêche roulante 5.3 m + disques + rouleaux","Bêche roulante 5.3 m + disques + rouleaux","Bêche roulante 5.3 m + disques + rouleaux","Bêche roulante 5.3 m + disques + rouleaux","Bêche roulante 5.3 m + disques + rouleaux","Bêche roulante 5.3 m + disques + rouleaux","Bêche roulante 5.3 m + disques + rouleaux","Bêche roulante 5.3 m + disques + rouleaux","Bêche roulante 5.3 m + disques + rouleaux","Bêche roulante 5.3 m + disques + rouleaux","Bêche roulante 5.3 m + disques + rouleaux","Bêche roulante 5.3 m + disques + rouleaux","Bêche roulante 5.3 m + disques + rouleaux","Bêche roulante 5.3 m + disques + rouleaux","Bêche roulante 5.3 m + disques + rouleaux","Bêche roulante 5.3 m + disques + rouleaux","Bêche roulante 5.3 m + disques + rouleaux","Bêche roulante 5.3 m + disques + rouleaux","Bêche roulante 5.3 m + disques + rouleaux","Bêche roulante 5.3 m + disques + rouleaux","Bêche roulante 5.3 m + disques + rouleaux","Bêche roulante 5.3 m + disques + rouleaux","Bêche roulante 5.3 m + disques + rouleaux","Bêche roulante 5.3 m + disques + rouleaux","Bêche roulante 5.3 m + disques + rouleaux","Bêche roulante 5.3 m + disques + rouleaux","Bêche roulante 5.3 m + disques + rouleaux","Bêche roulante 5.3 m + disques + rouleaux","Bêche roulante 5.3 m + disques + rouleaux","Bêche roulante 5.3 m + disques + rouleaux","Bêche roulante 5.3 m + disques + rouleaux","Bêche roulante 5.3 m + disques + rouleaux","Bêche roulante 5.3 m + disques + rouleaux","Bêche roulante 5.3 m + disques + rouleaux","Bêche roulante 5.3 m + disques + rouleaux","Bêche roulante 5.3 m + disques + rouleaux","Bêche roulante 5.3 m + disques + rouleaux","Bêche roulante 5.3 m + disques + rouleaux","Bêche roulante 5.3 m + disques + rouleaux","Bêche roulante 5.3 m + disques + rouleaux","Bêche roulante 5.3 m + disques + rouleaux","Bêche roulante 5.3 m + disques + rouleaux","Bêche roulante 5.3 m + disques + rouleaux","Bêche roulante 5.3 m + disques + rouleaux","Bêche roulante 5.3 m + disques + rouleaux","Bêche roulante 5.3 m + disques + rouleaux","Bêche roulante 5.3 m + disques + rouleaux","Bêche roulante 5.3 m + disques + rouleaux","Bêche roulante 5.3 m + disques + rouleaux","Bêche roulante 5.3 m + disques + rouleaux","Bêche roulante 5.3 m + disques + rouleaux","Bêche roulante 5.3 m + disques + rouleaux","Bêche roulante 5.3 m + disques + rouleaux","Bêche roulante 5.3 m + disques + rouleaux","Bêche roulante 5.3 m + disques + rouleaux","Bêche roulante 5.3 m + disques + rouleaux","Bêche roulante 5.3 m + disques + rouleaux","Bêche roulante 5.3 m + disques + rouleaux","Bêche roulante 5.3 m + disques + rouleaux","Bêche roulante 5.3 m + disques + rouleaux","Bêche roulante 5.3 m + disques + rouleaux","Bêche roulante 5.3 m + disques + rouleaux","Bêche roulante 5.3 m + disques + rouleaux","Bêche roulante 5.3 m + disques + rouleaux","Bêche roulante 5.3 m + disques + rouleaux","Bêche roulante 5.3 m + disques + rouleaux","Bêche roulante 5.3 m + disques + rouleaux","Bêche roulante 5.3 m + disques + rouleaux","Bêche roulante 5.3 m + disques + rouleaux","Bêche roulante 5.3 m + disques + rouleaux","Bêche roulante 5.3 m + disques + rouleaux","Bêche roulante 5.3 m + disques + rouleaux","Bêche roulante 5.3 m + disques + rouleaux","Bêche roulante 5.3 m + disques + rouleaux","Bêche roulante 5.3 m + disques + rouleaux","Bêche roulante 5.3 m + disques + rouleaux","Bêche roulante 5.3 m + disques + rouleaux","Bêche roulante 5.3 m + disques + rouleaux","Bêche roulante 5.3 m + disques + rouleaux","Bêche roulante 5.3 m + disques + rouleaux","Bêche roulante 5.3 m + disques + rouleaux","Bêche roulante 5.3 m + disques + rouleaux","Bêche roulante 5.3 m + disques + rouleaux","Bêche roulante 5.3 m + disques + rouleaux","Bêche roulante 5.3 m + disques + rouleaux","Bêche roulante 5.3 m + disques + rouleaux","Bêche roulante 5.3 m + disques + rouleaux","Bêche roulante 5.3 m + disques + rouleaux","Bêche roulante 5.3 m + disques + rouleaux","Bêche roulante 5.3 m + disques + rouleaux","Bêche roulante 5.3 m + disques + rouleaux","Bêche roulante 5.3 m + disques + rouleaux","Bêche roulante 5.3 m + disques + rouleaux","Bêche roulante 5.3 m + disques + rouleaux","Bêche roulante 5.3 m + disques + rouleaux","Bêche roulante 5.3 m + disques + rouleaux","Bêche roulante 5.3 m + disques + rouleaux","Bêche roulante 5.3 m + disques + rouleaux","Bêche roulante 5.3 m + disques + rouleaux","Bêche roulante 5.3 m + disques + rouleaux","Bêche roulante 5.3 m + disques + rouleaux","Bêche roulante 5.3 m + disques + rouleaux","Bêche roulante 5.3 m + disques + rouleaux","Bêche roulante 5.3 m + disques + rouleaux","Bêche roulante 5.3 m + disques + rouleaux","Bêche roulante 5.3 m + disques + rouleaux","Bêche roulante 5.3 m + disques + rouleaux","Bêche roulante 5.3 m + disques + rouleaux","Bêche roulante 5.3 m + disques + rouleaux","Bêche roulante 5.3 m + disques + rouleaux","Bêche roulante 5.3 m + disques + rouleaux","Bêche roulante 5.3 m + disques + rouleaux","Bêche roulante 5.3 m + disques + rouleaux","Bêche roulante 5.3 m + disques + rouleaux","Bêche roulante 5.3 m + disques + rouleaux","Bêche roulante 5.3 m + disques + rouleaux","Bêche roulante 5.3 m + disques + rouleaux","Bêche roulante 5.3 m + disques + rouleaux","Bêche roulante 5.3 m + disques + rouleaux","Bêche roulante 5.3 m + disques + rouleaux","Bêche roulante 5.3 m + disques + rouleaux","Bêche roulante 5.3 m + disques + rouleaux","Bêche roulante 5.3 m + disques + rouleaux","Bêche roulante 5.3 m + disques + rouleaux","Bêche roulante 5.3 m + disques + rouleaux","Bêche roulante 5.3 m + disques + rouleaux","Bêche roulante 5.3 m + disques + rouleaux","Bêche roulante 5.3 m + disques + rouleaux","Bêche roulante 5.3 m + disques + rouleaux","Bêche roulante 5.3 m + disques + rouleaux","Bêche roulante 5.3 m + disques + rouleaux","Bêche roulante 5.3 m + disques + rouleaux","Bêche roulante 5.3 m + disques + rouleaux","Bêche roulante 5.3 m + disques + rouleaux","Bêche roulante 5.3 m + disques + rouleaux","Bêche roulante 5.3 m + disques + rouleaux","Bêche roulante 5.3 m + disques + rouleaux","Bêche roulante 5.3 m + disques + rouleaux","Bêche roulante 5.3 m + disques + rouleaux","Bêche roulante 5.3 m + disques + rouleaux","Bêche roulante 5.3 m + disques + rouleaux","Bêche roulante 5.3 m + disques + rouleaux","Bêche roulante 5.3 m + disques + rouleaux","Bêche roulante 5.3 m + disques + rouleaux","Bêche roulante 5.3 m + disques + rouleaux","Bêche roulante 5.3 m + disques + rouleaux","Bêche roulante 5.3 m + disques + rouleaux","Bêche roulante 5.3 m + disques + rouleaux","Bêche roulante 5.3 m + disques + rouleaux","Bêche roulante 5.3 m + disques + rouleaux","Bêche roulante 5.3 m + disques + rouleaux","Bêche roulante 5.3 m + disques + rouleaux","Bêche roulante 5.3 m + disques + rouleaux","Bêche roulante 5.3 m + disques + rouleaux","Bêche roulante 5.3 m + disques + rouleaux","Bêche roulante 5.3 m + disques + rouleaux","Bêche roulante 5.3 m + disques + rouleaux","Bêche roulante 5.3 m + disques + rouleaux","Bêche roulante 5.3 m + disques + rouleaux","Bêche roulante 5.3 m + disques + rouleaux","Bêche roulante 5.3 m + disques + rouleaux","Bêche roulante 5.3 m + disques + rouleaux","Bêche roulante 5.3 m + disques + rouleaux","Bêche roulante 5.3 m + disques + rouleaux","Bêche roulante 5.3 m + disques + rouleaux","Bêche roulante 5.3 m + disques + rouleaux","Bêche roulante 5.3 m + disques + rouleaux","Bêche roulante 5.3 m + disques + rouleaux","Bêche roulante 5.3 m + disques + rouleaux","Bêche roulante 5.3 m + disques + rouleaux","Bêche roulante 5.3 m + disques + rouleaux","Bêche roulante 5.3 m + disques + rouleaux","Bêche roulante 5.3 m + disques + rouleaux","Bêche roulante 5.3 m + disques + rouleaux","Bêche roulante 5.3 m + disques + rouleaux","Bêche roulante 5.3 m + disques + rouleaux","Bêche roulante 5.3 m + disques + rouleaux","Bêche roulante 5.3 m + disques + rouleaux","Bêche roulante 5.3 m + disques + rouleaux","Bêche roulante 5.3 m + disques + rouleaux","Bêche roulante 5.3 m + disques + rouleaux","Bêche roulante 5.3 m + disques + rouleaux","Bêche roulante 5.3 m + disques + rouleaux","Bêche roulante 5.3 m + disques + rouleaux","Bêche roulante 5.3 m + disques + rouleaux","Bêche roulante 5.3 m + disques + rouleaux","Bêche roulante 5.3 m + disques + rouleaux","Bêche roulante 5.3 m + disques + rouleaux","Bêche roulante 5.3 m + disques + rouleaux","Bêche roulante 5.3 m + disques + rouleaux","Bêche roulante 5.3 m + disques + rouleaux","Bêche roulante 5.3 m + disques + rouleaux","Bêche roulante 5.3 m + disques + rouleaux","Bêche roulante 5.3 m + disques + rouleaux","Bêche roulante 5.3 m + disques + rouleaux","Bêche roulante 5.3 m + disques + rouleaux","Bêche roulante 5.3 m + disques + rouleaux","Bêche roulante 5.3 m + disques + rouleaux","Bêche roulante 5.3 m + disques + rouleaux","Bêche roulante 5.3 m + disques + rouleaux","Bêche roulante 5.3 m + disques + rouleaux","Bêche roulante 5.3 m + disques + rouleaux","Bêche roulante 5.3 m + disques + rouleaux","Bêche roulante 5.3 m + disques + rouleaux","Bêche roulante 5.3 m + disques + rouleaux","Bêche roulante 5.3 m + disques + rouleaux","Bêche roulante 5.3 m + disques + rouleaux","Bêche roulante 5.3 m + disques + rouleaux","Bêche roulante 5.3 m + disques + rouleaux","Bêche roulante 5.3 m + disques + rouleaux","Bêche roulante 5.3 m + disques + rouleaux","Bêche roulante 5.3 m + disques + rouleaux","Bêche roulante 5.3 m + disques + rouleaux","Bêche roulante 5.3 m + disques + rouleaux","Bêche roulante 5.3 m + disques + rouleaux","Bêche roulante 5.3 m + disques + rouleaux","Bêche roulante 5.3 m + disques + rouleaux","Bêche roulante 5.3 m + disques + rouleaux","Bêche roulante 5.3 m + disques + rouleaux","Bêche roulante 5.3 m + disques + rouleaux","Bêche roulante 5.3 m + disques + rouleaux","Bêche roulante 5.3 m + disques + rouleaux","Bêche roulante 5.3 m + disques + rouleaux","Bêche roulante 5.3 m + disques + rouleaux","Bêche roulante 5.3 m + disques + rouleaux","Bêche roulante 5.3 m + disques + rouleaux","Bêche roulante 5.3 m + disques + rouleaux","Bêche roulante 5.3 m + disques + rouleaux","Bêche roulante 5.3 m + disques + rouleaux","Bêche roulante 5.3 m + disques + rouleaux","Bêche roulante 5.3 m + disques + rouleaux","Bêche roulante 5.3 m + disques + rouleaux","Bêche roulante 5.3 m + disques + rouleaux","Bêche roulante 5.3 m + disques + rouleaux","Bêche roulante 5.3 m + disques + rouleaux","Bêche roulante 5.3 m + disques + rouleaux","Bêche roulante 5.3 m + disques + rouleaux","Bêche roulante 5.3 m + disques + rouleaux","Bêche roulante 5.3 m + disques + rouleaux","Bêche roulante 5.3 m + disques + rouleaux","Bêche roulante 5.3 m + disques + rouleaux","Bêche roulante 5.3 m + disques + rouleaux","Bêche roulante 5.3 m + disques + rouleaux","Bêche roulante 5.3 m + disques + rouleaux","Bêche roulante 5.3 m + disques + rouleaux","Bêche roulante 5.3 m + disques + rouleaux","Bêche roulante 5.3 m + disques + rouleaux","Bêche roulante 5.3 m + disques + rouleaux","Bêche roulante 5.3 m + disques + rouleaux","Bêche roulante 5.3 m + disques + rouleaux","Bêche roulante 5.3 m + disques + rouleaux","Bêche roulante 5.3 m + disques + rouleaux","Bêche roulante 5.3 m + disques + rouleaux","Bêche roulante 5.3 m + disques + rouleaux","Bêche roulante 5.3 m + disques + rouleaux","Bêche roulante 5.3 m + disques + rouleaux","Bêche roulante 5.3 m + disques + rouleaux","Bêche roulante 5.3 m + disques + rouleaux","Bêche roulante 5.3 m + disques + rouleaux","Bêche roulante 5.3 m + disques + rouleaux","Bêche roulante 5.3 m + disques + rouleaux","Bêche roulante 5.3 m + disques + rouleaux","Bêche roulante 5.3 m + disques + rouleaux","Bêche roulante 5.3 m + disques + rouleaux","Bêche roulante 5.3 m + disques + rouleaux","Bêche roulante 5.3 m + disques + rouleaux","Bêche roulante 5.3 m + disques + rouleaux","Bêche roulante 5.3 m + disques + rouleaux","Bêche roulante 5.3 m + disques + rouleaux","Bêche roulante 5.3 m + disques + rouleaux","Bêche roulante 5.3 m + disques + rouleaux","Bêche roulante 5.3 m + disques + rouleaux","Bêche roulante 5.3 m + disques + rouleaux","Bêche roulante 5.3 m + disques + rouleaux","Bêche roulante 5.3 m + disques + rouleaux","Bêche roulante 5.3 m + disques + rouleaux","Bêche roulante 5.3 m + disques + rouleaux","Bêche roulante 5.3 m + disques + rouleaux","Bêche roulante 5.3 m + disques + rouleaux","Bêche roulante 5.3 m + disques + rouleaux","Bêche roulante 5.3 m + disques + rouleaux","Bêche roulante 5.3 m + disques + rouleaux","Bêche roulante 5.3 m + disques + rouleaux","Bêche roulante 5.3 m + disques + rouleaux","Bêche roulante 5.3 m + disques + rouleaux","Bêche roulante 5.3 m + disques + rouleaux","Bêche roulante 5.3 m + disques + rouleaux","Bêche roulante 5.3 m + disques + rouleaux","Bêche roulante 5.3 m + disques + rouleaux","Bêche roulante 5.3 m + disques + rouleaux","Bêche roulante 5.3 m + disques + rouleaux","Bêche roulante 5.3 m + disques + rouleaux","Bêche roulante 5.3 m + disques + rouleaux","Bêche roulante 5.3 m + disques + rouleaux","Bêche roulante 5.3 m + disques + rouleaux","Bêche roulante 5.3 m + disques + rouleaux","Bêche roulante 5.3 m + disques + rouleaux","Bêche roulante 5.3 m + disques + rouleaux","Bêche roulante 5.3 m + disques + rouleaux","Bêche roulante 5.3 m + disques + rouleaux","Bêche roulante 5.3 m + disques + rouleaux","Bêche roulante 5.3 m + disques + rouleaux","Bêche roulante 5.3 m + disques + rouleaux","Bêche roulante 5.3 m + disques + rouleaux","Bêche roulante 5.3 m + disques + rouleaux","Bêche roulante 5.3 m + disques + rouleaux","Bêche roulante 5.3 m + disques + rouleaux","Bêche roulante 5.3 m + disques + rouleaux","Bêche roulante 5.3 m + disques + rouleaux","Bêche roulante 5.3 m + disques + rouleaux","Bêche roulante 5.3 m + disques + rouleaux","Bêche roulante 5.3 m + disques + rouleaux","Bêche roulante 5.3 m + disques + rouleaux","Bêche roulante 5.3 m + disques + rouleaux","Bêche roulante 5.3 m + disques + rouleaux","Bêche roulante 5.3 m + disques + rouleaux","Bêche roulante 5.3 m + disques + rouleaux","Bêche roulante 5.3 m + disques + rouleaux","Bêche roulante 5.3 m + disques + rouleaux","Bêche roulante 5.3 m + disques + rouleaux","Bêche roulante 5.3 m + disques + rouleaux","Bêche roulante 5.3 m + disques + rouleaux","Bêche roulante 5.3 m + disques + rouleaux","Bêche roulante 5.3 m + disques + rouleaux","Bêche roulante 5.3 m + disques + rouleaux","Bêche roulante 5.3 m + disques + rouleaux","Bêche roulante 5.3 m + disques + rouleaux","Bêche roulante 5.3 m + disques + rouleaux","Bêche roulante 5.3 m + disques + rouleaux","Bêche roulante 5.3 m + disques + rouleaux","Bêche roulante 5.3 m + disques + rouleaux","Bêche roulante 5.3 m + disques + rouleaux","Bêche roulante 5.3 m + disques + rouleaux","Bêche roulante 5.3 m + disques + rouleaux","Bêche roulante 5.3 m + disques + rouleaux","Bêche roulante 5.3 m + disques + rouleaux","Bêche roulante 5.3 m + disques + rouleaux","Bêche roulante 5.3 m + disques + rouleaux","Bêche roulante 5.3 m + disques + rouleaux","Bêche roulante 5.3 m + disques + rouleaux","Bêche roulante 5.3 m + disques + rouleaux","Bêche roulante 5.3 m + disques + rouleaux","Bêche roulante 5.3 m + disques + rouleaux","Bêche roulante 5.3 m + disques + rouleaux","Bêche roulante 5.3 m + disques + rouleaux","Bêche roulante 5.3 m + disques + rouleaux","Bêche roulante 5.3 m + disques + rouleaux","Bêche roulante 5.3 m + disques + rouleaux","Bêche roulante 5.3 m + disques + rouleaux","Bêche roulante 5.3 m + disques + rouleaux","Bêche roulante 5.3 m + disques + rouleaux","Bêche roulante 5.3 m + disques + rouleaux","Bêche roulante 5.3 m + disques + rouleaux","Bêche roulante 5.3 m + disques + rouleaux","Bêche roulante 5.3 m + disques + rouleaux","Bêche roulante 5.3 m + disques + rouleaux","Bêche roulante 5.3 m + disques + rouleaux","Bêche roulante 5.3 m + disques + rouleaux","Bêche roulante 5.3 m + disques + rouleaux","Bêche roulante 5.3 m + disques + rouleaux","Bêche roulante 5.3 m + disques + rouleaux","Bêche roulante 5.3 m + disques + rouleaux","Bêche roulante 5.3 m + disques + rouleaux","Bêche roulante 5.3 m + disques + rouleaux","Bêche roulante 5.3 m + disques + rouleaux","Bêche roulante 5.3 m + disques + rouleaux","Bêche roulante 5.3 m + disques + rouleaux","Bêche roulante 5.3 m + disques + rouleaux","Bêche roulante 5.3 m + disques + rouleaux","Bêche roulante 5.3 m + disques + rouleaux","Bêche roulante 5.3 m + disques + rouleaux","Bêche roulante 5.3 m + disques + rouleaux","Bêche roulante 5.3 m + disques + rouleaux","Bêche roulante 5.3 m + disques + rouleaux","Bêche roulante 5.3 m + disques + rouleaux","Bêche roulante 5.3 m + disques + rouleaux","Bêche roulante 5.3 m + disques + rouleaux","Bêche roulante 5.3 m + disques + rouleaux","Bêche roulante 5.3 m + disques + rouleaux","Bêche roulante 5.3 m + disques + rouleaux","Bêche roulante 5.3 m + disques + rouleaux","Bêche roulante 5.3 m + disques + rouleaux","Bêche roulante 5.3 m + disques + rouleaux","Bêche roulante 5.3 m + disques + rouleaux","Bêche roulante 5.3 m + disques + rouleaux","Bêche roulante 5.3 m + disques + rouleaux","Bêche roulante 5.3 m + disques + rouleaux","Bêche roulante 5.3 m + disques + rouleaux","Bêche roulante 5.3 m + disques + rouleaux","Bêche roulante 5.3 m + disques + rouleaux","Bêche roulante 5.3 m + disques + rouleaux","Bêche roulante 5.3 m + disques + rouleaux","Bêche roulante 5.3 m + disques + rouleaux","Bêche roulante 5.3 m + disques + rouleaux","Bêche roulante 5.3 m + disques + rouleaux","Bêche roulante 5.3 m + disques + rouleaux","Bêche roulante 5.3 m + disques + rouleaux","Bêche roulante 5.3 m + disques + rouleaux","Bêche roulante 5.3 m + disques + rouleaux","Bêche roulante 5.3 m + disques + rouleaux","Bêche roulante 5.3 m + disques + rouleaux","Bêche roulante 5.3 m + disques + rouleaux","Bêche roulante 5.3 m + disques + rouleaux","Bêche roulante 5.3 m + disques + rouleaux","Bêche roulante 5.3 m + disques + rouleaux","Bêche roulante 5.3 m + disques + rouleaux","Bêche roulante 5.3 m + disques + rouleaux","Bêche roulante 5.3 m + disques + rouleaux","Bêche roulante 5.3 m + disques + rouleaux","Bêche roulante 5.3 m + disques + rouleaux","Bêche roulante 5.3 m + disques + rouleaux","Bêche roulante 5.3 m + disques + rouleaux","Bêche roulante 5.3 m + disques + rouleaux","Bêche roulante 5.3 m + disques + rouleaux","Bêche roulante 5.3 m + disques + rouleaux","Bêche roulante 5.3 m + disques + rouleaux","Bêche roulante 5.3 m + disques + rouleaux","Bêche roulante 5.3 m + disques + rouleaux","Bêche roulante 5.3 m + disques + rouleaux","Bêche roulante 5.3 m + disques + rouleaux","Bêche roulante 5.3 m + disques + rouleaux","Bêche roulante 5.3 m + disques + rouleaux","Bêche roulante 5.3 m + disques + rouleaux","Bêche roulante 5.3 m + disques + rouleaux","Bêche roulante 5.3 m + disques + rouleaux","Bêche roulante 5.3 m + disques + rouleaux","Bêche roulante 5.3 m + disques + rouleaux","Bêche roulante 5.3 m + disques + rouleaux","Bêche roulante 5.3 m + disques + rouleaux","Bêche roulante 5.3 m + disques + rouleaux","Bêche roulante 5.3 m + disques + rouleaux","Bêche roulante 5.3 m + disques + rouleaux","Bêche roulante 5.3 m + disques + rouleaux","Bêche roulante 5.3 m + disques + rouleaux","Bêche roulante 5.3 m + disques + rouleaux","Bêche roulante 5.3 m + disques + rouleaux","Bêche roulante 5.3 m + disques + rouleaux","Bêche roulante 5.3 m + disques + rouleaux","Bêche roulante 5.3 m + disques + rouleaux","Bêche roulante 5.3 m + disques + rouleaux","Bêche roulante 5.3 m + disques + rouleaux","Bêche roulante 5.3 m + disques + rouleaux","Bêche roulante 5.3 m + disques + rouleaux","Bêche roulante 5.3 m + disques + rouleaux","Bêche roulante 5.3 m + disques + rouleaux","Bêche roulante 5.3 m + disques + rouleaux","Bêche roulante 5.3 m + disques + rouleaux","Bêche roulante 5.3 m + disques + rouleaux","Bêche roulante 5.3 m + disques + rouleaux","Bêche roulante 5.3 m + disques + rouleaux","Bêche roulante 5.3 m + disques + rouleaux","Bêche roulante 5.3 m + disques + rouleaux","Bêche roulante 5.3 m + disques + rouleaux","Bêche roulante 5.3 m + disques + rouleaux","Bêche roulante 5.3 m + disques + rouleaux","Bêche roulante 5.3 m + disques + rouleaux","Bêche roulante 5.3 m + disques + rouleaux","Bêche roulante 5.3 m + disques + rouleaux","Bêche roulante 5.3 m + disques + rouleaux","Bêche roulante 5.3 m + disques + rouleaux","Bêche roulante 5.3 m + disques + rouleaux","Bêche roulante 5.3 m + disques + rouleaux","Bêche roulante 5.3 m + disques + rouleaux","Bêche roulante 5.3 m + disques + rouleaux","Bêche roulante 5.3 m + disques + rouleaux","Bêche roulante 5.3 m + disques + rouleaux","Bêche roulante 5.3 m + disques + rouleaux","Bêche roulante 5.3 m + disques + rouleaux","Bêche roulante 5.3 m + disques + rouleaux","Bêche roulante 5.3 m + disques + rouleaux","Bêche roulante 5.3 m + disques + rouleaux","Bêche roulante 5.3 m + disques + rouleaux","Bêche roulante 5.3 m + disques + rouleaux","Bêche roulante 5.3 m + disques + rouleaux","Bêche roulante 5.3 m + disques + rouleaux","Bêche roulante 5.3 m + disques + rouleaux","Bêche roulante 5.3 m + disques + rouleaux","Bêche roulante 5.3 m + disques + rouleaux","Bêche roulante 5.3 m + disques + rouleaux","Bêche roulante 5.3 m + disques + rouleaux","Bêche roulante 5.3 m + disques + rouleaux","Bêche roulante 5.3 m + disques + rouleaux","Bêche roulante 5.3 m + disques + rouleaux","Bêche roulante 5.3 m + disques + rouleaux","Bêche roulante 5.3 m + disques + rouleaux","Bêche roulante 5.3 m + disques + rouleaux","Bêche roulante 5.3 m + disques + rouleaux","Bêche roulante 5.3 m + disques + rouleaux","Bêche roulante 5.3 m + disques + rouleaux","Bêche roulante 5.3 m + disques + rouleaux","Bêche roulante 5.3 m + disques + rouleaux","Bêche roulante 5.3 m + disques + rouleaux","Bêche roulante 5.3 m + disques + rouleaux","Bêche roulante 5.3 m + disques + rouleaux","Bêche roulante 5.3 m + disques + rouleaux","Bêche roulante 5.3 m + disques + rouleaux","Bêche roulante 5.3 m + disques + rouleaux","Bêche roulante 5.3 m + disques + rouleaux","Bêche roulante 5.3 m + disques + rouleaux","Bêche roulante 5.3 m + disques + rouleaux","Bêche roulante 5.3 m + disques + rouleaux","Bêche roulante 5.3 m + disques + rouleaux","Bêche roulante 5.3 m + disques + rouleaux","Bêche roulante 5.3 m + disques + rouleaux","Bêche roulante 5.3 m + disques + rouleaux","Bêche roulante 5.3 m + disques + rouleaux","Bêche roulante 5.3 m + disques + rouleaux","Bêche roulante 5.3 m + disques + rouleaux","Bêche roulante 5.3 m + disques + rouleaux","Bêche roulante 5.3 m + disques + rouleaux","Bêche roulante 5.3 m + disques + rouleaux","Bêche roulante 5.3 m + disques + rouleaux","Bêche roulante 5.3 m + disques + rouleaux","Bêche roulante 5.3 m + disques + rouleaux","Bêche roulante 5.3 m + disques + rouleaux","Bêche roulante 5.3 m + disques + rouleaux","Bêche roulante 5.3 m + disques + rouleaux","Bêche roulante 5.3 m + disques + rouleaux","Bêche roulante 5.3 m + disques + rouleaux","Bêche roulante 5.3 m + disques + rouleaux","Bêche roulante 5.3 m + disques + rouleaux","Bêche roulante 5.3 m + disques + rouleaux","Bêche roulante 5.3 m + disques + rouleaux","Bêche roulante 5.3 m + disques + rouleaux","Bêche roulante 5.3 m + disques + rouleaux","Bêche roulante 5.3 m + disques + rouleaux","Bêche roulante 5.3 m + disques + rouleaux","Bêche roulante 5.3 m + disques + rouleaux","Bêche roulante 5.3 m + disques + rouleaux","Bêche roulante 5.3 m + disques + rouleaux","Bêche roulante 5.3 m + disques + rouleaux","Bêche roulante 5.3 m + disques + rouleaux","Bêche roulante 5.3 m + disques + rouleaux","Bêche roulante 5.3 m + disques + rouleaux","Bêche roulante 5.3 m + disques + rouleaux","Bêche roulante 5.3 m + disques + rouleaux","Bêche roulante 5.3 m + disques + rouleaux","Bêche roulante 5.3 m + disques + rouleaux","Bêche roulante 5.3 m + disques + rouleaux","Bêche roulante 5.3 m + disques + rouleaux","Bêche roulante 5.3 m + disques + rouleaux","Bêche roulante 5.3 m + disques + rouleaux","Bêche roulante 5.3 m + disques + rouleaux","Bêche roulante 5.3 m + disques + rouleaux","Bêche roulante 5.3 m + disques + rouleaux","Bêche roulante 5.3 m + disques + rouleaux","Bêche roulante 5.3 m + disques + rouleaux","Bêche roulante 5.3 m + disques + rouleaux","Bêche roulante 5.3 m + disques + rouleaux","Bêche roulante 5.3 m + disques + rouleaux","Bêche roulante 5.3 m + disques + rouleaux","Bêche roulante 5.3 m + disques + rouleaux","Bêche roulante 5.3 m + disques + rouleaux","Bêche roulante 5.3 m + disques + rouleaux","Bêche roulante 5.3 m + disques + rouleaux","Bêche roulante 5.3 m + disques + rouleaux","Bêche roulante 5.3 m + disques + rouleaux","Bêche roulante 5.3 m + disques + rouleaux","Bêche roulante 5.3 m + disques + rouleaux","Bêche roulante 5.3 m + disques + rouleaux","Bêche roulante 5.3 m + disques + rouleaux","Bêche roulante 5.3 m + disques + rouleaux","Bêche roulante 5.3 m + disques + rouleaux","Bêche roulante 5.3 m + disques + rouleaux","Bêche roulante 5.3 m + disques + rouleaux","Bêche roulante 5.3 m + disques + rouleaux","Bêche roulante 5.3 m + disques + rouleaux","Bêche roulante 5.3 m + disques + rouleaux","Bêche roulante 5.3 m + disques + rouleaux","Bêche roulante 5.3 m + disques + rouleaux","Bêche roulante 5.3 m + disques + rouleaux","Bêche roulante 5.3 m + disques + rouleaux","Bêche roulante 5.3 m + disques + rouleaux","Bêche roulante 5.3 m + disques + rouleaux","Bêche roulante 5.3 m + disques + rouleaux","Bêche roulante 5.3 m + disques + rouleaux","Bêche roulante 5.3 m + disques + rouleaux","Bêche roulante 5.3 m + disques + rouleaux","Bêche roulante 5.3 m + disques + rouleaux","Bêche roulante 5.3 m + disques + rouleaux","Bêche roulante 5.3 m + disques + rouleaux","Bêche roulante 5.3 m + disques + rouleaux","Bêche roulante 5.3 m + disques + rouleaux","Bêche roulante 5.3 m + disques + rouleaux","Bêche roulante 5.3 m + disques + rouleaux","Bêche roulante 5.3 m + disques + rouleaux","Bêche roulante 5.3 m + disques + rouleaux","Bêche roulante 5.3 m + disques + rouleaux","Bêche roulante 5.3 m + disques + rouleaux","Bêche roulante 5.3 m + disques + rouleaux","Bêche roulante 5.3 m + disques + rouleaux","Bêche roulante 5.3 m + disques + rouleaux","Bêche roulante 5.3 m + disques + rouleaux","Bêche roulante 5.3 m + disques + rouleaux","Bêche roulante 5.3 m + disques + rouleaux","Bêche roulante 5.3 m + disques + rouleaux","Bêche roulante 5.3 m + disques + rouleaux","Bêche roulante 5.3 m + disques + rouleaux","Bêche roulante 5.3 m + disques + rouleaux","Bêche roulante 5.3 m + disques + rouleaux","Bêche roulante 5.3 m + disques + rouleaux","Bêche roulante 5.3 m + disques + rouleaux","Bêche roulante 5.3 m + disques + rouleaux","Bêche roulante 5.3 m + disques + rouleaux","Bêche roulante 5.3 m + disques + rouleaux","Bêche roulante 5.3 m + disques + rouleaux","Bêche roulante 5.3 m + disques + rouleaux","Bêche roulante 5.3 m + disques + rouleaux","Bêche roulante 5.3 m + disques + rouleaux","Bêche roulante 5.3 m + disques + rouleaux","Bêche roulante 5.3 m + disques + rouleaux","Bêche roulante 5.3 m + disques + rouleaux","Bêche roulante 5.3 m + disques + rouleaux","Bêche roulante 5.3 m + disques + rouleaux","Bêche roulante 5.3 m + disques + rouleaux","Bêche roulante 5.3 m + disques + rouleaux","Bêche roulante 5.3 m + disques + rouleaux","Bêche roulante 5.3 m + disques + rouleaux","Bêche roulante 5.3 m + disques + rouleaux","Bêche roulante 5.3 m + disques + rouleaux","Bêche roulante 5.3 m + disques + rouleaux","Bêche roulante 5.3 m + disques + rouleaux","Bêche roulante 5.3 m + disques + rouleaux","Bêche roulante 5.3 m + disques + rouleaux","Bêche roulante 5.3 m + disques + rouleaux","Bêche roulante 5.3 m + disques + rouleaux","Bêche roulante 5.3 m + disques + rouleaux","Bêche roulante 5.3 m + disques + rouleaux","Bêche roulante 5.3 m + disques + rouleaux","Bêche roulante 5.3 m + disques + rouleaux","Bêche roulante 5.3 m + disques + rouleaux","Bêche roulante 5.3 m + disques + rouleaux","Bêche roulante 5.3 m + disques + rouleaux","Bêche roulante 5.3 m + disques + rouleaux","Bêche roulante 5.3 m + disques + rouleaux","Bêche roulante 5.3 m + disques + rouleaux","Bêche roulante 5.3 m + disques + rouleaux","Bêche roulante 5.3 m + disques + rouleaux","Bêche roulante 5.3 m + disques + rouleaux","Bêche roulante 5.3 m + disques + rouleaux","Bêche roulante 5.3 m + disques + rouleaux","Bêche roulante 5.3 m + disques + rouleaux","Bêche roulante 5.3 m + disques + rouleaux","Bêche roulante 5.3 m + disques + rouleaux","Bêche roulante 5.3 m + disques + rouleaux","Bêche roulante 5.3 m + disques + rouleaux","Bêche roulante 5.3 m + disques + rouleaux","Bêche roulante 5.3 m + disques + rouleaux","Bêche roulante 5.3 m + disques + rouleaux","Bêche roulante 5.3 m + disques + rouleaux","Bêche roulante 5.3 m + disques + rouleaux","Bêche roulante 5.3 m + disques + rouleaux","Bêche roulante 5.3 m + disques + rouleaux","Bêche roulante 5.3 m + disques + rouleaux","Bêche roulante 5.3 m + disques + rouleaux","Bêche roulante 5.3 m + disques + rouleaux","Bêche roulante 5.3 m + disques + rouleaux","Bêche roulante 5.3 m + disques + rouleaux","Bêche roulante 5.3 m + disques + rouleaux","Bêche roulante 5.3 m + disques + rouleaux","Bêche roulante 5.3 m + disques + rouleaux","Bêche roulante 5.3 m + disques + rouleaux","Bêche roulante 5.3 m + disques + rouleaux","Bêche roulante 5.3 m + disques + rouleaux","Bêche roulante 5.3 m + disques + rouleaux","Bêche roulante 5.3 m + disques + rouleaux","Bêche roulante 5.3 m + disques + rouleaux","Bêche roulante 5.3 m + disques + rouleaux","Bêche roulante 5.3 m + disques + rouleaux","Bêche roulante 5.3 m + disques + rouleaux","Bêche roulante 5.3 m + disques + rouleaux","Bêche roulante 5.3 m + disques + rouleaux","Bêche roulante 5.3 m + disques + rouleaux","Bêche roulante 5.3 m + disques + rouleaux","Bêche roulante 5.3 m + disques + rouleaux","Bêche roulante 5.3 m + disques + rouleaux","Bêche roulante 5.3 m + disques + rouleaux","Bêche roulante 5.3 m + disques + rouleaux","Bêche roulante 5.3 m + disques + rouleaux","Bêche roulante 5.3 m + disques + rouleaux","Bêche roulante 5.3 m + disques + rouleaux","Bêche roulante 5.3 m + disques + rouleaux","Bêche roulante 5.3 m + disques + rouleaux","Bêche roulante 5.3 m + disques + rouleaux","Bêche roulante 5.3 m + disques + rouleaux","Bêche roulante 5.3 m + disques + rouleaux","Bêche roulante 5.3 m + disques + rouleaux","Bêche roulante 5.3 m + disques + rouleaux","Bêche roulante 5.3 m + disques + rouleaux","Bêche roulante 5.3 m + disques + rouleaux","Bêche roulante 5.3 m + disques + rouleaux","Bêche roulante 5.3 m + disques + rouleaux","Bêche roulante 5.3 m + disques + rouleaux","Bêche roulante 5.3 m + disques + rouleaux","Bêche roulante 5.3 m + disques + rouleaux","Bêche roulante 5.3 m + disques + rouleaux","Bêche roulante 5.3 m + disques + rouleaux","Bêche roulante 5.3 m + disques + rouleaux","Bêche roulante 5.3 m + disques + rouleaux","Bêche roulante 5.3 m + disques + rouleaux","Bêche roulante 5.3 m + disques + rouleaux","Bêche roulante 5.3 m + disques + rouleaux","Bêche roulante 5.3 m + disques + rouleaux","Bêche roulante 5.3 m + disques + rouleaux","Bêche roulante 5.3 m + disques + rouleaux","Bêche roulante 5.3 m + disques + rouleaux","Bêche roulante 5.3 m + disques + rouleaux","Bêche roulante 5.3 m + disques + rouleaux","Bêche roulante 5.3 m + disques + rouleaux","Bêche roulante 5.3 m + disques + rouleaux","Bêche roulante 5.3 m + disques + rouleaux","Bêche roulante 5.3 m + disques + rouleaux","Bêche roulante 5.3 m + disques + rouleaux","Bêche roulante 5.3 m + disques + rouleaux","Bêche roulante 5.3 m + disques + rouleaux","Bêche roulante 5.3 m + disques + rouleaux","Bêche roulante 5.3 m + disques + rouleaux","Bêche roulante 5.3 m + disques + rouleaux","Bêche roulante 5.3 m + disques + rouleaux","Bêche roulante 5.3 m + disques + rouleaux","Bêche roulante 5.3 m + disques + rouleaux","Bêche roulante 5.3 m + disques + rouleaux","Bêche roulante 5.3 m + disques + rouleaux","Bêche roulante 5.3 m + disques + rouleaux","Bêche roulante 5.3 m + disques + rouleaux","Bêche roulante 5.3 m + disques + rouleaux","Bêche roulante 5.3 m + disques + rouleaux","Bêche roulante 5.3 m + disques + rouleaux","Bêche roulante 5.3 m + disques + rouleaux","Bêche roulante 5.3 m + disques + rouleaux","Bêche roulante 5.3 m + disques + rouleaux","Bêche roulante 5.3 m + disques + rouleaux","Bêche roulante 5.3 m + disques + rouleaux","Bêche roulante 5.3 m + disques + rouleaux","Bêche roulante 5.3 m + disques + rouleaux","Bêche roulante 5.3 m + disques + rouleaux","Bêche roulante 5.3 m + disques + rouleaux","Bêche roulante 5.3 m + disques + rouleaux","Bêche roulante 5.3 m + disques + rouleaux","Bêche roulante 5.3 m + disques + rouleaux","Bêche roulante 5.3 m + disques + rouleaux","Bêche roulante 5.3 m + disques + rouleaux","Bêche roulante 5.3 m + disques + rouleaux","Bêche roulante 5.3 m + disques + rouleaux","Bêche roulante 5.3 m + disques + rouleaux","Bêche roulante 5.3 m + disques + rouleaux","Bêche roulante 5.3 m + disques + rouleaux","Bêche roulante 5.3 m + disques + rouleaux","Bêche roulante 5.3 m + disques + rouleaux","Bêche roulante 5.3 m + disques + rouleaux","Bêche roulante 5.3 m + disques + rouleaux","Bêche roulante 5.3 m + disques + rouleaux","Bêche roulante 5.3 m + disques + rouleaux","Bêche roulante 5.3 m + disques + rouleaux","Bêche roulante 5.3 m + disques + rouleaux","Bêche roulante 5.3 m + disques + rouleaux","Bêche roulante 5.3 m + disques + rouleaux","Bêche roulante 5.3 m + disques + rouleaux","Bêche roulante 5.3 m + disques + rouleaux","Bêche roulante 5.3 m + disques + rouleaux","Bêche roulante 5.3 m + disques + rouleaux","Bêche roulante 5.3 m + disques + rouleaux","Bêche roulante 5.3 m + disques + rouleaux","Bêche roulante 5.3 m + disques + rouleaux","Bêche roulante 5.3 m + disques + rouleaux","Bêche roulante 5.3 m + disques + rouleaux","Bêche roulante 5.3 m + disques + rouleaux","Bêche roulante 5.3 m + disques + rouleaux","Bêche roulante 5.3 m + disques + rouleaux","Bêche roulante 5.3 m + disques + rouleaux","Bêche roulante 5.3 m + disques + rouleaux","Bêche roulante 5.3 m + disques + rouleaux","Bêche roulante 5.3 m + disques + rouleaux","Bêche roulante 5.3 m + disques + rouleaux","Bêche roulante 5.3 m + disques + rouleaux","Bêche roulante 5.3 m + disques + rouleaux","Bêche roulante 5.3 m + disques + rouleaux","Bêche roulante 5.3 m + disques + rouleaux","Bêche roulante 5.3 m + disques + rouleaux","Bêche roulante 5.3 m + disques + rouleaux","Bêche roulante 5.3 m + disques + rouleaux","Bêche roulante 5.3 m + disques + rouleaux","Bêche roulante 5.3 m + disques + rouleaux","Bêche roulante 5.3 m + disques + rouleaux","Bêche roulante 5.3 m + disques + rouleaux","Bêche roulante 5.3 m + disques + rouleaux","Bêche roulante 5.3 m + disques + rouleaux","Bêche roulante 5.3 m + disques + rouleaux","Bêche roulante 5.3 m + disques + rouleaux","Bêche roulante 5.3 m + disques + rouleaux","Bêche roulante 5.3 m + disques + rouleaux","Bêche roulante 5.3 m + disques + rouleaux","Bêche roulante 5.3 m + disques + rouleaux","Bêche roulante 5.3 m + disques + rouleaux","Bêche roulante 5.3 m + disques + rouleaux","Bêche roulante 5.3 m + disques + rouleaux","Bêche roulante 5.3 m + disques + rouleaux","Bêche roulante 5.3 m + disques + rouleaux","Bêche roulante 5.3 m + disques + rouleaux","Bêche roulante 5.3 m + disques + rouleaux","Bêche roulante 5.3 m + disques + rouleaux","Bêche roulante 5.3 m + disques + rouleaux","Bêche roulante 5.3 m + disques + rouleaux","Bêche roulante 5.3 m + disques + rouleaux","Bêche roulante 5.3 m + disques + rouleaux","Bêche roulante 5.3 m + disques + rouleaux","Bêche roulante 5.3 m + disques + rouleaux","Bêche roulante 5.3 m + disques + rouleaux","Bêche roulante 5.3 m + disques + rouleaux","Bêche roulante 5.3 m + disques + rouleaux","Bêche roulante 5.3 m + disques + rouleaux","Bêche roulante 5.3 m + disques + rouleaux","Bêche roulante 5.3 m + disques + rouleaux","Bêche roulante 5.3 m + disques + rouleaux","Bêche roulante 5.3 m + disques + rouleaux","Bêche roulante 5.3 m + disques + rouleaux","Bêche roulante 5.3 m + disques + rouleaux","Bêche roulante 5.3 m + disques + rouleaux","Bêche roulante 5.3 m + disques + rouleaux","Bêche roulante 5.3 m + disques + rouleaux","Bêche roulante 5.3 m + disques + rouleaux","Bêche roulante 5.3 m + disques + rouleaux","Bêche roulante 5.3 m + disques + rouleaux","Bêche roulante 5.3 m + disques + rouleaux","Bêche roulante 5.3 m + disques + rouleaux","Bêche roulante 5.3 m + disques + rouleaux","Bêche roulante 5.3 m + disques + rouleaux","Bêche roulante 5.3 m + disques + rouleaux","Bêche roulante 5.3 m + disques + rouleaux","Bêche roulante 5.3 m + disques + rouleaux","Bêche roulante 5.3 m + disques + rouleaux","Bêche roulante 5.3 m + disques + rouleaux","Bêche roulante 5.3 m + disques + rouleaux","Bêche roulante 5.3 m + disques + rouleaux","Bêche roulante 5.3 m + disques + rouleaux","Bêche roulante 5.3 m + disques + rouleaux","Bêche roulante 5.3 m + disques + rouleaux","Bêche roulante 5.3 m + disques + rouleaux","Bêche roulante 5.3 m + disques + rouleaux","Bêche roulante 5.3 m + disques + rouleaux","Bêche roulante 5.3 m + disques + rouleaux","Bêche roulante 5.3 m + disques + rouleaux","Bêche roulante 5.3 m + disques + rouleaux","Bêche roulante 5.3 m + disques + rouleaux","Bêche roulante 5.3 m + disques + rouleaux","Bêche roulante 5.3 m + disques + rouleaux","Bêche roulante 5.3 m + disques + rouleaux","Bêche roulante 5.3 m + disques + rouleaux","Bêche roulante 5.3 m + disques + rouleaux","Bêche roulante 5.3 m + disques + rouleaux","Bêche roulante 5.3 m + disques + rouleaux","Bêche roulante 5.3 m + disques + rouleaux","Bêche roulante 5.3 m + disques + rouleaux","Bêche roulante 5.3 m + disques + rouleaux","Bêche roulante 5.3 m + disques + rouleaux","Bêche roulante 5.3 m + disques + rouleaux","Bêche roulante 5.3 m + disques + rouleaux","Bêche roulante 5.3 m + disques + rouleaux","Bêche roulante 5.3 m + disques + rouleaux","Bêche roulante 5.3 m + disques + rouleaux","Bêche roulante 5.3 m + disques + rouleaux","Bêche roulante 5.3 m + disques + rouleaux","Bêche roulante 5.3 m + disques + rouleaux","Bêche roulante 5.3 m + disques + rouleaux","Bêche roulante 5.3 m + disques + rouleaux","Bêche roulante 5.3 m + disques + rouleaux","Bêche roulante 5.3 m + disques + rouleaux","Bêche roulante 5.3 m + disques + rouleaux","Bêche roulante 5.3 m + disques + rouleaux","Bêche roulante 5.3 m + disques + rouleaux","Bêche roulante 5.3 m + disques + rouleaux","Bêche roulante 5.3 m + disques + rouleaux","Bêche roulante 5.3 m + disques + rouleaux","Bêche roulante 5.3 m + disques + rouleaux","Bêche roulante 5.3 m + disques + rouleaux","Bêche roulante 5.3 m + disques + rouleaux","Bêche roulante 5.3 m + disques + rouleaux","Bêche roulante 5.3 m + disques + rouleaux","Bêche roulante 5.3 m + disques + rouleaux","Bêche roulante 5.3 m + disques + rouleaux","Bêche roulante 5.3 m + disques + rouleaux","Bêche roulante 5.3 m + disques + rouleaux","Bêche roulante 5.3 m + disques + rouleaux","Bêche roulante 5.3 m + disques + rouleaux","Bêche roulante 5.3 m + disques + rouleaux","Bêche roulante 5.3 m + disques + rouleaux","Bêche roulante 5.3 m + disques + rouleaux","Bêche roulante 5.3 m + disques + rouleaux","Bêche roulante 5.3 m + disques + rouleaux","Bêche roulante 5.3 m + disques + rouleaux","Bêche roulante 5.3 m + disques + rouleaux","Bêche roulante 5.3 m + disques + rouleaux","Bêche roulante 5.3 m + disques + rouleaux","Bêche roulante 5.3 m + disques + rouleaux","Bêche roulante 5.3 m + disques + rouleaux","Bêche roulante 5.3 m + disques + rouleaux","Bêche roulante 5.3 m + disques + rouleaux","Bêche roulante 5.3 m + disques + rouleaux","Bêche roulante 5.3 m + disques + rouleaux","Bêche roulante 5.3 m + disques + rouleaux","Bêche roulante 5.3 m + disques + rouleaux","Bêche roulante 5.3 m + disques + rouleaux","Bêche roulante 5.3 m + disques + rouleaux","Bêche roulante 5.3 m + disques + rouleaux","Bêche roulante 5.3 m + disques + rouleaux","Bêche roulante 5.3 m + disques + rouleaux","Bêche roulante 5.3 m + disques + rouleaux","Bêche roulante 5.3 m + disques + rouleaux","Bêche roulante 5.3 m + disques + rouleaux","Bêche roulante 5.3 m + disques + rouleaux","Bêche roulante 5.3 m + disques + rouleaux","Bêche roulante 5.3 m + disques + rouleaux","Bêche roulante 5.3 m + disques + rouleaux","Bêche roulante 5.3 m + disques + rouleaux","Bêche roulante 5.3 m + disques + rouleaux","Bêche roulante 5.3 m + disques + rouleaux","Bêche roulante 5.3 m + disques + rouleaux","Bêche roulante 5.3 m + disques + rouleaux","Bêche roulante 5.3 m + disques + rouleaux","Bêche roulante 5.3 m + disques + rouleaux","Bêche roulante 5.3 m + disques + rouleaux","Bêche roulante 5.3 m + disques + rouleaux","Bêche roulante 5.3 m + disques + rouleaux","Bêche roulante 5.3 m + disques + rouleaux","Bêche roulante 5.3 m + disques + rouleaux","Bêche roulante 5.3 m + disques + rouleaux","Bêche roulante 5.3 m + disques + rouleaux","Bêche roulante 5.3 m + disques + rouleaux","Bêche roulante 5.3 m + disques + rouleaux","Bêche roulante 5.3 m + disques + rouleaux","Bêche roulante 5.3 m + disques + rouleaux","Bêche roulante 5.3 m + disques + rouleaux","Bêche roulante 5.3 m + disques + rouleaux","Bêche roulante 5.3 m + disques + rouleaux","Bêche roulante 5.3 m + disques + rouleaux","Bêche roulante 5.3 m + disques + rouleaux","Bêche roulante 5.3 m + disques + rouleaux","Bêche roulante 5.3 m + disques + rouleaux","Bêche roulante 5.3 m + disques + rouleaux","Bêche roulante 5.3 m + disques + rouleaux","Bêche roulante 5.3 m + disques + rouleaux","Bêche roulante 5.3 m + disques + rouleaux","Bêche roulante 5.3 m + disques + rouleaux","Bêche roulante 5.3 m + disques + rouleaux","Bêche roulante 5.3 m + disques + rouleaux","Bêche roulante 5.3 m + disques + rouleaux","Bêche roulante 5.3 m + disques + rouleaux","Bêche roulante 5.3 m + disques + rouleaux","Bêche roulante 5.3 m + disques + rouleaux","Bêche roulante 5.3 m + disques + rouleaux","Bêche roulante 5.3 m + disques + rouleaux","Bêche roulante 5.3 m + disques + rouleaux","Bêche roulante 5.3 m + disques + rouleaux","Bêche roulante 5.3 m + disques + rouleaux","Bêche roulante 5.3 m + disques + rouleaux","Bêche roulante 5.3 m + disques + rouleaux","Bêche roulante 5.3 m + disques + rouleaux","Bêche roulante 5.3 m + disques + rouleaux","Bêche roulante 5.3 m + disques + rouleaux","Bêche roulante 5.3 m + disques + rouleaux","Bêche roulante 5.3 m + disques + rouleaux","Bêche roulante 5.3 m + disques + rouleaux","Bêche roulante 5.3 m + disques + rouleaux","Bêche roulante 5.3 m + disques + rouleaux","Bêche roulante 5.3 m + disques + rouleaux","Bêche roulante 5.3 m + disques + rouleaux","Bêche roulante 5.3 m + disques + rouleaux","Bêche roulante 5.3 m + disques + rouleaux","Bêche roulante 5.3 m + disques + rouleaux","Bêche roulante 5.3 m + disques + rouleaux","Bêche roulante 5.3 m + disques + rouleaux","Bêche roulante 5.3 m + disques + rouleaux","Bêche roulante 5.3 m + disques + rouleaux","Bêche roulante 5.3 m + disques + rouleaux","Bêche roulante 5.3 m + disques + rouleaux","Bêche roulante 5.3 m + disques + rouleaux","Bêche roulante 5.3 m + disques + rouleaux","Bêche roulante 5.3 m + disques + rouleaux","Bêche roulante 5.3 m + disques + rouleaux","Bêche roulante 5.3 m + disques + rouleaux","Bêche roulante 5.3 m + disques + rouleaux","Bêche roulante 5.3 m + disques + rouleaux","Bêche roulante 5.3 m + disques + rouleaux","Bêche roulante 5.3 m + disques + rouleaux","Bêche roulante 5.3 m + disques + rouleaux","Bêche roulante 5.3 m + disques + rouleaux","Bêche roulante 5.3 m + disques + rouleaux","Bêche roulante 5.3 m + disques + rouleaux","Bêche roulante 5.3 m + disques + rouleaux","Bêche roulante 5.3 m + disques + rouleaux","Bêche roulante 5.3 m + disques + rouleaux","Bêche roulante 5.3 m + disques + rouleaux","Bêche roulante 5.3 m + disques + rouleaux","Bêche roulante 5.3 m + disques + rouleaux","Bêche roulante 5.3 m + disques + rouleaux","Bêche roulante 5.3 m + disques + rouleaux","Bêche roulante 5.3 m + disques + rouleaux","Bêche roulante 5.3 m + disques + rouleaux","Bêche roulante 5.3 m + disques + rouleaux","Bêche roulante 5.3 m + disques + rouleaux","Bêche roulante 5.3 m + disques + rouleaux","Bêche roulante 5.3 m + disques + rouleaux","Bêche roulante 5.3 m + disques + rouleaux","Bêche roulante 5.3 m + disques + rouleaux","Bêche roulante 5.3 m + disques + rouleaux","Bêche roulante 5.3 m + disques + rouleaux","Bêche roulante 5.3 m + disques + rouleaux","Bêche roulante 5.3 m + disques + rouleaux","Bêche roulante 5.3 m + disques + rouleaux","Bêche roulante 5.3 m + disques + rouleaux","Bêche roulante 5.3 m + disques + rouleaux","Bêche roulante 5.3 m + disques + rouleaux","Bêche roulante 5.3 m + disques + rouleaux","Bêche roulante 5.3 m + disques + rouleaux","Bêche roulante 5.3 m + disques + rouleaux","Bêche roulante 5.3 m + disques + rouleaux","Bêche roulante 5.3 m + disques + rouleaux","Bêche roulante 5.3 m + disques + rouleaux","Bêche roulante 5.3 m + disques + rouleaux","Bêche roulante 5.3 m + disques + rouleaux","Bêche roulante 5.3 m + disques + rouleaux","Bêche roulante 5.3 m + disques + rouleaux","Bêche roulante 5.3 m + disques + rouleaux","Bêche roulante 5.3 m + disques + rouleaux","Bêche roulante 5.3 m + disques + rouleaux","Bêche roulante 5.3 m + disques + rouleaux","Bêche roulante 5.3 m + disques + rouleaux","Bêche roulante 5.3 m + disques + rouleaux","Bêche roulante 5.3 m + disques + rouleaux","Bêche roulante 5.3 m + disques + rouleaux","Bêche roulante 5.3 m + disques + rouleaux","Bêche roulante 5.3 m + disques + rouleaux","Bêche roulante 5.3 m + disques + rouleaux","Bêche roulante 5.3 m + disques + rouleaux","Bêche roulante 5.3 m + disques + rouleaux","Bêche roulante 5.3 m + disques + rouleaux","Bêche roulante 5.3 m + disques + rouleaux","Bêche roulante 5.3 m + disques + rouleaux","Bêche roulante 5.3 m + disques + rouleaux","Bêche roulante 5.3 m + disques + rouleaux","Bêche roulante 5.3 m + disques + rouleaux","Bêche roulante 5.3 m + disques + rouleaux","Bêche roulante 5.3 m + disques + rouleaux","Bêche roulante 5.3 m + disques + rouleaux","Bêche roulante 5.3 m + disques + rouleaux","Bêche roulante 5.3 m + disques + rouleaux","Bêche roulante 5.3 m + disques + rouleaux","Bêche roulante 5.3 m + disques + rouleaux","Bêche roulante 5.3 m + disques + rouleaux","Bêche roulante 5.3 m + disques + rouleaux","Bêche roulante 5.3 m + disques + rouleaux","Bêche roulante 5.3 m + disques + rouleaux","Bêche roulante 5.3 m + disques + rouleaux","Bêche roulante 5.3 m + disques + rouleaux","Bêche roulante 5.3 m + disques + rouleaux","Bêche roulante 5.3 m + disques + rouleaux","Bêche roulante 5.3 m + disques + rouleaux","Bêche roulante 5.3 m + disques + rouleaux","Bêche roulante 5.3 m + disques + rouleaux","Bêche roulante 5.3 m + disques + rouleaux","Bêche roulante 5.3 m + disques + rouleaux","Bêche roulante 5.3 m + disques + rouleaux","Bêche roulante 5.3 m + disques + rouleaux","Bêche roulante 5.3 m + disques + rouleaux","Bêche roulante 5.3 m + disques + rouleaux","Bêche roulante 5.3 m + disques + rouleaux","Bêche roulante 5.3 m + disques + rouleaux","Bêche roulante 5.3 m + disques + rouleaux","Bêche roulante 5.3 m + disques + rouleaux","Bêche roulante 5.3 m + disques + rouleaux","Bêche roulante 5.3 m + disques + rouleaux","Bêche roulante 5.3 m + disques + rouleaux","Bêche roulante 5.3 m + disques + rouleaux","Bêche roulante 5.3 m + disques + rouleaux","Bêche roulante 5.3 m + disques + rouleaux","Bêche roulante 5.3 m + disques + rouleaux","Bêche roulante 5.3 m + disques + rouleaux","Bêche roulante 5.3 m + disques + rouleaux","Bêche roulante 5.3 m + disques + rouleaux","Bêche roulante 5.3 m + disques + rouleaux","Bêche roulante 5.3 m + disques + rouleaux","Bêche roulante 5.3 m + disques + rouleaux","Bêche roulante 5.3 m + disques + rouleaux","Bêche roulante 5.3 m + disques + rouleaux","Bêche roulante 5.3 m + disques + rouleaux","Bêche roulante 5.3 m + disques + rouleaux","Bêche roulante 5.3 m + disques + rouleaux","Bêche roulante 5.3 m + disques + rouleaux","Bêche roulante 5.3 m + disques + rouleaux","Bêche roulante 5.3 m + disques + rouleaux","Bêche roulante 5.3 m + disques + rouleaux","Bêche roulante 5.3 m + disques + rouleaux","Bêche roulante 5.3 m + disques + rouleaux","Bêche roulante 5.3 m + disques + rouleaux","Bêche roulante 5.3 m + disques + rouleaux","Bêche roulante 5.3 m + disques + rouleaux","Bêche roulante 5.3 m + disques + rouleaux","Bêche roulante 5.3 m + disques + rouleaux","Bêche roulante 5.3 m + disques + rouleaux","Bêche roulante 5.3 m + disques + rouleaux","Bêche roulante 5.3 m + disques + rouleaux","Bêche roulante 5.3 m + disques + rouleaux","Bêche roulante 5.3 m + disques + rouleaux","Bêche roulante 5.3 m + disques + rouleaux","Bêche roulante 5.3 m + disques + rouleaux","Bêche roulante 5.3 m + disques + rouleaux","Bêche roulante 5.3 m + disques + rouleaux","Bêche roulante 5.3 m + disques + rouleaux","Bêche roulante 5.3 m + disques + rouleaux","Bêche roulante 5.3 m + disques + rouleaux","Bêche roulante 5.3 m + disques + rouleaux","Bêche roulante 5.3 m + disques + rouleaux","Bêche roulante 5.3 m + disques + rouleaux","Bêche roulante 5.3 m + disques + rouleaux","Bêche roulante 5.3 m + disques + rouleaux","Bêche roulante 5.3 m + disques + rouleaux","Bêche roulante 5.3 m + disques + rouleaux","Bêche roulante 5.3 m + disques + rouleaux","Bêche roulante 5.3 m + disques + rouleaux","Bêche roulante 5.3 m + disques + rouleaux","Bêche roulante 5.3 m + disques + rouleaux","Bêche roulante 5.3 m + disques + rouleaux","Bêche roulante 5.3 m + disques + rouleaux","Bêche roulante 5.3 m + disques + rouleaux","Bêche roulante 5.3 m + disques + rouleaux","Bêche roulante 5.3 m + disques + rouleaux","Bêche roulante 5.3 m + disques + rouleaux","Bêche roulante 5.3 m + disques + rouleaux","Bêche roulante 5.3 m + disques + rouleaux","Bêche roulante 5.3 m + disques + rouleaux","Bêche roulante 5.3 m + disques + rouleaux","Bêche roulante 5.3 m + disques + rouleaux","Bêche roulante 5.3 m + disques + rouleaux","Bêche roulante 5.3 m + disques + rouleaux","Bêche roulante 5.3 m + disques + rouleaux","Bêche roulante 5.3 m + disques + rouleaux","Bêche roulante 5.3 m + disques + rouleaux","Bêche roulante 5.3 m + disques + rouleaux","Bêche roulante 5.3 m + disques + rouleaux","Bêche roulante 5.3 m + disques + rouleaux","Bêche roulante 5.3 m + disques + rouleaux","Bêche roulante 5.3 m + disques + rouleaux","Bêche roulante 5.3 m + disques + rouleaux","Bêche roulante 5.3 m + disques + rouleaux","Bêche roulante 5.3 m + disques + rouleaux","Bêche roulante 5.3 m + disques + rouleaux","Bêche roulante 5.3 m + disques + rouleaux","Bêche roulante 5.3 m + disques + rouleaux","Bêche roulante 5.3 m + disques + rouleaux","Bêche roulante 5.3 m + disques + rouleaux","Bêche roulante 5.3 m + disques + rouleaux","Bêche roulante 5.3 m + disques + rouleaux","Bêche roulante 5.3 m + disques + rouleaux","Bêche roulante 5.3 m + disques + rouleaux","Bêche roulante 5.3 m + disques + rouleaux","Bêche roulante 5.3 m + disques + rouleaux","Bêche roulante 5.3 m + disques + rouleaux","Bêche roulante 5.3 m + disques + rouleaux","Bêche roulante 5.3 m + disques + rouleaux","Bêche roulante 5.3 m + disques + rouleaux","Bêche roulante 5.3 m + disques + rouleaux","Bêche roulante 5.3 m + disques + rouleaux","Bêche roulante 5.3 m + disques + rouleaux","Bêche roulante 5.3 m + disques + rouleaux","Bêche roulante 5.3 m + disques + rouleaux","Bêche roulante 5.3 m + disques + rouleaux","Bêche roulante 5.3 m + disques + rouleaux","Bêche roulante 5.3 m + disques + rouleaux","Bêche roulante 5.3 m + disques + rouleaux","Bêche roulante 5.3 m + disques + rouleaux","Bêche roulante 5.3 m + disques + rouleaux","Bêche roulante 5.3 m + disques + rouleaux","Bêche roulante 5.3 m + disques + rouleaux","Bêche roulante 5.3 m + disques + rouleaux","Bêche roulante 5.3 m + disques + rouleaux","Bêche roulante 5.3 m + disques + rouleaux","Bêche roulante 5.3 m + disques + rouleaux","Bêche roulante 5.3 m + disques + rouleaux","Bêche roulante 5.3 m + disques + rouleaux","Bêche roulante 5.3 m + disques + rouleaux","Bêche roulante 5.3 m + disques + rouleaux","Bêche roulante 5.3 m + disques + rouleaux","Bêche roulante 5.3 m + disques + rouleaux","Bêche roulante 5.3 m + disques + rouleaux","Bêche roulante 5.3 m + disques + rouleaux","Bêche roulante 5.3 m + disques + rouleaux","Bêche roulante 5.3 m + disques + rouleaux","Bêche roulante 5.3 m + disques + rouleaux","Bêche roulante 5.3 m + disques + rouleaux","Bêche roulante 5.3 m + disques + rouleaux","Bêche roulante 5.3 m + disques + rouleaux","Bêche roulante 5.3 m + disques + rouleaux","Bêche roulante 5.3 m + disques + rouleaux","Bêche roulante 5.3 m + disques + rouleaux","Bêche roulante 5.3 m + disques + rouleaux","Bêche roulante 5.3 m + disques + rouleaux","Bêche roulante 5.3 m + disques + rouleaux","Bêche roulante 5.3 m + disques + rouleaux","Bêche roulante 5.3 m + disques + rouleaux","Bêche roulante 5.3 m + disques + rouleaux","Bêche roulante 5.3 m + disques + rouleaux","Bêche roulante 5.3 m + disques + rouleaux","Bêche roulante 5.3 m + disques + rouleaux","Bêche roulante 5.3 m + disques + rouleaux","Bêche roulante 5.3 m + disques + rouleaux","Bêche roulante 5.3 m + disques + rouleaux","Bêche roulante 5.3 m + disques + rouleaux","Bêche roulante 5.3 m + disques + rouleaux","Bêche roulante 5.3 m + disques + rouleaux","Bêche roulante 5.3 m + disques + rouleaux","Bêche roulante 5.3 m + disques + rouleaux","Bêche roulante 5.3 m + disques + rouleaux","Bêche roulante 5.3 m + disques + rouleaux","Bêche roulante 5.3 m + disques + rouleaux","Bêche roulante 5.3 m + disques + rouleaux","Bêche roulante 5.3 m + disques + rouleaux","Bêche roulante 5.3 m + disques + rouleaux","Bêche roulante 5.3 m + disques + rouleaux","Bêche roulante 5.3 m + disques + rouleaux","Bêche roulante 5.3 m + disques + rouleaux","Bêche roulante 5.3 m + disques + rouleaux","Bêche roulante 5.3 m + disques + rouleaux","Bêche roulante 5.3 m + disques + rouleaux","Bêche roulante 5.3 m + disques + rouleaux","Bêche roulante 5.3 m + disques + rouleaux","Bêche roulante 5.3 m + disques + rouleaux","Bêche roulante 5.3 m + disques + rouleaux","Bêche roulante 5.3 m + disques + rouleaux","Bêche roulante 5.3 m + disques + rouleaux","Bêche roulante 5.3 m + disques + rouleaux","Bêche roulante 5.3 m + disques + rouleaux","Bêche roulante 5.3 m + disques + rouleaux","Bêche roulante 5.3 m + disques + rouleaux","Bêche roulante 5.3 m + disques + rouleaux","Bêche roulante 5.3 m + disques + rouleaux","Bêche roulante 5.3 m + disques + rouleaux","Bêche roulante 5.3 m + disques + rouleaux","Bêche roulante 5.3 m + disques + rouleaux","Bêche roulante 5.3 m + disques + rouleaux","Bêche roulante 5.3 m + disques + rouleaux","Bêche roulante 5.3 m + disques + rouleaux","Bêche roulante 5.3 m + disques + rouleaux","Bêche roulante 5.3 m + disques + rouleaux","Bêche roulante 5.3 m + disques + rouleaux","Bêche roulante 5.3 m + disques + rouleaux","Bêche roulante 5.3 m + disques + rouleaux","Bêche roulante 5.3 m + disques + rouleaux","Bêche roulante 5.3 m + disques + rouleaux","Bêche roulante 5.3 m + disques + rouleaux","Bêche roulante 5.3 m + disques + rouleaux","Bêche roulante 5.3 m + disques + rouleaux","Bêche roulante 5.3 m + disques + rouleaux","Bêche roulante 5.3 m + disques + rouleaux","Bêche roulante 5.3 m + disques + rouleaux","Bêche roulante 5.3 m + disques + rouleaux","Bêche roulante 5.3 m + disques + rouleaux","Bêche roulante 5.3 m + disques + rouleaux","Bêche roulante 5.3 m + disques + rouleaux","Bêche roulante 5.3 m + disques + rouleaux","Bêche roulante 5.3 m + disques + rouleaux","Bêche roulante 5.3 m + disques + rouleaux","Bêche roulante 5.3 m + disques + rouleaux","Bêche roulante 5.3 m + disques + rouleaux","Bêche roulante 5.3 m + disques + rouleaux","Bêche roulante 5.3 m + disques + rouleaux","Bêche roulante 5.3 m + disques + rouleaux","Bêche roulante 5.3 m + disques + rouleaux","Bêche roulante 5.3 m + disques + rouleaux","Bêche roulante 5.3 m + disques + rouleaux","Bêche roulante 5.3 m + disques + rouleaux","Bêche roulante 5.3 m + disques + rouleaux","Bêche roulante 5.3 m + disques + rouleaux","Bêche roulante 5.3 m + disques + rouleaux","Bêche roulante 5.3 m + disques + rouleaux","Bêche roulante 5.3 m + disques + rouleaux","Bêche roulante 5.3 m + disques + rouleaux","Bêche roulante 5.3 m + disques + rouleaux","Bêche roulante 5.3 m + disques + rouleaux","Bêche roulante 5.3 m + disques + rouleaux","Bêche roulante 5.3 m + disques + rouleaux","Bêche roulante 5.3 m + disques + rouleaux","Bêche roulante 5.3 m + disques + rouleaux","Bêche roulante 5.3 m + disques + rouleaux","Bêche roulante 5.3 m + disques + rouleaux","Bêche roulante 5.3 m + disques + rouleaux","Bêche roulante 5.3 m + disques + rouleaux","Bêche roulante 5.3 m + disques + rouleaux","Bêche roulante 5.3 m + disques + rouleaux","Bêche roulante 5.3 m + disques + rouleaux","Bêche roulante 5.3 m + disques + rouleaux","Bêche roulante 5.3 m + disques + rouleaux","Bêche roulante 5.3 m + disques + rouleaux","Bêche roulante 5.3 m + disques + rouleaux","Bêche roulante 5.3 m + disques + rouleaux","Bêche roulante 5.3 m + disques + rouleaux","Bêche roulante 5.3 m + disques + rouleaux","Bêche roulante 5.3 m + disques + rouleaux","Bêche roulante 5.3 m + disques + rouleaux","Bêche roulante 5.3 m + disques + rouleaux","Bêche roulante 5.3 m + disques + rouleaux","Bêche roulante 5.3 m + disques + rouleaux","Bêche roulante 5.3 m + disques + rouleaux","Bêche roulante 5.3 m + disques + rouleaux","Bêche roulante 5.3 m + disques + rouleaux","Bêche roulante 5.3 m + disques + rouleaux","Bêche roulante 5.3 m + disques + rouleaux","Bêche roulante 5.3 m + disques + rouleaux","Bêche roulante 5.3 m + disques + rouleaux","Bêche roulante 5.3 m + disques + rouleaux","Bêche roulante 5.3 m + disques + rouleaux","Bêche roulante 5.3 m + disques + rouleaux","Bêche roulante 5.3 m + disques + rouleaux","Bêche roulante 5.3 m + disques + rouleaux","Bêche roulante 5.3 m + disques + rouleaux","Bêche roulante 5.3 m + disques + rouleaux","Bêche roulante 5.3 m + disques + rouleaux","Bêche roulante 5.3 m + disques + rouleaux","Bêche roulante 5.3 m + disques + rouleaux","Bêche roulante 5.3 m + disques + rouleaux","Bêche roulante 5.3 m + disques + rouleaux","Bêche roulante 5.3 m + disques + rouleaux","Bêche roulante 5.3 m + disques + rouleaux","Bêche roulante 5.3 m + disques + rouleaux","Bêche roulante 5.3 m + disques + rouleaux","Bêche roulante 5.3 m + disques + rouleaux","Bêche roulante 5.3 m + disques + rouleaux","Bêche roulante 5.3 m + disques + rouleaux","Bêche roulante 5.3 m + disques + rouleaux","Bêche roulante 5.3 m + disques + rouleaux","Bêche roulante 5.3 m + disques + rouleaux","Bêche roulante 5.3 m + disques + rouleaux","Bêche roulante 5.3 m + disques + rouleaux","Bêche roulante 5.3 m + disques + rouleaux","Bêche roulante 5.3 m + disques + rouleaux","Bêche roulante 5.3 m + disques + rouleaux","Bêche roulante 5.3 m + disques + rouleaux","Bêche roulante 5.3 m + disques + rouleaux","Bêche roulante 5.3 m + disques + rouleaux","Bêche roulante 5.3 m + disques + rouleaux","Bêche roulante 5.3 m + disques + rouleaux","Bêche roulante 5.3 m + disques + rouleaux","Bêche roulante 5.3 m + disques + rouleaux","Bêche roulante 5.3 m + disques + rouleaux","Bêche roulante 5.3 m + disques + rouleaux","Bêche roulante 5.3 m + disques + rouleaux","Bêche roulante 5.3 m + disques + rouleaux","Bêche roulante 5.3 m + disques + rouleaux","Bêche roulante 5.3 m + disques + rouleaux","Bêche roulante 5.3 m + disques + rouleaux","Bêche roulante 5.3 m + disques + rouleaux","Bêche roulante 5.3 m + disques + rouleaux","Bêche roulante 5.3 m + disques + rouleaux","Bêche roulante 5.3 m + disques + rouleaux","Bêche roulante 5.3 m + disques + rouleaux","Bêche roulante 5.3 m + disques + rouleaux","Bêche roulante 5.3 m + disques + rouleaux","Bêche roulante 5.3 m + disques + rouleaux","Bêche roulante 5.3 m + disques + rouleaux","Bêche roulante 5.3 m + disques + rouleaux","Bêche roulante 5.3 m + disques + rouleaux","Bêche roulante 5.3 m + disques + rouleaux","Bêche roulante 5.3 m + disques + rouleaux","Bêche roulante 5.3 m + disques + rouleaux","Bêche roulante 5.3 m + disques + rouleaux","Bêche roulante 5.3 m + disques + rouleaux","Bêche roulante 5.3 m + disques + rouleaux","Bêche roulante 5.3 m + disques + rouleaux","Bêche roulante 5.3 m + disques + rouleaux","Bêche roulante 5.3 m + disques + rouleaux","Bêche roulante 5.3 m + disques + rouleaux","Bêche roulante 5.3 m + disques + rouleaux","Bêche roulante 5.3 m + disques + rouleaux","Bêche roulante 5.3 m + disques + rouleaux","Bêche roulante 5.3 m + disques + rouleaux","Bêche roulante 5.3 m + disques + rouleaux","Bêche roulante 5.3 m + disques + rouleaux","Bêche roulante 5.3 m + disques + rouleaux","Bêche roulante 5.3 m + disques + rouleaux","Bêche roulante 5.3 m + disques + rouleaux","Bêche roulante 5.3 m + disques + rouleaux","Bêche roulante 5.3 m + disques + rouleaux","Bêche roulante 5.3 m + disques + rouleaux","Bêche roulante 5.3 m + disques + rouleaux","Bêche roulante 5.3 m + disques + rouleaux","Bêche roulante 5.3 m + disques + rouleaux","Bêche roulante 5.3 m + disques + rouleaux","Bêche roulante 5.3 m + disques + rouleaux","Bêche roulante 5.3 m + disques + rouleaux","Bêche roulante 5.3 m + disques + rouleaux","Bêche roulante 5.3 m + disques + rouleaux","Bêche roulante 5.3 m + disques + rouleaux","Bêche roulante 5.3 m + disques + rouleaux","Bêche roulante 5.3 m + disques + rouleaux","Bêche roulante 5.3 m + disques + rouleaux","Bêche roulante 5.3 m + disques + rouleaux","Bêche roulante 5.3 m + disques + rouleaux","Bêche roulante 5.3 m + disques + rouleaux","Bêche roulante 5.3 m + disques + rouleaux","Bêche roulante 5.3 m + disques + rouleaux","Bêche roulante 5.3 m + disques + rouleaux","Bêche roulante 5.3 m + disques + rouleaux","Bêche roulante 5.3 m + disques + rouleaux","Bêche roulante 5.3 m + disques + rouleaux","Bêche roulante 5.3 m + disques + rouleaux","Bêche roulante 5.3 m + disques + rouleaux","Bêche roulante 5.3 m + disques + rouleaux","Bêche roulante 5.3 m + disques + rouleaux","Bêche roulante 5.3 m + disques + rouleaux","Bêche roulante 5.3 m + disques + rouleaux","Bêche roulante 5.3 m + disques + rouleaux","Bêche roulante 5.3 m + disques + rouleaux","Bêche roulante 5.3 m + disques + rouleaux","Bêche roulante 5.3 m + disques + rouleaux","Bêche roulante 5.3 m + disques + rouleaux","Bêche roulante 5.3 m + disques + rouleaux","Bêche roulante 5.3 m + disques + rouleaux","Bêche roulante 5.3 m + disques + rouleaux","Bêche roulante 5.3 m + disques + rouleaux","Bêche roulante 5.3 m + disques + rouleaux","Bêche roulante 5.3 m + disques + rouleaux","Bêche roulante 5.3 m + disques + rouleaux","Bêche roulante 5.3 m + disques + rouleaux","Bêche roulante 5.3 m + disques + rouleaux","Bêche roulante 5.3 m + disques + rouleaux","Bêche roulante 5.3 m + disques + rouleaux","Bêche roulante 5.3 m + disques + rouleaux","Bêche roulante 5.3 m + disques + rouleaux","Bêche roulante 5.3 m + disques + rouleaux","Bêche roulante 5.3 m + disques + rouleaux","Bêche roulante 5.3 m + disques + rouleaux","Bêche roulante 5.3 m + disques + rouleaux","Bêche roulante 5.3 m + disques + rouleaux","Bêche roulante 5.3 m + disques + rouleaux","Bêche roulante 5.3 m + disques + rouleaux","Bêche roulante 5.3 m + disques + rouleaux","Bêche roulante 5.3 m + disques + rouleaux","Bêche roulante 5.3 m + disques + rouleaux","Bêche roulante 5.3 m + disques + rouleaux","Bêche roulante 5.3 m + disques + rouleaux","Bêche roulante 5.3 m + disques + rouleaux","Bêche roulante 5.3 m + disques + rouleaux","Bêche roulante 5.3 m + disques + rouleaux","Bêche roulante 5.3 m + disques + rouleaux","Bêche roulante 5.3 m + disques + rouleaux","Bêche roulante 5.3 m + disques + rouleaux","Bêche roulante 5.3 m + disques + rouleaux","Bêche roulante 5.3 m + disques + rouleaux","Bêche roulante 5.3 m + disques + rouleaux","Bêche roulante 5.3 m + disques + rouleaux","Bêche roulante 5.3 m + disques + rouleaux","Bêche roulante 5.3 m + disques + rouleaux","Bêche roulante 5.3 m + disques + rouleaux","Bêche roulante 5.3 m + disques + rouleaux","Bêche roulante 5.3 m + disques + rouleaux","Bêche roulante 5.3 m + disques + rouleaux","Bêche roulante 5.3 m + disques + rouleaux","Bêche roulante 5.3 m + disques + rouleaux","Bêche roulante 5.3 m + disques + rouleaux","Bêche roulante 5.3 m + disques + rouleaux","Bêche roulante 5.3 m + disques + rouleaux","Bêche roulante 5.3 m + disques + rouleaux","Bêche roulante 5.3 m + disques + rouleaux","Bêche roulante 5.3 m + disques + rouleaux","Bêche roulante 5.3 m + disques + rouleaux","Bêche roulante 5.3 m + disques + rouleaux","Bêche roulante 5.3 m + disques + rouleaux","Bêche roulante 5.3 m + disques + rouleaux","Bêche roulante 5.3 m + disques + rouleaux","Bêche roulante 5.3 m + disques + rouleaux","Bêche roulante 5.3 m + disques + rouleaux","Bêche roulante 5.3 m + disques + rouleaux","Bêche roulante 5.3 m + disques + rouleaux","Bêche roulante 5.3 m + disques + rouleaux","Bêche roulante 5.3 m + disques + rouleaux","Bêche roulante 5.3 m + disques + rouleaux","Bêche roulante 5.3 m + disques + rouleaux","Bêche roulante 5.3 m + disques + rouleaux","Bêche roulante 5.3 m + disques + rouleaux","Bêche roulante 5.3 m + disques + rouleaux","Bêche roulante 5.3 m + disques + rouleaux","Bêche roulante 5.3 m + disques + rouleaux","Bêche roulante 5.3 m + disques + rouleaux","Bêche roulante 5.3 m + disques + rouleaux","Bêche roulante 5.3 m + disques + rouleaux","Bêche roulante 5.3 m + disques + rouleaux","Bêche roulante 5.3 m + disques + rouleaux","Bêche roulante 5.3 m + disques + rouleaux","Bêche roulante 5.3 m + disques + rouleaux","Bêche roulante 5.3 m + disques + rouleaux","Bêche roulante 5.3 m + disques + rouleaux","Bêche roulante 5.3 m + disques + rouleaux","Bêche roulante 5.3 m + disques + rouleaux","Bêche roulante 5.3 m + disques + rouleaux","Bêche roulante 5.3 m + disques + rouleaux","Bêche roulante 5.3 m + disques + rouleaux","Bêche roulante 5.3 m + disques + rouleaux","Bêche roulante 5.3 m + disques + rouleaux","Bêche roulante 5.3 m + disques + rouleaux","Bêche roulante 5.3 m + disques + rouleaux","Bêche roulante 5.3 m + disques + rouleaux","Bêche roulante 5.3 m + disques + rouleaux","Bêche roulante 5.3 m + disques + rouleaux","Bêche roulante 5.3 m + disques + rouleaux","Bêche roulante 5.3 m + disques + rouleaux","Bêche roulante 5.3 m + disques + rouleaux","Bêche roulante 5.3 m + disques + rouleaux","Bêche roulante 5.3 m + disques + rouleaux","Bêche roulante 5.3 m + disques + rouleaux","Bêche roulante 5.3 m + disques + rouleaux","Bêche roulante 5.3 m + disques + rouleaux","Bêche roulante 5.3 m + disques + rouleaux","Bêche roulante 5.3 m + disques + rouleaux","Bêche roulante 5.3 m + disques + rouleaux","Bêche roulante 5.3 m + disques + rouleaux","Bêche roulante 5.3 m + disques + rouleaux","Bêche roulante 5.3 m + disques + rouleaux","Bêche roulante 5.3 m + disques + rouleaux","Bêche roulante 5.3 m + disques + rouleaux","Bêche roulante 5.3 m + disques + rouleaux","Bêche roulante 5.3 m + disques + rouleaux","Bêche roulante 5.3 m + disques + rouleaux","Bêche roulante 5.3 m + disques + rouleaux","Bêche roulante 5.3 m + disques + rouleaux","Bêche roulante 5.3 m + disques + rouleaux","Bêche roulante 5.3 m + disques + rouleaux","Bêche roulante 5.3 m + disques + rouleaux","Bêche roulante 5.3 m + disques + rouleaux","Bêche roulante 5.3 m + disques + rouleaux","Bêche roulante 5.3 m + disques + rouleaux","Bêche roulante 5.3 m + disques + rouleaux","Bêche roulante 5.3 m + disques + rouleaux","Bêche roulante 5.3 m + disques + rouleaux","Bêche roulante 5.3 m + disques + rouleaux","Bêche roulante 5.3 m + disques + rouleaux","Bêche roulante 5.3 m + disques + rouleaux","Bêche roulante 5.3 m + disques + rouleaux","Bêche roulante 5.3 m + disques + rouleaux","Bêche roulante 5.3 m + disques + rouleaux","Bêche roulante 5.3 m + disques + rouleaux","Bêche roulante 5.3 m + disques + rouleaux","Bêche roulante 5.3 m + disques + rouleaux","Bêche roulante 5.3 m + disques + rouleaux","Bêche roulante 5.3 m + disques + rouleaux","Bêche roulante 5.3 m + disques + rouleaux","Bêche roulante 5.3 m + disques + rouleaux","Bêche roulante 5.3 m + disques + rouleaux","Bêche roulante 5.3 m + disques + rouleaux","Bêche roulante 5.3 m + disques + rouleaux","Bêche roulante 5.3 m + disques + rouleaux","Bêche roulante 5.3 m + disques + rouleaux","Bêche roulante 5.3 m + disques + rouleaux","Bêche roulante 5.3 m + disques + rouleaux","Bêche roulante 5.3 m + disques + rouleaux","Bêche roulante 5.3 m + disques + rouleaux","Bêche roulante 5.3 m + disques + rouleaux","Bêche roulante 5.3 m + disques + rouleaux","Bêche roulante 5.3 m + disques + rouleaux","Bêche roulante 5.3 m + disques + rouleaux","Bêche roulante 5.3 m + disques + rouleaux","Bêche roulante 5.3 m + disques + rouleaux","Bêche roulante 5.3 m + disques + rouleaux","Bêche roulante 5.3 m + disques + rouleaux","Bêche roulante 5.3 m + disques + rouleaux","Bêche roulante 5.3 m + disques + rouleaux","Bêche roulante 5.3 m + disques + rouleaux","Bêche roulante 5.3 m + disques + rouleaux","Bêche roulante 5.3 m + disques + rouleaux","Bêche roulante 5.3 m + disques + rouleaux","Bêche roulante 5.3 m + disques + rouleaux","Bêche roulante 5.3 m + disques + rouleaux","Bêche roulante 5.3 m + disques + rouleaux","Bêche roulante 5.3 m + disques + rouleaux","Bêche roulante 5.3 m + disques + rouleaux","Bêche roulante 5.3 m + disques + rouleaux","Bêche roulante 5.3 m + disques + rouleaux","Bêche roulante 5.3 m + disques + rouleaux","Bêche roulante 5.3 m + disques + rouleaux","Bêche roulante 5.3 m + disques + rouleaux","Bêche roulante 5.3 m + disques + rouleaux","Bêche roulante 5.3 m + disques + rouleaux","Bêche roulante 5.3 m + disques + rouleaux","Bêche roulante 5.3 m + disques + rouleaux","Bêche roulante 5.3 m + disques + rouleaux","Bêche roulante 5.3 m + disques + rouleaux","Bêche roulante 5.3 m + disques + rouleaux","Bêche roulante 5.3 m + disques + rouleaux","Bêche roulante 5.3 m + disques + rouleaux","Bêche roulante 5.3 m + disques + rouleaux","Bêche roulante 5.3 m + disques + rouleaux","Bêche roulante 5.3 m + disques + rouleaux","Bêche roulante 5.3 m + disques + rouleaux","Bêche roulante 5.3 m + disques + rouleaux","Bêche roulante 5.3 m + disques + rouleaux","Bêche roulante 5.3 m + disques + rouleaux","Bêche roulante 5.3 m + disques + rouleaux","Bêche roulante 5.3 m + disques + rouleaux","Bêche roulante 5.3 m + disques + rouleaux","Bêche roulante 5.3 m + disques + rouleaux","Bêche roulante 5.3 m + disques + rouleaux","Bêche roulante 5.3 m + disques + rouleaux","Bêche roulante 5.3 m + disques + rouleaux","Bêche roulante 5.3 m + disques + rouleaux","Bêche roulante 5.3 m + disques + rouleaux","Bêche roulante 5.3 m + disques + rouleaux","Bêche roulante 5.3 m + disques + rouleaux","Bêche roulante 5.3 m + disques + rouleaux","Bêche roulante 5.3 m + disques + rouleaux","Bêche roulante 5.3 m + disques + rouleaux","Bêche roulante 5.3 m + disques + rouleaux","Bêche roulante 5.3 m + disques + rouleaux","Bêche roulante 5.3 m + disques + rouleaux","Bêche roulante 5.3 m + disques + rouleaux","Bêche roulante 5.3 m + disques + rouleaux","Bêche roulante 5.3 m + disques + rouleaux","Bêche roulante 5.3 m + disques + rouleaux","Bêche roulante 5.3 m + disques + rouleaux","Bêche roulante 5.3 m + disques + rouleaux","Bêche roulante 5.3 m + disques + rouleaux","Bêche roulante 5.3 m + disques + rouleaux","Bêche roulante 5.3 m + disques + rouleaux","Bêche roulante 5.3 m + disques + rouleaux","Bêche roulante 5.3 m + disques + rouleaux","Bêche roulante 5.3 m + disques + rouleaux","Bêche roulante 5.3 m + disques + rouleaux","Bêche roulante 5.3 m + disques + rouleaux","Bêche roulante 5.3 m + disques + rouleaux","Bêche roulante 5.3 m + disques + rouleaux","Bêche roulante 5.3 m + disques + rouleaux","Bêche roulante 5.3 m + disques + rouleaux","Bêche roulante 5.3 m + disques + rouleaux","Bêche roulante 5.3 m + disques + rouleaux","Bêche roulante 5.3 m + disques + rouleaux","Bêche roulante 5.3 m + disques + rouleaux","Bêche roulante 5.3 m + disques + rouleaux","Bêche roulante 5.3 m + disques + rouleaux","Bêche roulante 5.3 m + disques + rouleaux","Bêche roulante 5.3 m + disques + rouleaux","Bêche roulante 5.3 m + disques + rouleaux","Bêche roulante 5.3 m + disques + rouleaux","Bêche roulante 5.3 m + disques + rouleaux","Bêche roulante 5.3 m + disques + rouleaux","Bêche roulante 5.3 m + disques + rouleaux","Bêche roulante 5.3 m + disques + rouleaux","Bêche roulante 5.3 m + disques + rouleaux","Bêche roulante 5.3 m + disques + rouleaux","Bêche roulante 5.3 m + disques + rouleaux","Bêche roulante 5.3 m + disques + rouleaux","Bêche roulante 5.3 m + disques + rouleaux","Bêche roulante 5.3 m + disques + rouleaux","Bêche roulante 5.3 m + disques + rouleaux","Bêche roulante 5.3 m + disques + rouleaux","Bêche roulante 5.3 m + disques + rouleaux","Bêche roulante 5.3 m + disques + rouleaux","Bêche roulante 5.3 m + disques + rouleaux","Bêche roulante 5.3 m + disques + rouleaux","Bêche roulante 5.3 m + disques + rouleaux","Bêche roulante 5.3 m + disques + rouleaux","Bêche roulante 5.3 m + disques + rouleaux","Bêche roulante 5.3 m + disques + rouleaux","Bêche roulante 5.3 m + disques + rouleaux","Bêche roulante 5.3 m + disques + rouleaux","Bêche roulante 5.3 m + disques + rouleaux","Bêche roulante 5.3 m + disques + rouleaux","Bêche roulante 5.3 m + disques + rouleaux","Bêche roulante 5.3 m + disques + rouleaux","Bêche roulante 5.3 m + disques + rouleaux","Bêche roulante 5.3 m + disques + rouleaux","Bêche roulante 5.3 m + disques + rouleaux","Bêche roulante 5.3 m + disques + rouleaux","Bêche roulante 5.3 m + disques + rouleaux","Bêche roulante 5.3 m + disques + rouleaux","Bêche roulante 5.3 m + disques + rouleaux","Bêche roulante 5.3 m + disques + rouleaux","Bêche roulante 5.3 m + disques + rouleaux","Bêche roulante 5.3 m + disques + rouleaux","Bêche roulante 5.3 m + disques + rouleaux","Bêche roulante 5.3 m + disques + rouleaux","Bêche roulante 5.3 m + disques + rouleaux","Bêche roulante 5.3 m + disques + rouleaux","Bêche roulante 5.3 m + disques + rouleaux","Bêche roulante 5.3 m + disques + rouleaux","Bêche roulante 5.3 m + disques + rouleaux","Bêche roulante 5.3 m + disques + rouleaux","Bêche roulante 5.3 m + disques + rouleaux","Bêche roulante 5.3 m + disques + rouleaux","Bêche roulante 5.3 m + disques + rouleaux","Bêche roulante 5.3 m + disques + rouleaux","Bêche roulante 5.3 m + disques + rouleaux","Bêche roulante 5.3 m + disques + rouleaux","Bêche roulante 5.3 m + disques + rouleaux","Bêche roulante 5.3 m + disques + rouleaux","Bêche roulante 5.3 m + disques + rouleaux","Bêche roulante 5.3 m + disques + rouleaux","Bêche roulante 5.3 m + disques + rouleaux","Bêche roulante 5.3 m + disques + rouleaux","Bêche roulante 5.3 m + disques + rouleaux","Bêche roulante 5.3 m + disques + rouleaux","Bêche roulante 5.3 m + disques + rouleaux","Bêche roulante 5.3 m + disques + rouleaux","Bêche roulante 5.3 m + disques + rouleaux","Bêche roulante 5.3 m + disques + rouleaux","Bêche roulante 5.3 m + disques + rouleaux","Bêche roulante 5.3 m + disques + rouleaux","Bêche roulante 5.3 m + disques + rouleaux","Bêche roulante 5.3 m + disques + rouleaux","Bêche roulante 5.3 m + disques + rouleaux","Bêche roulante 5.3 m + disques + rouleaux","Bêche roulante 5.3 m + disques + rouleaux","Bêche roulante 5.3 m + disques + rouleaux","Bêche roulante 5.3 m + disques + rouleaux","Bêche roulante 5.3 m + disques + rouleaux","Bêche roulante 5.3 m + disques + rouleaux","Bêche roulante 5.3 m + disques + rouleaux","Bêche roulante 5.3 m + disques + rouleaux","Bêche roulante 5.3 m + disques + rouleaux","Bêche roulante 5.3 m + disques + rouleaux","Bêche roulante 5.3 m + disques + rouleaux","Bêche roulante 5.3 m + disques + rouleaux","Bêche roulante 5.3 m + disques + rouleaux","Bêche roulante 5.3 m + disques + rouleaux","Bêche roulante 5.3 m + disques + rouleaux","Bêche roulante 5.3 m + disques + rouleaux","Bêche roulante 5.3 m + disques + rouleaux","Bêche roulante 5.3 m + disques + rouleaux","Bêche roulante 5.3 m + disques + rouleaux","Bêche roulante 5.3 m + disques + rouleaux","Bêche roulante 5.3 m + disques + rouleaux","Bêche roulante 5.3 m + disques + rouleaux","Bêche roulante 5.3 m + disques + rouleaux","Bêche roulante 5.3 m + disques + rouleaux","Bêche roulante 5.3 m + disques + rouleaux","Bêche roulante 5.3 m + disques + rouleaux","Bêche roulante 5.3 m + disques + rouleaux","Bêche roulante 5.3 m + disques + rouleaux","Bêche roulante 5.3 m + disques + rouleaux","Bêche roulante 5.3 m + disques + rouleaux","Bêche roulante 5.3 m + disques + rouleaux","Bêche roulante 5.3 m + disques + rouleaux","Bêche roulante 5.3 m + disques + rouleaux","Bêche roulante 5.3 m + disques + rouleaux","Bêche roulante 5.3 m + disques + rouleaux","Bêche roulante 5.3 m + disques + rouleaux","Bêche roulante 5.3 m + disques + rouleaux","Bêche roulante 5.3 m + disques + rouleaux","Bêche roulante 5.3 m + disques + rouleaux","Bêche roulante 5.3 m + disques + rouleaux","Bêche roulante 5.3 m + disques + rouleaux","Bêche roulante 5.3 m + disques + rouleaux","Bêche roulante 5.3 m + disques + rouleaux","Bêche roulante 5.3 m + disques + rouleaux","Bêche roulante 5.3 m + disques + rouleaux","Bêche roulante 5.3 m + disques + rouleaux","Bêche roulante 5.3 m + disques + rouleaux","Bêche roulante 5.3 m + disques + rouleaux","Bêche roulante 5.3 m + disques + rouleaux","Bêche roulante 5.3 m + disques + rouleaux","Bêche roulante 5.3 m + disques + rouleaux","Bêche roulante 5.3 m + disques + rouleaux","Bêche roulante 5.3 m + disques + rouleaux","Bêche roulante 5.3 m + disques + rouleaux","Bêche roulante 5.3 m + disques + rouleaux","Bêche roulante 5.3 m + disques + rouleaux","Bêche roulante 5.3 m + disques + rouleaux","Bêche roulante 5.3 m + disques + rouleaux","Bêche roulante 5.3 m + disques + rouleaux","Bêche roulante 5.3 m + disques + rouleaux","Bêche roulante 5.3 m + disques + rouleaux","Bêche roulante 5.3 m + disques + rouleaux","Bêche roulante 5.3 m + disques + rouleaux","Bêche roulante 5.3 m + disques + rouleaux","Bêche roulante 5.3 m + disques + rouleaux","Bêche roulante 5.3 m + disques + rouleaux","Bêche roulante 5.3 m + disques + rouleaux","Bêche roulante 5.3 m + disques + rouleaux","Bêche roulante 5.3 m + disques + rouleaux","Bêche roulante 5.3 m + disques + rouleaux","Bêche roulante 5.3 m + disques + rouleaux","Bêche roulante 5.3 m + disques + rouleaux","Bêche roulante 5.3 m + disques + rouleaux","Bêche roulante 5.3 m + disques + rouleaux","Bêche roulante 5.3 m + disques + rouleaux","Bêche roulante 5.3 m + disques + rouleaux","Bêche roulante 5.3 m + disques + rouleaux","Bêche roulante 5.3 m + disques + rouleaux","Bêche roulante 5.3 m + disques + rouleaux","Bêche roulante 5.3 m + disques + rouleaux","Bêche roulante 5.3 m + disques + rouleaux","Bêche roulante 5.3 m + disques + rouleaux","Bêche roulante 5.3 m + disques + rouleaux","Bêche roulante 5.3 m + disques + rouleaux","Bêche roulante 5.3 m + disques + rouleaux","Bêche roulante 5.3 m + disques + rouleaux","Bêche roulante 5.3 m + disques + rouleaux","Bêche roulante 5.3 m + disques + rouleaux","Bêche roulante 5.3 m + disques + rouleaux","Bêche roulante 5.3 m + disques + rouleaux","Bêche roulante 5.3 m + disques + rouleaux","Bêche roulante 5.3 m + disques + rouleaux","Bêche roulante 5.3 m + disques + rouleaux","Bêche roulante 5.3 m + disques + rouleaux","Bêche roulante 5.3 m + disques + rouleaux","Bêche roulante 5.3 m + disques + rouleaux","Bêche roulante 5.3 m + disques + rouleaux","Bêche roulante 5.3 m + disques + rouleaux","Bêche roulante 5.3 m + disques + rouleaux","Bêche roulante 5.3 m + disques + rouleaux","Bêche roulante 5.3 m + disques + rouleaux","Bêche roulante 5.3 m + disques + rouleaux","Bêche roulante 5.3 m + disques + rouleaux","Bêche roulante 5.3 m + disques + rouleaux","Bêche roulante 5.3 m + disques + rouleaux","Bêche roulante 5.3 m + disques + rouleaux","Bêche roulante 5.3 m + disques + rouleaux","Bêche roulante 5.3 m + disques + rouleaux","Bêche roulante 5.3 m + disques + rouleaux","Bêche roulante 5.3 m + disques + rouleaux","Bêche roulante 5.3 m + disques + rouleaux","Bêche roulante 5.3 m + disques + rouleaux","Bêche roulante 5.3 m + disques + rouleaux","Bêche roulante 5.3 m + disques + rouleaux","Bêche roulante 5.3 m + disques + rouleaux","Bêche roulante 5.3 m + disques + rouleaux","Bêche roulante 5.3 m + disques + rouleaux","Bêche roulante 5.3 m + disques + rouleaux","Bêche roulante 5.3 m + disques + rouleaux","Bêche roulante 5.3 m + disques + rouleaux","Bêche roulante 5.3 m + disques + rouleaux","Bêche roulante 5.3 m + disques + rouleaux","Bêche roulante 5.3 m + disques + rouleaux","Bêche roulante 5.3 m + disques + rouleaux","Bêche roulante 5.3 m + disques + rouleaux","Bêche roulante 5.3 m + disques + rouleaux","Bêche roulante 5.3 m + disques + rouleaux","Bêche roulante 5.3 m + disques + rouleaux","Bêche roulante 5.3 m + disques + rouleaux","Bêche roulante 5.3 m + disques + rouleaux","Bêche roulante 5.3 m + disques + rouleaux","Bêche roulante 5.3 m + disques + rouleaux","Bêche roulante 5.3 m + disques + rouleaux","Bêche roulante 5.3 m + disques + rouleaux","Bêche roulante 5.3 m + disques + rouleaux","Bêche roulante 5.3 m + disques + rouleaux","Bêche roulante 5.3 m + disques + rouleaux","Bêche roulante 5.3 m + disques + rouleaux","Bêche roulante 5.3 m + disques + rouleaux","Bêche roulante 5.3 m + disques + rouleaux","Bêche roulante 5.3 m + disques + rouleaux","Bêche roulante 5.3 m + disques + rouleaux","Bêche roulante 5.3 m + disques + rouleaux","Bêche roulante 5.3 m + disques + rouleaux","Bêche roulante 5.3 m + disques + rouleaux","Bêche roulante 5.3 m + disques + rouleaux","Bêche roulante 5.3 m + disques + rouleaux","Bêche roulante 5.3 m + disques + rouleaux","Bêche roulante 5.3 m + disques + rouleaux","Bêche roulante 5.3 m + disques + rouleaux","Bêche roulante 5.3 m + disques + rouleaux","Bêche roulante 5.3 m + disques + rouleaux","Bêche roulante 5.3 m + disques + rouleaux","Bêche roulante 5.3 m + disques + rouleaux","Bêche roulante 5.3 m + disques + rouleaux","Bêche roulante 5.3 m + disques + rouleaux","Bêche roulante 5.3 m + disques + rouleaux","Bêche roulante 5.3 m + disques + rouleaux","Bêche roulante 5.3 m + disques + rouleaux","Bêche roulante 5.3 m + disques + rouleaux","Bêche roulante 5.3 m + disques + rouleaux","Bêche roulante 5.3 m + disques + rouleaux","Bêche roulante 5.3 m + disques + rouleaux","Bêche roulante 5.3 m + disques + rouleaux","Bêche roulante 5.3 m + disques + rouleaux","Bêche roulante 5.3 m + disques + rouleaux","Bêche roulante 5.3 m + disques + rouleaux","Bêche roulante 5.3 m + disques + rouleaux","Bêche roulante 5.3 m + disques + rouleaux","Bêche roulante 5.3 m + disques + rouleaux","Bêche roulante 5.3 m + disques + rouleaux","Bêche roulante 5.3 m + disques + rouleaux","Bêche roulante 5.3 m + disques + rouleaux","Bêche roulante 5.3 m + disques + rouleaux","Bêche roulante 5.3 m + disques + rouleaux","Bêche roulante 5.3 m + disques + rouleaux","Bêche roulante 5.3 m + disques + rouleaux","Bêche roulante 5.3 m + disques + rouleaux","Bêche roulante 5.3 m + disques + rouleaux","Bêche roulante 5.3 m + disques + rouleaux","Bêche roulante 5.3 m + disques + rouleaux","Bêche roulante 5.3 m + disques + rouleaux","Bêche roulante 5.3 m + disques + rouleaux","Bêche roulante 5.3 m + disques + rouleaux","Bêche roulante 5.3 m + disques + rouleaux","Bêche roulante 5.3 m + disques + rouleaux","Bêche roulante 5.3 m + disques + rouleaux","Bêche roulante 5.3 m + disques + rouleaux","Bêche roulante 5.3 m + disques + rouleaux","Bêche roulante 5.3 m + disques + rouleaux","Bêche roulante 5.3 m + disques + rouleaux","Bêche roulante 5.3 m + disques + rouleaux","Bêche roulante 5.3 m + disques + rouleaux","Bêche roulante 5.3 m + disques + rouleaux","Bêche roulante 5.3 m + disques + rouleaux","Bêche roulante 5.3 m + disques + rouleaux","Bêche roulante 5.3 m + disques + rouleaux","Bêche roulante 5.3 m + disques + rouleaux","Bêche roulante 5.3 m + disques + rouleaux","Bêche roulante 5.3 m + disques + rouleaux","Bêche roulante 5.3 m + disques + rouleaux","Bêche roulante 5.3 m + disques + rouleaux","Bêche roulante 5.3 m + disques + rouleaux","Bêche roulante 5.3 m + disques + rouleaux","Bêche roulante 5.3 m + disques + rouleaux","Bêche roulante 5.3 m + disques + rouleaux","Bêche roulante 5.3 m + disques + rouleaux","Bêche roulante 5.3 m + disques + rouleaux","Bêche roulante 5.3 m + disques + rouleaux","Bêche roulante 5.3 m + disques + rouleaux","Bêche roulante 5.3 m + disques + rouleaux","Bêche roulante 5.3 m + disques + rouleaux","Bêche roulante 5.3 m + disques + rouleaux","Bêche roulante 5.3 m + disques + rouleaux","Bêche roulante 5.3 m + disques + rouleaux","Bêche roulante 5.3 m + disques + rouleaux","Bêche roulante 5.3 m + disques + rouleaux","Bêche roulante 5.3 m + disques + rouleaux","Bêche roulante 5.3 m + disques + rouleaux","Bêche roulante 5.3 m + disques + rouleaux","Bêche roulante 5.3 m + disques + rouleaux","Bêche roulante 5.3 m + disques + rouleaux","Bêche roulante 5.3 m + disques + rouleaux","Bêche roulante 5.3 m + disques + rouleaux","Bêche roulante 5.3 m + disques + rouleaux","Bêche roulante 5.3 m + disques + rouleaux","Bêche roulante 5.3 m + disques + rouleaux","Bêche roulante 5.3 m + disques + rouleaux","Bêche roulante 5.3 m + disques + rouleaux","Bêche roulante 5.3 m + disques + rouleaux","Bêche roulante 5.3 m + disques + rouleaux","Bêche roulante 5.3 m + disques + rouleaux","Bêche roulante 5.3 m + disques + rouleaux","Bêche roulante 5.3 m + disques + rouleaux","Bêche roulante 5.3 m + disques + rouleaux","Bêche roulante 5.3 m + disques + rouleaux","Bêche roulante 5.3 m + disques + rouleaux","Bêche roulante 5.3 m + disques + rouleaux","Bêche roulante 5.3 m + disques + rouleaux","Bêche roulante 5.3 m + disques + rouleaux","Bêche roulante 5.3 m + disques + rouleaux","Bêche roulante 5.3 m + disques + rouleaux","Bêche roulante 5.3 m + disques + rouleaux","Bêche roulante 5.3 m + disques + rouleaux","Bêche roulante 5.3 m + disques + rouleaux","Bêche roulante 5.3 m + disques + rouleaux","Bêche roulante 5.3 m + disques + rouleaux","Bêche roulante 5.3 m + disques + rouleaux","Bêche roulante 5.3 m + disques + rouleaux","Bêche roulante 5.3 m + disques + rouleaux","Bêche roulante 5.3 m + disques + rouleaux","Bêche roulante 5.3 m + disques + rouleaux","Bêche roulante 5.3 m + disques + rouleaux","Bêche roulante 5.3 m + disques + rouleaux","Bêche roulante 5.3 m + disques + rouleaux","Bêche roulante 5.3 m + disques + rouleaux","Bêche roulante 5.3 m + disques + rouleaux","Bêche roulante 5.3 m + disques + rouleaux","Bêche roulante 5.3 m + disques + rouleaux","Bêche roulante 5.3 m + disques + rouleaux","Bêche roulante 5.3 m + disques + rouleaux","Bêche roulante 5.3 m + disques + rouleaux","Bêche roulante 5.3 m + disques + rouleaux","Bêche roulante 5.3 m + disques + rouleaux","Bêche roulante 5.3 m + disques + rouleaux","Bêche roulante 5.3 m + disques + rouleaux","Bêche roulante 5.3 m + disques + rouleaux","Bêche roulante 5.3 m + disques + rouleaux","Bêche roulante 5.3 m + disques + rouleaux","Bêche roulante 5.3 m + disques + rouleaux","Bêche roulante 5.3 m + disques + rouleaux","Bêche roulante 5.3 m + disques + rouleaux","Bêche roulante 5.3 m + disques + rouleaux","Bêche roulante 5.3 m + disques + rouleaux","Bêche roulante 5.3 m + disques + rouleaux","Bêche roulante 5.3 m + disques + rouleaux","Bêche roulante 5.3 m + disques + rouleaux","Bêche roulante 5.3 m + disques + rouleaux","Bêche roulante 5.3 m + disques + rouleaux","Bêche roulante 5.3 m + disques + rouleaux","Bêche roulante 5.3 m + disques + rouleaux","Bêche roulante 5.3 m + disques + rouleaux","Bêche roulante 5.3 m + disques + rouleaux","Bêche roulante 5.3 m + disques + rouleaux","Bêche roulante 5.3 m + disques + rouleaux","Bêche roulante 5.3 m + disques + rouleaux","Bêche roulante 5.3 m + disques + rouleaux","Bêche roulante 5.3 m + disques + rouleaux","Bêche roulante 5.3 m + disques + rouleaux","Bêche roulante 5.3 m + disques + rouleaux","Bêche roulante 5.3 m + disques + rouleaux","Bêche roulante 5.3 m + disques + rouleaux","Bêche roulante 5.3 m + disques + rouleaux","Bêche roulante 5.3 m + disques + rouleaux","Bêche roulante 5.3 m + disques + rouleaux","Bêche roulante 5.3 m + disques + rouleaux","Bêche roulante 5.3 m + disques + rouleaux","Bêche roulante 5.3 m + disques + rouleaux","Bêche roulante 5.3 m + disques + rouleaux","Bêche roulante 5.3 m + disques + rouleaux","Bêche roulante 5.3 m + disques + rouleaux","Bêche roulante 5.3 m + disques + rouleaux","Bêche roulante 5.3 m + disques + rouleaux","Bêche roulante 5.3 m + disques + rouleaux","Bêche roulante 5.3 m + disques + rouleaux","Bêche roulante 5.3 m + disques + rouleaux","Bêche roulante 5.3 m + disques + rouleaux","Bêche roulante 5.3 m + disques + rouleaux","Bêche roulante 5.3 m + disques + rouleaux","Bêche roulante 5.3 m + disques + rouleaux","Bêche roulante 5.3 m + disques + rouleaux","Bêche roulante 5.3 m + disques + rouleaux","Bêche roulante 5.3 m + disques + rouleaux","Bêche roulante 5.3 m + disques + rouleaux","Bêche roulante 5.3 m + disques + rouleaux","Bêche roulante 5.3 m + disques + rouleaux","Bêche roulante 5.3 m + disques + rouleaux","Bêche roulante 5.3 m + disques + rouleaux","Bêche roulante 5.3 m + disques + rouleaux","Bêche roulante 5.3 m + disques + rouleaux","Bêche roulante 5.3 m + disques + rouleaux","Bêche roulante 5.3 m + disques + rouleaux","Bêche roulante 5.3 m + disques + rouleaux","Bêche roulante 5.3 m + disques + rouleaux","Bêche roulante 5.3 m + disques + rouleaux","Bêche roulante 5.3 m + disques + rouleaux","Bêche roulante 5.3 m + disques + rouleaux","Bêche roulante 5.3 m + disques + rouleaux","Bêche roulante 5.3 m + disques + rouleaux","Bêche roulante 5.3 m + disques + rouleaux","Bêche roulante 5.3 m + disques + rouleaux","Bêche roulante 5.3 m + disques + rouleaux","Bêche roulante 5.3 m + disques + rouleaux","Bêche roulante 5.3 m + disques + rouleaux","Bêche roulante 5.3 m + disques + rouleaux","Bêche roulante 5.3 m + disques + rouleaux","Bêche roulante 5.3 m + disques + rouleaux","Bêche roulante 5.3 m + disques + rouleaux","Bêche roulante 5.3 m + disques + rouleaux","Bêche roulante 5.3 m + disques + rouleaux","Bêche roulante 5.3 m + disques + rouleaux","Bêche roulante 5.3 m + disques + rouleaux","Bêche roulante 5.3 m + disques + rouleaux","Bêche roulante 5.3 m + disques + rouleaux","Bêche roulante 5.3 m + disques + rouleaux","Bêche roulante 5.3 m + disques + rouleaux","Bêche roulante 5.3 m + disques + rouleaux","Bêche roulante 5.3 m + disques + rouleaux","Bêche roulante 5.3 m + disques + rouleaux","Bêche roulante 5.3 m + disques + rouleaux","Bêche roulante 5.3 m + disques + rouleaux","Bêche roulante 5.3 m + disques + rouleaux","Bêche roulante 5.3 m + disques + rouleaux","Bêche roulante 5.3 m + disques + rouleaux","Bêche roulante 5.3 m + disques + rouleaux","Bêche roulante 5.3 m + disques + rouleaux","Bêche roulante 5.3 m + disques + rouleaux","Bêche roulante 5.3 m + disques + rouleaux","Bêche roulante 5.3 m + disques + rouleaux","Bêche roulante 5.3 m + disques + rouleaux","Bêche roulante 5.3 m + disques + rouleaux","Bêche roulante 5.3 m + disques + rouleaux","Bêche roulante 5.3 m + disques + rouleaux","Bêche roulante 5.3 m + disques + rouleaux","Bêche roulante 5.3 m + disques + rouleaux","Bêche roulante 5.3 m + disques + rouleaux","Bêche roulante 5.3 m + disques + rouleaux","Bêche roulante 5.3 m + disques + rouleaux","Bêche roulante 5.3 m + disques + rouleaux","Bêche roulante 5.3 m + disques + rouleaux","Bêche roulante 5.3 m + disques + rouleaux","Bêche roulante 5.3 m + disques + rouleaux","Bêche roulante 5.3 m + disques + rouleaux","Bêche roulante 5.3 m + disques + rouleaux","Bêche roulante 5.3 m + disques + rouleaux","Bêche roulante 5.3 m + disques + rouleaux","Bêche roulante 5.3 m + disques + rouleaux","Bêche roulante 5.3 m + disques + rouleaux","Bêche roulante 5.3 m + disques + rouleaux","Bêche roulante 5.3 m + disques + rouleaux","Bêche roulante 5.3 m + disques + rouleaux","Bêche roulante 5.3 m + disques + rouleaux","Bêche roulante 5.3 m + disques + rouleaux","Bêche roulante 5.3 m + disques + rouleaux","Bêche roulante 5.3 m + disques + rouleaux","Bêche roulante 5.3 m + disques + rouleaux","Bêche roulante 5.3 m + disques + rouleaux","Bêche roulante 5.3 m + disques + rouleaux","Bêche roulante 5.3 m + disques + rouleaux","Bêche roulante 5.3 m + disques + rouleaux","Bêche roulante 5.3 m + disques + rouleaux","Bêche roulante 5.3 m + disques + rouleaux","Bêche roulante 5.3 m + disques + rouleaux","Bêche roulante 5.3 m + disques + rouleaux","Bêche roulante 5.3 m + disques + rouleaux","Bêche roulante 5.3 m + disques + rouleaux","Bêche roulante 5.3 m + disques + rouleaux","Bêche roulante 5.3 m + disques + rouleaux","Bêche roulante 5.3 m + disques + rouleaux","Bêche roulante 5.3 m + disques + rouleaux","Bêche roulante 5.3 m + disques + rouleaux","Bêche roulante 5.3 m + disques + rouleaux","Bêche roulante 5.3 m + disques + rouleaux","Bêche roulante 5.3 m + disques + rouleaux","Bêche roulante 5.3 m + disques + rouleaux","Bêche roulante 5.3 m + disques + rouleaux","Bêche roulante 5.3 m + disques + rouleaux","Bêche roulante 5.3 m + disques + rouleaux","Bêche roulante 5.3 m + disques + rouleaux","Bêche roulante 5.3 m + disques + rouleaux","Bêche roulante 5.3 m + disques + rouleaux","Bêche roulante 5.3 m + disques + rouleaux","Bêche roulante 5.3 m + disques + rouleaux","Bêche roulante 5.3 m + disques + rouleaux","Bêche roulante 5.3 m + disques + rouleaux","Bêche roulante 5.3 m + disques + rouleaux","Bêche roulante 5.3 m + disques + rouleaux","Bêche roulante 5.3 m + disques + rouleaux","Bêche roulante 5.3 m + disques + rouleaux","Bêche roulante 5.3 m + disques + rouleaux","Bêche roulante 5.3 m + disques + rouleaux","Bêche roulante 5.3 m + disques + rouleaux","Bêche roulante 5.3 m + disques + rouleaux","Bêche roulante 5.3 m + disques + rouleaux","Bêche roulante 5.3 m + disques + rouleaux","Bêche roulante 5.3 m + disques + rouleaux","Bêche roulante 5.3 m + disques + rouleaux","Bêche roulante 5.3 m + disques + rouleaux","Bêche roulante 5.3 m + disques + rouleaux","Bêche roulante 5.3 m + disques + rouleaux","Bêche roulante 5.3 m + disques + rouleaux","Bêche roulante 5.3 m + disques + rouleaux","Bêche roulante 5.3 m + disques + rouleaux","Bêche roulante 5.3 m + disques + rouleaux","Bêche roulante 5.3 m + disques + rouleaux","Bêche roulante 5.3 m + disques + rouleaux","Bêche roulante 5.3 m + disques + rouleaux","Bêche roulante 5.3 m + disques + rouleaux","Bêche roulante 5.3 m + disques + rouleaux","Bêche roulante 5.3 m + disques + rouleaux","Bêche roulante 5.3 m + disques + rouleaux","Bêche roulante 5.3 m + disques + rouleaux","Bêche roulante 5.3 m + disques + rouleaux","Bêche roulante 5.3 m + disques + rouleaux","Bêche roulante 5.3 m + disques + rouleaux","Bêche roulante 5.3 m + disques + rouleaux","Bêche roulante 5.3 m + disques + rouleaux","Bêche roulante 5.3 m + disques + rouleaux","Bêche roulante 5.3 m + disques + rouleaux","Bêche roulante 5.3 m + disques + rouleaux","Bêche roulante 5.3 m + disques + rouleaux","Bêche roulante 5.3 m + disques + rouleaux","Bêche roulante 5.3 m + disques + rouleaux","Bêche roulante 5.3 m + disques + rouleaux","Bêche roulante 5.3 m + disques + rouleaux","Bêche roulante 5.3 m + disques + rouleaux","Bêche roulante 5.3 m + disques + rouleaux","Bêche roulante 5.3 m + disques + rouleaux","Bêche roulante 5.3 m + disques + rouleaux","Bêche roulante 5.3 m + disques + rouleaux","Bêche roulante 5.3 m + disques + rouleaux","Bêche roulante 5.3 m + disques + rouleaux","Bêche roulante 5.3 m + disques + rouleaux","Bêche roulante 5.3 m + disques + rouleaux","Bêche roulante 5.3 m + disques + rouleaux","Bêche roulante 5.3 m + disques + rouleaux","Bêche roulante 5.3 m + disques + rouleaux","Bêche roulante 5.3 m + disques + rouleaux","Bêche roulante 5.3 m + disques + rouleaux","Bêche roulante 5.3 m + disques + rouleaux","Bêche roulante 5.3 m + disques + rouleaux","Bêche roulante 5.3 m + disques + rouleaux","Bêche roulante 5.3 m + disques + rouleaux","Bêche roulante 5.3 m + disques + rouleaux","Bêche roulante 5.3 m + disques + rouleaux","Bêche roulante 5.3 m + disques + rouleaux","Bêche roulante 5.3 m + disques + rouleaux","Bêche roulante 5.3 m + disques + rouleaux","Bêche roulante 5.3 m + disques + rouleaux","Bêche roulante 5.3 m + disques + rouleaux","Bêche roulante 5.3 m + disques + rouleaux","Bêche roulante 5.3 m + disques + rouleaux","Bêche roulante 5.3 m + disques + rouleaux","Bêche roulante 5.3 m + disques + rouleaux","Bêche roulante 5.3 m + disques + rouleaux","Bêche roulante 5.3 m + disques + rouleaux","Bêche roulante 5.3 m + disques + rouleaux","Bêche roulante 5.3 m + disques + rouleaux","Bêche roulante 5.3 m + disques + rouleaux","Bêche roulante 5.3 m + disques + rouleaux","Bêche roulante 5.3 m + disques + rouleaux","Bêche roulante 5.3 m + disques + rouleaux","Bêche roulante 5.3 m + disques + rouleaux","Bêche roulante 5.3 m + disques + rouleaux","Bêche roulante 5.3 m + disques + rouleaux","Bêche roulante 5.3 m + disques + rouleaux","Bêche roulante 5.3 m + disques + rouleaux","Bêche roulante 5.3 m + disques + rouleaux","Bêche roulante 5.3 m + disques + rouleaux","Bêche roulante 5.3 m + disques + rouleaux","Bêche roulante 5.3 m + disques + rouleaux","Bêche roulante 5.3 m + disques + rouleaux","Bêche roulante 5.3 m + disques + rouleaux","Bêche roulante 5.3 m + disques + rouleaux","Bêche roulante 5.3 m + disques + rouleaux","Bêche roulante 5.3 m + disques + rouleaux","Bêche roulante 5.3 m + disques + rouleaux","Bêche roulante 5.3 m + disques + rouleaux","Bêche roulante 5.3 m + disques + rouleaux","Bêche roulante 5.3 m + disques + rouleaux","Bêche roulante 5.3 m + disques + rouleaux","Bêche roulante 5.3 m + disques + rouleaux","Bêche roulante 5.3 m + disques + rouleaux","Bêche roulante 5.3 m + disques + rouleaux","Bêche roulante 5.3 m + disques + rouleaux","Bêche roulante 5.3 m + disques + rouleaux","Bêche roulante 5.3 m + disques + rouleaux","Bêche roulante 5.3 m + disques + rouleaux","Bêche roulante 5.3 m + disques + rouleaux","Bêche roulante 5.3 m + disques + rouleaux","Bêche roulante 5.3 m + disques + rouleaux","Bêche roulante 5.3 m + disques + rouleaux","Bêche roulante 5.3 m + disques + rouleaux","Bêche roulante 5.3 m + disques + rouleaux","Bêche roulante 5.3 m + disques + rouleaux","Bêche roulante 5.3 m + disques + rouleaux","Bêche roulante 5.3 m + disques + rouleaux","Bêche roulante 5.3 m + disques + rouleaux","Bêche roulante 5.3 m + disques + rouleaux","Bêche roulante 5.3 m + disques + rouleaux","Bêche roulante 5.3 m + disques + rouleaux","Bêche roulante 5.3 m + disques + rouleaux","Bêche roulante 5.3 m + disques + rouleaux","Bêche roulante 5.3 m + disques + rouleaux","Bêche roulante 5.3 m + disques + rouleaux","Bêche roulante 5.3 m + disques + rouleaux","Bêche roulante 5.3 m + disques + rouleaux","Bêche roulante 5.3 m + disques + rouleaux","Bêche roulante 5.3 m + disques + rouleaux","Bêche roulante 5.3 m + disques + rouleaux","Bêche roulante 5.3 m + disques + rouleaux","Bêche roulante 5.3 m + disques + rouleaux","Bêche roulante 5.3 m + disques + rouleaux","Bêche roulante 5.3 m + disques + rouleaux","Bêche roulante 5.3 m + disques + rouleaux","Bêche roulante 5.3 m + disques + rouleaux","Bêche roulante 5.3 m + disques + rouleaux","Bêche roulante 5.3 m + disques + rouleaux","Bêche roulante 5.3 m + disques + rouleaux","Bêche roulante 5.3 m + disques + rouleaux","Bêche roulante 5.3 m + disques + rouleaux","Bêche roulante 5.3 m + disques + rouleaux","Bêche roulante 5.3 m + disques + rouleaux","Bêche roulante 5.3 m + disques + rouleaux","Bêche roulante 5.3 m + disques + rouleaux","Bêche roulante 5.3 m + disques + rouleaux","Bêche roulante 5.3 m + disques + rouleaux","Bêche roulante 5.3 m + disques + rouleaux","Bêche roulante 5.3 m + disques + rouleaux","Bêche roulante 5.3 m + disques + rouleaux","Bêche roulante 5.3 m + disques + rouleaux","Bêche roulante 5.3 m + disques + rouleaux","Bêche roulante 5.3 m + disques + rouleaux","Bêche roulante 5.3 m + disques + rouleaux","Bêche roulante 5.3 m + disques + rouleaux","Bêche roulante 5.3 m + disques + rouleaux","Bêche roulante 5.3 m + disques + rouleaux","Bêche roulante 5.3 m + disques + rouleaux","Bêche roulante 5.3 m + disques + rouleaux","Bêche roulante 5.3 m + disques + rouleaux","Bêche roulante 5.3 m + disques + rouleaux","Bêche roulante 5.3 m + disques + rouleaux","Bêche roulante 5.3 m + disques + rouleaux","Bêche roulante 5.3 m + disques + rouleaux","Bêche roulante 5.3 m + disques + rouleaux","Bêche roulante 5.3 m + disques + rouleaux","Bêche roulante 5.3 m + disques + rouleaux","Bêche roulante 5.3 m + disques + rouleaux","Bêche roulante 5.3 m + disques + rouleaux","Bêche roulante 5.3 m + disques + rouleaux","Bêche roulante 5.3 m + disques + rouleaux","Bêche roulante 5.3 m + disques + rouleaux","Bêche roulante 5.3 m + disques + rouleaux","Bêche roulante 5.3 m + disques + rouleaux","Bêche roulante 5.3 m + disques + rouleaux","Bêche roulante 5.3 m + disques + rouleaux","Bêche roulante 5.3 m + disques + rouleaux","Bêche roulante 5.3 m + disques + rouleaux","Bêche roulante 5.3 m + disques + rouleaux","Bêche roulante 5.3 m + disques + rouleaux","Bêche roulante 5.3 m + disques + rouleaux","Bêche roulante 5.3 m + disques + rouleaux","Bêche roulante 5.3 m + disques + rouleaux","Bêche roulante 5.3 m + disques + rouleaux","Bêche roulante 5.3 m + disques + rouleaux","Bêche roulante 5.3 m + disques + rouleaux","Bêche roulante 5.3 m + disques + rouleaux","Bêche roulante 5.3 m + disques + rouleaux","Bêche roulante 5.3 m + disques + rouleaux","Bêche roulante 5.3 m + disques + rouleaux","Bêche roulante 5.3 m + disques + rouleaux","Bêche roulante 5.3 m + disques + rouleaux","Bêche roulante 5.3 m + disques + rouleaux","Bêche roulante 5.3 m + disques + rouleaux","Bêche roulante 5.3 m + disques + rouleaux","Bêche roulante 5.3 m + disques + rouleaux","Bêche roulante 5.3 m + disques + rouleaux","Bêche roulante 5.3 m + disques + rouleaux","Bêche roulante 5.3 m + disques + rouleaux","Bêche roulante 5.3 m + disques + rouleaux","Bêche roulante 5.3 m + disques + rouleaux","Bêche roulante 5.3 m + disques + rouleaux","Bêche roulante 5.3 m + disques + rouleaux","Bêche roulante 5.3 m + disques + rouleaux","Bêche roulante 5.3 m + disques + rouleaux","Bêche roulante 5.3 m + disques + rouleaux","Bêche roulante 5.3 m + disques + rouleaux","Bêche roulante 5.3 m + disques + rouleaux","Bêche roulante 5.3 m + disques + rouleaux","Bêche roulante 5.3 m + disques + rouleaux","Bêche roulante 5.3 m + disques + rouleaux","Bêche roulante 5.3 m + disques + rouleaux","Bêche roulante 5.3 m + disques + rouleaux","Bêche roulante 5.3 m + disques + rouleaux","Bêche roulante 5.3 m + disques + rouleaux","Bêche roulante 5.3 m + disques + rouleaux","Bêche roulante 5.3 m + disques + rouleaux","Bêche roulante 5.3 m + disques + rouleaux","Bêche roulante 5.3 m + disques + rouleaux","Bêche roulante 5.3 m + disques + rouleaux","Bêche roulante 5.3 m + disques + rouleaux","Bêche roulante 5.3 m + disques + rouleaux","Bêche roulante 5.3 m + disques + rouleaux","Bêche roulante 5.3 m + disques + rouleaux","Bêche roulante 5.3 m + disques + rouleaux","Bêche roulante 5.3 m + disques + rouleaux","Bêche roulante 5.3 m + disques + rouleaux","Bêche roulante 5.3 m + disques + rouleaux","Bêche roulante 5.3 m + disques + rouleaux","Bêche roulante 5.3 m + disques + rouleaux","Bêche roulante 5.3 m + disques + rouleaux","Bêche roulante 5.3 m + disques + rouleaux","Bêche roulante 5.3 m + disques + rouleaux","Bêche roulante 5.3 m + disques + rouleaux","Bêche roulante 5.3 m + disques + rouleaux","Bêche roulante 5.3 m + disques + rouleaux","Bêche roulante 5.3 m + disques + rouleaux","Bêche roulante 5.3 m + disques + rouleaux","Bêche roulante 5.3 m + disques + rouleaux","Bêche roulante 5.3 m + disques + rouleaux","Bêche roulante 5.3 m + disques + rouleaux","Bêche roulante 5.3 m + disques + rouleaux","Bêche roulante 5.3 m + disques + rouleaux","Bêche roulante 5.3 m + disques + rouleaux","Bêche roulante 5.3 m + disques + rouleaux","Bêche roulante 5.3 m + disques + rouleaux","Bêche roulante 5.3 m + disques + rouleaux","Bêche roulante 5.3 m + disques + rouleaux","Bêche roulante 5.3 m + disques + rouleaux","Bêche roulante 5.3 m + disques + rouleaux","Bêche roulante 5.3 m + disques + rouleaux","Bêche roulante 5.3 m + disques + rouleaux","Bêche roulante 5.3 m + disques + rouleaux","Bêche roulante 5.3 m + disques + rouleaux","Bêche roulante 5.3 m + disques + rouleaux","Bêche roulante 5.3 m + disques + rouleaux","Bêche roulante 5.3 m + disques + rouleaux","Bêche roulante 5.3 m + disques + rouleaux","Bêche roulante 5.3 m + disques + rouleaux","Bêche roulante 5.3 m + disques + rouleaux","Bêche roulante 5.3 m + disques + rouleaux","Bêche roulante 5.3 m + disques + rouleaux","Bêche roulante 5.3 m + disques + rouleaux","Bêche roulante 5.3 m + disques + rouleaux","Bêche roulante 5.3 m + disques + rouleaux","Bêche roulante 5.3 m + disques + rouleaux","Bêche roulante 5.3 m + disques + rouleaux","Bêche roulante 5.3 m + disques + rouleaux","Bêche roulante 5.3 m + disques + rouleaux","Bêche roulante 5.3 m + disques + rouleaux","Bêche roulante 5.3 m + disques + rouleaux","Bêche roulante 5.3 m + disques + rouleaux","Bêche roulante 5.3 m + disques + rouleaux","Bêche roulante 5.3 m + disques + rouleaux","Bêche roulante 5.3 m + disques + rouleaux","Bêche roulante 5.3 m + disques + rouleaux","Bêche roulante 5.3 m + disques + rouleaux","Bêche roulante 5.3 m + disques + rouleaux","Bêche roulante 5.3 m + disques + rouleaux","Bêche roulante 5.3 m + disques + rouleaux","Bêche roulante 5.3 m + disques + rouleaux","Bêche roulante 5.3 m + disques + rouleaux","Bêche roulante 5.3 m + disques + rouleaux","Bêche roulante 5.3 m + disques + rouleaux","Bêche roulante 5.3 m + disques + rouleaux","Bêche roulante 5.3 m + disques + rouleaux","Bêche roulante 5.3 m + disques + rouleaux","Bêche roulante 5.3 m + disques + rouleaux","Bêche roulante 5.3 m + disques + rouleaux","Bêche roulante 5.3 m + disques + rouleaux","Bêche roulante 5.3 m + disques + rouleaux","Bêche roulante 5.3 m + disques + rouleaux","Bêche roulante 5.3 m + disques + rouleaux","Bêche roulante 5.3 m + disques + rouleaux","Bêche roulante 5.3 m + disques + rouleaux","Bêche roulante 5.3 m + disques + rouleaux","Bêche roulante 5.3 m + disques + rouleaux","Bêche roulante 5.3 m + disques + rouleaux","Bêche roulante 5.3 m + disques + rouleaux","Bêche roulante 5.3 m + disques + rouleaux","Bêche roulante 5.3 m + disques + rouleaux","Bêche roulante 5.3 m + disques + rouleaux","Bêche roulante 5.3 m + disques + rouleaux","Bêche roulante 5.3 m + disques + rouleaux","Bêche roulante 5.3 m + disques + rouleaux","Bêche roulante 5.3 m + disques + rouleaux","Bêche roulante 5.3 m + disques + rouleaux","Bêche roulante 5.3 m + disques + rouleaux","Bêche roulante 5.3 m + disques + rouleaux","Bêche roulante 5.3 m + disques + rouleaux","Bêche roulante 5.3 m + disques + rouleaux","Bêche roulante 5.3 m + disques + rouleaux","Bêche roulante 5.3 m + disques + rouleaux","Bêche roulante 5.3 m + disques + rouleaux","Bêche roulante 5.3 m + disques + rouleaux","Bêche roulante 5.3 m + disques + rouleaux","Bêche roulante 5.3 m + disques + rouleaux","Bêche roulante 5.3 m + disques + rouleaux","Bêche roulante 5.3 m + disques + rouleaux","Bêche roulante 5.3 m + disques + rouleaux","Bêche roulante 5.3 m + disques + rouleaux","Bêche roulante 5.3 m + disques + rouleaux","Bêche roulante 5.3 m + disques + rouleaux","Bêche roulante 5.3 m + disques + rouleaux","Bêche roulante 5.3 m + disques + rouleaux","Bêche roulante 5.3 m + disques + rouleaux","Bêche roulante 5.3 m + disques + rouleaux","Bêche roulante 5.3 m + disques + rouleaux","Bêche roulante 5.3 m + disques + rouleaux","Bêche roulante 5.3 m + disques + rouleaux","Bêche roulante 5.3 m + disques + rouleaux","Bêche roulante 5.3 m + disques + rouleaux","Bêche roulante 5.3 m + disques + rouleaux","Bêche roulante 5.3 m + disques + rouleaux","Bêche roulante 5.3 m + disques + rouleaux","Bêche roulante 5.3 m + disques + rouleaux","Bêche roulante 5.3 m + disques + rouleaux","Bêche roulante 5.3 m + disques + rouleaux","Bêche roulante 5.3 m + disques + rouleaux","Bêche roulante 5.3 m + disques + rouleaux","Bêche roulante 5.3 m + disques + rouleaux","Bêche roulante 5.3 m + disques + rouleaux","Bêche roulante 5.3 m + disques + rouleaux","Bêche roulante 5.3 m + disques + rouleaux","Bêche roulante 5.3 m + disques + rouleaux","Bêche roulante 5.3 m + disques + rouleaux","Bêche roulante 5.3 m + disques + rouleaux","Bêche roulante 5.3 m + disques + rouleaux","Bêche roulante 5.3 m + disques + rouleaux","Bêche roulante 5.3 m + disques + rouleaux","Bêche roulante 5.3 m + disques + rouleaux","Bêche roulante 5.3 m + disques + rouleaux","Bêche roulante 5.3 m + disques + rouleaux","Bêche roulante 5.3 m + disques + rouleaux","Bêche roulante 5.3 m + disques + rouleaux","Bêche roulante 5.3 m + disques + rouleaux","Bêche roulante 5.3 m + disques + rouleaux","Bêche roulante 5.3 m + disques + rouleaux","Bêche roulante 5.3 m + disques + rouleaux","Bêche roulante 5.3 m + disques + rouleaux","Bêche roulante 5.3 m + disques + rouleaux","Bêche roulante 5.3 m + disques + rouleaux","Bêche roulante 5.3 m + disques + rouleaux","Bêche roulante 5.3 m + disques + rouleaux","Bêche roulante 5.3 m + disques + rouleaux","Bêche roulante 5.3 m + disques + rouleaux","Bêche roulante 5.3 m + disques + rouleaux","Bêche roulante 5.3 m + disques + rouleaux","Bêche roulante 5.3 m + disques + rouleaux","Bêche roulante 5.3 m + disques + rouleaux","Bêche roulante 5.3 m + disques + rouleaux","Bêche roulante 5.3 m + disques + rouleaux","Bêche roulante 5.3 m + disques + rouleaux","Bêche roulante 5.3 m + disques + rouleaux","Bêche roulante 5.3 m + disques + rouleaux","Bêche roulante 5.3 m + disques + rouleaux","Bêche roulante 5.3 m + disques + rouleaux","Bêche roulante 5.3 m + disques + rouleaux","Bêche roulante 5.3 m + disques + rouleaux","Bêche roulante 5.3 m + disques + rouleaux","Bêche roulante 5.3 m + disques + rouleaux","Bêche roulante 5.3 m + disques + rouleaux","Bêche roulante 5.3 m + disques + rouleaux","Bêche roulante 5.3 m + disques + rouleaux","Bêche roulante 5.3 m + disques + rouleaux","Bêche roulante 5.3 m + disques + rouleaux","Bêche roulante 5.3 m + disques + rouleaux","Bêche roulante 5.3 m + disques + rouleaux","Bêche roulante 5.3 m + disques + rouleaux","Bêche roulante 5.3 m + disques + rouleaux","Bêche roulante 5.3 m + disques + rouleaux","Bêche roulante 5.3 m + disques + rouleaux","Bêche roulante 5.3 m + disques + rouleaux","Bêche roulante 5.3 m + disques + rouleaux","Bêche roulante 5.3 m + disques + rouleaux","Bêche roulante 5.3 m + disques + rouleaux","Bêche roulante 5.3 m + disques + rouleaux","Bêche roulante 5.3 m + disques + rouleaux","Bêche roulante 5.3 m + disques + rouleaux","Bêche roulante 5.3 m + disques + rouleaux","Bêche roulante 5.3 m + disques + rouleaux","Bêche roulante 5.3 m + disques + rouleaux","Bêche roulante 5.3 m + disques + rouleaux","Bêche roulante 5.3 m + disques + rouleaux","Bêche roulante 5.3 m + disques + rouleaux","Bêche roulante 5.3 m + disques + rouleaux","Bêche roulante 5.3 m + disques + rouleaux","Bêche roulante 5.3 m + disques + rouleaux","Bêche roulante 5.3 m + disques + rouleaux","Bêche roulante 5.3 m + disques + rouleaux","Bêche roulante 5.3 m + disques + rouleaux","Bêche roulante 5.3 m + disques + rouleaux","Bêche roulante 5.3 m + disques + rouleaux","Bêche roulante 5.3 m + disques + rouleaux","Bêche roulante 5.3 m + disques + rouleaux","Bêche roulante 5.3 m + disques + rouleaux","Bêche roulante 5.3 m + disques + rouleaux","Bêche roulante 5.3 m + disques + rouleaux","Bêche roulante 5.3 m + disques + rouleaux","Bêche roulante 5.3 m + disques + rouleaux","Bêche roulante 5.3 m + disques + rouleaux","Bêche roulante 5.3 m + disques + rouleaux","Bêche roulante 5.3 m + disques + rouleaux","Bêche roulante 5.3 m + disques + rouleaux","Bêche roulante 5.3 m + disques + rouleaux","Bêche roulante 5.3 m + disques + rouleaux","Bêche roulante 5.3 m + disques + rouleaux","Bêche roulante 5.3 m + disques + rouleaux","Bêche roulante 5.3 m + disques + rouleaux","Bêche roulante 5.3 m + disques + rouleaux","Bêche roulante 5.3 m + disques + rouleaux","Bêche roulante 5.3 m + disques + rouleaux","Bêche roulante 5.3 m + disques + rouleaux","Bêche roulante 5.3 m + disques + rouleaux","Bêche roulante 5.3 m + disques + rouleaux","Bêche roulante 5.3 m + disques + rouleaux","Bêche roulante 5.3 m + disques + rouleaux","Bêche roulante 5.3 m + disques + rouleaux","Bêche roulante 5.3 m + disques + rouleaux","Bêche roulante 5.3 m + disques + rouleaux","Bêche roulante 5.3 m + disques + rouleaux","Bêche roulante 5.3 m + disques + rouleaux","Bêche roulante 5.3 m + disques + rouleaux","Bêche roulante 5.3 m + disques + rouleaux","Bêche roulante 5.3 m + disques + rouleaux","Bêche roulante 5.3 m + disques + rouleaux","Bêche roulante 5.3 m + disques + rouleaux","Bêche roulante 5.3 m + disques + rouleaux","Bêche roulante 5.3 m + disques + rouleaux","Bêche roulante 5.3 m + disques + rouleaux","Bêche roulante 5.3 m + disques + rouleaux","Bêche roulante 5.3 m + disques + rouleaux","Bêche roulante 5.3 m + disques + rouleaux","Bêche roulante 5.3 m + disques + rouleaux","Bêche roulante 5.3 m + disques + rouleaux","Bêche roulante 5.3 m + disques + rouleaux","Bêche roulante 5.3 m + disques + rouleaux","Bêche roulante 5.3 m + disques + rouleaux","Bêche roulante 5.3 m + disques + rouleaux","Bêche roulante 5.3 m + disques + rouleaux","Bêche roulante 5.3 m + disques + rouleaux","Bêche roulante 5.3 m + disques + rouleaux","Bêche roulante 5.3 m + disques + rouleaux","Bêche roulante 5.3 m + disques + rouleaux","Bêche roulante 5.3 m + disques + rouleaux","Bêche roulante 5.3 m + disques + rouleaux","Bêche roulante 5.3 m + disques + rouleaux","Bêche roulante 5.3 m + disques + rouleaux","Bêche roulante 5.3 m + disques + rouleaux","Bêche roulante 5.3 m + disques + rouleaux","Bêche roulante 5.3 m + disques + rouleaux","Bêche roulante 5.3 m + disques + rouleaux","Bêche roulante 5.3 m + disques + rouleaux","Bêche roulante 5.3 m + disques + rouleaux","Bêche roulante 5.3 m + disques + rouleaux","Bêche roulante 5.3 m + disques + rouleaux","Bêche roulante 5.3 m + disques + rouleaux","Bêche roulante 5.3 m + disques + rouleaux","Bêche roulante 5.3 m + disques + rouleaux","Bêche roulante 5.3 m + disques + rouleaux","Bêche roulante 5.3 m + disques + rouleaux","Bêche roulante 5.3 m + disques + rouleaux","Bêche roulante 5.3 m + disques + rouleaux","Bêche roulante 5.3 m + disques + rouleaux","Bêche roulante 5.3 m + disques + rouleaux","Bêche roulante 5.3 m + disques + rouleaux","Bêche roulante 5.3 m + disques + rouleaux","Bêche roulante 5.3 m + disques + rouleaux","Bêche roulante 5.3 m + disques + rouleaux","Bêche roulante 5.3 m + disques + rouleaux","Bêche roulante 5.3 m + disques + rouleaux","Bêche roulante 5.3 m + disques + rouleaux","Bêche roulante 5.3 m + disques + rouleaux","Bêche roulante 5.3 m + disques + rouleaux","Bêche roulante 5.3 m + disques + rouleaux","Bêche roulante 5.3 m + disques + rouleaux","Bêche roulante 5.3 m + disques + rouleaux","Bêche roulante 5.3 m + disques + rouleaux","Bêche roulante 5.3 m + disques + rouleaux","Bêche roulante 5.3 m + disques + rouleaux","Bêche roulante 5.3 m + disques + rouleaux","Bêche roulante 5.3 m + disques + rouleaux","Bêche roulante 5.3 m + disques + rouleaux","Bêche roulante 5.3 m + disques + rouleaux","Bêche roulante 5.3 m + disques + rouleaux","Bêche roulante 5.3 m + disques + rouleaux","Bêche roulante 5.3 m + disques + rouleaux","Bêche roulante 5.3 m + disques + rouleaux","Bêche roulante 5.3 m + disques + rouleaux","Bêche roulante 5.3 m + disques + rouleaux","Bêche roulante 5.3 m + disques + rouleaux","Bêche roulante 5.3 m + disques + rouleaux","Bêche roulante 5.3 m + disques + rouleaux","Bêche roulante 5.3 m + disques + rouleaux","Bêche roulante 5.3 m + disques + rouleaux","Bêche roulante 5.3 m + disques + rouleaux","Bêche roulante 5.3 m + disques + rouleaux","Bêche roulante 5.3 m + disques + rouleaux","Bêche roulante 5.3 m + disques + rouleaux","Bêche roulante 5.3 m + disques + rouleaux","Bêche roulante 5.3 m + disques + rouleaux","Bêche roulante 5.3 m + disques + rouleaux","Bêche roulante 5.3 m + disques + rouleaux","Bêche roulante 5.3 m + disques + rouleaux","Bêche roulante 5.3 m + disques + rouleaux","Bêche roulante 5.3 m + disques + rouleaux","Bêche roulante 5.3 m + disques + rouleaux","Bêche roulante 5.3 m + disques + rouleaux","Bêche roulante 5.3 m + disques + rouleaux","Bêche roulante 5.3 m + disques + rouleaux","Bêche roulante 5.3 m + disques + rouleaux","Bêche roulante 5.3 m + disques + rouleaux","Bêche roulante 5.3 m + disques + rouleaux","Bêche roulante 5.3 m + disques + rouleaux","Bêche roulante 5.3 m + disques + rouleaux","Bêche roulante 5.3 m + disques + rouleaux","Bêche roulante 5.3 m + disques + rouleaux","Bêche roulante 5.3 m + disques + rouleaux","Bêche roulante 5.3 m + disques + rouleaux","Bêche roulante 5.3 m + disques + rouleaux","Bêche roulante 5.3 m + disques + rouleaux","Bêche roulante 5.3 m + disques + rouleaux","Bêche roulante 5.3 m + disques + rouleaux","Bêche roulante 5.3 m + disques + rouleaux","Bêche roulante 5.3 m + disques + rouleaux","Bêche roulante 5.3 m + disques + rouleaux","Bêche roulante 5.3 m + disques + rouleaux","Bêche roulante 5.3 m + disques + rouleaux","Bêche roulante 5.3 m + disques + rouleaux","Bêche roulante 5.3 m + disques + rouleaux","Bêche roulante 5.3 m + disques + rouleaux","Bêche roulante 5.3 m + disques + rouleaux","Bêche roulante 5.3 m + disques + rouleaux","Bêche roulante 5.3 m + disques + rouleaux","Bêche roulante 5.3 m + disques + rouleaux","Bêche roulante 5.3 m + disques + rouleaux","Bêche roulante 5.3 m + disques + rouleaux","Bêche roulante 5.3 m + disques + rouleaux","Bêche roulante 5.3 m + disques + rouleaux","Bêche roulante 5.3 m + disques + rouleaux","Bêche roulante 5.3 m + disques + rouleaux","Bêche roulante 5.3 m + disques + rouleaux","Bêche roulante 5.3 m + disques + rouleaux","Bêche roulante 5.3 m + disques + rouleaux","Bêche roulante 5.3 m + disques + rouleaux","Bêche roulante 5.3 m + disques + rouleaux","Bêche roulante 5.3 m + disques + rouleaux","Bêche roulante 5.3 m + disques + rouleaux","Bêche roulante 5.3 m + disques + rouleaux","Bêche roulante 5.3 m + disques + rouleaux","Bêche roulante 5.3 m + disques + rouleaux","Bêche roulante 5.3 m + disques + rouleaux","Bêche roulante 5.3 m + disques + rouleaux","Bêche roulante 5.3 m + disques + rouleaux","Bêche roulante 5.3 m + disques + rouleaux","Bêche roulante 5.3 m + disques + rouleaux","Bêche roulante 5.3 m + disques + rouleaux","Bêche roulante 5.3 m + disques + rouleaux","Bêche roulante 5.3 m + disques + rouleaux","Bêche roulante 5.3 m + disques + rouleaux","Bêche roulante 5.3 m + disques + rouleaux","Bêche roulante 5.3 m + disques + rouleaux","Bêche roulante 5.3 m + disques + rouleaux","Bêche roulante 5.3 m + disques + rouleaux","Bêche roulante 5.3 m + disques + rouleaux","Bêche roulante 5.3 m + disques + rouleaux","Bêche roulante 5.3 m + disques + rouleaux","Bêche roulante 5.3 m + disques + rouleaux","Bêche roulante 5.3 m + disques + rouleaux","Bêche roulante 5.3 m + disques + rouleaux","Bêche roulante 5.3 m + disques + rouleaux","Bêche roulante 5.3 m + disques + rouleaux","Bêche roulante 5.3 m + disques + rouleaux","Bêche roulante 5.3 m + disques + rouleaux","Bêche roulante 5.3 m + disques + rouleaux","Bêche roulante 5.3 m + disques + rouleaux","Bêche roulante 5.3 m + disques + rouleaux","Bêche roulante 5.3 m + disques + rouleaux","Bêche roulante 5.3 m + disques + rouleaux","Bêche roulante 5.3 m + disques + rouleaux","Bêche roulante 5.3 m + disques + rouleaux","Bêche roulante 5.3 m + disques + rouleaux","Bêche roulante 5.3 m + disques + rouleaux","Bêche roulante 5.3 m + disques + rouleaux","Bêche roulante 5.3 m + disques + rouleaux","Bêche roulante 5.3 m + disques + rouleaux","Bêche roulante 5.3 m + disques + rouleaux","Bêche roulante 5.3 m + disques + rouleaux","Bêche roulante 5.3 m + disques + rouleaux","Bêche roulante 5.3 m + disques + rouleaux","Bêche roulante 5.3 m + disques + rouleaux","Bêche roulante 5.3 m + disques + rouleaux","Bêche roulante 5.3 m + disques + rouleaux","Bêche roulante 5.3 m + disques + rouleaux","Bêche roulante 5.3 m + disques + rouleaux","Bêche roulante 5.3 m + disques + rouleaux","Bêche roulante 5.3 m + disques + rouleaux","Bêche roulante 5.3 m + disques + rouleaux","Bêche roulante 5.3 m + disques + rouleaux","Bêche roulante 5.3 m + disques + rouleaux","Bêche roulante 5.3 m + disques + rouleaux","Bêche roulante 5.3 m + disques + rouleaux","Bêche roulante 5.3 m + disques + rouleaux","Bêche roulante 5.3 m + disques + rouleaux","Bêche roulante 5.3 m + disques + rouleaux","Bêche roulante 5.3 m + disques + rouleaux","Bêche roulante 5.3 m + disques + rouleaux","Bêche roulante 5.3 m + disques + rouleaux","Bêche roulante 5.3 m + disques + rouleaux","Bêche roulante 5.3 m + disques + rouleaux","Bêche roulante 5.3 m + disques + rouleaux","Bêche roulante 5.3 m + disques + rouleaux","Bêche roulante 5.3 m + disques + rouleaux","Bêche roulante 5.3 m + disques + rouleaux","Bêche roulante 5.3 m + disques + rouleaux","Bêche roulante 5.3 m + disques + rouleaux","Bêche roulante 5.3 m + disques + rouleaux","Bêche roulante 5.3 m + disques + rouleaux","Bêche roulante 5.3 m + disques + rouleaux","Bêche roulante 5.3 m + disques + rouleaux","Bêche roulante 5.3 m + disques + rouleaux","Bêche roulante 5.3 m + disques + rouleaux","Bêche roulante 5.3 m + disques + rouleaux","Bêche roulante 5.3 m + disques + rouleaux","Bêche roulante 5.3 m + disques + rouleaux","Bêche roulante 5.3 m + disques + rouleaux","Bêche roulante 5.3 m + disques + rouleaux","Bêche roulante 5.3 m + disques + rouleaux","Bêche roulante 5.3 m + disques + rouleaux","Bêche roulante 5.3 m + disques + rouleaux","Bêche roulante 5.3 m + disques + rouleaux","Bêche roulante 5.3 m + disques + rouleaux","Bêche roulante 5.3 m + disques + rouleaux","Bêche roulante 5.3 m + disques + rouleaux","Bêche roulante 5.3 m + disques + rouleaux","Bêche roulante 5.3 m + disques + rouleaux","Bêche roulante 5.3 m + disques + rouleaux","Bêche roulante 5.3 m + disques + rouleaux","Bêche roulante 5.3 m + disques + rouleaux","Bêche roulante 5.3 m + disques + rouleaux","Bêche roulante 5.3 m + disques + rouleaux","Bêche roulante 5.3 m + disques + rouleaux","Bêche roulante 5.3 m + disques + rouleaux","Bêche roulante 5.3 m + disques + rouleaux","Bêche roulante 5.3 m + disques + rouleaux","Bêche roulante 5.3 m + disques + rouleaux","Bêche roulante 5.3 m + disques + rouleaux","Bêche roulante 5.3 m + disques + rouleaux","Bêche roulante 5.3 m + disques + rouleaux","Bêche roulante 5.3 m + disques + rouleaux","Bêche roulante 5.3 m + disques + rouleaux","Bêche roulante 5.3 m + disques + rouleaux","Bêche roulante 5.3 m + disques + rouleaux","Bêche roulante 5.3 m + disques + rouleaux","Bêche roulante 5.3 m + disques + rouleaux","Bêche roulante 5.3 m + disques + rouleaux","Bêche roulante 5.3 m + disques + rouleaux","Bêche roulante 5.3 m + disques + rouleaux","Bêche roulante 5.3 m + disques + rouleaux","Bêche roulante 5.3 m + disques + rouleaux","Bêche roulante 5.3 m + disques + rouleaux","Bêche roulante 5.3 m + disques + rouleaux","Bêche roulante 5.3 m + disques + rouleaux","Bêche roulante 5.3 m + disques + rouleaux","Bêche roulante 5.3 m + disques + rouleaux","Bêche roulante 5.3 m + disques + rouleaux","Bêche roulante 5.3 m + disques + rouleaux","Bêche roulante 5.3 m + disques + rouleaux","Bêche roulante 5.3 m + disques + rouleaux","Bêche roulante 5.3 m + disques + rouleaux","Bêche roulante 5.3 m + disques + rouleaux","Bêche roulante 5.3 m + disques + rouleaux","Bêche roulante 5.3 m + disques + rouleaux","Bêche roulante 5.3 m + disques + rouleaux","Bêche roulante 5.3 m + disques + rouleaux","Bêche roulante 5.3 m + disques + rouleaux","Bêche roulante 5.3 m + disques + rouleaux","Bêche roulante 5.3 m + disques + rouleaux","Bêche roulante 5.3 m + disques + rouleaux","Bêche roulante 5.3 m + disques + rouleaux","Bêche roulante 5.3 m + disques + rouleaux","Bêche roulante 5.3 m + disques + rouleaux","Bêche roulante 5.3 m + disques + rouleaux","Bêche roulante 5.3 m + disques + rouleaux","Bêche roulante 5.3 m + disques + rouleaux","Bêche roulante 5.3 m + disques + rouleaux","Bêche roulante 5.3 m + disques + rouleaux","Bêche roulante 5.3 m + disques + rouleaux","Bêche roulante 5.3 m + disques + rouleaux","Bêche roulante 5.3 m + disques + rouleaux","Bêche roulante 5.3 m + disques + rouleaux","Bêche roulante 5.3 m + disques + rouleaux","Bêche roulante 5.3 m + disques + rouleaux","Bêche roulante 5.3 m + disques + rouleaux","Bêche roulante 5.3 m + disques + rouleaux","Bêche roulante 5.3 m + disques + rouleaux","Bêche roulante 5.3 m + disques + rouleaux","Bêche roulante 5.3 m + disques + rouleaux","Bêche roulante 5.3 m + disques + rouleaux","Bêche roulante 5.3 m + disques + rouleaux","Bêche roulante 5.3 m + disques + rouleaux","Bêche roulante 5.3 m + disques + rouleaux","Bêche roulante 5.3 m + disques + rouleaux","Bêche roulante 5.3 m + disques + rouleaux","Bêche roulante 5.3 m + disques + rouleaux","Bêche roulante 5.3 m + disques + rouleaux","Bêche roulante 5.3 m + disques + rouleaux","Bêche roulante 5.3 m + disques + rouleaux","Bêche roulante 5.3 m + disques + rouleaux","Bêche roulante 5.3 m + disques + rouleaux","Bêche roulante 5.3 m + disques + rouleaux","Bêche roulante 5.3 m + disques + rouleaux","Bêche roulante 5.3 m + disques + rouleaux","Bêche roulante 5.3 m + disques + rouleaux","Bêche roulante 5.3 m + disques + rouleaux","Bêche roulante 5.3 m + disques + rouleaux","Bêche roulante 5.3 m + disques + rouleaux","Bêche roulante 5.3 m + disques + rouleaux","Bêche roulante 5.3 m + disques + rouleaux","Bêche roulante 5.3 m + disques + rouleaux","Bêche roulante 5.3 m + disques + rouleaux","Bêche roulante 5.3 m + disques + rouleaux","Bêche roulante 5.3 m + disques + rouleaux","Bêche roulante 5.3 m + disques + rouleaux","Bêche roulante 5.3 m + disques + rouleaux","Bêche roulante 5.3 m + disques + rouleaux","Bêche roulante 5.3 m + disques + rouleaux","Bêche roulante 5.3 m + disques + rouleaux","Bêche roulante 5.3 m + disques + rouleaux","Bêche roulante 5.3 m + disques + rouleaux","Bêche roulante 5.3 m + disques + rouleaux","Bêche roulante 5.3 m + disques + rouleaux","Bêche roulante 5.3 m + disques + rouleaux","Bêche roulante 5.3 m + disques + rouleaux","Bêche roulante 5.3 m + disques + rouleaux","Bêche roulante 5.3 m + disques + rouleaux","Bêche roulante 5.3 m + disques + rouleaux","Bêche roulante 5.3 m + disques + rouleaux","Bêche roulante 5.3 m + disques + rouleaux","Bêche roulante 5.3 m + disques + rouleaux","Bêche roulante 5.3 m + disques + rouleaux","Bêche roulante 5.3 m + disques + rouleaux","Bêche roulante 5.3 m + disques + rouleaux","Bêche roulante 5.3 m + disques + rouleaux","Bêche roulante 5.3 m + disques + rouleaux","Bêche roulante 5.3 m + disques + rouleaux","Bêche roulante 5.3 m + disques + rouleaux","Bêche roulante 5.3 m + disques + rouleaux","Bêche roulante 5.3 m + disques + rouleaux","Bêche roulante 5.3 m + disques + rouleaux","Bêche roulante 5.3 m + disques + rouleaux","Bêche roulante 5.3 m + disques + rouleaux","Bêche roulante 5.3 m + disques + rouleaux","Bêche roulante 5.3 m + disques + rouleaux","Bêche roulante 5.3 m + disques + rouleaux","Bêche roulante 5.3 m + disques + rouleaux","Bêche roulante 5.3 m + disques + rouleaux","Bêche roulante 5.3 m + disques + rouleaux","Bêche roulante 5.3 m + disques + rouleaux","Bêche roulante 5.3 m + disques + rouleaux","Bêche roulante 5.3 m + disques + rouleaux","Bêche roulante 5.3 m + disques + rouleaux","Bêche roulante 5.3 m + disques + rouleaux","Bêche roulante 5.3 m + disques + rouleaux","Bêche roulante 5.3 m + disques + rouleaux","Bêche roulante 5.3 m + disques + rouleaux","Bêche roulante 5.3 m + disques + rouleaux","Bêche roulante 5.3 m + disques + rouleaux","Bêche roulante 5.3 m + disques + rouleaux","Bêche roulante 5.3 m + disques + rouleaux","Bêche roulante 5.3 m + disques + rouleaux","Bêche roulante 5.3 m + disques + rouleaux","Bêche roulante 5.3 m + disques + rouleaux","Bêche roulante 5.3 m + disques + rouleaux","Bêche roulante 5.3 m + disques + rouleaux","Bêche roulante 5.3 m + disques + rouleaux","Bêche roulante 5.3 m + disques + rouleaux","Bêche roulante 5.3 m + disques + rouleaux","Bêche roulante 5.3 m + disques + rouleaux","Bêche roulante 5.3 m + disques + rouleaux","Bêche roulante 5.3 m + disques + rouleaux","Bêche roulante 5.3 m + disques + rouleaux","Bêche roulante 5.3 m + disques + rouleaux","Bêche roulante 5.3 m + disques + rouleaux","Bêche roulante 5.3 m + disques + rouleaux","Bêche roulante 5.3 m + disques + rouleaux","Bêche roulante 5.3 m + disques + rouleaux","Bêche roulante 5.3 m + disques + rouleaux","Bêche roulante 5.3 m + disques + rouleaux","Bêche roulante 5.3 m + disques + rouleaux","Bêche roulante 5.3 m + disques + rouleaux","Bêche roulante 5.3 m + disques + rouleaux","Bêche roulante 5.3 m + disques + rouleaux","Bêche roulante 5.3 m + disques + rouleaux","Bêche roulante 5.3 m + disques + rouleaux","Bêche roulante 5.3 m + disques + rouleaux","Bêche roulante 5.3 m + disques + rouleaux","Bêche roulante 5.3 m + disques + rouleaux","Bêche roulante 5.3 m + disques + rouleaux","Bêche roulante 5.3 m + disques + rouleaux","Bêche roulante 5.3 m + disques + rouleaux","Bêche roulante 5.3 m + disques + rouleaux","Bêche roulante 5.3 m + disques + rouleaux","Bêche roulante 5.3 m + disques + rouleaux","Bêche roulante 5.3 m + disques + rouleaux","Bêche roulante 5.3 m + disques + rouleaux","Bêche roulante 5.3 m + disques + rouleaux","Bêche roulante 5.3 m + disques + rouleaux","Bêche roulante 5.3 m + disques + rouleaux","Bêche roulante 5.3 m + disques + rouleaux","Bêche roulante 5.3 m + disques + rouleaux","Bêche roulante 5.3 m + disques + rouleaux","Bêche roulante 5.3 m + disques + rouleaux","Bêche roulante 5.3 m + disques + rouleaux","Bêche roulante 5.3 m + disques + rouleaux","Bêche roulante 5.3 m + disques + rouleaux","Bêche roulante 5.3 m + disques + rouleaux","Bêche roulante 5.3 m + disques + rouleaux","Bêche roulante 5.3 m + disques + rouleaux","Bêche roulante 5.3 m + disques + rouleaux","Bêche roulante 5.3 m + disques + rouleaux","Bêche roulante 5.3 m + disques + rouleaux","Bêche roulante 5.3 m + disques + rouleaux","Bêche roulante 5.3 m + disques + rouleaux","Bêche roulante 5.3 m + disques + rouleaux","Bêche roulante 5.3 m + disques + rouleaux","Bêche roulante 5.3 m + disques + rouleaux","Bêche roulante 5.3 m + disques + rouleaux","Bêche roulante 5.3 m + disques + rouleaux","Bêche roulante 5.3 m + disques + rouleaux","Bêche roulante 5.3 m + disques + rouleaux","Bêche roulante 5.3 m + disques + rouleaux","Bêche roulante 5.3 m + disques + rouleaux","Bêche roulante 5.3 m + disques + rouleaux","Bêche roulante 5.3 m + disques + rouleaux","Bêche roulante 5.3 m + disques + rouleaux","Bêche roulante 5.3 m + disques + rouleaux","Bêche roulante 5.3 m + disques + rouleaux","Bêche roulante 5.3 m + disques + rouleaux","Bêche roulante 5.3 m + disques + rouleaux","Bêche roulante 5.3 m + disques + rouleaux","Bêche roulante 5.3 m + disques + rouleaux","Bêche roulante 5.3 m + disques + rouleaux","Bêche roulante 5.3 m + disques + rouleaux","Bêche roulante 5.3 m + disques + rouleaux","Bêche roulante 5.3 m + disques + rouleaux","Bêche roulante 5.3 m + disques + rouleaux","Bêche roulante 5.3 m + disques + rouleaux","Bêche roulante 5.3 m + disques + rouleaux","Bêche roulante 5.3 m + disques + rouleaux","Bêche roulante 5.3 m + disques + rouleaux","Bêche roulante 5.3 m + disques + rouleaux","Bêche roulante 5.3 m + disques + rouleaux","Bêche roulante 5.3 m + disques + rouleaux","Bêche roulante 5.3 m + disques + rouleaux","Bêche roulante 5.3 m + disques + rouleaux","Bêche roulante 5.3 m + disques + rouleaux","Bêche roulante 5.3 m + disques + rouleaux","Bêche roulante 5.3 m + disques + rouleaux","Bêche roulante 5.3 m + disques + rouleaux","Bêche roulante 5.3 m + disques + rouleaux","Bêche roulante 5.3 m + disques + rouleaux","Bêche roulante 5.3 m + disques + rouleaux","Bêche roulante 5.3 m + disques + rouleaux","Bêche roulante 5.3 m + disques + rouleaux","Bêche roulante 5.3 m + disques + rouleaux","Bêche roulante 5.3 m + disques + rouleaux","Bêche roulante 5.3 m + disques + rouleaux","Bêche roulante 5.3 m + disques + rouleaux","Bêche roulante 5.3 m + disques + rouleaux","Bêche roulante 5.3 m + disques + rouleaux","Bêche roulante 5.3 m + disques + rouleaux","Bêche roulante 5.3 m + disques + rouleaux","Bêche roulante 5.3 m + disques + rouleaux","Bêche roulante 5.3 m + disques + rouleaux","Bêche roulante 5.3 m + disques + rouleaux","Bêche roulante 5.3 m + disques + rouleaux","Bêche roulante 5.3 m + disques + rouleaux","Bêche roulante 5.3 m + disques + rouleaux","Bêche roulante 5.3 m + disques + rouleaux","Bêche roulante 5.3 m + disques + rouleaux","Bêche roulante 5.3 m + disques + rouleaux","Bêche roulante 5.3 m + disques + rouleaux","Bêche roulante 5.3 m + disques + rouleaux","Bêche roulante 5.3 m + disques + rouleaux","Bêche roulante 5.3 m + disques + rouleaux","Bêche roulante 5.3 m + disques + rouleaux","Bêche roulante 5.3 m + disques + rouleaux","Bêche roulante 5.3 m + disques + rouleaux","Bêche roulante 5.3 m + disques + rouleaux","Bêche roulante 5.3 m + disques + rouleaux","Bêche roulante 5.3 m + disques + rouleaux","Bêche roulante 5.3 m + disques + rouleaux","Bêche roulante 5.3 m + disques + rouleaux","Bêche roulante 5.3 m + disques + rouleaux","Bêche roulante 5.3 m + disques + rouleaux","Bêche roulante 5.3 m + disques + rouleaux","Bêche roulante 5.3 m + disques + rouleaux","Bêche roulante 5.3 m + disques + rouleaux","Bêche roulante 5.3 m + disques + rouleaux","Bêche roulante 5.3 m + disques + rouleaux","Bêche roulante 5.3 m + disques + rouleaux","Bêche roulante 5.3 m + disques + rouleaux","Bêche roulante 5.3 m + disques + rouleaux","Bêche roulante 5.3 m + disques + rouleaux","Bêche roulante 5.3 m + disques + rouleaux","Bêche roulante 5.3 m + disques + rouleaux","Bêche roulante 5.3 m + disques + rouleaux","Bêche roulante 5.3 m + disques + rouleaux","Bêche roulante 5.3 m + disques + rouleaux","Bêche roulante 5.3 m + disques + rouleaux","Bêche roulante 5.3 m + disques + rouleaux","Bêche roulante 5.3 m + disques + rouleaux","Bêche roulante 5.3 m + disques + rouleaux","Bêche roulante 5.3 m + disques + rouleaux","Bêche roulante 5.3 m + disques + rouleaux","Bêche roulante 5.3 m + disques + rouleaux","Bêche roulante 5.3 m + disques + rouleaux","Bêche roulante 5.3 m + disques + rouleaux","Bêche roulante 5.3 m + disques + rouleaux","Bêche roulante 5.3 m + disques + rouleaux","Bêche roulante 5.3 m + disques + rouleaux","Bêche roulante 5.3 m + disques + rouleaux","Bêche roulante 5.3 m + disques + rouleaux","Bêche roulante 5.3 m + disques + rouleaux","Bêche roulante 5.3 m + disques + rouleaux","Bêche roulante 5.3 m + disques + rouleaux","Bêche roulante 5.3 m + disques + rouleaux","Bêche roulante 5.3 m + disques + rouleaux","Bêche roulante 5.3 m + disques + rouleaux","Bêche roulante 5.3 m + disques + rouleaux","Bêche roulante 5.3 m + disques + rouleaux","Bêche roulante 5.3 m + disques + rouleaux","Bêche roulante 5.3 m + disques + rouleaux","Bêche roulante 5.3 m + disques + rouleaux","Bêche roulante 5.3 m + disques + rouleaux","Bêche roulante 5.3 m + disques + rouleaux","Bêche roulante 5.3 m + disques + rouleaux","Bêche roulante 5.3 m + disques + rouleaux","Bêche roulante 5.3 m + disques + rouleaux","Bêche roulante 5.3 m + disques + rouleaux","Bêche roulante 5.3 m + disques + rouleaux","Bêche roulante 5.3 m + disques + rouleaux","Bêche roulante 5.3 m + disques + rouleaux","Bêche roulante 5.3 m + disques + rouleaux","Bêche roulante 5.3 m + disques + rouleaux","Bêche roulante 5.3 m + disques + rouleaux","Bêche roulante 5.3 m + disques + rouleaux","Bêche roulante 5.3 m + disques + rouleaux","Bêche roulante 5.3 m + disques + rouleaux","Bêche roulante 5.3 m + disques + rouleaux","Bêche roulante 5.3 m + disques + rouleaux","Bêche roulante 5.3 m + disques + rouleaux","Bêche roulante 5.3 m + disques + rouleaux","Bêche roulante 5.3 m + disques + rouleaux","Bêche roulante 5.3 m + disques + rouleaux","Bêche roulante 5.3 m + disques + rouleaux","Bêche roulante 5.3 m + disques + rouleaux","Bêche roulante 5.3 m + disques + rouleaux","Bêche roulante 5.3 m + disques + rouleaux","Bêche roulante 5.3 m + disques + rouleaux","Bêche roulante 5.3 m + disques + rouleaux","Bêche roulante 5.3 m + disques + rouleaux","Bêche roulante 5.3 m + disques + rouleaux","Bêche roulante 5.3 m + disques + rouleaux","Bêche roulante 5.3 m + disques + rouleaux","Bêche roulante 5.3 m + disques + rouleaux","Bêche roulante 5.3 m + disques + rouleaux","Bêche roulante 5.3 m + disques + rouleaux","Bêche roulante 5.3 m + disques + rouleaux","Bêche roulante 5.3 m + disques + rouleaux","Bêche roulante 5.3 m + disques + rouleaux","Bêche roulante 5.3 m + disques + rouleaux","Bêche roulante 5.3 m + disques + rouleaux","Bêche roulante 5.3 m + disques + rouleaux","Bêche roulante 5.3 m + disques + rouleaux","Bêche roulante 5.3 m + disques + rouleaux","Bêche roulante 5.3 m + disques + rouleaux","Bêche roulante 5.3 m + disques + rouleaux","Bêche roulante 5.3 m + disques + rouleaux","Bêche roulante 5.3 m + disques + rouleaux","Bêche roulante 5.3 m + disques + rouleaux","Bêche roulante 5.3 m + disques + rouleaux","Bêche roulante 5.3 m + disques + rouleaux","Bêche roulante 5.3 m + disques + rouleaux","Bêche roulante 5.3 m + disques + rouleaux","Bêche roulante 5.3 m + disques + rouleaux","Bêche roulante 5.3 m + disques + rouleaux","Bêche roulante 5.3 m + disques + rouleaux","Bêche roulante 5.3 m + disques + rouleaux","Bêche roulante 5.3 m + disques + rouleaux","Bêche roulante 5.3 m + disques + rouleaux","Bêche roulante 5.3 m + disques + rouleaux","Bêche roulante 5.3 m + disques + rouleaux","Bêche roulante 5.3 m + disques + rouleaux","Bêche roulante 5.3 m + disques + rouleaux","Bêche roulante 5.3 m + disques + rouleaux","Bêche roulante 5.3 m + disques + rouleaux","Bêche roulante 5.3 m + disques + rouleaux","Bêche roulante 5.3 m + disques + rouleaux","Bêche roulante 5.3 m + disques + rouleaux","Bêche roulante 5.3 m + disques + rouleaux","Bêche roulante 5.3 m + disques + rouleaux","Bêche roulante 5.3 m + disques + rouleaux","Bêche roulante 5.3 m + disques + rouleaux","Bêche roulante 5.3 m + disques + rouleaux","Bêche roulante 5.3 m + disques + rouleaux","Bêche roulante 5.3 m + disques + rouleaux","Bêche roulante 5.3 m + disques + rouleaux","Bêche roulante 5.3 m + disques + rouleaux","Bêche roulante 5.3 m + disques + rouleaux","Bêche roulante 5.3 m + disques + rouleaux","Bêche roulante 5.3 m + disques + rouleaux","Bêche roulante 5.3 m + disques + rouleaux","Bêche roulante 5.3 m + disques + rouleaux","Bêche roulante 5.3 m + disques + rouleaux","Bêche roulante 5.3 m + disques + rouleaux","Bêche roulante 5.3 m + disques + rouleaux","Bêche roulante 5.3 m + disques + rouleaux","Bêche roulante 5.3 m + disques + rouleaux","Bêche roulante 5.3 m + disques + rouleaux","Bêche roulante 5.3 m + disques + rouleaux","Bêche roulante 5.3 m + disques + rouleaux","Bêche roulante 5.3 m + disques + rouleaux","Bêche roulante 5.3 m + disques + rouleaux","Bêche roulante 5.3 m + disques + rouleaux","Bêche roulante 5.3 m + disques + rouleaux","Bêche roulante 5.3 m + disques + rouleaux","Bêche roulante 5.3 m + disques + rouleaux","Bêche roulante 5.3 m + disques + rouleaux","Bêche roulante 5.3 m + disques + rouleaux","Bêche roulante 5.3 m + disques + rouleaux","Bêche roulante 5.3 m + disques + rouleaux","Bêche roulante 5.3 m + disques + rouleaux","Bêche roulante 5.3 m + disques + rouleaux","Bêche roulante 5.3 m + disques + rouleaux","Bêche roulante 5.3 m + disques + rouleaux","Bêche roulante 5.3 m + disques + rouleaux","Bêche roulante 5.3 m + disques + rouleaux","Bêche roulante 5.3 m + disques + rouleaux","Bêche roulante 5.3 m + disques + rouleaux","Bêche roulante 5.3 m + disques + rouleaux","Bêche roulante 5.3 m + disques + rouleaux","Bêche roulante 5.3 m + disques + rouleaux","Bêche roulante 5.3 m + disques + rouleaux","Bêche roulante 5.3 m + disques + rouleaux","Bêche roulante 5.3 m + disques + rouleaux","Bêche roulante 5.3 m + disques + rouleaux","Bêche roulante 5.3 m + disques + rouleaux","Bêche roulante 5.3 m + disques + rouleaux","Bêche roulante 5.3 m + disques + rouleaux","Bêche roulante 5.3 m + disques + rouleaux","Bêche roulante 5.3 m + disques + rouleaux","Bêche roulante 5.3 m + disques + rouleaux","Bêche roulante 5.3 m + disques + rouleaux","Bêche roulante 5.3 m + disques + rouleaux","Bêche roulante 5.3 m + disques + rouleaux","Bêche roulante 5.3 m + disques + rouleaux","Bêche roulante 5.3 m + disques + rouleaux","Bêche roulante 5.3 m + disques + rouleaux","Bêche roulante 5.3 m + disques + rouleaux","Bêche roulante 5.3 m + disques + rouleaux","Bêche roulante 5.3 m + disques + rouleaux","Bêche roulante 5.3 m + disques + rouleaux","Bêche roulante 5.3 m + disques + rouleaux","Bêche roulante 5.3 m + disques + rouleaux","Bêche roulante 5.3 m + disques + rouleaux","Bêche roulante 5.3 m + disques + rouleaux","Bêche roulante 5.3 m + disques + rouleaux","Bêche roulante 5.3 m + disques + rouleaux","Bêche roulante 5.3 m + disques + rouleaux","Bêche roulante 5.3 m + disques + rouleaux","Bêche roulante 5.3 m + disques + rouleaux","Bêche roulante 5.3 m + disques + rouleaux","Bêche roulante 5.3 m + disques + rouleaux","Bêche roulante 5.3 m + disques + rouleaux","Bêche roulante 5.3 m + disques + rouleaux","Bêche roulante 5.3 m + disques + rouleaux","Bêche roulante 5.3 m + disques + rouleaux","Bêche roulante 5.3 m + disques + rouleaux","Bêche roulante 5.3 m + disques + rouleaux","Bêche roulante 5.3 m + disques + rouleaux","Bêche roulante 5.3 m + disques + rouleaux","Bêche roulante 5.3 m + disques + rouleaux","Bêche roulante 5.3 m + disques + rouleaux","Bêche roulante 5.3 m + disques + rouleaux","Bêche roulante 5.3 m + disques + rouleaux","Bêche roulante 5.3 m + disques + rouleaux","Bêche roulante 5.3 m + disques + rouleaux","Bêche roulante 5.3 m + disques + rouleaux","Bêche roulante 5.3 m + disques + rouleaux","Bêche roulante 5.3 m + disques + rouleaux","Bêche roulante 5.3 m + disques + rouleaux","Bêche roulante 5.3 m + disques + rouleaux","Bêche roulante 5.3 m + disques + rouleaux","Bêche roulante 5.3 m + disques + rouleaux","Bêche roulante 5.3 m + disques + rouleaux","Bêche roulante 5.3 m + disques + rouleaux","Bêche roulante 5.3 m + disques + rouleaux","Bêche roulante 5.3 m + disques + rouleaux","Bêche roulante 5.3 m + disques + rouleaux","Bêche roulante 5.3 m + disques + rouleaux","Bêche roulante 5.3 m + disques + rouleaux","Bêche roulante 5.3 m + disques + rouleaux","Bêche roulante 5.3 m + disques + rouleaux","Bêche roulante 5.3 m + disques + rouleaux","Bêche roulante 5.3 m + disques + rouleaux","Bêche roulante 5.3 m + disques + rouleaux","Bêche roulante 5.3 m + disques + rouleaux","Bêche roulante 5.3 m + disques + rouleaux","Bêche roulante 5.3 m + disques + rouleaux","Bêche roulante 5.3 m + disques + rouleaux","Bêche roulante 5.3 m + disques + rouleaux","Bêche roulante 5.3 m + disques + rouleaux","Bêche roulante 5.3 m + disques + rouleaux","Bêche roulante 5.3 m + disques + rouleaux","Bêche roulante 5.3 m + disques + rouleaux","Bêche roulante 5.3 m + disques + rouleaux","Bêche roulante 5.3 m + disques + rouleaux","Bêche roulante 5.3 m + disques + rouleaux","Bêche roulante 5.3 m + disques + rouleaux","Bêche roulante 5.3 m + disques + rouleaux","Bêche roulante 5.3 m + disques + rouleaux","Bêche roulante 5.3 m + disques + rouleaux","Bêche roulante 5.3 m + disques + rouleaux","Bêche roulante 5.3 m + disques + rouleaux","Bêche roulante 5.3 m + disques + rouleaux","Bêche roulante 5.3 m + disques + rouleaux","Bêche roulante 5.3 m + disques + rouleaux","Bêche roulante 5.3 m + disques + rouleaux","Bêche roulante 5.3 m + disques + rouleaux","Bêche roulante 5.3 m + disques + rouleaux","Bêche roulante 5.3 m + disques + rouleaux","Bêche roulante 5.3 m + disques + rouleaux","Bêche roulante 5.3 m + disques + rouleaux","Bêche roulante 5.3 m + disques + rouleaux","Bêche roulante 5.3 m + disques + rouleaux","Bêche roulante 5.3 m + disques + rouleaux","Bêche roulante 5.3 m + disques + rouleaux","Bêche roulante 5.3 m + disques + rouleaux","Bêche roulante 5.3 m + disques + rouleaux","Bêche roulante 5.3 m + disques + rouleaux","Bêche roulante 5.3 m + disques + rouleaux","Bêche roulante 5.3 m + disques + rouleaux","Bêche roulante 5.3 m + disques + rouleaux","Bêche roulante 5.3 m + disques + rouleaux","Bêche roulante 5.3 m + disques + rouleaux","Bêche roulante 5.3 m + disques + rouleaux","Bêche roulante 5.3 m + disques + rouleaux","Bêche roulante 5.3 m + disques + rouleaux","Bêche roulante 5.3 m + disques + rouleaux","Bêche roulante 5.3 m + disques + rouleaux","Bêche roulante 5.3 m + disques + rouleaux","Bêche roulante 5.3 m + disques + rouleaux","Bêche roulante 5.3 m + disques + rouleaux","Bêche roulante 5.3 m + disques + rouleaux","Bêche roulante 5.3 m + disques + rouleaux","Bêche roulante 5.3 m + disques + rouleaux","Bêche roulante 5.3 m + disques + rouleaux","Bêche roulante 5.3 m + disques + rouleaux","Bêche roulante 5.3 m + disques + rouleaux","Bêche roulante 5.3 m + disques + rouleaux","Bêche roulante 5.3 m + disques + rouleaux","Bêche roulante 5.3 m + disques + rouleaux","Bêche roulante 5.3 m + disques + rouleaux","Bêche roulante 5.3 m + disques + rouleaux","Bêche roulante 5.3 m + disques + rouleaux","Bêche roulante 5.3 m + disques + rouleaux","Bêche roulante 5.3 m + disques + rouleaux","Bêche roulante 5.3 m + disques + rouleaux","Bêche roulante 5.3 m + disques + rouleaux","Bêche roulante 5.3 m + disques + rouleaux","Bêche roulante 5.3 m + disques + rouleaux","Bêche roulante 5.3 m + disques + rouleaux","Bêche roulante 5.3 m + disques + rouleaux","Bêche roulante 5.3 m + disques + rouleaux","Bêche roulante 5.3 m + disques + rouleaux","Bêche roulante 5.3 m + disques + rouleaux","Bêche roulante 5.3 m + disques + rouleaux","Bêche roulante 5.3 m + disques + rouleaux","Bêche roulante 5.3 m + disques + rouleaux","Bêche roulante 5.3 m + disques + rouleaux","Bêche roulante 5.3 m + disques + rouleaux","Bêche roulante 5.3 m + disques + rouleaux","Bêche roulante 5.3 m + disques + rouleaux","Bêche roulante 5.3 m + disques + rouleaux","Bêche roulante 5.3 m + disques + rouleaux","Bêche roulante 5.3 m + disques + rouleaux","Bêche roulante 5.3 m + disques + rouleaux","Bêche roulante 5.3 m + disques + rouleaux","Bêche roulante 5.3 m + disques + rouleaux","Bêche roulante 5.3 m + disques + rouleaux","Bêche roulante 5.3 m + disques + rouleaux","Bêche roulante 5.3 m + disques + rouleaux","Bêche roulante 5.3 m + disques + rouleaux","Bêche roulante 5.3 m + disques + rouleaux","Bêche roulante 5.3 m + disques + rouleaux","Bêche roulante 5.3 m + disques + rouleaux","Bêche roulante 5.3 m + disques + rouleaux","Bêche roulante 5.3 m + disques + rouleaux","Bêche roulante 5.3 m + disques + rouleaux","Bêche roulante 5.3 m + disques + rouleaux","Bêche roulante 5.3 m + disques + rouleaux","Bêche roulante 5.3 m + disques + rouleaux","Bêche roulante 5.3 m + disques + rouleaux","Bêche roulante 5.3 m + disques + rouleaux","Bêche roulante 5.3 m + disques + rouleaux","Bêche roulante 5.3 m + disques + rouleaux","Bêche roulante 5.3 m + disques + rouleaux","Bêche roulante 5.3 m + disques + rouleaux","Bêche roulante 5.3 m + disques + rouleaux","Bêche roulante 5.3 m + disques + rouleaux","Bêche roulante 5.3 m + disques + rouleaux","Bêche roulante 5.3 m + disques + rouleaux","Bêche roulante 5.3 m + disques + rouleaux","Bêche roulante 5.3 m + disques + rouleaux","Bêche roulante 5.3 m + disques + rouleaux","Bêche roulante 5.3 m + disques + rouleaux","Bêche roulante 5.3 m + disques + rouleaux","Bêche roulante 5.3 m + disques + rouleaux","Bêche roulante 5.3 m + disques + rouleaux","Bêche roulante 5.3 m + disques + rouleaux","Bêche roulante 5.3 m + disques + rouleaux","Bêche roulante 5.3 m + disques + rouleaux","Bêche roulante 5.3 m + disques + rouleaux","Bêche roulante 5.3 m + disques + rouleaux","Bêche roulante 5.3 m + disques + rouleaux","Bêche roulante 5.3 m + disques + rouleaux","Bêche roulante 5.3 m + disques + rouleaux","Bêche roulante 5.3 m + disques + rouleaux","Bêche roulante 5.3 m + disques + rouleaux","Bêche roulante 5.3 m + disques + rouleaux","Bêche roulante 5.3 m + disques + rouleaux","Bêche roulante 5.3 m + disques + rouleaux","Bêche roulante 5.3 m + disques + rouleaux","Bêche roulante 5.3 m + disques + rouleaux","Bêche roulante 5.3 m + disques + rouleaux","Bêche roulante 5.3 m + disques + rouleaux","Bêche roulante 5.3 m + disques + rouleaux","Bêche roulante 5.3 m + disques + rouleaux","Bêche roulante 5.3 m + disques + rouleaux","Bêche roulante 5.3 m + disques + rouleaux","Bêche roulante 5.3 m + disques + rouleaux","Bêche roulante 5.3 m + disques + rouleaux","Bêche roulante 5.3 m + disques + rouleaux","Bêche roulante 5.3 m + disques + rouleaux","Bêche roulante 5.3 m + disques + rouleaux","Bêche roulante 5.3 m + disques + rouleaux","Bêche roulante 5.3 m + disques + rouleaux","Bêche roulante 5.3 m + disques + rouleaux","Bêche roulante 5.3 m + disques + rouleaux","Bêche roulante 5.3 m + disques + rouleaux","Bêche roulante 5.3 m + disques + rouleaux","Bêche roulante 5.3 m + disques + rouleaux","Bêche roulante 5.3 m + disques + rouleaux","Bêche roulante 5.3 m + disques + rouleaux","Bêche roulante 5.3 m + disques + rouleaux","Bêche roulante 5.3 m + disques + rouleaux","Bêche roulante 5.3 m + disques + rouleaux","Bêche roulante 5.3 m + disques + rouleaux","Bêche roulante 5.3 m + disques + rouleaux","Bêche roulante 5.3 m + disques + rouleaux","Bêche roulante 5.3 m + disques + rouleaux","Bêche roulante 5.3 m + disques + rouleaux","Bêche roulante 5.3 m + disques + rouleaux","Bêche roulante 5.3 m + disques + rouleaux","Bêche roulante 5.3 m + disques + rouleaux","Bêche roulante 5.3 m + disques + rouleaux","Bêche roulante 5.3 m + disques + rouleaux","Bêche roulante 5.3 m + disques + rouleaux","Bêche roulante 5.3 m + disques + rouleaux","Bêche roulante 5.3 m + disques + rouleaux","Bêche roulante 5.3 m + disques + rouleaux","Bêche roulante 5.3 m + disques + rouleaux","Bêche roulante 5.3 m + disques + rouleaux","Bêche roulante 5.3 m + disques + rouleaux","Bêche roulante 5.3 m + disques + rouleaux","Bêche roulante 5.3 m + disques + rouleaux","Bêche roulante 5.3 m + disques + rouleaux","Bêche roulante 5.3 m + disques + rouleaux","Bêche roulante 5.3 m + disques + rouleaux","Bêche roulante 5.3 m + disques + rouleaux","Bêche roulante 5.3 m + disques + rouleaux","Bêche roulante 5.3 m + disques + rouleaux","Bêche roulante 5.3 m + disques + rouleaux","Bêche roulante 5.3 m + disques + rouleaux","Bêche roulante 5.3 m + disques + rouleaux","Bêche roulante 5.3 m + disques + rouleaux","Bêche roulante 5.3 m + disques + rouleaux","Bêche roulante 5.3 m + disques + rouleaux","Bêche roulante 5.3 m + disques + rouleaux","Bêche roulante 5.3 m + disques + rouleaux","Bêche roulante 5.3 m + disques + rouleaux","Bêche roulante 5.3 m + disques + rouleaux","Bêche roulante 5.3 m + disques + rouleaux","Bêche roulante 5.3 m + disques + rouleaux","Bêche roulante 5.3 m + disques + rouleaux","Bêche roulante 5.3 m + disques + rouleaux","Bêche roulante 5.3 m + disques + rouleaux","Bêche roulante 5.3 m + disques + rouleaux","Bêche roulante 5.3 m + disques + rouleaux","Bêche roulante 5.3 m + disques + rouleaux","Bêche roulante 5.3 m + disques + rouleaux","Bêche roulante 5.3 m + disques + rouleaux","Bêche roulante 5.3 m + disques + rouleaux","Bêche roulante 5.3 m + disques + rouleaux","Bêche roulante 5.3 m + disques + rouleaux","Bêche roulante 5.3 m + disques + rouleaux","Bêche roulante 5.3 m + disques + rouleaux","Bêche roulante 5.3 m + disques + rouleaux","Bêche roulante 5.3 m + disques + rouleaux","Bêche roulante 5.3 m + disques + rouleaux","Bêche roulante 5.3 m + disques + rouleaux","Bêche roulante 5.3 m + disques + rouleaux","Bêche roulante 5.3 m + disques + rouleaux","Bêche roulante 5.3 m + disques + rouleaux","Bêche roulante 5.3 m + disques + rouleaux","Bêche roulante 5.3 m + disques + rouleaux","Bêche roulante 5.3 m + disques + rouleaux","Bêche roulante 5.3 m + disques + rouleaux","Bêche roulante 5.3 m + disques + rouleaux","Bêche roulante 5.3 m + disques + rouleaux","Bêche roulante 5.3 m + disques + rouleaux","Bêche roulante 5.3 m + disques + rouleaux","Bêche roulante 5.3 m + disques + rouleaux","Bêche roulante 5.3 m + disques + rouleaux","Bêche roulante 5.3 m + disques + rouleaux","Bêche roulante 5.3 m + disques + rouleaux","Bêche roulante 5.3 m + disques + rouleaux","Bêche roulante 5.3 m + disques + rouleaux","Bêche roulante 5.3 m + disques + rouleaux","Bêche roulante 5.3 m + disques + rouleaux","Bêche roulante 5.3 m + disques + rouleaux","Bêche roulante 5.3 m + disques + rouleaux","Bêche roulante 5.3 m + disques + rouleaux","Bêche roulante 5.3 m + disques + rouleaux","Bêche roulante 5.3 m + disques + rouleaux","Bêche roulante 5.3 m + disques + rouleaux","Bêche roulante 5.3 m + disques + rouleaux","Bêche roulante 5.3 m + disques + rouleaux","Bêche roulante 5.3 m + disques + rouleaux","Bêche roulante 5.3 m + disques + rouleaux","Bêche roulante 5.3 m + disques + rouleaux","Bêche roulante 5.3 m + disques + rouleaux","Bêche roulante 5.3 m + disques + rouleaux","Bêche roulante 5.3 m + disques + rouleaux","Bêche roulante 5.3 m + disques + rouleaux","Bêche roulante 5.3 m + disques + rouleaux","Bêche roulante 5.3 m + disques + rouleaux","Bêche roulante 5.3 m + disques + rouleaux","Bêche roulante 5.3 m + disques + rouleaux","Bêche roulante 5.3 m + disques + rouleaux","Bêche roulante 5.3 m + disques + rouleaux","Bêche roulante 5.3 m + disques + rouleaux","Bêche roulante 5.3 m + disques + rouleaux","Bêche roulante 5.3 m + disques + rouleaux","Bêche roulante 5.3 m + disques + rouleaux","Bêche roulante 5.3 m + disques + rouleaux","Bêche roulante 5.3 m + disques + rouleaux","Bêche roulante 5.3 m + disques + rouleaux","Bêche roulante 5.3 m + disques + rouleaux","Bêche roulante 5.3 m + disques + rouleaux","Bêche roulante 5.3 m + disques + rouleaux","Bêche roulante 5.3 m + disques + rouleaux","Bêche roulante 5.3 m + disques + rouleaux","Bêche roulante 5.3 m + disques + rouleaux","Bêche roulante 5.3 m + disques + rouleaux","Bêche roulante 5.3 m + disques + rouleaux","Bêche roulante 5.3 m + disques + rouleaux","Bêche roulante 5.3 m + disques + rouleaux","Bêche roulante 5.3 m + disques + rouleaux","Bêche roulante 5.3 m + disques + rouleaux","Bêche roulante 5.3 m + disques + rouleaux","Bêche roulante 5.3 m + disques + rouleaux","Bêche roulante 5.3 m + disques + rouleaux","Bêche roulante 5.3 m + disques + rouleaux","Bêche roulante 5.3 m + disques + rouleaux","Bêche roulante 5.3 m + disques + rouleaux","Bêche roulante 5.3 m + disques + rouleaux","Bêche roulante 5.3 m + disques + rouleaux","Bêche roulante 5.3 m + disques + rouleaux","Bêche roulante 5.3 m + disques + rouleaux","Bêche roulante 5.3 m + disques + rouleaux","Bêche roulante 5.3 m + disques + rouleaux","Bêche roulante 5.3 m + disques + rouleaux","Bêche roulante 5.3 m + disques + rouleaux","Bêche roulante 5.3 m + disques + rouleaux","Bêche roulante 5.3 m + disques + rouleaux","Bêche roulante 5.3 m + disques + rouleaux","Bêche roulante 5.3 m + disques + rouleaux","Bêche roulante 5.3 m + disques + rouleaux","Bêche roulante 5.3 m + disques + rouleaux","Bêche roulante 5.3 m + disques + rouleaux","Bêche roulante 5.3 m + disques + rouleaux","Bêche roulante 5.3 m + disques + rouleaux","Bêche roulante 5.3 m + disques + rouleaux","Bêche roulante 5.3 m + disques + rouleaux","Bêche roulante 5.3 m + disques + rouleaux","Bêche roulante 5.3 m + disques + rouleaux","Bêche roulante 5.3 m + disques + rouleaux","Bêche roulante 5.3 m + disques + rouleaux","Bêche roulante 5.3 m + disques + rouleaux","Bêche roulante 5.3 m + disques + rouleaux","Bêche roulante 5.3 m + disques + rouleaux","Bêche roulante 5.3 m + disques + rouleaux","Bêche roulante 5.3 m + disques + rouleaux","Bêche roulante 5.3 m + disques + rouleaux","Bêche roulante 5.3 m + disques + rouleaux","Bêche roulante 5.3 m + disques + rouleaux","Bêche roulante 5.3 m + disques + rouleaux","Bêche roulante 5.3 m + disques + rouleaux","Bêche roulante 5.3 m + disques + rouleaux","Bêche roulante 5.3 m + disques + rouleaux","Bêche roulante 5.3 m + disques + rouleaux","Bêche roulante 5.3 m + disques + rouleaux","Bêche roulante 5.3 m + disques + rouleaux","Bêche roulante 5.3 m + disques + rouleaux","Bêche roulante 5.3 m + disques + rouleaux","Bêche roulante 5.3 m + disques + rouleaux","Bêche roulante 5.3 m + disques + rouleaux","Bêche roulante 5.3 m + disques + rouleaux","Bêche roulante 5.3 m + disques + rouleaux","Bêche roulante 5.3 m + disques + rouleaux","Bêche roulante 5.3 m + disques + rouleaux","Bêche roulante 5.3 m + disques + rouleaux","Bêche roulante 5.3 m + disques + rouleaux","Bêche roulante 5.3 m + disques + rouleaux","Bêche roulante 5.3 m + disques + rouleaux","Bêche roulante 5.3 m + disques + rouleaux","Bêche roulante 5.3 m + disques + rouleaux","Bêche roulante 5.3 m + disques + rouleaux","Bêche roulante 5.3 m + disques + rouleaux","Bêche roulante 5.3 m + disques + rouleaux","Bêche roulante 5.3 m + disques + rouleaux","Bêche roulante 5.3 m + disques + rouleaux","Bêche roulante 5.3 m + disques + rouleaux","Bêche roulante 5.3 m + disques + rouleaux","Bêche roulante 5.3 m + disques + rouleaux","Bêche roulante 5.3 m + disques + rouleaux","Bêche roulante 5.3 m + disques + rouleaux","Bêche roulante 5.3 m + disques + rouleaux","Bêche roulante 5.3 m + disques + rouleaux","Bêche roulante 5.3 m + disques + rouleaux","Bêche roulante 5.3 m + disques + rouleaux","Bêche roulante 5.3 m + disques + rouleaux","Bêche roulante 5.3 m + disques + rouleaux","Bêche roulante 5.3 m + disques + rouleaux","Bêche roulante 5.3 m + disques + rouleaux","Bêche roulante 5.3 m + disques + rouleaux","Bêche roulante 5.3 m + disques + rouleaux","Bêche roulante 5.3 m + disques + rouleaux","Bêche roulante 5.3 m + disques + rouleaux","Bêche roulante 5.3 m + disques + rouleaux","Bêche roulante 5.3 m + disques + rouleaux","Bêche roulante 5.3 m + disques + rouleaux","Bêche roulante 5.3 m + disques + rouleaux","Bêche roulante 5.3 m + disques + rouleaux","Bêche roulante 5.3 m + disques + rouleaux","Bêche roulante 5.3 m + disques + rouleaux","Bêche roulante 5.3 m + disques + rouleaux","Bêche roulante 5.3 m + disques + rouleaux","Bêche roulante 5.3 m + disques + rouleaux","Bêche roulante 5.3 m + disques + rouleaux","Bêche roulante 5.3 m + disques + rouleaux","Bêche roulante 5.3 m + disques + rouleaux","Bêche roulante 5.3 m + disques + rouleaux","Bêche roulante 5.3 m + disques + rouleaux","Bêche roulante 5.3 m + disques + rouleaux","Bêche roulante 5.3 m + disques + rouleaux","Bêche roulante 5.3 m + disques + rouleaux","Bêche roulante 5.3 m + disques + rouleaux","Bêche roulante 5.3 m + disques + rouleaux","Bêche roulante 5.3 m + disques + rouleaux","Bêche roulante 5.3 m + disques + rouleaux","Bêche roulante 5.3 m + disques + rouleaux","Bêche roulante 5.3 m + disques + rouleaux","Bêche roulante 5.3 m + disques + rouleaux","Bêche roulante 5.3 m + disques + rouleaux","Bêche roulante 5.3 m + disques + rouleaux","Bêche roulante 5.3 m + disques + rouleaux","Bêche roulante 5.3 m + disques + rouleaux","Bêche roulante 5.3 m + disques + rouleaux","Bêche roulante 5.3 m + disques + rouleaux","Bêche roulante 5.3 m + disques + rouleaux","Bêche roulante 5.3 m + disques + rouleaux","Bêche roulante 5.3 m + disques + rouleaux","Bêche roulante 5.3 m + disques + rouleaux","Bêche roulante 5.3 m + disques + rouleaux","Bêche roulante 5.3 m + disques + rouleaux","Bêche roulante 5.3 m + disques + rouleaux","Bêche roulante 5.3 m + disques + rouleaux","Bêche roulante 5.3 m + disques + rouleaux","Bêche roulante 5.3 m + disques + rouleaux","Bêche roulante 5.3 m + disques + rouleaux","Bêche roulante 5.3 m + disques + rouleaux","Bêche roulante 5.3 m + disques + rouleaux","Bêche roulante 5.3 m + disques + rouleaux","Bêche roulante 5.3 m + disques + rouleaux","Bêche roulante 5.3 m + disques + rouleaux","Bêche roulante 5.3 m + disques + rouleaux","Bêche roulante 5.3 m + disques + rouleaux","Bêche roulante 5.3 m + disques + rouleaux","Bêche roulante 5.3 m + disques + rouleaux","Bêche roulante 5.3 m + disques + rouleaux","Bêche roulante 5.3 m + disques + rouleaux","Bêche roulante 5.3 m + disques + rouleaux","Bêche roulante 5.3 m + disques + rouleaux","Bêche roulante 5.3 m + disques + rouleaux","Bêche roulante 5.3 m + disques + rouleaux","Bêche roulante 5.3 m + disques + rouleaux","Bêche roulante 5.3 m + disques + rouleaux","Bêche roulante 5.3 m + disques + rouleaux","Bêche roulante 5.3 m + disques + rouleaux","Bêche roulante 5.3 m + disques + rouleaux","Bêche roulante 5.3 m + disques + rouleaux","Bêche roulante 5.3 m + disques + rouleaux","Bêche roulante 5.3 m + disques + rouleaux","Bêche roulante 5.3 m + disques + rouleaux","Bêche roulante 5.3 m + disques + rouleaux","Bêche roulante 5.3 m + disques + rouleaux","Bêche roulante 5.3 m + disques + rouleaux","Bêche roulante 5.3 m + disques + rouleaux","Bêche roulante 5.3 m + disques + rouleaux","Bêche roulante 5.3 m + disques + rouleaux","Bêche roulante 5.3 m + disques + rouleaux","Bêche roulante 5.3 m + disques + rouleaux","Bêche roulante 5.3 m + disques + rouleaux","Bêche roulante 5.3 m + disques + rouleaux","Bêche roulante 5.3 m + disques + rouleaux","Bêche roulante 5.3 m + disques + rouleaux","Bêche roulante 5.3 m + disques + rouleaux","Bêche roulante 5.3 m + disques + rouleaux","Bêche roulante 5.3 m + disques + rouleaux","Bêche roulante 5.3 m + disques + rouleaux","Bêche roulante 5.3 m + disques + rouleaux","Bêche roulante 5.3 m + disques + rouleaux","Bêche roulante 5.3 m + disques + rouleaux","Bêche roulante 5.3 m + disques + rouleaux","Bêche roulante 5.3 m + disques + rouleaux","Bêche roulante 5.3 m + disques + rouleaux","Bêche roulante 5.3 m + disques + rouleaux","Bêche roulante 5.3 m + disques + rouleaux","Bêche roulante 5.3 m + disques + rouleaux","Bêche roulante 5.3 m + disques + rouleaux","Bêche roulante 5.3 m + disques + rouleaux","Bêche roulante 5.3 m + disques + rouleaux","Bêche roulante 5.3 m + disques + rouleaux","Bêche roulante 5.3 m + disques + rouleaux","Bêche roulante 5.3 m + disques + rouleaux","Bêche roulante 5.3 m + disques + rouleaux","Bêche roulante 5.3 m + disques + rouleaux","Bêche roulante 5.3 m + disques + rouleaux","Bêche roulante 5.3 m + disques + rouleaux","Bêche roulante 5.3 m + disques + rouleaux","Bêche roulante 5.3 m + disques + rouleaux","Bêche roulante 5.3 m + disques + rouleaux","Bêche roulante 5.3 m + disques + rouleaux","Bêche roulante 5.3 m + disques + rouleaux","Bêche roulante 5.3 m + disques + rouleaux","Bêche roulante 5.3 m + disques + rouleaux","Bêche roulante 5.3 m + disques + rouleaux","Bêche roulante 5.3 m + disques + rouleaux","Bêche roulante 5.3 m + disques + rouleaux","Bêche roulante 5.3 m + disques + rouleaux","Bêche roulante 5.3 m + disques + rouleaux","Bêche roulante 5.3 m + disques + rouleaux","Bêche roulante 5.3 m + disques + rouleaux","Bêche roulante 5.3 m + disques + rouleaux","Bêche roulante 5.3 m + disques + rouleaux","Bêche roulante 5.3 m + disques + rouleaux","Bêche roulante 5.3 m + disques + rouleaux","Bêche roulante 5.3 m + disques + rouleaux","Bêche roulante 5.3 m + disques + rouleaux","Bêche roulante 5.3 m + disques + rouleaux","Bêche roulante 5.3 m + disques + rouleaux","Bêche roulante 5.3 m + disques + rouleaux","Bêche roulante 5.3 m + disques + rouleaux","Bêche roulante 5.3 m + disques + rouleaux","Bêche roulante 5.3 m + disques + rouleaux","Bêche roulante 5.3 m + disques + rouleaux","Bêche roulante 5.3 m + disques + rouleaux","Bêche roulante 5.3 m + disques + rouleaux","Bêche roulante 5.3 m + disques + rouleaux","Bêche roulante 5.3 m + disques + rouleaux","Bêche roulante 5.3 m + disques + rouleaux","Bêche roulante 5.3 m + disques + rouleaux","Bêche roulante 5.3 m + disques + rouleaux","Bêche roulante 5.3 m + disques + rouleaux","Bêche roulante 5.3 m + disques + rouleaux","Bêche roulante 5.3 m + disques + rouleaux","Bêche roulante 5.3 m + disques + rouleaux","Bêche roulante 5.3 m + disques + rouleaux","Bêche roulante 5.3 m + disques + rouleaux","Bêche roulante 5.3 m + disques + rouleaux","Bêche roulante 5.3 m + disques + rouleaux","Bêche roulante 5.3 m + disques + rouleaux","Bêche roulante 5.3 m + disques + rouleaux","Bêche roulante 5.3 m + disques + rouleaux","Bêche roulante 5.3 m + disques + rouleaux","Bêche roulante 5.3 m + disques + rouleaux","Bêche roulante 5.3 m + disques + rouleaux","Bêche roulante 5.3 m + disques + rouleaux","Bêche roulante 5.3 m + disques + rouleaux","Bêche roulante 5.3 m + disques + rouleaux","Bêche roulante 5.3 m + disques + rouleaux","Bêche roulante 5.3 m + disques + rouleaux","Bêche roulante 5.3 m + disques + rouleaux","Bêche roulante 5.3 m + disques + rouleaux","Bêche roulante 5.3 m + disques + rouleaux","Bêche roulante 5.3 m + disques + rouleaux","Bêche roulante 5.3 m + disques + rouleaux","Bêche roulante 5.3 m + disques + rouleaux","Bêche roulante 5.3 m + disques + rouleaux","Bêche roulante 5.3 m + disques + rouleaux","Bêche roulante 5.3 m + disques + rouleaux","Bêche roulante 5.3 m + disques + rouleaux","Bêche roulante 5.3 m + disques + rouleaux","Bêche roulante 5.3 m + disques + rouleaux","Bêche roulante 5.3 m + disques + rouleaux","Bêche roulante 5.3 m + disques + rouleaux","Bêche roulante 5.3 m + disques + rouleaux","Bêche roulante 5.3 m + disques + rouleaux","Bêche roulante 5.3 m + disques + rouleaux","Bêche roulante 5.3 m + disques + rouleaux","Bêche roulante 5.3 m + disques + rouleaux","Bêche roulante 5.3 m + disques + rouleaux","Bêche roulante 5.3 m + disques + rouleaux","Bêche roulante 5.3 m + disques + rouleaux","Bêche roulante 5.3 m + disques + rouleaux","Bêche roulante 5.3 m + disques + rouleaux","Bêche roulante 5.3 m + disques + rouleaux","Bêche roulante 5.3 m + disques + rouleaux","Bêche roulante 5.3 m + disques + rouleaux","Bêche roulante 5.3 m + disques + rouleaux","Bêche roulante 5.3 m + disques + rouleaux","Bêche roulante 5.3 m + disques + rouleaux","Bêche roulante 5.3 m + disques + rouleaux","Bêche roulante 5.3 m + disques + rouleaux","Bêche roulante 5.3 m + disques + rouleaux","Bêche roulante 5.3 m + disques + rouleaux","Bêche roulante 5.3 m + disques + rouleaux","Bêche roulante 5.3 m + disques + rouleaux","Bêche roulante 5.3 m + disques + rouleaux","Bêche roulante 5.3 m + disques + rouleaux","Bêche roulante 5.3 m + disques + rouleaux","Bêche roulante 5.3 m + disques + rouleaux","Bêche roulante 5.3 m + disques + rouleaux","Bêche roulante 5.3 m + disques + rouleaux","Bêche roulante 5.3 m + disques + rouleaux","Bêche roulante 5.3 m + disques + rouleaux","Bêche roulante 5.3 m + disques + rouleaux","Bêche roulante 5.3 m + disques + rouleaux","Bêche roulante 5.3 m + disques + rouleaux","Bêche roulante 5.3 m + disques + rouleaux","Bêche roulante 5.3 m + disques + rouleaux","Bêche roulante 5.3 m + disques + rouleaux","Bêche roulante 5.3 m + disques + rouleaux","Bêche roulante 5.3 m + disques + rouleaux","Bêche roulante 5.3 m + disques + rouleaux","Bêche roulante 5.3 m + disques + rouleaux","Bêche roulante 5.3 m + disques + rouleaux","Bêche roulante 5.3 m + disques + rouleaux","Bêche roulante 5.3 m + disques + rouleaux","Bêche roulante 5.3 m + disques + rouleaux","Bêche roulante 5.3 m + disques + rouleaux","Bêche roulante 5.3 m + disques + rouleaux","Bêche roulante 5.3 m + disques + rouleaux","Bêche roulante 5.3 m + disques + rouleaux","Bêche roulante 5.3 m + disques + rouleaux","Bêche roulante 5.3 m + disques + rouleaux","Bêche roulante 5.3 m + disques + rouleaux","Bêche roulante 5.3 m + disques + rouleaux","Bêche roulante 5.3 m + disques + rouleaux","Bêche roulante 5.3 m + disques + rouleaux","Bêche roulante 5.3 m + disques + rouleaux","Bêche roulante 5.3 m + disques + rouleaux","Bêche roulante 5.3 m + disques + rouleaux","Bêche roulante 5.3 m + disques + rouleaux","Bêche roulante 5.3 m + disques + rouleaux","Bêche roulante 5.3 m + disques + rouleaux","Bêche roulante 5.3 m + disques + rouleaux","Bêche roulante 5.3 m + disques + rouleaux","Bêche roulante 5.3 m + disques + rouleaux","Bêche roulante 5.3 m + disques + rouleaux","Bêche roulante 5.3 m + disques + rouleaux","Bêche roulante 5.3 m + disques + rouleaux","Bêche roulante 5.3 m + disques + rouleaux","Bêche roulante 5.3 m + disques + rouleaux","Bêche roulante 5.3 m + disques + rouleaux","Bêche roulante 5.3 m + disques + rouleaux","Bêche roulante 5.3 m + disques + rouleaux","Bêche roulante 5.3 m + disques + rouleaux","Bêche roulante 5.3 m + disques + rouleaux","Bêche roulante 5.3 m + disques + rouleaux","Bêche roulante 5.3 m + disques + rouleaux","Bêche roulante 5.3 m + disques + rouleaux","Bêche roulante 5.3 m + disques + rouleaux","Bêche roulante 5.3 m + disques + rouleaux","Bêche roulante 5.3 m + disques + rouleaux","Bêche roulante 5.3 m + disques + rouleaux","Bêche roulante 5.3 m + disques + rouleaux","Bêche roulante 5.3 m + disques + rouleaux","Bêche roulante 5.3 m + disques + rouleaux","Bêche roulante 5.3 m + disques + rouleaux","Bêche roulante 5.3 m + disques + rouleaux","Bêche roulante 5.3 m + disques + rouleaux","Bêche roulante 5.3 m + disques + rouleaux","Bêche roulante 5.3 m + disques + rouleaux","Bêche roulante 5.3 m + disques + rouleaux","Bêche roulante 5.3 m + disques + rouleaux","Bêche roulante 5.3 m + disques + rouleaux","Bêche roulante 5.3 m + disques + rouleaux","Bêche roulante 5.3 m + disques + rouleaux","Bêche roulante 5.3 m + disques + rouleaux","Bêche roulante 5.3 m + disques + rouleaux","Bêche roulante 5.3 m + disques + rouleaux","Bêche roulante 5.3 m + disques + rouleaux","Bêche roulante 5.3 m + disques + rouleaux","Bêche roulante 5.3 m + disques + rouleaux","Bêche roulante 5.3 m + disques + rouleaux","Bêche roulante 5.3 m + disques + rouleaux","Bêche roulante 5.3 m + disques + rouleaux","Bêche roulante 5.3 m + disques + rouleaux","Bêche roulante 5.3 m + disques + rouleaux","Bêche roulante 5.3 m + disques + rouleaux","Bêche roulante 5.3 m + disques + rouleaux","Bêche roulante 5.3 m + disques + rouleaux","Bêche roulante 5.3 m + disques + rouleaux","Bêche roulante 5.3 m + disques + rouleaux","Bêche roulante 5.3 m + disques + rouleaux","Bêche roulante 5.3 m + disques + rouleaux","Bêche roulante 5.3 m + disques + rouleaux","Bêche roulante 5.3 m + disques + rouleaux","Bêche roulante 5.3 m + disques + rouleaux","Bêche roulante 5.3 m + disques + rouleaux","Bêche roulante 5.3 m + disques + rouleaux","Bêche roulante 5.3 m + disques + rouleaux","Bêche roulante 5.3 m + disques + rouleaux","Bêche roulante 5.3 m + disques + rouleaux","Bêche roulante 5.3 m + disques + rouleaux","Bêche roulante 5.3 m + disques + rouleaux","Bêche roulante 5.3 m + disques + rouleaux","Bêche roulante 5.3 m + disques + rouleaux","Bêche roulante 5.3 m + disques + rouleaux","Bêche roulante 5.3 m + disques + rouleaux","Bêche roulante 5.3 m + disques + rouleaux","Bêche roulante 5.3 m + disques + rouleaux","Bêche roulante 5.3 m + disques + rouleaux","Bêche roulante 5.3 m + disques + rouleaux","Bêche roulante 5.3 m + disques + rouleaux","Bêche roulante 5.3 m + disques + rouleaux","Bêche roulante 5.3 m + disques + rouleaux","Bêche roulante 5.3 m + disques + rouleaux","Bêche roulante 5.3 m + disques + rouleaux","Bêche roulante 5.3 m + disques + rouleaux","Bêche roulante 5.3 m + disques + rouleaux","Bêche roulante 5.3 m + disques + rouleaux","Bêche roulante 5.3 m + disques + rouleaux","Bêche roulante 5.3 m + disques + rouleaux","Bêche roulante 5.3 m + disques + rouleaux","Bêche roulante 5.3 m + disques + rouleaux","Bêche roulante 5.3 m + disques + rouleaux","Bêche roulante 5.3 m + disques + rouleaux","Bêche roulante 5.3 m + disques + rouleaux","Bêche roulante 5.3 m + disques + rouleaux","Bêche roulante 5.3 m + disques + rouleaux","Bêche roulante 5.3 m + disques + rouleaux","Bêche roulante 5.3 m + disques + rouleaux","Bêche roulante 5.3 m + disques + rouleaux","Bêche roulante 5.3 m + disques + rouleaux","Bêche roulante 5.3 m + disques + rouleaux","Bêche roulante 5.3 m + disques + rouleaux","Bêche roulante 5.3 m + disques + rouleaux","Bêche roulante 5.3 m + disques + rouleaux","Bêche roulante 5.3 m + disques + rouleaux","Bêche roulante 5.3 m + disques + rouleaux","Bêche roulante 5.3 m + disques + rouleaux","Bêche roulante 5.3 m + disques + rouleaux","Bêche roulante 5.3 m + disques + rouleaux","Bêche roulante 5.3 m + disques + rouleaux","Bêche roulante 5.3 m + disques + rouleaux","Bêche roulante 5.3 m + disques + rouleaux","Bêche roulante 5.3 m + disques + rouleaux","Bêche roulante 5.3 m + disques + rouleaux","Bêche roulante 5.3 m + disques + rouleaux","Bêche roulante 5.3 m + disques + rouleaux","Bêche roulante 5.3 m + disques + rouleaux","Bêche roulante 5.3 m + disques + rouleaux","Bêche roulante 5.3 m + disques + rouleaux","Bêche roulante 5.3 m + disques + rouleaux","Bêche roulante 5.3 m + disques + rouleaux","Bêche roulante 5.3 m + disques + rouleaux","Bêche roulante 5.3 m + disques + rouleaux","Bêche roulante 5.3 m + disques + rouleaux","Bêche roulante 5.3 m + disques + rouleaux","Bêche roulante 5.3 m + disques + rouleaux","Bêche roulante 5.3 m + disques + rouleaux","Bêche roulante 5.3 m + disques + rouleaux","Bêche roulante 5.3 m + disques + rouleaux","Bêche roulante 5.3 m + disques + rouleaux","Bêche roulante 5.3 m + disques + rouleaux","Bêche roulante 5.3 m + disques + rouleaux","Bêche roulante 5.3 m + disques + rouleaux","Bêche roulante 5.3 m + disques + rouleaux","Bêche roulante 5.3 m + disques + rouleaux","Bêche roulante 5.3 m + disques + rouleaux","Bêche roulante 5.3 m + disques + rouleaux","Bêche roulante 5.3 m + disques + rouleaux","Bêche roulante 5.3 m + disques + rouleaux","Bêche roulante 5.3 m + disques + rouleaux","Bêche roulante 5.3 m + disques + rouleaux","Bêche roulante 5.3 m + disques + rouleaux","Bêche roulante 5.3 m + disques + rouleaux","Bêche roulante 5.3 m + disques + rouleaux","Bêche roulante 5.3 m + disques + rouleaux","Bêche roulante 5.3 m + disques + rouleaux","Bêche roulante 5.3 m + disques + rouleaux","Bêche roulante 5.3 m + disques + rouleaux","Bêche roulante 5.3 m + disques + rouleaux","Bêche roulante 5.3 m + disques + rouleaux","Bêche roulante 5.3 m + disques + rouleaux","Bêche roulante 5.3 m + disques + rouleaux","Bêche roulante 5.3 m + disques + rouleaux","Bêche roulante 5.3 m + disques + rouleaux","Bêche roulante 5.3 m + disques + rouleaux","Bêche roulante 5.3 m + disques + rouleaux","Bêche roulante 5.3 m + disques + rouleaux","Bêche roulante 5.3 m + disques + rouleaux","Bêche roulante 5.3 m + disques + rouleaux","Bêche roulante 5.3 m + disques + rouleaux","Bêche roulante 5.3 m + disques + rouleaux","Bêche roulante 5.3 m + disques + rouleaux","Bêche roulante 5.3 m + disques + rouleaux","Bêche roulante 5.3 m + disques + rouleaux","Bêche roulante 5.3 m + disques + rouleaux","Bêche roulante 5.3 m + disques + rouleaux","Bêche roulante 5.3 m + disques + rouleaux","Bêche roulante 5.3 m + disques + rouleaux","Bêche roulante 5.3 m + disques + rouleaux","Bêche roulante 5.3 m + disques + rouleaux","Bêche roulante 5.3 m + disques + rouleaux","Bêche roulante 5.3 m + disques + rouleaux","Bêche roulante 5.3 m + disques + rouleaux","Bêche roulante 5.3 m + disques + rouleaux","Bêche roulante 5.3 m + disques + rouleaux","Bêche roulante 5.3 m + disques + rouleaux","Bêche roulante 5.3 m + disques + rouleaux","Bêche roulante 5.3 m + disques + rouleaux","Bêche roulante 5.3 m + disques + rouleaux","Bêche roulante 5.3 m + disques + rouleaux","Bêche roulante 5.3 m + disques + rouleaux","Bêche roulante 5.3 m + disques + rouleaux","Bêche roulante 5.3 m + disques + rouleaux","Bêche roulante 5.3 m + disques + rouleaux","Bêche roulante 5.3 m + disques + rouleaux","Bêche roulante 5.3 m + disques + rouleaux","Bêche roulante 5.3 m + disques + rouleaux","Bêche roulante 5.3 m + disques + rouleaux","Bêche roulante 5.3 m + disques + rouleaux","Bêche roulante 5.3 m + disques + rouleaux","Bêche roulante 5.3 m + disques + rouleaux","Bêche roulante 5.3 m + disques + rouleaux","Bêche roulante 5.3 m + disques + rouleaux","Bêche roulante 5.3 m + disques + rouleaux","Bêche roulante 5.3 m + disques + rouleaux","Bêche roulante 5.3 m + disques + rouleaux","Bêche roulante 5.3 m + disques + rouleaux","Bêche roulante 5.3 m + disques + rouleaux","Bêche roulante 5.3 m + disques + rouleaux","Bêche roulante 5.3 m + disques + rouleaux","Bêche roulante 5.3 m + disques + rouleaux","Bêche roulante 5.3 m + disques + rouleaux","Bêche roulante 5.3 m + disques + rouleaux","Bêche roulante 5.3 m + disques + rouleaux","Bêche roulante 5.3 m + disques + rouleaux","Bêche roulante 5.3 m + disques + rouleaux","Bêche roulante 5.3 m + disques + rouleaux","Bêche roulante 5.3 m + disques + rouleaux","Bêche roulante 5.3 m + disques + rouleaux","Bêche roulante 5.3 m + disques + rouleaux","Bêche roulante 5.3 m + disques + rouleaux","Bêche roulante 5.3 m + disques + rouleaux","Bêche roulante 5.3 m + disques + rouleaux","Bêche roulante 5.3 m + disques + rouleaux","Bêche roulante 5.3 m + disques + rouleaux","Bêche roulante 5.3 m + disques + rouleaux","Bêche roulante 5.3 m + disques + rouleaux","Bêche roulante 5.3 m + disques + rouleaux","Bêche roulante 5.3 m + disques + rouleaux","Bêche roulante 5.3 m + disques + rouleaux","Bêche roulante 5.3 m + disques + rouleaux","Bêche roulante 5.3 m + disques + rouleaux","Bêche roulante 5.3 m + disques + rouleaux","Bêche roulante 5.3 m + disques + rouleaux","Bêche roulante 5.3 m + disques + rouleaux","Bêche roulante 5.3 m + disques + rouleaux","Bêche roulante 5.3 m + disques + rouleaux","Bêche roulante 5.3 m + disques + rouleaux","Bêche roulante 5.3 m + disques + rouleaux","Bêche roulante 5.3 m + disques + rouleaux","Bêche roulante 5.3 m + disques + rouleaux","Bêche roulante 5.3 m + disques + rouleaux","Bêche roulante 5.3 m + disques + rouleaux","Bêche roulante 5.3 m + disques + rouleaux","Bêche roulante 5.3 m + disques + rouleaux","Bêche roulante 5.3 m + disques + rouleaux","Bêche roulante 5.3 m + disques + rouleaux","Bêche roulante 5.3 m + disques + rouleaux","Bêche roulante 5.3 m + disques + rouleaux","Bêche roulante 5.3 m + disques + rouleaux","Bêche roulante 5.3 m + disques + rouleaux","Bêche roulante 5.3 m + disques + rouleaux","Bêche roulante 5.3 m + disques + rouleaux","Bêche roulante 5.3 m + disques + rouleaux","Bêche roulante 5.3 m + disques + rouleaux","Bêche roulante 5.3 m + disques + rouleaux","Bêche roulante 5.3 m + disques + rouleaux","Bêche roulante 5.3 m + disques + rouleaux","Bêche roulante 5.3 m + disques + rouleaux","Bêche roulante 5.3 m + disques + rouleaux","Bêche roulante 5.3 m + disques + rouleaux","Bêche roulante 5.3 m + disques + rouleaux","Bêche roulante 5.3 m + disques + rouleaux","Bêche roulante 5.3 m + disques + rouleaux","Bêche roulante 5.3 m + disques + rouleaux","Bêche roulante 5.3 m + disques + rouleaux","Bêche roulante 5.3 m + disques + rouleaux","Bêche roulante 5.3 m + disques + rouleaux","Bêche roulante 5.3 m + disques + rouleaux","Bêche roulante 5.3 m + disques + rouleaux","Bêche roulante 5.3 m + disques + rouleaux","Bêche roulante 5.3 m + disques + rouleaux","Bêche roulante 5.3 m + disques + rouleaux","Bêche roulante 5.3 m + disques + rouleaux","Bêche roulante 5.3 m + disques + rouleaux","Bêche roulante 5.3 m + disques + rouleaux","Bêche roulante 5.3 m + disques + rouleaux","Bêche roulante 5.3 m + disques + rouleaux","Bêche roulante 5.3 m + disques + rouleaux","Bêche roulante 5.3 m + disques + rouleaux","Bêche roulante 5.3 m + disques + rouleaux","Bêche roulante 5.3 m + disques + rouleaux","Bêche roulante 5.3 m + disques + rouleaux","Bêche roulante 5.3 m + disques + rouleaux","Bêche roulante 5.3 m + disques + rouleaux","Bêche roulante 5.3 m + disques + rouleaux","Bêche roulante 5.3 m + disques + rouleaux","Bêche roulante 5.3 m + disques + rouleaux","Bêche roulante 5.3 m + disques + rouleaux","Bêche roulante 5.3 m + disques + rouleaux","Bêche roulante 5.3 m + disques + rouleaux","Bêche roulante 5.3 m + disques + rouleaux","Bêche roulante 5.3 m + disques + rouleaux","Bêche roulante 5.3 m + disques + rouleaux","Bêche roulante 5.3 m + disques + rouleaux","Bêche roulante 5.3 m + disques + rouleaux","Bêche roulante 5.3 m + disques + rouleaux","Bêche roulante 5.3 m + disques + rouleaux","Bêche roulante 5.3 m + disques + rouleaux","Bêche roulante 5.3 m + disques + rouleaux","Bêche roulante 5.3 m + disques + rouleaux","Bêche roulante 5.3 m + disques + rouleaux","Bêche roulante 5.3 m + disques + rouleaux","Bêche roulante 5.3 m + disques + rouleaux","Bêche roulante 5.3 m + disques + rouleaux","Bêche roulante 5.3 m + disques + rouleaux","Bêche roulante 5.3 m + disques + rouleaux","Bêche roulante 5.3 m + disques + rouleaux","Bêche roulante 5.3 m + disques + rouleaux","Bêche roulante 5.3 m + disques + rouleaux","Bêche roulante 5.3 m + disques + rouleaux","Bêche roulante 5.3 m + disques + rouleaux","Bêche roulante 5.3 m + disques + rouleaux","Bêche roulante 5.3 m + disques + rouleaux","Bêche roulante 5.3 m + disques + rouleaux","Bêche roulante 5.3 m + disques + rouleaux","Bêche roulante 5.3 m + disques + rouleaux","Bêche roulante 5.3 m + disques + rouleaux","Bêche roulante 5.3 m + disques + rouleaux","Bêche roulante 5.3 m + disques + rouleaux","Bêche roulante 5.3 m + disques + rouleaux","Bêche roulante 5.3 m + disques + rouleaux","Bêche roulante 5.3 m + disques + rouleaux","Bêche roulante 5.3 m + disques + rouleaux","Bêche roulante 5.3 m + disques + rouleaux","Bêche roulante 5.3 m + disques + rouleaux","Bêche roulante 5.3 m + disques + rouleaux","Bêche roulante 5.3 m + disques + rouleaux","Bêche roulante 5.3 m + disques + rouleaux","Bêche roulante 5.3 m + disques + rouleaux","Bêche roulante 5.3 m + disques + rouleaux","Bêche roulante 5.3 m + disques + rouleaux","Bêche roulante 5.3 m + disques + rouleaux","Bêche roulante 5.3 m + disques + rouleaux","Bêche roulante 5.3 m + disques + rouleaux","Bêche roulante 5.3 m + disques + rouleaux","Bêche roulante 5.3 m + disques + rouleaux","Bêche roulante 5.3 m + disques + rouleaux","Bêche roulante 5.3 m + disques + rouleaux","Bêche roulante 5.3 m + disques + rouleaux","Bêche roulante 5.3 m + disques + rouleaux","Bêche roulante 5.3 m + disques + rouleaux","Bêche roulante 5.3 m + disques + rouleaux","Bêche roulante 5.3 m + disques + rouleaux","Bêche roulante 5.3 m + disques + rouleaux","Bêche roulante 5.3 m + disques + rouleaux","Bêche roulante 5.3 m + disques + rouleaux","Bêche roulante 5.3 m + disques + rouleaux","Bêche roulante 5.3 m + disques + rouleaux","Bêche roulante 5.3 m + disques + rouleaux","Bêche roulante 5.3 m + disques + rouleaux","Bêche roulante 5.3 m + disques + rouleaux","Bêche roulante 5.3 m + disques + rouleaux","Bêche roulante 5.3 m + disques + rouleaux","Bêche roulante 5.3 m + disques + rouleaux","Bêche roulante 5.3 m + disques + rouleaux","Bêche roulante 5.3 m + disques + rouleaux","Bêche roulante 5.3 m + disques + rouleaux","Bêche roulante 5.3 m + disques + rouleaux","Bêche roulante 5.3 m + disques + rouleaux","Bêche roulante 5.3 m + disques + rouleaux","Bêche roulante 5.3 m + disques + rouleaux","Bêche roulante 5.3 m + disques + rouleaux","Bêche roulante 5.3 m + disques + rouleaux","Bêche roulante 5.3 m + disques + rouleaux","Bêche roulante 5.3 m + disques + rouleaux","Bêche roulante 5.3 m + disques + rouleaux","Bêche roulante 5.3 m + disques + rouleaux","Bêche roulante 5.3 m + disques + rouleaux","Bêche roulante 5.3 m + disques + rouleaux","Bêche roulante 5.3 m + disques + rouleaux","Bêche roulante 5.3 m + disques + rouleaux","Bêche roulante 5.3 m + disques + rouleaux","Bêche roulante 5.3 m + disques + rouleaux","Bêche roulante 5.3 m + disques + rouleaux","Bêche roulante 5.3 m + disques + rouleaux","Bêche roulante 5.3 m + disques + rouleaux","Bêche roulante 5.3 m + disques + rouleaux","Bêche roulante 5.3 m + disques + rouleaux","Bêche roulante 5.3 m + disques + rouleaux","Bêche roulante 5.3 m + disques + rouleaux","Bêche roulante 5.3 m + disques + rouleaux","Bêche roulante 5.3 m + disques + rouleaux","Bêche roulante 5.3 m + disques + rouleaux","Bêche roulante 5.3 m + disques + rouleaux","Bêche roulante 5.3 m + disques + rouleaux","Bêche roulante 5.3 m + disques + rouleaux","Bêche roulante 5.3 m + disques + rouleaux","Bêche roulante 5.3 m + disques + rouleaux","Bêche roulante 5.3 m + disques + rouleaux","Bêche roulante 5.3 m + disques + rouleaux","Bêche roulante 5.3 m + disques + rouleaux","Bêche roulante 5.3 m + disques + rouleaux","Bêche roulante 5.3 m + disques + rouleaux","Bêche roulante 5.3 m + disques + rouleaux","Bêche roulante 5.3 m + disques + rouleaux","Bêche roulante 5.3 m + disques + rouleaux","Bêche roulante 5.3 m + disques + rouleaux","Bêche roulante 5.3 m + disques + rouleaux","Bêche roulante 5.3 m + disques + rouleaux","Bêche roulante 5.3 m + disques + rouleaux","Bêche roulante 5.3 m + disques + rouleaux","Bêche roulante 5.3 m + disques + rouleaux","Bêche roulante 5.3 m + disques + rouleaux","Bêche roulante 5.3 m + disques + rouleaux","Bêche roulante 5.3 m + disques + rouleaux","Bêche roulante 5.3 m + disques + rouleaux","Bêche roulante 5.3 m + disques + rouleaux","Bêche roulante 5.3 m + disques + rouleaux","Bêche roulante 5.3 m + disques + rouleaux","Bêche roulante 5.3 m + disques + rouleaux","Bêche roulante 5.3 m + disques + rouleaux","Bêche roulante 5.3 m + disques + rouleaux","Bêche roulante 5.3 m + disques + rouleaux","Bêche roulante 5.3 m + disques + rouleaux","Bêche roulante 5.3 m + disques + rouleaux","Bêche roulante 5.3 m + disques + rouleaux","Bêche roulante 5.3 m + disques + rouleaux","Bêche roulante 5.3 m + disques + rouleaux","Bêche roulante 5.3 m + disques + rouleaux","Bêche roulante 5.3 m + disques + rouleaux","Bêche roulante 5.3 m + disques + rouleaux","Bêche roulante 5.3 m + disques + rouleaux","Bêche roulante 5.3 m + disques + rouleaux","Bêche roulante 5.3 m + disques + rouleaux","Bêche roulante 5.3 m + disques + rouleaux","Bêche roulante 5.3 m + disques + rouleaux","Bêche roulante 5.3 m + disques + rouleaux","Bêche roulante 5.3 m + disques + rouleaux","Bêche roulante 5.3 m + disques + rouleaux","Bêche roulante 5.3 m + disques + rouleaux","Bêche roulante 5.3 m + disques + rouleaux","Bêche roulante 5.3 m + disques + rouleaux","Bêche roulante 5.3 m + disques + rouleaux","Bêche roulante 5.3 m + disques + rouleaux","Bêche roulante 5.3 m + disques + rouleaux","Bêche roulante 5.3 m + disques + rouleaux","Bêche roulante 5.3 m + disques + rouleaux","Bêche roulante 5.3 m + disques + rouleaux","Bêche roulante 5.3 m + disques + rouleaux","Bêche roulante 5.3 m + disques + rouleaux","Bêche roulante 5.3 m + disques + rouleaux","Bêche roulante 5.3 m + disques + rouleaux","Bêche roulante 5.3 m + disques + rouleaux","Bêche roulante 5.3 m + disques + rouleaux","Bêche roulante 5.3 m + disques + rouleaux","Bêche roulante 5.3 m + disques + rouleaux","Bêche roulante 5.3 m + disques + rouleaux","Bêche roulante 5.3 m + disques + rouleaux","Bêche roulante 5.3 m + disques + rouleaux","Bêche roulante 5.3 m + disques + rouleaux","Bêche roulante 5.3 m + disques + rouleaux","Bêche roulante 5.3 m + disques + rouleaux","Bêche roulante 5.3 m + disques + rouleaux","Bêche roulante 5.3 m + disques + rouleaux","Bêche roulante 5.3 m + disques + rouleaux","Bêche roulante 5.3 m + disques + rouleaux","Bêche roulante 5.3 m + disques + rouleaux","Bêche roulante 5.3 m + disques + rouleaux","Bêche roulante 5.3 m + disques + rouleaux","Bêche roulante 5.3 m + disques + rouleaux","Bêche roulante 5.3 m + disques + rouleaux","Bêche roulante 5.3 m + disques + rouleaux","Bêche roulante 5.3 m + disques + rouleaux","Bêche roulante 5.3 m + disques + rouleaux","Bêche roulante 5.3 m + disques + rouleaux","Bêche roulante 5.3 m + disques + rouleaux","Bêche roulante 5.3 m + disques + rouleaux","Bêche roulante 5.3 m + disques + rouleaux","Bêche roulante 5.3 m + disques + rouleaux","Bêche roulante 5.3 m + disques + rouleaux","Bêche roulante 5.3 m + disques + rouleaux","Bêche roulante 5.3 m + disques + rouleaux","Bêche roulante 5.3 m + disques + rouleaux","Bêche roulante 5.3 m + disques + rouleaux","Bêche roulante 5.3 m + disques + rouleaux","Bêche roulante 5.3 m + disques + rouleaux","Bêche roulante 5.3 m + disques + rouleaux","Bêche roulante 5.3 m + disques + rouleaux","Bêche roulante 5.3 m + disques + rouleaux","Bêche roulante 5.3 m + disques + rouleaux","Bêche roulante 5.3 m + disques + rouleaux","Bêche roulante 5.3 m + disques + rouleaux","Bêche roulante 5.3 m + disques + rouleaux","Bêche roulante 5.3 m + disques + rouleaux","Bêche roulante 5.3 m + disques + rouleaux","Bêche roulante 5.3 m + disques + rouleaux","Bêche roulante 5.3 m + disques + rouleaux","Bêche roulante 5.3 m + disques + rouleaux","Bêche roulante 5.3 m + disques + rouleaux","Bêche roulante 5.3 m + disques + rouleaux","Bêche roulante 5.3 m + disques + rouleaux","Bêche roulante 5.3 m + disques + rouleaux","Bêche roulante 5.3 m + disques + rouleaux","Bêche roulante 5.3 m + disques + rouleaux","Bêche roulante 5.3 m + disques + rouleaux","Bêche roulante 5.3 m + disques + rouleaux","Bêche roulante 5.3 m + disques + rouleaux","Bêche roulante 5.3 m + disques + rouleaux","Bêche roulante 5.3 m + disques + rouleaux","Bêche roulante 5.3 m + disques + rouleaux","Bêche roulante 5.3 m + disques + rouleaux","Bêche roulante 5.3 m + disques + rouleaux","Bêche roulante 5.3 m + disques + rouleaux","Bêche roulante 5.3 m + disques + rouleaux","Bêche roulante 5.3 m + disques + rouleaux","Bêche roulante 5.3 m + disques + rouleaux","Bêche roulante 5.3 m + disques + rouleaux","Bêche roulante 5.3 m + disques + rouleaux","Bêche roulante 5.3 m + disques + rouleaux","Bêche roulante 5.3 m + disques + rouleaux","Bêche roulante 5.3 m + disques + rouleaux","Bêche roulante 5.3 m + disques + rouleaux","Bêche roulante 5.3 m + disques + rouleaux","Bêche roulante 5.3 m + disques + rouleaux","Bêche roulante 5.3 m + disques + rouleaux","Bêche roulante 5.3 m + disques + rouleaux","Bêche roulante 5.3 m + disques + rouleaux","Bêche roulante 5.3 m + disques + rouleaux","Bêche roulante 5.3 m + disques + rouleaux","Bêche roulante 5.3 m + disques + rouleaux","Bêche roulante 5.3 m + disques + rouleaux","Bêche roulante 5.3 m + disques + rouleaux","Bêche roulante 5.3 m + disques + rouleaux","Bêche roulante 5.3 m + disques + rouleaux","Bêche roulante 5.3 m + disques + rouleaux","Bêche roulante 5.3 m + disques + rouleaux","Bêche roulante 5.3 m + disques + rouleaux","Bêche roulante 5.3 m + disques + rouleaux","Bêche roulante 5.3 m + disques + rouleaux","Bêche roulante 5.3 m + disques + rouleaux","Bêche roulante 5.3 m + disques + rouleaux","Bêche roulante 5.3 m + disques + rouleaux","Bêche roulante 5.3 m + disques + rouleaux","Bêche roulante 5.3 m + disques + rouleaux","Bêche roulante 5.3 m + disques + rouleaux","Bêche roulante 5.3 m + disques + rouleaux","Bêche roulante 5.3 m + disques + rouleaux","Bêche roulante 5.3 m + disques + rouleaux","Bêche roulante 5.3 m + disques + rouleaux","Bêche roulante 5.3 m + disques + rouleaux","Bêche roulante 5.3 m + disques + rouleaux","Bêche roulante 5.3 m + disques + rouleaux","Bêche roulante 5.3 m + disques + rouleaux","Bêche roulante 5.3 m + disques + rouleaux","Bêche roulante 5.3 m + disques + rouleaux","Bêche roulante 5.3 m + disques + rouleaux","Bêche roulante 5.3 m + disques + rouleaux","Bêche roulante 5.3 m + disques + rouleaux","Bêche roulante 5.3 m + disques + rouleaux","Bêche roulante 5.3 m + disques + rouleaux","Bêche roulante 5.3 m + disques + rouleaux","Bêche roulante 5.3 m + disques + rouleaux","Bêche roulante 5.3 m + disques + rouleaux","Bêche roulante 5.3 m + disques + rouleaux","Bêche roulante 5.3 m + disques + rouleaux","Bêche roulante 5.3 m + disques + rouleaux","Bêche roulante 5.3 m + disques + rouleaux","Bêche roulante 5.3 m + disques + rouleaux","Bêche roulante 5.3 m + disques + rouleaux","Bêche roulante 5.3 m + disques + rouleaux","Bêche roulante 5.3 m + disques + rouleaux","Bêche roulante 5.3 m + disques + rouleaux","Bêche roulante 5.3 m + disques + rouleaux","Bêche roulante 5.3 m + disques + rouleaux","Bêche roulante 5.3 m + disques + rouleaux","Bêche roulante 5.3 m + disques + rouleaux","Bêche roulante 5.3 m + disques + rouleaux","Bêche roulante 5.3 m + disques + rouleaux","Bêche roulante 5.3 m + disques + rouleaux","Bêche roulante 5.3 m + disques + rouleaux","Bêche roulante 5.3 m + disques + rouleaux","Bêche roulante 5.3 m + disques + rouleaux","Bêche roulante 5.3 m + disques + rouleaux","Bêche roulante 5.3 m + disques + rouleaux","Bêche roulante 5.3 m + disques + rouleaux","Bêche roulante 5.3 m + disques + rouleaux","Bêche roulante 5.3 m + disques + rouleaux","Bêche roulante 5.3 m + disques + rouleaux","Bêche roulante 5.3 m + disques + rouleaux","Bêche roulante 5.3 m + disques + rouleaux","Bêche roulante 5.3 m + disques + rouleaux","Bêche roulante 5.3 m + disques + rouleaux","Bêche roulante 5.3 m + disques + rouleaux","Bêche roulante 5.3 m + disques + rouleaux","Bêche roulante 5.3 m + disques + rouleaux","Bêche roulante 5.3 m + disques + rouleaux","Bêche roulante 5.3 m + disques + rouleaux","Bêche roulante 5.3 m + disques + rouleaux","Bêche roulante 5.3 m + disques + rouleaux","Bêche roulante 5.3 m + disques + rouleaux","Bêche roulante 5.3 m + disques + rouleaux","Bêche roulante 5.3 m + disques + rouleaux","Bêche roulante 5.3 m + disques + rouleaux","Bêche roulante 5.3 m + disques + rouleaux","Bêche roulante 5.3 m + disques + rouleaux","Bêche roulante 5.3 m + disques + rouleaux","Bêche roulante 5.3 m + disques + rouleaux","Bêche roulante 5.3 m + disques + rouleaux","Bêche roulante 5.3 m + disques + rouleaux","Bêche roulante 5.3 m + disques + rouleaux","Bêche roulante 5.3 m + disques + rouleaux","Bêche roulante 5.3 m + disques + rouleaux","Bêche roulante 5.3 m + disques + rouleaux","Bêche roulante 5.3 m + disques + rouleaux","Bêche roulante 5.3 m + disques + rouleaux","Bêche roulante 5.3 m + disques + rouleaux","Bêche roulante 5.3 m + disques + rouleaux","Bêche roulante 5.3 m + disques + rouleaux","Bêche roulante 5.3 m + disques + rouleaux","Bêche roulante 5.3 m + disques + rouleaux","Bêche roulante 5.3 m + disques + rouleaux","Bêche roulante 5.3 m + disques + rouleaux","Bêche roulante 5.3 m + disques + rouleaux","Bêche roulante 5.3 m + disques + rouleaux","Bêche roulante 5.3 m + disques + rouleaux","Bêche roulante 5.3 m + disques + rouleaux","Bêche roulante 5.3 m + disques + rouleaux","Bêche roulante 5.3 m + disques + rouleaux","Bêche roulante 5.3 m + disques + rouleaux","Bêche roulante 5.3 m + disques + rouleaux","Bêche roulante 5.3 m + disques + rouleaux","Bêche roulante 5.3 m + disques + rouleaux","Bêche roulante 5.3 m + disques + rouleaux","Bêche roulante 5.3 m + disques + rouleaux","Bêche roulante 5.3 m + disques + rouleaux","Bêche roulante 5.3 m + disques + rouleaux","Bêche roulante 5.3 m + disques + rouleaux","Bêche roulante 5.3 m + disques + rouleaux","Bêche roulante 5.3 m + disques + rouleaux","Bêche roulante 5.3 m + disques + rouleaux","Bêche roulante 5.3 m + disques + rouleaux","Bêche roulante 5.3 m + disques + rouleaux","Bêche roulante 5.3 m + disques + rouleaux","Bêche roulante 5.3 m + disques + rouleaux","Bêche roulante 5.3 m + disques + rouleaux","Bêche roulante 5.3 m + disques + rouleaux","Bêche roulante 5.3 m + disques + rouleaux","Bêche roulante 5.3 m + disques + rouleaux","Bêche roulante 5.3 m + disques + rouleaux","Bêche roulante 5.3 m + disques + rouleaux","Bêche roulante 5.3 m + disques + rouleaux","Bêche roulante 5.3 m + disques + rouleaux","Bêche roulante 5.3 m + disques + rouleaux","Bêche roulante 5.3 m + disques + rouleaux","Bêche roulante 5.3 m + disques + rouleaux","Bêche roulante 5.3 m + disques + rouleaux","Bêche roulante 5.3 m + disques + rouleaux","Bêche roulante 5.3 m + disques + rouleaux","Bêche roulante 5.3 m + disques + rouleaux","Bêche roulante 5.3 m + disques + rouleaux","Bêche roulante 5.3 m + disques + rouleaux","Bêche roulante 5.3 m + disques + rouleaux","Bêche roulante 5.3 m + disques + rouleaux","Bêche roulante 5.3 m + disques + rouleaux","Bêche roulante 5.3 m + disques + rouleaux","Bêche roulante 5.3 m + disques + rouleaux","Bêche roulante 5.3 m + disques + rouleaux","Bêche roulante 5.3 m + disques + rouleaux","Bêche roulante 5.3 m + disques + rouleaux","Bêche roulante 5.3 m + disques + rouleaux","Bêche roulante 5.3 m + disques + rouleaux","Bêche roulante 5.3 m + disques + rouleaux","Bêche roulante 5.3 m + disques + rouleaux","Bêche roulante 5.3 m + disques + rouleaux","Bêche roulante 5.3 m + disques + rouleaux","Bêche roulante 5.3 m + disques + rouleaux","Bêche roulante 5.3 m + disques + rouleaux","Bêche roulante 5.3 m + disques + rouleaux","Bêche roulante 5.3 m + disques + rouleaux","Bêche roulante 5.3 m + disques + rouleaux","Bêche roulante 5.3 m + disques + rouleaux","Bêche roulante 5.3 m + disques + rouleaux","Bêche roulante 5.3 m + disques + rouleaux","Bêche roulante 5.3 m + disques + rouleaux","Bêche roulante 5.3 m + disques + rouleaux","Bêche roulante 5.3 m + disques + rouleaux","Bêche roulante 5.3 m + disques + rouleaux","Bêche roulante 5.3 m + disques + rouleaux","Bêche roulante 5.3 m + disques + rouleaux","Bêche roulante 5.3 m + disques + rouleaux","Bêche roulante 5.3 m + disques + rouleaux","Bêche roulante 5.3 m + disques + rouleaux","Bêche roulante 5.3 m + disques + rouleaux","Bêche roulante 5.3 m + disques + rouleaux","Bêche roulante 5.3 m + disques + rouleaux","Bêche roulante 5.3 m + disques + rouleaux","Bêche roulante 5.3 m + disques + rouleaux","Bêche roulante 5.3 m + disques + rouleaux","Bêche roulante 5.3 m + disques + rouleaux","Bêche roulante 5.3 m + disques + rouleaux","Bêche roulante 5.3 m + disques + rouleaux","Bêche roulante 5.3 m + disques + rouleaux","Bêche roulante 5.3 m + disques + rouleaux","Bêche roulante 5.3 m + disques + rouleaux","Bêche roulante 5.3 m + disques + rouleaux","Bêche roulante 5.3 m + disques + rouleaux","Bêche roulante 5.3 m + disques + rouleaux","Bêche roulante 5.3 m + disques + rouleaux","Bêche roulante 5.3 m + disques + rouleaux","Bêche roulante 5.3 m + disques + rouleaux","Bêche roulante 5.3 m + disques + rouleaux","Bêche roulante 5.3 m + disques + rouleaux","Bêche roulante 5.3 m + disques + rouleaux","Bêche roulante 5.3 m + disques + rouleaux","Bêche roulante 5.3 m + disques + rouleaux","Bêche roulante 5.3 m + disques + rouleaux","Bêche roulante 5.3 m + disques + rouleaux","Bêche roulante 5.3 m + disques + rouleaux","Bêche roulante 5.3 m + disques + rouleaux","Bêche roulante 5.3 m + disques + rouleaux","Bêche roulante 5.3 m + disques + rouleaux","Bêche roulante 5.3 m + disques + rouleaux","Bêche roulante 5.3 m + disques + rouleaux","Bêche roulante 5.3 m + disques + rouleaux","Bêche roulante 5.3 m + disques + rouleaux","Bêche roulante 5.3 m + disques + rouleaux","Bêche roulante 5.3 m + disques + rouleaux","Bêche roulante 5.3 m + disques + rouleaux","Bêche roulante 5.3 m + disques + rouleaux","Bêche roulante 5.3 m + disques + rouleaux","Bêche roulante 5.3 m + disques + rouleaux","Bêche roulante 5.3 m + disques + rouleaux","Bêche roulante 5.3 m + disques + rouleaux","Bêche roulante 5.3 m + disques + rouleaux","Bêche roulante 5.3 m + disques + rouleaux","Bêche roulante 5.3 m + disques + rouleaux","Bêche roulante 5.3 m + disques + rouleaux","Bêche roulante 5.3 m + disques + rouleaux","Bêche roulante 5.3 m + disques + rouleaux","Bêche roulante 5.3 m + disques + rouleaux","Bêche roulante 5.3 m + disques + rouleaux","Bêche roulante 5.3 m + disques + rouleaux","Bêche roulante 5.3 m + disques + rouleaux","Bêche roulante 5.3 m + disques + rouleaux","Bêche roulante 5.3 m + disques + rouleaux","Bêche roulante 5.3 m + disques + rouleaux","Bêche roulante 5.3 m + disques + rouleaux","Bêche roulante 5.3 m + disques + rouleaux","Bêche roulante 5.3 m + disques + rouleaux","Bêche roulante 5.3 m + disques + rouleaux","Bêche roulante 5.3 m + disques + rouleaux","Bêche roulante 5.3 m + disques + rouleaux","Bêche roulante 5.3 m + disques + rouleaux","Bêche roulante 5.3 m + disques + rouleaux","Bêche roulante 5.3 m + disques + rouleaux","Bêche roulante 5.3 m + disques + rouleaux","Bêche roulante 5.3 m + disques + rouleaux","Bêche roulante 5.3 m + disques + rouleaux","Bêche roulante 5.3 m + disques + rouleaux","Bêche roulante 5.3 m + disques + rouleaux","Bêche roulante 5.3 m + disques + rouleaux","Bêche roulante 5.3 m + disques + rouleaux","Bêche roulante 5.3 m + disques + rouleaux","Bêche roulante 5.3 m + disques + rouleaux","Bêche roulante 5.3 m + disques + rouleaux","Bêche roulante 5.3 m + disques + rouleaux","Bêche roulante 5.3 m + disques + rouleaux","Bêche roulante 5.3 m + disques + rouleaux","Bêche roulante 5.3 m + disques + rouleaux","Bêche roulante 5.3 m + disques + rouleaux","Bêche roulante 5.3 m + disques + rouleaux","Bêche roulante 5.3 m + disques + rouleaux","Bêche roulante 5.3 m + disques + rouleaux","Bêche roulante 5.3 m + disques + rouleaux","Bêche roulante 5.3 m + disques + rouleaux","Bêche roulante 5.3 m + disques + rouleaux","Bêche roulante 5.3 m + disques + rouleaux","Bêche roulante 5.3 m + disques + rouleaux","Bêche roulante 5.3 m + disques + rouleaux","Bêche roulante 5.3 m + disques + rouleaux","Bêche roulante 5.3 m + disques + rouleaux","Bêche roulante 5.3 m + disques + rouleaux","Bêche roulante 5.3 m + disques + rouleaux","Bêche roulante 5.3 m + disques + rouleaux","Bêche roulante 5.3 m + disques + rouleaux","Bêche roulante 5.3 m + disques + rouleaux","Bêche roulante 5.3 m + disques + rouleaux","Bêche roulante 5.3 m + disques + rouleaux","Bêche roulante 5.3 m + disques + rouleaux","Bêche roulante 5.3 m + disques + rouleaux","Bêche roulante 5.3 m + disques + rouleaux","Bêche roulante 5.3 m + disques + rouleaux","Bêche roulante 5.3 m + disques + rouleaux","Bêche roulante 5.3 m + disques + rouleaux","Bêche roulante 5.3 m + disques + rouleaux","Bêche roulante 5.3 m + disques + rouleaux","Bêche roulante 5.3 m + disques + rouleaux","Bêche roulante 5.3 m + disques + rouleaux","Bêche roulante 5.3 m + disques + rouleaux","Bêche roulante 5.3 m + disques + rouleaux","Bêche roulante 5.3 m + disques + rouleaux","Bêche roulante 5.3 m + disques + rouleaux","Bêche roulante 5.3 m + disques + rouleaux","Bêche roulante 5.3 m + disques + rouleaux","Bêche roulante 5.3 m + disques + rouleaux","Bêche roulante 5.3 m + disques + rouleaux","Bêche roulante 5.3 m + disques + rouleaux","Bêche roulante 5.3 m + disques + rouleaux","Bêche roulante 5.3 m + disques + rouleaux","Bêche roulante 5.3 m + disques + rouleaux","Bêche roulante 5.3 m + disques + rouleaux","Bêche roulante 5.3 m + disques + rouleaux","Bêche roulante 5.3 m + disques + rouleaux","Bêche roulante 5.3 m + disques + rouleaux","Bêche roulante 5.3 m + disques + rouleaux","Bêche roulante 5.3 m + disques + rouleaux","Bêche roulante 5.3 m + disques + rouleaux","Bêche roulante 5.3 m + disques + rouleaux","Bêche roulante 5.3 m + disques + rouleaux","Bêche roulante 5.3 m + disques + rouleaux","Bêche roulante 5.3 m + disques + rouleaux","Bêche roulante 5.3 m + disques + rouleaux","Bêche roulante 5.3 m + disques + rouleaux","Bêche roulante 5.3 m + disques + rouleaux","Bêche roulante 5.3 m + disques + rouleaux","Bêche roulante 5.3 m + disques + rouleaux","Bêche roulante 5.3 m + disques + rouleaux","Bêche roulante 5.3 m + disques + rouleaux","Bêche roulante 5.3 m + disques + rouleaux","Bêche roulante 5.3 m + disques + rouleaux","Bêche roulante 5.3 m + disques + rouleaux","Bêche roulante 5.3 m + disques + rouleaux","Bêche roulante 5.3 m + disques + rouleaux","Bêche roulante 5.3 m + disques + rouleaux","Bêche roulante 5.3 m + disques + rouleaux","Bêche roulante 5.3 m + disques + rouleaux","Bêche roulante 5.3 m + disques + rouleaux","Bêche roulante 5.3 m + disques + rouleaux","Bêche roulante 5.3 m + disques + rouleaux","Bêche roulante 5.3 m + disques + rouleaux","Bêche roulante 5.3 m + disques + rouleaux","Bêche roulante 5.3 m + disques + rouleaux","Bêche roulante 5.3 m + disques + rouleaux","Bêche roulante 5.3 m + disques + rouleaux","Bêche roulante 5.3 m + disques + rouleaux","Bêche roulante 5.3 m + disques + rouleaux","Bêche roulante 5.3 m + disques + rouleaux","Bêche roulante 5.3 m + disques + rouleaux","Bêche roulante 5.3 m + disques + rouleaux","Bêche roulante 5.3 m + disques + rouleaux","Bêche roulante 5.3 m + disques + rouleaux","Bêche roulante 5.3 m + disques + rouleaux","Bêche roulante 5.3 m + disques + rouleaux","Bêche roulante 5.3 m + disques + rouleaux","Bêche roulante 5.3 m + disques + rouleaux","Bêche roulante 5.3 m + disques + rouleaux","Bêche roulante 5.3 m + disques + rouleaux","Bêche roulante 5.3 m + disques + rouleaux","Bêche roulante 5.3 m + disques + rouleaux","Bêche roulante 5.3 m + disques + rouleaux","Bêche roulante 5.3 m + disques + rouleaux","Bêche roulante 5.3 m + disques + rouleaux","Bêche roulante 5.3 m + disques + rouleaux","Bêche roulante 5.3 m + disques + rouleaux","Bêche roulante 5.3 m + disques + rouleaux","Bêche roulante 5.3 m + disques + rouleaux","Bêche roulante 5.3 m + disques + rouleaux","Bêche roulante 5.3 m + disques + rouleaux","Bêche roulante 5.3 m + disques + rouleaux","Bêche roulante 5.3 m + disques + rouleaux","Bêche roulante 5.3 m + disques + rouleaux","Bêche roulante 5.3 m + disques + rouleaux","Bêche roulante 5.3 m + disques + rouleaux","Bêche roulante 5.3 m + disques + rouleaux","Bêche roulante 5.3 m + disques + rouleaux","Bêche roulante 5.3 m + disques + rouleaux","Bêche roulante 5.3 m + disques + rouleaux","Bêche roulante 5.3 m + disques + rouleaux","Bêche roulante 5.3 m + disques + rouleaux","Bêche roulante 5.3 m + disques + rouleaux","Bêche roulante 5.3 m + disques + rouleaux","Bêche roulante 5.3 m + disques + rouleaux","Bêche roulante 5.3 m + disques + rouleaux","Bêche roulante 5.3 m + disques + rouleaux","Bêche roulante 5.3 m + disques + rouleaux","Bêche roulante 5.3 m + disques + rouleaux","Bêche roulante 5.3 m + disques + rouleaux","Bêche roulante 5.3 m + disques + rouleaux","Bêche roulante 5.3 m + disques + rouleaux","Bêche roulante 5.3 m + disques + rouleaux","Bêche roulante 5.3 m + disques + rouleaux","Bêche roulante 5.3 m + disques + rouleaux","Bêche roulante 5.3 m + disques + rouleaux","Bêche roulante 5.3 m + disques + rouleaux","Bêche roulante 5.3 m + disques + rouleaux","Bêche roulante 5.3 m + disques + rouleaux","Bêche roulante 5.3 m + disques + rouleaux","Bêche roulante 5.3 m + disques + rouleaux","Bêche roulante 5.3 m + disques + rouleaux","Bêche roulante 5.3 m + disques + rouleaux","Bêche roulante 5.3 m + disques + rouleaux","Bêche roulante 5.3 m + disques + rouleaux","Bêche roulante 5.3 m + disques + rouleaux","Bêche roulante 5.3 m + disques + rouleaux","Bêche roulante 5.3 m + disques + rouleaux","Bêche roulante 5.3 m + disques + rouleaux","Bêche roulante 5.3 m + disques + rouleaux","Bêche roulante 5.3 m + disques + rouleaux","Bêche roulante 5.3 m + disques + rouleaux","Bêche roulante 5.3 m + disques + rouleaux","Bêche roulante 5.3 m + disques + rouleaux","Bêche roulante 5.3 m + disques + rouleaux","Bêche roulante 5.3 m + disques + rouleaux","Bêche roulante 5.3 m + disques + rouleaux","Bêche roulante 5.3 m + disques + rouleaux","Bêche roulante 5.3 m + disques + rouleaux","Bêche roulante 5.3 m + disques + rouleaux","Bêche roulante 5.3 m + disques + rouleaux","Bêche roulante 5.3 m + disques + rouleaux","Bêche roulante 5.3 m + disques + rouleaux","Bêche roulante 5.3 m + disques + rouleaux","Bêche roulante 5.3 m + disques + rouleaux","Bêche roulante 5.3 m + disques + rouleaux","Bêche roulante 5.3 m + disques + rouleaux","Bêche roulante 5.3 m + disques + rouleaux","Bêche roulante 5.3 m + disques + rouleaux","Bêche roulante 5.3 m + disques + rouleaux","Bêche roulante 5.3 m + disques + rouleaux","Bêche roulante 5.3 m + disques + rouleaux","Bêche roulante 5.3 m + disques + rouleaux","Bêche roulante 5.3 m + disques + rouleaux","Bêche roulante 5.3 m + disques + rouleaux","Bêche roulante 5.3 m + disques + rouleaux","Bêche roulante 5.3 m + disques + rouleaux","Bêche roulante 5.3 m + disques + rouleaux","Bêche roulante 5.3 m + disques + rouleaux","Bêche roulante 5.3 m + disques + rouleaux","Bêche roulante 5.3 m + disques + rouleaux","Bêche roulante 5.3 m + disques + rouleaux","Bêche roulante 5.3 m + disques + rouleaux","Bêche roulante 5.3 m + disques + rouleaux","Bêche roulante 5.3 m + disques + rouleaux","Bêche roulante 5.3 m + disques + rouleaux","Bêche roulante 5.3 m + disques + rouleaux","Bêche roulante 5.3 m + disques + rouleaux","Bêche roulante 5.3 m + disques + rouleaux","Bêche roulante 5.3 m + disques + rouleaux","Bêche roulante 5.3 m + disques + rouleaux","Bêche roulante 5.3 m + disques + rouleaux","Bêche roulante 5.3 m + disques + rouleaux","Bêche roulante 5.3 m + disques + rouleaux","Bêche roulante 5.3 m + disques + rouleaux","Bêche roulante 5.3 m + disques + rouleaux","Bêche roulante 5.3 m + disques + rouleaux","Bêche roulante 5.3 m + disques + rouleaux","Bêche roulante 5.3 m + disques + rouleaux","Bêche roulante 5.3 m + disques + rouleaux","Bêche roulante 5.3 m + disques + rouleaux","Bêche roulante 5.3 m + disques + rouleaux","Bêche roulante 5.3 m + disques + rouleaux","Bêche roulante 5.3 m + disques + rouleaux","Bêche roulante 5.3 m + disques + rouleaux","Bêche roulante 5.3 m + disques + rouleaux","Bêche roulante 5.3 m + disques + rouleaux","Bêche roulante 5.3 m + disques + rouleaux","Bêche roulante 5.3 m + disques + rouleaux","Bêche roulante 5.3 m + disques + rouleaux","Bêche roulante 5.3 m + disques + rouleaux","Bêche roulante 5.3 m + disques + rouleaux","Bêche roulante 5.3 m + disques + rouleaux","Bêche roulante 5.3 m + disques + rouleaux","Bêche roulante 5.3 m + disques + rouleaux","Bêche roulante 5.3 m + disques + rouleaux","Bêche roulante 5.3 m + disques + rouleaux","Bêche roulante 5.3 m + disques + rouleaux","Bêche roulante 5.3 m + disques + rouleaux","Bêche roulante 5.3 m + disques + rouleaux","Bêche roulante 5.3 m + disques + rouleaux","Bêche roulante 5.3 m + disques + rouleaux","Bêche roulante 5.3 m + disques + rouleaux","Bêche roulante 5.3 m + disques + rouleaux","Bêche roulante 5.3 m + disques + rouleaux","Bêche roulante 5.3 m + disques + rouleaux","Bêche roulante 5.3 m + disques + rouleaux","Bêche roulante 5.3 m + disques + rouleaux","Bêche roulante 5.3 m + disques + rouleaux","Bêche roulante 5.3 m + disques + rouleaux","Bêche roulante 5.3 m + disques + rouleaux","Bêche roulante 5.3 m + disques + rouleaux","Bêche roulante 5.3 m + disques + rouleaux","Bêche roulante 5.3 m + disques + rouleaux","Bêche roulante 5.3 m + disques + rouleaux","Bêche roulante 5.3 m + disques + rouleaux","Bêche roulante 5.3 m + disques + rouleaux","Bêche roulante 5.3 m + disques + rouleaux","Bêche roulante 5.3 m + disques + rouleaux","Bêche roulante 5.3 m + disques + rouleaux","Bêche roulante 5.3 m + disques + rouleaux","Bêche roulante 5.3 m + disques + rouleaux","Bêche roulante 5.3 m + disques + rouleaux","Bêche roulante 5.3 m + disques + rouleaux","Bêche roulante 5.3 m + disques + rouleaux","Bêche roulante 5.3 m + disques + rouleaux","Bêche roulante 5.3 m + disques + rouleaux","Bêche roulante 5.3 m + disques + rouleaux","Bêche roulante 5.3 m + disques + rouleaux","Bêche roulante 5.3 m + disques + rouleaux","Bêche roulante 5.3 m + disques + rouleaux","Bêche roulante 5.3 m + disques + rouleaux","Bêche roulante 5.3 m + disques + rouleaux","Bêche roulante 5.3 m + disques + rouleaux","Bêche roulante 5.3 m + disques + rouleaux","Bêche roulante 5.3 m + disques + rouleaux","Bêche roulante 5.3 m + disques + rouleaux","Bêche roulante 5.3 m + disques + rouleaux","Bêche roulante 5.3 m + disques + rouleaux","Bêche roulante 5.3 m + disques + rouleaux","Bêche roulante 5.3 m + disques + rouleaux","Bêche roulante 5.3 m + disques + rouleaux","Bêche roulante 5.3 m + disques + rouleaux","Bêche roulante 5.3 m + disques + rouleaux","Bêche roulante 5.3 m + disques + rouleaux","Bêche roulante 5.3 m + disques + rouleaux","Bêche roulante 5.3 m + disques + rouleaux","Bêche roulante 5.3 m + disques + rouleaux","Bêche roulante 5.3 m + disques + rouleaux","Bêche roulante 5.3 m + disques + rouleaux","Bêche roulante 5.3 m + disques + rouleaux","Bêche roulante 5.3 m + disques + rouleaux","Bêche roulante 5.3 m + disques + rouleaux","Bêche roulante 5.3 m + disques + rouleaux","Bêche roulante 5.3 m + disques + rouleaux","Bêche roulante 5.3 m + disques + rouleaux","Bêche roulante 5.3 m + disques + rouleaux","Bêche roulante 5.3 m + disques + rouleaux","Bêche roulante 5.3 m + disques + rouleaux","Bêche roulante 5.3 m + disques + rouleaux","Bêche roulante 5.3 m + disques + rouleaux","Bêche roulante 5.3 m + disques + rouleaux","Bêche roulante 5.3 m + disques + rouleaux","Bêche roulante 5.3 m + disques + rouleaux","Bêche roulante 5.3 m + disques + rouleaux","Bêche roulante 5.3 m + disques + rouleaux","Bêche roulante 5.3 m + disques + rouleaux","Bêche roulante 5.3 m + disques + rouleaux","Bêche roulante 5.3 m + disques + rouleaux","Bêche roulante 5.3 m + disques + rouleaux","Bêche roulante 5.3 m + disques + rouleaux","Bêche roulante 5.3 m + disques + rouleaux","Bêche roulante 5.3 m + disques + rouleaux","Bêche roulante 5.3 m + disques + rouleaux","Bêche roulante 5.3 m + disques + rouleaux","Bêche roulante 5.3 m + disques + rouleaux","Bêche roulante 5.3 m + disques + rouleaux","Bêche roulante 5.3 m + disques + rouleaux","Bêche roulante 5.3 m + disques + rouleaux","Bêche roulante 5.3 m + disques + rouleaux","Bêche roulante 5.3 m + disques + rouleaux","Bêche roulante 5.3 m + disques + rouleaux","Bêche roulante 5.3 m + disques + rouleaux","Bêche roulante 5.3 m + disques + rouleaux","Bêche roulante 5.3 m + disques + rouleaux","Bêche roulante 5.3 m + disques + rouleaux","Bêche roulante 5.3 m + disques + rouleaux","Bêche roulante 5.3 m + disques + rouleaux","Bêche roulante 5.3 m + disques + rouleaux","Bêche roulante 5.3 m + disques + rouleaux","Bêche roulante 5.3 m + disques + rouleaux","Bêche roulante 5.3 m + disques + rouleaux","Bêche roulante 5.3 m + disques + rouleaux","Bêche roulante 5.3 m + disques + rouleaux","Bêche roulante 5.3 m + disques + rouleaux","Bêche roulante 5.3 m + disques + rouleaux","Bêche roulante 5.3 m + disques + rouleaux","Bêche roulante 5.3 m + disques + rouleaux","Bêche roulante 5.3 m + disques + rouleaux","Bêche roulante 5.3 m + disques + rouleaux","Bêche roulante 5.3 m + disques + rouleaux","Bêche roulante 5.3 m + disques + rouleaux","Bêche roulante 5.3 m + disques + rouleaux","Bêche roulante 5.3 m + disques + rouleaux","Bêche roulante 5.3 m + disques + rouleaux","Bêche roulante 5.3 m + disques + rouleaux","Bêche roulante 5.3 m + disques + rouleaux","Bêche roulante 5.3 m + disques + rouleaux","Bêche roulante 5.3 m + disques + rouleaux","Bêche roulante 5.3 m + disques + rouleaux","Bêche roulante 5.3 m + disques + rouleaux","Bêche roulante 5.3 m + disques + rouleaux","Bêche roulante 5.3 m + disques + rouleaux","Bêche roulante 5.3 m + disques + rouleaux","Bêche roulante 5.3 m + disques + rouleaux","Bêche roulante 5.3 m + disques + rouleaux","Bêche roulante 5.3 m + disques + rouleaux","Bêche roulante 5.3 m + disques + rouleaux","Bêche roulante 5.3 m + disques + rouleaux","Bêche roulante 5.3 m + disques + rouleaux","Bêche roulante 5.3 m + disques + rouleaux","Bêche roulante 5.3 m + disques + rouleaux","Bêche roulante 5.3 m + disques + rouleaux","Bêche roulante 5.3 m + disques + rouleaux","Bêche roulante 5.3 m + disques + rouleaux","Bêche roulante 5.3 m + disques + rouleaux","Bêche roulante 5.3 m + disques + rouleaux","Bêche roulante 5.3 m + disques + rouleaux","Bêche roulante 5.3 m + disques + rouleaux","Bêche roulante 5.3 m + disques + rouleaux","Bêche roulante 5.3 m + disques + rouleaux","Bêche roulante 5.3 m + disques + rouleaux","Bêche roulante 5.3 m + disques + rouleaux","Bêche roulante 5.3 m + disques + rouleaux","Bêche roulante 5.3 m + disques + rouleaux","Bêche roulante 5.3 m + disques + rouleaux","Bêche roulante 5.3 m + disques + rouleaux","Bêche roulante 5.3 m + disques + rouleaux","Bêche roulante 5.3 m + disques + rouleaux","Bêche roulante 5.3 m + disques + rouleaux","Bêche roulante 5.3 m + disques + rouleaux","Bêche roulante 5.3 m + disques + rouleaux","Bêche roulante 5.3 m + disques + rouleaux","Bêche roulante 5.3 m + disques + rouleaux","Bêche roulante 5.3 m + disques + rouleaux","Bêche roulante 5.3 m + disques + rouleaux","Bêche roulante 5.3 m + disques + rouleaux","Bêche roulante 5.3 m + disques + rouleaux","Bêche roulante 5.3 m + disques + rouleaux","Bêche roulante 5.3 m + disques + rouleaux","Bêche roulante 5.3 m + disques + rouleaux","Bêche roulante 5.3 m + disques + rouleaux","Bêche roulante 5.3 m + disques + rouleaux","Bêche roulante 5.3 m + disques + rouleaux","Bêche roulante 5.3 m + disques + rouleaux","Bêche roulante 5.3 m + disques + rouleaux","Bêche roulante 5.3 m + disques + rouleaux","Bêche roulante 5.3 m + disques + rouleaux","Bêche roulante 5.3 m + disques + rouleaux","Bêche roulante 5.3 m + disques + rouleaux","Bêche roulante 5.3 m + disques + rouleaux","Bêche roulante 5.3 m + disques + rouleaux","Bêche roulante 5.3 m + disques + rouleaux","Bêche roulante 5.3 m + disques + rouleaux","Bêche roulante 5.3 m + disques + rouleaux","Bêche roulante 5.3 m + disques + rouleaux","Bêche roulante 5.3 m + disques + rouleaux","Bêche roulante 5.3 m + disques + rouleaux","Bêche roulante 5.3 m + disques + rouleaux","Bêche roulante 5.3 m + disques + rouleaux","Bêche roulante 5.3 m + disques + rouleaux","Bêche roulante 5.3 m + disques + rouleaux","Bêche roulante 5.3 m + disques + rouleaux","Bêche roulante 5.3 m + disques + rouleaux","Bêche roulante 5.3 m + disques + rouleaux","Bêche roulante 5.3 m + disques + rouleaux","Bêche roulante 5.3 m + disques + rouleaux","Bêche roulante 5.3 m + disques + rouleaux","Bêche roulante 5.3 m + disques + rouleaux","Bêche roulante 5.3 m + disques + rouleaux","Bêche roulante 5.3 m + disques + rouleaux","Bêche roulante 5.3 m + disques + rouleaux","Bêche roulante 5.3 m + disques + rouleaux","Bêche roulante 5.3 m + disques + rouleaux","Bêche roulante 5.3 m + disques + rouleaux","Bêche roulante 5.3 m + disques + rouleaux","Bêche roulante 5.3 m + disques + rouleaux","Bêche roulante 5.3 m + disques + rouleaux","Bêche roulante 5.3 m + disques + rouleaux","Bêche roulante 5.3 m + disques + rouleaux","Bêche roulante 5.3 m + disques + rouleaux","Bêche roulante 5.3 m + disques + rouleaux","Bêche roulante 5.3 m + disques + rouleaux","Bêche roulante 5.3 m + disques + rouleaux","Bêche roulante 5.3 m + disques + rouleaux","Bêche roulante 5.3 m + disques + rouleaux","Bêche roulante 5.3 m + disques + rouleaux","Bêche roulante 5.3 m + disques + rouleaux","Bêche roulante 5.3 m + disques + rouleaux","Bêche roulante 5.3 m + disques + rouleaux","Bêche roulante 5.3 m + disques + rouleaux","Bêche roulante 5.3 m + disques + rouleaux","Bêche roulante 5.3 m + disques + rouleaux","Bêche roulante 5.3 m + disques + rouleaux","Bêche roulante 5.3 m + disques + rouleaux","Bêche roulante 5.3 m + disques + rouleaux","Bêche roulante 5.3 m + disques + rouleaux","Bêche roulante 5.3 m + disques + rouleaux","Bêche roulante 5.3 m + disques + rouleaux","Bêche roulante 5.3 m + disques + rouleaux","Bêche roulante 5.3 m + disques + rouleaux","Bêche roulante 5.3 m + disques + rouleaux","Bêche roulante 5.3 m + disques + rouleaux","Bêche roulante 5.3 m + disques + rouleaux","Bêche roulante 5.3 m + disques + rouleaux","Bêche roulante 5.3 m + disques + rouleaux","Bêche roulante 5.3 m + disques + rouleaux","Bêche roulante 5.3 m + disques + rouleaux","Bêche roulante 5.3 m + disques + rouleaux","Bêche roulante 5.3 m + disques + rouleaux","Bêche roulante 5.3 m + disques + rouleaux","Bêche roulante 5.3 m + disques + rouleaux","Bêche roulante 5.3 m + disques + rouleaux","Bêche roulante 5.3 m + disques + rouleaux","Bêche roulante 5.3 m + disques + rouleaux","Bêche roulante 5.3 m + disques + rouleaux","Bêche roulante 5.3 m + disques + rouleaux","Bêche roulante 5.3 m + disques + rouleaux","Bêche roulante 5.3 m + disques + rouleaux","Bêche roulante 5.3 m + disques + rouleaux","Bêche roulante 5.3 m + disques + rouleaux","Bêche roulante 5.3 m + disques + rouleaux","Bêche roulante 5.3 m + disques + rouleaux","Bêche roulante 5.3 m + disques + rouleaux","Bêche roulante 5.3 m + disques + rouleaux","Bêche roulante 5.3 m + disques + rouleaux","Bêche roulante 5.3 m + disques + rouleaux","Bêche roulante 5.3 m + disques + rouleaux","Bêche roulante 5.3 m + disques + rouleaux","Bêche roulante 5.3 m + disques + rouleaux","Bêche roulante 5.3 m + disques + rouleaux","Bêche roulante 5.3 m + disques + rouleaux","Bêche roulante 5.3 m + disques + rouleaux","Bêche roulante 5.3 m + disques + rouleaux","Bêche roulante 5.3 m + disques + rouleaux","Bêche roulante 5.3 m + disques + rouleaux","Bêche roulante 5.3 m + disques + rouleaux","Bêche roulante 5.3 m + disques + rouleaux","Bêche roulante 5.3 m + disques + rouleaux","Bêche roulante 5.3 m + disques + rouleaux","Bêche roulante 5.3 m + disques + rouleaux","Bêche roulante 5.3 m + disques + rouleaux","Bêche roulante 5.3 m + disques + rouleaux","Bêche roulante 5.3 m + disques + rouleaux","Bêche roulante 5.3 m + disques + rouleaux","Bêche roulante 5.3 m + disques + rouleaux","Bêche roulante 5.3 m + disques + rouleaux","Bêche roulante 5.3 m + disques + rouleaux","Bêche roulante 5.3 m + disques + rouleaux","Bêche roulante 5.3 m + disques + rouleaux","Bêche roulante 5.3 m + disques + rouleaux","Bêche roulante 5.3 m + disques + rouleaux","Bêche roulante 5.3 m + disques + rouleaux","Bêche roulante 5.3 m + disques + rouleaux","Bêche roulante 5.3 m + disques + rouleaux","Bêche roulante 5.3 m + disques + rouleaux","Bêche roulante 5.3 m + disques + rouleaux","Bêche roulante 5.3 m + disques + rouleaux","Bêche roulante 5.3 m + disques + rouleaux","Bêche roulante 5.3 m + disques + rouleaux","Bêche roulante 5.3 m + disques + rouleaux","Bêche roulante 5.3 m + disques + rouleaux","Bêche roulante 5.3 m + disques + rouleaux","Bêche roulante 5.3 m + disques + rouleaux","Bêche roulante 5.3 m + disques + rouleaux","Bêche roulante 5.3 m + disques + rouleaux","Bêche roulante 5.3 m + disques + rouleaux","Bêche roulante 5.3 m + disques + rouleaux","Bêche roulante 5.3 m + disques + rouleaux","Bêche roulante 5.3 m + disques + rouleaux","Bêche roulante 5.3 m + disques + rouleaux","Bêche roulante 5.3 m + disques + rouleaux","Bêche roulante 5.3 m + disques + rouleaux","Bêche roulante 5.3 m + disques + rouleaux","Bêche roulante 5.3 m + disques + rouleaux","Bêche roulante 5.3 m + disques + rouleaux","Bêche roulante 5.3 m + disques + rouleaux","Bêche roulante 5.3 m + disques + rouleaux","Bêche roulante 5.3 m + disques + rouleaux","Bêche roulante 5.3 m + disques + rouleaux","Bêche roulante 5.3 m + disques + rouleaux","Bêche roulante 5.3 m + disques + rouleaux","Bêche roulante 5.3 m + disques + rouleaux","Bêche roulante 5.3 m + disques + rouleaux","Bêche roulante 5.3 m + disques + rouleaux","Bêche roulante 5.3 m + disques + rouleaux","Bêche roulante 5.3 m + disques + rouleaux","Bêche roulante 5.3 m + disques + rouleaux","Bêche roulante 5.3 m + disques + rouleaux","Bêche roulante 5.3 m + disques + rouleaux","Bêche roulante 5.3 m + disques + rouleaux","Bêche roulante 5.3 m + disques + rouleaux","Bêche roulante 5.3 m + disques + rouleaux","Bêche roulante 5.3 m + disques + rouleaux","Bêche roulante 5.3 m + disques + rouleaux","Bêche roulante 5.3 m + disques + rouleaux","Bêche roulante 5.3 m + disques + rouleaux","Bêche roulante 5.3 m + disques + rouleaux","Bêche roulante 5.3 m + disques + rouleaux","Bêche roulante 5.3 m + disques + rouleaux","Bêche roulante 5.3 m + disques + rouleaux","Bêche roulante 5.3 m + disques + rouleaux","Bêche roulante 5.3 m + disques + rouleaux","Bêche roulante 5.3 m + disques + rouleaux","Bêche roulante 5.3 m + disques + rouleaux","Bêche roulante 5.3 m + disques + rouleaux","Bêche roulante 5.3 m + disques + rouleaux","Bêche roulante 5.3 m + disques + rouleaux","Bêche roulante 5.3 m + disques + rouleaux","Bêche roulante 5.3 m + disques + rouleaux","Bêche roulante 5.3 m + disques + rouleaux","Bêche roulante 5.3 m + disques + rouleaux","Bêche roulante 5.3 m + disques + rouleaux","Bêche roulante 5.3 m + disques + rouleaux","Bêche roulante 5.3 m + disques + rouleaux","Bêche roulante 5.3 m + disques + rouleaux","Bêche roulante 5.3 m + disques + rouleaux","Bêche roulante 5.3 m + disques + rouleaux","Bêche roulante 5.3 m + disques + rouleaux","Bêche roulante 5.3 m + disques + rouleaux","Bêche roulante 5.3 m + disques + rouleaux","Bêche roulante 5.3 m + disques + rouleaux","Bêche roulante 5.3 m + disques + rouleaux","Bêche roulante 5.3 m + disques + rouleaux","Bêche roulante 5.3 m + disques + rouleaux","Bêche roulante 5.3 m + disques + rouleaux","Bêche roulante 5.3 m + disques + rouleaux","Bêche roulante 5.3 m + disques + rouleaux","Bêche roulante 5.3 m + disques + rouleaux","Bêche roulante 5.3 m + disques + rouleaux","Bêche roulante 5.3 m + disques + rouleaux","Bêche roulante 5.3 m + disques + rouleaux","Bêche roulante 5.3 m + disques + rouleaux","Bêche roulante 5.3 m + disques + rouleaux","Bêche roulante 5.3 m + disques + rouleaux","Bêche roulante 5.3 m + disques + rouleaux","Bêche roulante 5.3 m + disques + rouleaux","Bêche roulante 5.3 m + disques + rouleaux","Bêche roulante 5.3 m + disques + rouleaux","Bêche roulante 5.3 m + disques + rouleaux","Bêche roulante 5.3 m + disques + rouleaux","Bêche roulante 5.3 m + disques + rouleaux","Bêche roulante 5.3 m + disques + rouleaux","Bêche roulante 5.3 m + disques + rouleaux","Bêche roulante 5.3 m + disques + rouleaux","Bêche roulante 5.3 m + disques + rouleaux","Bêche roulante 5.3 m + disques + rouleaux","Bêche roulante 5.3 m + disques + rouleaux","Bêche roulante 5.3 m + disques + rouleaux","Bêche roulante 5.3 m + disques + rouleaux","Bêche roulante 5.3 m + disques + rouleaux","Bêche roulante 5.3 m + disques + rouleaux","Bêche roulante 5.3 m + disques + rouleaux","Bêche roulante 5.3 m + disques + rouleaux","Bêche roulante 5.3 m + disques + rouleaux","Bêche roulante 5.3 m + disques + rouleaux","Bêche roulante 5.3 m + disques + rouleaux","Bêche roulante 5.3 m + disques + rouleaux","Bêche roulante 5.3 m + disques + rouleaux","Bêche roulante 5.3 m + disques + rouleaux","Bêche roulante 5.3 m + disques + rouleaux","Bêche roulante 5.3 m + disques + rouleaux","Bêche roulante 5.3 m + disques + rouleaux","Bêche roulante 5.3 m + disques + rouleaux","Bêche roulante 5.3 m + disques + rouleaux","Bêche roulante 5.3 m + disques + rouleaux","Bêche roulante 5.3 m + disques + rouleaux","Bêche roulante 5.3 m + disques + rouleaux","Bêche roulante 5.3 m + disques + rouleaux","Bêche roulante 5.3 m + disques + rouleaux","Bêche roulante 5.3 m + disques + rouleaux","Bêche roulante 5.3 m + disques + rouleaux","Bêche roulante 5.3 m + disques + rouleaux","Bêche roulante 5.3 m + disques + rouleaux","Bêche roulante 5.3 m + disques + rouleaux","Bêche roulante 5.3 m + disques + rouleaux","Bêche roulante 5.3 m + disques + rouleaux","Bêche roulante 5.3 m + disques + rouleaux","Bêche roulante 5.3 m + disques + rouleaux","Bêche roulante 5.3 m + disques + rouleaux","Bêche roulante 5.3 m + disques + rouleaux","Bêche roulante 5.3 m + disques + rouleaux","Bêche roulante 5.3 m + disques + rouleaux","Bêche roulante 5.3 m + disques + rouleaux","Bêche roulante 5.3 m + disques + rouleaux","Bêche roulante 5.3 m + disques + rouleaux","Bêche roulante 5.3 m + disques + rouleaux","Bêche roulante 5.3 m + disques + rouleaux","Bêche roulante 5.3 m + disques + rouleaux","Bêche roulante 5.3 m + disques + rouleaux","Bêche roulante 5.3 m + disques + rouleaux","Bêche roulante 5.3 m + disques + rouleaux","Bêche roulante 5.3 m + disques + rouleaux","Bêche roulante 5.3 m + disques + rouleaux","Bêche roulante 5.3 m + disques + rouleaux","Bêche roulante 5.3 m + disques + rouleaux","Bêche roulante 5.3 m + disques + rouleaux","Bêche roulante 5.3 m + disques + rouleaux","Bêche roulante 5.3 m + disques + rouleaux","Bêche roulante 5.3 m + disques + rouleaux","Bêche roulante 5.3 m + disques + rouleaux","Bêche roulante 5.3 m + disques + rouleaux","Bêche roulante 5.3 m + disques + rouleaux","Bêche roulante 5.3 m + disques + rouleaux","Bêche roulante 5.3 m + disques + rouleaux","Bêche roulante 5.3 m + disques + rouleaux","Bêche roulante 5.3 m + disques + rouleaux","Bêche roulante 5.3 m + disques + rouleaux","Bêche roulante 5.3 m + disques + rouleaux","Bêche roulante 5.3 m + disques + rouleaux","Bêche roulante 5.3 m + disques + rouleaux","Bêche roulante 5.3 m + disques + rouleaux","Bêche roulante 5.3 m + disques + rouleaux","Bêche roulante 5.3 m + disques + rouleaux","Bêche roulante 5.3 m + disques + rouleaux","Bêche roulante 5.3 m + disques + rouleaux","Bêche roulante 5.3 m + disques + rouleaux","Bêche roulante 5.3 m + disques + rouleaux","Bêche roulante 5.3 m + disques + rouleaux","Bêche roulante 5.3 m + disques + rouleaux","Bêche roulante 5.3 m + disques + rouleaux","Bêche roulante 5.3 m + disques + rouleaux","Bêche roulante 5.3 m + disques + rouleaux","Bêche roulante 5.3 m + disques + rouleaux","Bêche roulante 5.3 m + disques + rouleaux","Bêche roulante 5.3 m + disques + rouleaux","Bêche roulante 5.3 m + disques + rouleaux","Bêche roulante 5.3 m + disques + rouleaux","Bêche roulante 5.3 m + disques + rouleaux","Bêche roulante 5.3 m + disques + rouleaux","Bêche roulante 5.3 m + disques + rouleaux","Bêche roulante 5.3 m + disques + rouleaux","Bêche roulante 5.3 m + disques + rouleaux","Bêche roulante 5.3 m + disques + rouleaux","Bêche roulante 5.3 m + disques + rouleaux","Bêche roulante 5.3 m + disques + rouleaux","Bêche roulante 5.3 m + disques + rouleaux","Bêche roulante 5.3 m + disques + rouleaux","Bêche roulante 5.3 m + disques + rouleaux","Bêche roulante 5.3 m + disques + rouleaux","Bêche roulante 5.3 m + disques + rouleaux","Bêche roulante 5.3 m + disques + rouleaux","Bêche roulante 5.3 m + disques + rouleaux","Bêche roulante 5.3 m + disques + rouleaux","Bêche roulante 5.3 m + disques + rouleaux","Bêche roulante 5.3 m + disques + rouleaux","Bêche roulante 5.3 m + disques + rouleaux","Bêche roulante 5.3 m + disques + rouleaux","Bêche roulante 5.3 m + disques + rouleaux","Bêche roulante 5.3 m + disques + rouleaux","Bêche roulante 5.3 m + disques + rouleaux","Bêche roulante 5.3 m + disques + rouleaux","Bêche roulante 5.3 m + disques + rouleaux","Bêche roulante 5.3 m + disques + rouleaux","Bêche roulante 5.3 m + disques + rouleaux","Bêche roulante 5.3 m + disques + rouleaux","Bêche roulante 5.3 m + disques + rouleaux","Bêche roulante 5.3 m + disques + rouleaux","Bêche roulante 5.3 m + disques + rouleaux","Bêche roulante 5.3 m + disques + rouleaux","Bêche roulante 5.3 m + disques + rouleaux","Bêche roulante 5.3 m + disques + rouleaux","Bêche roulante 5.3 m + disques + rouleaux","Bêche roulante 5.3 m + disques + rouleaux","Bêche roulante 5.3 m + disques + rouleaux","Bêche roulante 5.3 m + disques + rouleaux","Bêche roulante 5.3 m + disques + rouleaux","Bêche roulante 5.3 m + disques + rouleaux","Bêche roulante 5.3 m + disques + rouleaux","Bêche roulante 5.3 m + disques + rouleaux","Bêche roulante 5.3 m + disques + rouleaux","Bêche roulante 5.3 m + disques + rouleaux","Bêche roulante 5.3 m + disques + rouleaux","Bêche roulante 5.3 m + disques + rouleaux","Bêche roulante 5.3 m + disques + rouleaux","Bêche roulante 5.3 m + disques + rouleaux","Bêche roulante 5.3 m + disques + rouleaux","Bêche roulante 5.3 m + disques + rouleaux","Bêche roulante 5.3 m + disques + rouleaux","Bêche roulante 5.3 m + disques + rouleaux","Bêche roulante 5.3 m + disques + rouleaux","Bêche roulante 5.3 m + disques + rouleaux","Bêche roulante 5.3 m + disques + rouleaux","Bêche roulante 5.3 m + disques + rouleaux","Bêche roulante 5.3 m + disques + rouleaux","Bêche roulante 5.3 m + disques + rouleaux","Bêche roulante 5.3 m + disques + rouleaux","Bêche roulante 5.3 m + disques + rouleaux","Bêche roulante 5.3 m + disques + rouleaux","Bêche roulante 5.3 m + disques + rouleaux","Bêche roulante 5.3 m + disques + rouleaux","Bêche roulante 5.3 m + disques + rouleaux","Bêche roulante 5.3 m + disques + rouleaux","Bêche roulante 5.3 m + disques + rouleaux","Bêche roulante 5.3 m + disques + rouleaux","Bêche roulante 5.3 m + disques + rouleaux","Bêche roulante 5.3 m + disques + rouleaux","Bêche roulante 5.3 m + disques + rouleaux","Bêche roulante 5.3 m + disques + rouleaux","Bêche roulante 5.3 m + disques + rouleaux","Bêche roulante 5.3 m + disques + rouleaux","Bêche roulante 5.3 m + disques + rouleaux","Bêche roulante 5.3 m + disques + rouleaux","Bêche roulante 5.3 m + disques + rouleaux","Bêche roulante 5.3 m + disques + rouleaux","Bêche roulante 5.3 m + disques + rouleaux","Bêche roulante 5.3 m + disques + rouleaux","Bêche roulante 5.3 m + disques + rouleaux","Bêche roulante 5.3 m + disques + rouleaux","Bêche roulante 5.3 m + disques + rouleaux","Bêche roulante 5.3 m + disques + rouleaux","Bêche roulante 5.3 m + disques + rouleaux","Bêche roulante 5.3 m + disques + rouleaux","Bêche roulante 5.3 m + disques + rouleaux","Bêche roulante 5.3 m + disques + rouleaux","Bêche roulante 5.3 m + disques + rouleaux","Bêche roulante 5.3 m + disques + rouleaux","Bêche roulante 5.3 m + disques + rouleaux","Bêche roulante 5.3 m + disques + rouleaux","Bêche roulante 5.3 m + disques + rouleaux","Bêche roulante 5.3 m + disques + rouleaux","Bêche roulante 5.3 m + disques + rouleaux","Bêche roulante 5.3 m + disques + rouleaux","Bêche roulante 5.3 m + disques + rouleaux","Bêche roulante 5.3 m + disques + rouleaux","Bêche roulante 5.3 m + disques + rouleaux","Bêche roulante 5.3 m + disques + rouleaux","Bêche roulante 5.3 m + disques + rouleaux","Bêche roulante 5.3 m + disques + rouleaux","Bêche roulante 5.3 m + disques + rouleaux","Bêche roulante 5.3 m + disques + rouleaux","Bêche roulante 5.3 m + disques + rouleaux","Bêche roulante 5.3 m + disques + rouleaux","Bêche roulante 5.3 m + disques + rouleaux","Bêche roulante 5.3 m + disques + rouleaux","Bêche roulante 5.3 m + disques + rouleaux","Bêche roulante 5.3 m + disques + rouleaux","Bêche roulante 5.3 m + disques + rouleaux","Bêche roulante 5.3 m + disques + rouleaux","Bêche roulante 5.3 m + disques + rouleaux","Bêche roulante 5.3 m + disques + rouleaux","Bêche roulante 5.3 m + disques + rouleaux","Bêche roulante 5.3 m + disques + rouleaux","Bêche roulante 5.3 m + disques + rouleaux","Bêche roulante 5.3 m + disques + rouleaux","Bêche roulante 5.3 m + disques + rouleaux","Bêche roulante 5.3 m + disques + rouleaux","Bêche roulante 5.3 m + disques + rouleaux","Bêche roulante 5.3 m + disques + rouleaux","Bêche roulante 5.3 m + disques + rouleaux","Bêche roulante 5.3 m + disques + rouleaux","Bêche roulante 5.3 m + disques + rouleaux","Bêche roulante 5.3 m + disques + rouleaux","Bêche roulante 5.3 m + disques + rouleaux","Bêche roulante 5.3 m + disques + rouleaux","Bêche roulante 5.3 m + disques + rouleaux","Bêche roulante 5.3 m + disques + rouleaux","Bêche roulante 5.3 m + disques + rouleaux","Bêche roulante 5.3 m + disques + rouleaux","Bêche roulante 5.3 m + disques + rouleaux","Bêche roulante 5.3 m + disques + rouleaux","Bêche roulante 5.3 m + disques + rouleaux","Bêche roulante 5.3 m + disques + rouleaux","Bêche roulante 5.3 m + disques + rouleaux","Bêche roulante 5.3 m + disques + rouleaux","Bêche roulante 5.3 m + disques + rouleaux","Bêche roulante 5.3 m + disques + rouleaux","Bêche roulante 5.3 m + disques + rouleaux","Bêche roulante 5.3 m + disques + rouleaux","Bêche roulante 5.3 m + disques + rouleaux","Bêche roulante 5.3 m + disques + rouleaux","Bêche roulante 5.3 m + disques + rouleaux","Bêche roulante 5.3 m + disques + rouleaux","Bêche roulante 5.3 m + disques + rouleaux","Bêche roulante 5.3 m + disques + rouleaux","Bêche roulante 5.3 m + disques + rouleaux","Bêche roulante 5.3 m + disques + rouleaux","Bêche roulante 5.3 m + disques + rouleaux","Bêche roulante 5.3 m + disques + rouleaux","Bêche roulante 5.3 m + disques + rouleaux","Bêche roulante 5.3 m + disques + rouleaux","Bêche roulante 5.3 m + disques + rouleaux","Bêche roulante 5.3 m + disques + rouleaux","Bêche roulante 5.3 m + disques + rouleaux","Bêche roulante 5.3 m + disques + rouleaux","Bêche roulante 5.3 m + disques + rouleaux","Bêche roulante 5.3 m + disques + rouleaux","Bêche roulante 5.3 m + disques + rouleaux","Bêche roulante 5.3 m + disques + rouleaux","Bêche roulante 5.3 m + disques + rouleaux","Bêche roulante 5.3 m + disques + rouleaux","Bêche roulante 5.3 m + disques + rouleaux","Bêche roulante 5.3 m + disques + rouleaux","Bêche roulante 5.3 m + disques + rouleaux","Bêche roulante 5.3 m + disques + rouleaux","Bêche roulante 5.3 m + disques + rouleaux","Bêche roulante 5.3 m + disques + rouleaux","Bêche roulante 5.3 m + disques + rouleaux","Bêche roulante 5.3 m + disques + rouleaux","Bêche roulante 5.3 m + disques + rouleaux","Bêche roulante 5.3 m + disques + rouleaux","Bêche roulante 5.3 m + disques + rouleaux","Bêche roulante 5.3 m + disques + rouleaux","Bêche roulante 5.3 m + disques + rouleaux","Bêche roulante 5.3 m + disques + rouleaux","Bêche roulante 5.3 m + disques + rouleaux","Bêche roulante 5.3 m + disques + rouleaux","Bêche roulante 5.3 m + disques + rouleaux","Bêche roulante 5.3 m + disques + rouleaux","Bêche roulante 5.3 m + disques + rouleaux","Bêche roulante 5.3 m + disques + rouleaux","Bêche roulante 5.3 m + disques + rouleaux","Bêche roulante 5.3 m + disques + rouleaux","Bêche roulante 5.3 m + disques + rouleaux","Bêche roulante 5.3 m + disques + rouleaux","Bêche roulante 5.3 m + disques + rouleaux","Bêche roulante 5.3 m + disques + rouleaux","Bêche roulante 5.3 m + disques + rouleaux","Bêche roulante 5.3 m + disques + rouleaux","Bêche roulante 5.3 m + disques + rouleaux","Bêche roulante 5.3 m + disques + rouleaux","Bêche roulante 5.3 m + disques + rouleaux","Bêche roulante 5.3 m + disques + rouleaux","Bêche roulante 5.3 m + disques + rouleaux","Bêche roulante 5.3 m + disques + rouleaux","Bêche roulante 5.3 m + disques + rouleaux","Bêche roulante 5.3 m + disques + rouleaux","Bêche roulante 5.3 m + disques + rouleaux","Bêche roulante 5.3 m + disques + rouleaux","Bêche roulante 5.3 m + disques + rouleaux","Bêche roulante 5.3 m + disques + rouleaux","Bêche roulante 5.3 m + disques + rouleaux","Bêche roulante 5.3 m + disques + rouleaux","Bêche roulante 5.3 m + disques + rouleaux","Bêche roulante 5.3 m + disques + rouleaux","Bêche roulante 5.3 m + disques + rouleaux","Bêche roulante 5.3 m + disques + rouleaux","Bêche roulante 5.3 m + disques + rouleaux","Bêche roulante 5.3 m + disques + rouleaux","Bêche roulante 5.3 m + disques + rouleaux","Bêche roulante 5.3 m + disques + rouleaux","Bêche roulante 5.3 m + disques + rouleaux","Bêche roulante 5.3 m + disques + rouleaux","Bêche roulante 5.3 m + disques + rouleaux","Bêche roulante 5.3 m + disques + rouleaux","Bêche roulante 5.3 m + disques + rouleaux","Bêche roulante 5.3 m + disques + rouleaux","Bêche roulante 5.3 m + disques + rouleaux","Bêche roulante 5.3 m + disques + rouleaux","Bêche roulante 5.3 m + disques + rouleaux","Bêche roulante 5.3 m + disques + rouleaux","Bêche roulante 5.3 m + disques + rouleaux","Bêche roulante 5.3 m + disques + rouleaux","Bêche roulante 5.3 m + disques + rouleaux","Bêche roulante 5.3 m + disques + rouleaux","Bêche roulante 5.3 m + disques + rouleaux","Bêche roulante 5.3 m + disques + rouleaux","Bêche roulante 5.3 m + disques + rouleaux","Bêche roulante 5.3 m + disques + rouleaux","Bêche roulante 5.3 m + disques + rouleaux","Bêche roulante 5.3 m + disques + rouleaux","Bêche roulante 5.3 m + disques + rouleaux","Bêche roulante 5.3 m + disques + rouleaux","Bêche roulante 5.3 m + disques + rouleaux","Bêche roulante 5.3 m + disques + rouleaux","Bêche roulante 5.3 m + disques + rouleaux","Bêche roulante 5.3 m + disques + rouleaux","Bêche roulante 5.3 m + disques + rouleaux","Bêche roulante 5.3 m + disques + rouleaux","Bêche roulante 5.3 m + disques + rouleaux","Bêche roulante 5.3 m + disques + rouleaux","Bêche roulante 5.3 m + disques + rouleaux","Bêche roulante 5.3 m + disques + rouleaux","Bêche roulante 5.3 m + disques + rouleaux","Bêche roulante 5.3 m + disques + rouleaux","Bêche roulante 5.3 m + disques + rouleaux","Bêche roulante 5.3 m + disques + rouleaux","Bêche roulante 5.3 m + disques + rouleaux","Bêche roulante 5.3 m + disques + rouleaux","Bêche roulante 5.3 m + disques + rouleaux","Bêche roulante 5.3 m + disques + rouleaux","Bêche roulante 5.3 m + disques + rouleaux","Bêche roulante 5.3 m + disques + rouleaux","Bêche roulante 5.3 m + disques + rouleaux","Bêche roulante 5.3 m + disques + rouleaux","Bêche roulante 5.3 m + disques + rouleaux","Bêche roulante 5.3 m + disques + rouleaux","Bêche roulante 5.3 m + disques + rouleaux","Bêche roulante 5.3 m + disques + rouleaux","Bêche roulante 5.3 m + disques + rouleaux","Bêche roulante 5.3 m + disques + rouleaux","Bêche roulante 5.3 m + disques + rouleaux","Bêche roulante 5.3 m + disques + rouleaux","Bêche roulante 5.3 m + disques + rouleaux","Bêche roulante 5.3 m + disques + rouleaux","Bêche roulante 5.3 m + disques + rouleaux","Bêche roulante 5.3 m + disques + rouleaux","Bêche roulante 5.3 m + disques + rouleaux","Bêche roulante 5.3 m + disques + rouleaux","Bêche roulante 5.3 m + disques + rouleaux","Bêche roulante 5.3 m + disques + rouleaux","Bêche roulante 5.3 m + disques + rouleaux","Bêche roulante 5.3 m + disques + rouleaux","Bêche roulante 5.3 m + disques + rouleaux","Bêche roulante 5.3 m + disques + rouleaux","Bêche roulante 5.3 m + disques + rouleaux","Bêche roulante 5.3 m + disques + rouleaux","Bêche roulante 5.3 m + disques + rouleaux","Bêche roulante 5.3 m + disques + rouleaux","Bêche roulante 5.3 m + disques + rouleaux","Bêche roulante 5.3 m + disques + rouleaux","Bêche roulante 5.3 m + disques + rouleaux","Bêche roulante 5.3 m + disques + rouleaux","Bêche roulante 5.3 m + disques + rouleaux","Bêche roulante 5.3 m + disques + rouleaux","Bêche roulante 5.3 m + disques + rouleaux","Bêche roulante 5.3 m + disques + rouleaux","Bêche roulante 5.3 m + disques + rouleaux","Bêche roulante 5.3 m + disques + rouleaux","Bêche roulante 5.3 m + disques + rouleaux","Bêche roulante 5.3 m + disques + rouleaux","Bêche roulante 5.3 m + disques + rouleaux","Bêche roulante 5.3 m + disques + rouleaux","Bêche roulante 5.3 m + disques + rouleaux","Bêche roulante 5.3 m + disques + rouleaux","Bêche roulante 5.3 m + disques + rouleaux","Bêche roulante 5.3 m + disques + rouleaux","Bêche roulante 5.3 m + disques + rouleaux","Bêche roulante 5.3 m + disques + rouleaux","Bêche roulante 5.3 m + disques + rouleaux","Bêche roulante 5.3 m + disques + rouleaux","Bêche roulante 5.3 m + disques + rouleaux","Bêche roulante 5.3 m + disques + rouleaux","Bêche roulante 5.3 m + disques + rouleaux","Bêche roulante 5.3 m + disques + rouleaux","Bêche roulante 5.3 m + disques + rouleaux","Bêche roulante 5.3 m + disques + rouleaux","Bêche roulante 5.3 m + disques + rouleaux","Bêche roulante 5.3 m + disques + rouleaux","Bêche roulante 5.3 m + disques + rouleaux","Bêche roulante 5.3 m + disques + rouleaux","Bêche roulante 5.3 m + disques + rouleaux","Bêche roulante 5.3 m + disques + rouleaux","Bêche roulante 5.3 m + disques + rouleaux","Bêche roulante 5.3 m + disques + rouleaux","Bêche roulante 5.3 m + disques + rouleaux","Bêche roulante 5.3 m + disques + rouleaux","Bêche roulante 5.3 m + disques + rouleaux","Bêche roulante 5.3 m + disques + rouleaux","Bêche roulante 5.3 m + disques + rouleaux","Bêche roulante 5.3 m + disques + rouleaux","Bêche roulante 5.3 m + disques + rouleaux","Bêche roulante 5.3 m + disques + rouleaux","Bêche roulante 5.3 m + disques + rouleaux","Bêche roulante 5.3 m + disques + rouleaux","Bêche roulante 5.3 m + disques + rouleaux","Bêche roulante 5.3 m + disques + rouleaux","Bêche roulante 5.3 m + disques + rouleaux","Bêche roulante 5.3 m + disques + rouleaux","Bêche roulante 5.3 m + disques + rouleaux","Bêche roulante 5.3 m + disques + rouleaux","Bêche roulante 5.3 m + disques + rouleaux","Bêche roulante 5.3 m + disques + rouleaux","Bêche roulante 5.3 m + disques + rouleaux","Bêche roulante 5.3 m + disques + rouleaux","Bêche roulante 5.3 m + disques + rouleaux","Bêche roulante 5.3 m + disques + rouleaux","Bêche roulante 5.3 m + disques + rouleaux","Bêche roulante 5.3 m + disques + rouleaux","Bêche roulante 5.3 m + disques + rouleaux","Bêche roulante 5.3 m + disques + rouleaux","Bêche roulante 5.3 m + disques + rouleaux","Bêche roulante 5.3 m + disques + rouleaux","Bêche roulante 5.3 m + disques + rouleaux","Bêche roulante 5.3 m + disques + rouleaux","Bêche roulante 5.3 m + disques + rouleaux","Bêche roulante 5.3 m + disques + rouleaux","Bêche roulante 5.3 m + disques + rouleaux","Bêche roulante 5.3 m + disques + rouleaux","Bêche roulante 5.3 m + disques + rouleaux","Bêche roulante 5.3 m + disques + rouleaux","Bêche roulante 5.3 m + disques + rouleaux","Bêche roulante 5.3 m + disques + rouleaux","Bêche roulante 5.3 m + disques + rouleaux","Bêche roulante 5.3 m + disques + rouleaux","Bêche roulante 5.3 m + disques + rouleaux","Bêche roulante 5.3 m + disques + rouleaux","Bêche roulante 5.3 m + disques + rouleaux","Bêche roulante 5.3 m + disques + rouleaux","Bêche roulante 5.3 m + disques + rouleaux","Bêche roulante 5.3 m + disques + rouleaux","Bêche roulante 5.3 m + disques + rouleaux","Bêche roulante 5.3 m + disques + rouleaux","Bêche roulante 5.3 m + disques + rouleaux","Bêche roulante 5.3 m + disques + rouleaux","Bêche roulante 5.3 m + disques + rouleaux","Bêche roulante 5.3 m + disques + rouleaux","Bêche roulante 5.3 m + disques + rouleaux","Bêche roulante 5.3 m + disques + rouleaux","Bêche roulante 5.3 m + disques + rouleaux","Bêche roulante 5.3 m + disques + rouleaux","Bêche roulante 5.3 m + disques + rouleaux","Bêche roulante 5.3 m + disques + rouleaux","Bêche roulante 5.3 m + disques + rouleaux","Bêche roulante 5.3 m + disques + rouleaux","Bêche roulante 5.3 m + disques + rouleaux","Bêche roulante 5.3 m + disques + rouleaux","Bêche roulante 5.3 m + disques + rouleaux","Bêche roulante 5.3 m + disques + rouleaux","Bêche roulante 5.3 m + disques + rouleaux","Bêche roulante 5.3 m + disques + rouleaux","Bêche roulante 5.3 m + disques + rouleaux","Bêche roulante 5.3 m + disques + rouleaux","Bêche roulante 5.3 m + disques + rouleaux","Bêche roulante 5.3 m + disques + rouleaux","Bêche roulante 5.3 m + disques + rouleaux","Bêche roulante 5.3 m + disques + rouleaux","Bêche roulante 5.3 m + disques + rouleaux","Bêche roulante 5.3 m + disques + rouleaux","Bêche roulante 5.3 m + disques + rouleaux","Bêche roulante 5.3 m + disques + rouleaux","Bêche roulante 5.3 m + disques + rouleaux","Bêche roulante 5.3 m + disques + rouleaux","Bêche roulante 5.3 m + disques + rouleaux","Bêche roulante 5.3 m + disques + rouleaux","Bêche roulante 5.3 m + disques + rouleaux","Bêche roulante 5.3 m + disques + rouleaux","Bêche roulante 5.3 m + disques + rouleaux","Bêche roulante 5.3 m + disques + rouleaux","Bêche roulante 5.3 m + disques + rouleaux","Bêche roulante 5.3 m + disques + rouleaux","Bêche roulante 5.3 m + disques + rouleaux","Bêche roulante 5.3 m + disques + rouleaux","Bêche roulante 5.3 m + disques + rouleaux","Bêche roulante 5.3 m + disques + rouleaux","Bêche roulante 5.3 m + disques + rouleaux","Bêche roulante 5.3 m + disques + rouleaux","Bêche roulante 5.3 m + disques + rouleaux","Bêche roulante 5.3 m + disques + rouleaux","Bêche roulante 5.3 m + disques + rouleaux","Bêche roulante 5.3 m + disques + rouleaux","Bêche roulante 5.3 m + disques + rouleaux","Bêche roulante 5.3 m + disques + rouleaux","Bêche roulante 5.3 m + disques + rouleaux","Bêche roulante 5.3 m + disques + rouleaux","Bêche roulante 5.3 m + disques + rouleaux","Bêche roulante 5.3 m + disques + rouleaux","Bêche roulante 5.3 m + disques + rouleaux","Bêche roulante 5.3 m + disques + rouleaux","Bêche roulante 5.3 m + disques + rouleaux","Bêche roulante 5.3 m + disques + rouleaux","Bêche roulante 5.3 m + disques + rouleaux","Bêche roulante 5.3 m + disques + rouleaux","Bêche roulante 5.3 m + disques + rouleaux","Bêche roulante 5.3 m + disques + rouleaux","Bêche roulante 5.3 m + disques + rouleaux","Bêche roulante 5.3 m + disques + rouleaux","Bêche roulante 5.3 m + disques + rouleaux","Bêche roulante 5.3 m + disques + rouleaux","Bêche roulante 5.3 m + disques + rouleaux","Bêche roulante 5.3 m + disques + rouleaux","Bêche roulante 5.3 m + disques + rouleaux","Bêche roulante 5.3 m + disques + rouleaux","Bêche roulante 5.3 m + disques + rouleaux","Bêche roulante 5.3 m + disques + rouleaux","Bêche roulante 5.3 m + disques + rouleaux","Bêche roulante 5.3 m + disques + rouleaux","Bêche roulante 5.3 m + disques + rouleaux","Bêche roulante 5.3 m + disques + rouleaux","Bêche roulante 5.3 m + disques + rouleaux","Bêche roulante 5.3 m + disques + rouleaux","Bêche roulante 5.3 m + disques + rouleaux","Bêche roulante 5.3 m + disques + rouleaux","Bêche roulante 5.3 m + disques + rouleaux","Bêche roulante 5.3 m + disques + rouleaux","Bêche roulante 5.3 m + disques + rouleaux","Bêche roulante 5.3 m + disques + rouleaux","Bêche roulante 5.3 m + disques + rouleaux","Bêche roulante 5.3 m + disques + rouleaux","Bêche roulante 5.3 m + disques + rouleaux","Bêche roulante 5.3 m + disques + rouleaux","Bêche roulante 5.3 m + disques + rouleaux","Bêche roulante 5.3 m + disques + rouleaux","Bêche roulante 5.3 m + disques + rouleaux","Bêche roulante 5.3 m + disques + rouleaux","Bêche roulante 5.3 m + disques + rouleaux","Bêche roulante 5.3 m + disques + rouleaux","Bêche roulante 5.3 m + disques + rouleaux","Bêche roulante 5.3 m + disques + rouleaux","Bêche roulante 5.3 m + disques + rouleaux","Bêche roulante 5.3 m + disques + rouleaux","Bêche roulante 5.3 m + disques + rouleaux","Bêche roulante 5.3 m + disques + rouleaux","Bêche roulante 5.3 m + disques + rouleaux","Bêche roulante 5.3 m + disques + rouleaux","Bêche roulante 5.3 m + disques + rouleaux","Bêche roulante 5.3 m + disques + rouleaux","Bêche roulante 5.3 m + disques + rouleaux","Bêche roulante 5.3 m + disques + rouleaux","Bêche roulante 5.3 m + disques + rouleaux","Bêche roulante 5.3 m + disques + rouleaux","Bêche roulante 5.3 m + disques + rouleaux","Bêche roulante 5.3 m + disques + rouleaux","Bêche roulante 5.3 m + disques + rouleaux","Bêche roulante 5.3 m + disques + rouleaux","Bêche roulante 5.3 m + disques + rouleaux","Bêche roulante 5.3 m + disques + rouleaux","Bêche roulante 5.3 m + disques + rouleaux","Bêche roulante 5.3 m + disques + rouleaux","Bêche roulante 5.3 m + disques + rouleaux","Bêche roulante 5.3 m + disques + rouleaux","Bêche roulante 5.3 m + disques + rouleaux","Bêche roulante 5.3 m + disques + rouleaux","Bêche roulante 5.3 m + disques + rouleaux","Bêche roulante 5.3 m + disques + rouleaux","Bêche roulante 5.3 m + disques + rouleaux","Bêche roulante 5.3 m + disques + rouleaux","Bêche roulante 5.3 m + disques + rouleaux","Bêche roulante 5.3 m + disques + rouleaux","Bêche roulante 5.3 m + disques + rouleaux","Bêche roulante 5.3 m + disques + rouleaux","Bêche roulante 5.3 m + disques + rouleaux","Bêche roulante 5.3 m + disques + rouleaux","Bêche roulante 5.3 m + disques + rouleaux","Bêche roulante 5.3 m + disques + rouleaux","Bêche roulante 5.3 m + disques + rouleaux","Bêche roulante 5.3 m + disques + rouleaux","Bêche roulante 5.3 m + disques + rouleaux","Bêche roulante 5.3 m + disques + rouleaux","Bêche roulante 5.3 m + disques + rouleaux","Bêche roulante 5.3 m + disques + rouleaux","Bêche roulante 5.3 m + disques + rouleaux","Bêche roulante 5.3 m + disques + rouleaux","Bêche roulante 5.3 m + disques + rouleaux","Bêche roulante 5.3 m + disques + rouleaux","Bêche roulante 5.3 m + disques + rouleaux","Bêche roulante 5.3 m + disques + rouleaux","Bêche roulante 5.3 m + disques + rouleaux","Bêche roulante 5.3 m + disques + rouleaux","Bêche roulante 5.3 m + disques + rouleaux","Bêche roulante 5.3 m + disques + rouleaux","Bêche roulante 5.3 m + disques + rouleaux","Bêche roulante 5.3 m + disques + rouleaux","Bêche roulante 5.3 m + disques + rouleaux","Bêche roulante 5.3 m + disques + rouleaux","Bêche roulante 5.3 m + disques + rouleaux","Bêche roulante 5.3 m + disques + rouleaux","Bêche roulante 5.3 m + disques + rouleaux","Bêche roulante 5.3 m + disques + rouleaux","Bêche roulante 5.3 m + disques + rouleaux","Bêche roulante 5.3 m + disques + rouleaux","Bêche roulante 5.3 m + disques + rouleaux","Bêche roulante 5.3 m + disques + rouleaux","Bêche roulante 5.3 m + disques + rouleaux","Bêche roulante 5.3 m + disques + rouleaux","Bêche roulante 5.3 m + disques + rouleaux","Bêche roulante 5.3 m + disques + rouleaux","Bêche roulante 5.3 m + disques + rouleaux","Bêche roulante 5.3 m + disques + rouleaux","Bêche roulante 5.3 m + disques + rouleaux","Bêche roulante 5.3 m + disques + rouleaux","Bêche roulante 5.3 m + disques + rouleaux","Bêche roulante 5.3 m + disques + rouleaux","Bêche roulante 5.3 m + disques + rouleaux","Bêche roulante 5.3 m + disques + rouleaux","Bêche roulante 5.3 m + disques + rouleaux","Bêche roulante 5.3 m + disques + rouleaux","Bêche roulante 5.3 m + disques + rouleaux","Bêche roulante 5.3 m + disques + rouleaux","Bêche roulante 5.3 m + disques + rouleaux","Bêche roulante 5.3 m + disques + rouleaux","Bêche roulante 5.3 m + disques + rouleaux","Bêche roulante 5.3 m + disques + rouleaux","Bêche roulante 5.3 m + disques + rouleaux","Bêche roulante 5.3 m + disques + rouleaux","Bêche roulante 5.3 m + disques + rouleaux","Bêche roulante 5.3 m + disques + rouleaux","Bêche roulante 5.3 m + disques + rouleaux","Bêche roulante 5.3 m + disques + rouleaux","Bêche roulante 5.3 m + disques + rouleaux","Bêche roulante 5.3 m + disques + rouleaux","Bêche roulante 5.3 m + disques + rouleaux","Bêche roulante 5.3 m + disques + rouleaux","Bêche roulante 5.3 m + disques + rouleaux","Bêche roulante 5.3 m + disques + rouleaux","Bêche roulante 5.3 m + disques + rouleaux","Bêche roulante 5.3 m + disques + rouleaux","Bêche roulante 5.3 m + disques + rouleaux","Bêche roulante 5.3 m + disques + rouleaux","Bêche roulante 5.3 m + disques + rouleaux","Bêche roulante 5.3 m + disques + rouleaux","Bêche roulante 5.3 m + disques + rouleaux","Bêche roulante 5.3 m + disques + rouleaux","Bêche roulante 5.3 m + disques + rouleaux","Bêche roulante 5.3 m + disques + rouleaux","Bêche roulante 5.3 m + disques + rouleaux","Bêche roulante 5.3 m + disques + rouleaux","Bêche roulante 5.3 m + disques + rouleaux","Bêche roulante 5.3 m + disques + rouleaux","Bêche roulante 5.3 m + disques + rouleaux","Bêche roulante 5.3 m + disques + rouleaux","Bêche roulante 5.3 m + disques + rouleaux","Bêche roulante 5.3 m + disques + rouleaux","Bêche roulante 5.3 m + disques + rouleaux","Bêche roulante 5.3 m + disques + rouleaux","Bêche roulante 5.3 m + disques + rouleaux","Bêche roulante 5.3 m + disques + rouleaux","Bêche roulante 5.3 m + disques + rouleaux","Bêche roulante 5.3 m + disques + rouleaux","Bêche roulante 5.3 m + disques + rouleaux","Bêche roulante 5.3 m + disques + rouleaux","Bêche roulante 5.3 m + disques + rouleaux","Bêche roulante 5.3 m + disques + rouleaux","Bêche roulante 5.3 m + disques + rouleaux","Bêche roulante 5.3 m + disques + rouleaux","Bêche roulante 5.3 m + disques + rouleaux","Bêche roulante 5.3 m + disques + rouleaux","Bêche roulante 5.3 m + disques + rouleaux","Bêche roulante 5.3 m + disques + rouleaux","Bêche roulante 5.3 m + disques + rouleaux","Bêche roulante 5.3 m + disques + rouleaux","Bêche roulante 5.3 m + disques + rouleaux","Bêche roulante 5.3 m + disques + rouleaux","Bêche roulante 5.3 m + disques + rouleaux","Bêche roulante 5.3 m + disques + rouleaux","Bêche roulante 5.3 m + disques + rouleaux","Bêche roulante 5.3 m + disques + rouleaux","Bêche roulante 5.3 m + disques + rouleaux","Bêche roulante 5.3 m + disques + rouleaux","Bêche roulante 5.3 m + disques + rouleaux","Bêche roulante 5.3 m + disques + rouleaux","Bêche roulante 5.3 m + disques + rouleaux","Bêche roulante 5.3 m + disques + rouleaux","Bêche roulante 5.3 m + disques + rouleaux","Bêche roulante 5.3 m + disques + rouleaux","Bêche roulante 5.3 m + disques + rouleaux","Bêche roulante 5.3 m + disques + rouleaux","Bêche roulante 5.3 m + disques + rouleaux","Bêche roulante 5.3 m + disques + rouleaux","Bêche roulante 5.3 m + disques + rouleaux","Bêche roulante 5.3 m + disques + rouleaux","Bêche roulante 5.3 m + disques + rouleaux","Bêche roulante 5.3 m + disques + rouleaux","Bêche roulante 5.3 m + disques + rouleaux","Bêche roulante 5.3 m + disques + rouleaux","Bêche roulante 5.3 m + disques + rouleaux","Bêche roulante 5.3 m + disques + rouleaux","Bêche roulante 5.3 m + disques + rouleaux","Bêche roulante 5.3 m + disques + rouleaux","Bêche roulante 5.3 m + disques + rouleaux","Bêche roulante 5.3 m + disques + rouleaux","Bêche roulante 5.3 m + disques + rouleaux","Bêche roulante 5.3 m + disques + rouleaux","Bêche roulante 5.3 m + disques + rouleaux","Bêche roulante 5.3 m + disques + rouleaux","Bêche roulante 5.3 m + disques + rouleaux","Bêche roulante 5.3 m + disques + rouleaux","Bêche roulante 5.3 m + disques + rouleaux","Bêche roulante 5.3 m + disques + rouleaux","Bêche roulante 5.3 m + disques + rouleaux","Bêche roulante 5.3 m + disques + rouleaux","Bêche roulante 5.3 m + disques + rouleaux","Bêche roulante 5.3 m + disques + rouleaux","Bêche roulante 5.3 m + disques + rouleaux","Bêche roulante 5.3 m + disques + rouleaux","Bêche roulante 5.3 m + disques + rouleaux","Bêche roulante 5.3 m + disques + rouleaux","Bêche roulante 5.3 m + disques + rouleaux","Bêche roulante 5.3 m + disques + rouleaux","Bêche roulante 5.3 m + disques + rouleaux","Bêche roulante 5.3 m + disques + rouleaux","Bêche roulante 5.3 m + disques + rouleaux","Bêche roulante 5.3 m + disques + rouleaux","Bêche roulante 5.3 m + disques + rouleaux","Bêche roulante 5.3 m + disques + rouleaux","Bêche roulante 5.3 m + disques + rouleaux","Bêche roulante 5.3 m + disques + rouleaux","Bêche roulante 5.3 m + disques + rouleaux","Bêche roulante 5.3 m + disques + rouleaux","Bêche roulante 5.3 m + disques + rouleaux","Bêche roulante 5.3 m + disques + rouleaux","Bêche roulante 5.3 m + disques + rouleaux","Bêche roulante 5.3 m + disques + rouleaux","Bêche roulante 5.3 m + disques + rouleaux","Bêche roulante 5.3 m + disques + rouleaux","Bêche roulante 5.3 m + disques + rouleaux","Bêche roulante 5.3 m + disques + rouleaux","Bêche roulante 5.3 m + disques + rouleaux","Bêche roulante 5.3 m + disques + rouleaux","Bêche roulante 5.3 m + disques + rouleaux","Bêche roulante 5.3 m + disques + rouleaux","Bêche roulante 5.3 m + disques + rouleaux","Bêche roulante 5.3 m + disques + rouleaux","Bêche roulante 5.3 m + disques + rouleaux","Bêche roulante 5.3 m + disques + rouleaux","Bêche roulante 5.3 m + disques + rouleaux","Bêche roulante 5.3 m + disques + rouleaux","Bêche roulante 5.3 m + disques + rouleaux","Bêche roulante 5.3 m + disques + rouleaux","Bêche roulante 5.3 m + disques + rouleaux","Bêche roulante 5.3 m + disques + rouleaux","Bêche roulante 5.3 m + disques + rouleaux","Bêche roulante 5.3 m + disques + rouleaux","Bêche roulante 5.3 m + disques + rouleaux","Bêche roulante 5.3 m + disques + rouleaux","Bêche roulante 5.3 m + disques + rouleaux","Bêche roulante 5.3 m + disques + rouleaux","Bêche roulante 5.3 m + disques + rouleaux","Bêche roulante 5.3 m + disques + rouleaux","Bêche roulante 5.3 m + disques + rouleaux","Bêche roulante 5.3 m + disques + rouleaux","Bêche roulante 5.3 m + disques + rouleaux","Bêche roulante 5.3 m + disques + rouleaux","Bêche roulante 5.3 m + disques + rouleaux","Bêche roulante 5.3 m + disques + rouleaux","Bêche roulante 5.3 m + disques + rouleaux","Bêche roulante 5.3 m + disques + rouleaux","Bêche roulante 5.3 m + disques + rouleaux","Bêche roulante 5.3 m + disques + rouleaux","Bêche roulante 5.3 m + disques + rouleaux","Bêche roulante 5.3 m + disques + rouleaux","Bêche roulante 5.3 m + disques + rouleaux","Bêche roulante 5.3 m + disques + rouleaux","Bêche roulante 5.3 m + disques + rouleaux","Bêche roulante 5.3 m + disques + rouleaux","Bêche roulante 5.3 m + disques + rouleaux","Bêche roulante 5.3 m + disques + rouleaux","Bêche roulante 5.3 m + disques + rouleaux","Bêche roulante 5.3 m + disques + rouleaux","Bêche roulante 5.3 m + disques + rouleaux","Bêche roulante 5.3 m + disques + rouleaux","Bêche roulante 5.3 m + disques + rouleaux","Bêche roulante 5.3 m + disques + rouleaux","Bêche roulante 5.3 m + disques + rouleaux","Bêche roulante 5.3 m + disques + rouleaux","Bêche roulante 5.3 m + disques + rouleaux","Bêche roulante 5.3 m + disques + rouleaux","Bêche roulante 5.3 m + disques + rouleaux","Bêche roulante 5.3 m + disques + rouleaux","Bêche roulante 5.3 m + disques + rouleaux","Bêche roulante 5.3 m + disques + rouleaux","Bêche roulante 5.3 m + disques + rouleaux","Bêche roulante 5.3 m + disques + rouleaux","Bêche roulante 5.3 m + disques + rouleaux","Bêche roulante 5.3 m + disques + rouleaux","Bêche roulante 5.3 m + disques + rouleaux","Bêche roulante 5.3 m + disques + rouleaux","Bêche roulante 5.3 m + disques + rouleaux","Bêche roulante 5.3 m + disques + rouleaux","Bêche roulante 5.3 m + disques + rouleaux","Bêche roulante 5.3 m + disques + rouleaux","Bêche roulante 5.3 m + disques + rouleaux","Bêche roulante 5.3 m + disques + rouleaux","Bêche roulante 5.3 m + disques + rouleaux","Bêche roulante 5.3 m + disques + rouleaux","Bêche roulante 5.3 m + disques + rouleaux","Bêche roulante 5.3 m + disques + rouleaux","Bêche roulante 5.3 m + disques + rouleaux","Bêche roulante 5.3 m + disques + rouleaux","Bêche roulante 5.3 m + disques + rouleaux","Bêche roulante 5.3 m + disques + rouleaux","Bêche roulante 5.3 m + disques + rouleaux","Bêche roulante 5.3 m + disques + rouleaux","Bêche roulante 5.3 m + disques + rouleaux","Bêche roulante 5.3 m + disques + rouleaux","Bêche roulante 5.3 m + disques + rouleaux","Bêche roulante 5.3 m + disques + rouleaux","Bêche roulante 5.3 m + disques + rouleaux","Bêche roulante 5.3 m + disques + rouleaux","Bêche roulante 5.3 m + disques + rouleaux","Bêche roulante 5.3 m + disques + rouleaux","Bêche roulante 5.3 m + disques + rouleaux","Bêche roulante 5.3 m + disques + rouleaux","Bêche roulante 5.3 m + disques + rouleaux","Bêche roulante 5.3 m + disques + rouleaux","Bêche roulante 5.3 m + disques + rouleaux","Bêche roulante 5.3 m + disques + rouleaux","Bêche roulante 5.3 m + disques + rouleaux","Bêche roulante 5.3 m + disques + rouleaux","Bêche roulante 5.3 m + disques + rouleaux","Bêche roulante 5.3 m + disques + rouleaux","Bêche roulante 5.3 m + disques + rouleaux","Bêche roulante 5.3 m + disques + rouleaux","Bêche roulante 5.3 m + disques + rouleaux","Bêche roulante 5.3 m + disques + rouleaux","Bêche roulante 5.3 m + disques + rouleaux","Bêche roulante 5.3 m + disques + rouleaux","Bêche roulante 5.3 m + disques + rouleaux","Bêche roulante 5.3 m + disques + rouleaux","Bêche roulante 5.3 m + disques + rouleaux","Bêche roulante 5.3 m + disques + rouleaux","Bêche roulante 5.3 m + disques + rouleaux","Bêche roulante 5.3 m + disques + rouleaux","Bêche roulante 5.3 m + disques + rouleaux","Bêche roulante 5.3 m + disques + rouleaux","Bêche roulante 5.3 m + disques + rouleaux","Bêche roulante 5.3 m + disques + rouleaux","Bêche roulante 5.3 m + disques + rouleaux","Bêche roulante 5.3 m + disques + rouleaux","Bêche roulante 5.3 m + disques + rouleaux","Bêche roulante 5.3 m + disques + rouleaux","Bêche roulante 5.3 m + disques + rouleaux","Bêche roulante 5.3 m + disques + rouleaux","Bêche roulante 5.3 m + disques + rouleaux","Bêche roulante 5.3 m + disques + rouleaux","Bêche roulante 5.3 m + disques + rouleaux","Bêche roulante 5.3 m + disques + rouleaux","Bêche roulante 5.3 m + disques + rouleaux","Bêche roulante 5.3 m + disques + rouleaux","Bêche roulante 5.3 m + disques + rouleaux","Bêche roulante 5.3 m + disques + rouleaux","Bêche roulante 5.3 m + disques + rouleaux","Bêche roulante 5.3 m + disques + rouleaux","Bêche roulante 5.3 m + disques + rouleaux","Bêche roulante 5.3 m + disques + rouleaux","Bêche roulante 5.3 m + disques + rouleaux","Bêche roulante 5.3 m + disques + rouleaux","Bêche roulante 5.3 m + disques + rouleaux","Bêche roulante 5.3 m + disques + rouleaux","Bêche roulante 5.3 m + disques + rouleaux","Bêche roulante 5.3 m + disques + rouleaux","Bêche roulante 5.3 m + disques + rouleaux","Bêche roulante 5.3 m + disques + rouleaux","Bêche roulante 5.3 m + disques + rouleaux","Bêche roulante 5.3 m + disques + rouleaux","Bêche roulante 5.3 m + disques + rouleaux","Bêche roulante 5.3 m + disques + rouleaux","Bêche roulante 5.3 m + disques + rouleaux","Bêche roulante 5.3 m + disques + rouleaux","Bêche roulante 5.3 m + disques + rouleaux","Bêche roulante 5.3 m + disques + rouleaux","Bêche roulante 5.3 m + disques + rouleaux","Bêche roulante 5.3 m + disques + rouleaux","Bêche roulante 5.3 m + disques + rouleaux","Bêche roulante 5.3 m + disques + rouleaux","Bêche roulante 5.3 m + disques + rouleaux","Bêche roulante 5.3 m + disques + rouleaux","Bêche roulante 5.3 m + disques + rouleaux","Bêche roulante 5.3 m + disques + rouleaux","Bêche roulante 5.3 m + disques + rouleaux","Bêche roulante 5.3 m + disques + rouleaux","Bêche roulante 5.3 m + disques + rouleaux","Bêche roulante 5.3 m + disques + rouleaux","Bêche roulante 5.3 m + disques + rouleaux","Bêche roulante 5.3 m + disques + rouleaux","Bêche roulante 5.3 m + disques + rouleaux","Bêche roulante 5.3 m + disques + rouleaux","Bêche roulante 5.3 m + disques + rouleaux","Bêche roulante 5.3 m + disques + rouleaux","Bêche roulante 5.3 m + disques + rouleaux","Bêche roulante 5.3 m + disques + rouleaux","Bêche roulante 5.3 m + disques + rouleaux","Bêche roulante 5.3 m + disques + rouleaux","Bêche roulante 5.3 m + disques + rouleaux","Bêche roulante 5.3 m + disques + rouleaux","Bêche roulante 5.3 m + disques + rouleaux","Bêche roulante 5.3 m + disques + rouleaux","Bêche roulante 5.3 m + disques + rouleaux","Bêche roulante 5.3 m + disques + rouleaux","Bêche roulante 5.3 m + disques + rouleaux","Bêche roulante 5.3 m + disques + rouleaux","Bêche roulante 5.3 m + disques + rouleaux","Bêche roulante 5.3 m + disques + rouleaux","Bêche roulante 5.3 m + disques + rouleaux","Bêche roulante 5.3 m + disques + rouleaux","Bêche roulante 5.3 m + disques + rouleaux","Bêche roulante 5.3 m + disques + rouleaux","Bêche roulante 5.3 m + disques + rouleaux","Bêche roulante 5.3 m + disques + rouleaux","Bêche roulante 5.3 m + disques + rouleaux","Bêche roulante 5.3 m + disques + rouleaux","Bêche roulante 5.3 m + disques + rouleaux","Bêche roulante 5.3 m + disques + rouleaux","Bêche roulante 5.3 m + disques + rouleaux","Bêche roulante 5.3 m + disques + rouleaux","Bêche roulante 5.3 m + disques + rouleaux","Bêche roulante 5.3 m + disques + rouleaux","Bêche roulante 5.3 m + disques + rouleaux","Bêche roulante 5.3 m + disques + rouleaux","Bêche roulante 5.3 m + disques + rouleaux","Bêche roulante 5.3 m + disques + rouleaux","Bêche roulante 5.3 m + disques + rouleaux","Bêche roulante 5.3 m + disques + rouleaux","Bêche roulante 5.3 m + disques + rouleaux","Bêche roulante 5.3 m + disques + rouleaux","Bêche roulante 5.3 m + disques + rouleaux","Bêche roulante 5.3 m + disques + rouleaux","Bêche roulante 5.3 m + disques + rouleaux","Bêche roulante 5.3 m + disques + rouleaux","Bêche roulante 5.3 m + disques + rouleaux","Bêche roulante 5.3 m + disques + rouleaux","Bêche roulante 5.3 m + disques + rouleaux","Bêche roulante 5.3 m + disques + rouleaux","Bêche roulante 5.3 m + disques + rouleaux","Bêche roulante 5.3 m + disques + rouleaux","Bêche roulante 5.3 m + disques + rouleaux","Bêche roulante 5.3 m + disques + rouleaux","Bêche roulante 5.3 m + disques + rouleaux","Bêche roulante 5.3 m + disques + rouleaux","Bêche roulante 5.3 m + disques + rouleaux","Bêche roulante 5.3 m + disques + rouleaux","Bêche roulante 5.3 m + disques + rouleaux","Bêche roulante 5.3 m + disques + rouleaux","Bêche roulante 5.3 m + disques + rouleaux","Bêche roulante 5.3 m + disques + rouleaux","Bêche roulante 5.3 m + disques + rouleaux","Bêche roulante 5.3 m + disques + rouleaux","Bêche roulante 5.3 m + disques + rouleaux","Bêche roulante 5.3 m + disques + rouleaux","Bêche roulante 5.3 m + disques + rouleaux","Bêche roulante 5.3 m + disques + rouleaux","Bêche roulante 5.3 m + disques + rouleaux","Bêche roulante 5.3 m + disques + rouleaux","Bêche roulante 5.3 m + disques + rouleaux","Bêche roulante 5.3 m + disques + rouleaux","Bêche roulante 5.3 m + disques + rouleaux","Bêche roulante 5.3 m + disques + rouleaux","Bêche roulante 5.3 m + disques + rouleaux","Bêche roulante 5.3 m + disques + rouleaux","Bêche roulante 5.3 m + disques + rouleaux","Bêche roulante 5.3 m + disques + rouleaux","Bêche roulante 5.3 m + disques + rouleaux","Bêche roulante 5.3 m + disques + rouleaux","Bêche roulante 5.3 m + disques + rouleaux","Bêche roulante 5.3 m + disques + rouleaux","Bêche roulante 5.3 m + disques + rouleaux","Bêche roulante 5.3 m + disques + rouleaux","Bêche roulante 5.3 m + disques + rouleaux","Bêche roulante 5.3 m + disques + rouleaux","Bêche roulante 5.3 m + disques + rouleaux","Bêche roulante 5.3 m + disques + rouleaux","Bêche roulante 5.3 m + disques + rouleaux","Bêche roulante 5.3 m + disques + rouleaux","Bêche roulante 5.3 m + disques + rouleaux","Bêche roulante 5.3 m + disques + rouleaux","Bêche roulante 5.3 m + disques + rouleaux","Bêche roulante 5.3 m + disques + rouleaux","Bêche roulante 5.3 m + disques + rouleaux","Bêche roulante 5.3 m + disques + rouleaux","Bêche roulante 5.3 m + disques + rouleaux","Bêche roulante 5.3 m + disques + rouleaux","Bêche roulante 5.3 m + disques + rouleaux","Bêche roulante 5.3 m + disques + rouleaux","Bêche roulante 5.3 m + disques + rouleaux","Bêche roulante 5.3 m + disques + rouleaux","Bêche roulante 5.3 m + disques + rouleaux","Bêche roulante 5.3 m + disques + rouleaux","Bêche roulante 5.3 m + disques + rouleaux","Bêche roulante 5.3 m + disques + rouleaux","Bêche roulante 5.3 m + disques + rouleaux","Bêche roulante 5.3 m + disques + rouleaux","Bêche roulante 5.3 m + disques + rouleaux","Bêche roulante 5.3 m + disques + rouleaux","Bêche roulante 5.3 m + disques + rouleaux","Bêche roulante 5.3 m + disques + rouleaux","Bêche roulante 5.3 m + disques + rouleaux","Bêche roulante 5.3 m + disques + rouleaux","Bêche roulante 5.3 m + disques + rouleaux","Bêche roulante 5.3 m + disques + rouleaux","Bêche roulante 5.3 m + disques + rouleaux","Bêche roulante 5.3 m + disques + rouleaux","Bêche roulante 5.3 m + disques + rouleaux","Bêche roulante 5.3 m + disques + rouleaux","Bêche roulante 5.3 m + disques + rouleaux","Bêche roulante 5.3 m + disques + rouleaux","Bêche roulante 5.3 m + disques + rouleaux","Bêche roulante 5.3 m + disques + rouleaux","Bêche roulante 5.3 m + disques + rouleaux","Bêche roulante 5.3 m + disques + rouleaux","Bêche roulante 5.3 m + disques + rouleaux","Bêche roulante 5.3 m + disques + rouleaux","Bêche roulante 5.3 m + disques + rouleaux","Bêche roulante 5.3 m + disques + rouleaux","Bêche roulante 5.3 m + disques + rouleaux","Bêche roulante 5.3 m + disques + rouleaux","Bêche roulante 5.3 m + disques + rouleaux","Bêche roulante 5.3 m + disques + rouleaux","Bêche roulante 5.3 m + disques + rouleaux","Bêche roulante 5.3 m + disques + rouleaux","Bêche roulante 5.3 m + disques + rouleaux","Bêche roulante 5.3 m + disques + rouleaux","Bêche roulante 5.3 m + disques + rouleaux","Bêche roulante 5.3 m + disques + rouleaux","Bêche roulante 5.3 m + disques + rouleaux","Bêche roulante 5.3 m + disques + rouleaux","Bêche roulante 5.3 m + disques + rouleaux","Bêche roulante 5.3 m + disques + rouleaux","Bêche roulante 5.3 m + disques + rouleaux","Bêche roulante 5.3 m + disques + rouleaux","Bêche roulante 5.3 m + disques + rouleaux","Bêche roulante 5.3 m + disques + rouleaux","Bêche roulante 5.3 m + disques + rouleaux","Bêche roulante 5.3 m + disques + rouleaux","Bêche roulante 5.3 m + disques + rouleaux","Bêche roulante 5.3 m + disques + rouleaux","Bêche roulante 5.3 m + disques + rouleaux","Bêche roulante 5.3 m + disques + rouleaux","Bêche roulante 5.3 m + disques + rouleaux","Bêche roulante 5.3 m + disques + rouleaux","Bêche roulante 5.3 m + disques + rouleaux","Bêche roulante 5.3 m + disques + rouleaux","Bêche roulante 5.3 m + disques + rouleaux","Bêche roulante 5.3 m + disques + rouleaux","Bêche roulante 5.3 m + disques + rouleaux","Bêche roulante 5.3 m + disques + rouleaux","Bêche roulante 5.3 m + disques + rouleaux","Bêche roulante 5.3 m + disques + rouleaux","Bêche roulante 5.3 m + disques + rouleaux","Bêche roulante 5.3 m + disques + rouleaux","Bêche roulante 5.3 m + disques + rouleaux","Bêche roulante 5.3 m + disques + rouleaux","Bêche roulante 5.3 m + disques + rouleaux","Bêche roulante 5.3 m + disques + rouleaux","Bêche roulante 5.3 m + disques + rouleaux","Bêche roulante 5.3 m + disques + rouleaux","Bêche roulante 5.3 m + disques + rouleaux","Bêche roulante 5.3 m + disques + rouleaux","Bêche roulante 5.3 m + disques + rouleaux","Bêche roulante 5.3 m + disques + rouleaux","Bêche roulante 5.3 m + disques + rouleaux","Bêche roulante 5.3 m + disques + rouleaux","Bêche roulante 5.3 m + disques + rouleaux","Bêche roulante 5.3 m + disques + rouleaux","Bêche roulante 5.3 m + disques + rouleaux","Bêche roulante 5.3 m + disques + rouleaux","Bêche roulante 5.3 m + disques + rouleaux","Bêche roulante 5.3 m + disques + rouleaux","Bêche roulante 5.3 m + disques + rouleaux","Bêche roulante 5.3 m + disques + rouleaux","Bêche roulante 5.3 m + disques + rouleaux","Bêche roulante 5.3 m + disques + rouleaux","Bêche roulante 5.3 m + disques + rouleaux","Bêche roulante 5.3 m + disques + rouleaux","Bêche roulante 5.3 m + disques + rouleaux","Bêche roulante 5.3 m + disques + rouleaux","Bêche roulante 5.3 m + disques + rouleaux","Bêche roulante 5.3 m + disques + rouleaux","Bêche roulante 5.3 m + disques + rouleaux","Bêche roulante 5.3 m + disques + rouleaux","Bêche roulante 5.3 m + disques + rouleaux","Bêche roulante 5.3 m + disques + rouleaux","Bêche roulante 5.3 m + disques + rouleaux","Bêche roulante 5.3 m + disques + rouleaux","Bêche roulante 5.3 m + disques + rouleaux","Bêche roulante 5.3 m + disques + rouleaux","Bêche roulante 5.3 m + disques + rouleaux","Bêche roulante 5.3 m + disques + rouleaux","Bêche roulante 5.3 m + disques + rouleaux","Bêche roulante 5.3 m + disques + rouleaux","Bêche roulante 5.3 m + disques + rouleaux","Bêche roulante 5.3 m + disques + rouleaux","Bêche roulante 5.3 m + disques + rouleaux","Bêche roulante 5.3 m + disques + rouleaux","Bêche roulante 5.3 m + disques + rouleaux","Bêche roulante 5.3 m + disques + rouleaux","Bêche roulante 5.3 m + disques + rouleaux","Bêche roulante 5.3 m + disques + rouleaux","Bêche roulante 5.3 m + disques + rouleaux","Bêche roulante 5.3 m + disques + rouleaux","Bêche roulante 5.3 m + disques + rouleaux","Bêche roulante 5.3 m + disques + rouleaux","Bêche roulante 5.3 m + disques + rouleaux","Bêche roulante 5.3 m + disques + rouleaux","Bêche roulante 5.3 m + disques + rouleaux","Bêche roulante 5.3 m + disques + rouleaux","Bêche roulante 5.3 m + disques + rouleaux","Bêche roulante 5.3 m + disques + rouleaux","Bêche roulante 5.3 m + disques + rouleaux","Bêche roulante 5.3 m + disques + rouleaux","Bêche roulante 5.3 m + disques + rouleaux","Bêche roulante 5.3 m + disques + rouleaux","Bêche roulante 5.3 m + disques + rouleaux","Bêche roulante 5.3 m + disques + rouleaux","Bêche roulante 5.3 m + disques + rouleaux","Bêche roulante 5.3 m + disques + rouleaux","Bêche roulante 5.3 m + disques + rouleaux","Bêche roulante 5.3 m + disques + rouleaux","Bêche roulante 5.3 m + disques + rouleaux","Bêche roulante 5.3 m + disques + rouleaux","Bêche roulante 5.3 m + disques + rouleaux","Bêche roulante 5.3 m + disques + rouleaux","Bêche roulante 5.3 m + disques + rouleaux","Bêche roulante 5.3 m + disques + rouleaux","Bêche roulante 5.3 m + disques + rouleaux","Bêche roulante 5.3 m + disques + rouleaux","Bêche roulante 5.3 m + disques + rouleaux","Bêche roulante 5.3 m + disques + rouleaux","Bêche roulante 5.3 m + disques + rouleaux","Bêche roulante 5.3 m + disques + rouleaux","Bêche roulante 5.3 m + disques + rouleaux","Bêche roulante 5.3 m + disques + rouleaux","Bêche roulante 5.3 m + disques + rouleaux","Bêche roulante 5.3 m + disques + rouleaux","Bêche roulante 5.3 m + disques + rouleaux","Bêche roulante 5.3 m + disques + rouleaux","Bêche roulante 5.3 m + disques + rouleaux","Bêche roulante 5.3 m + disques + rouleaux","Bêche roulante 5.3 m + disques + rouleaux","Bêche roulante 5.3 m + disques + rouleaux","Bêche roulante 5.3 m + disques + rouleaux","Bêche roulante 5.3 m + disques + rouleaux","Bêche roulante 5.3 m + disques + rouleaux","Bêche roulante 5.3 m + disques + rouleaux","Bêche roulante 5.3 m + disques + rouleaux","Bêche roulante 5.3 m + disques + rouleaux","Bêche roulante 5.3 m + disques + rouleaux","Bêche roulante 5.3 m + disques + rouleaux","Bêche roulante 5.3 m + disques + rouleaux","Bêche roulante 5.3 m + disques + rouleaux","Bêche roulante 5.3 m + disques + rouleaux","Bêche roulante 5.3 m + disques + rouleaux","Bêche roulante 5.3 m + disques + rouleaux","Bêche roulante 5.3 m + disques + rouleaux","Bêche roulante 5.3 m + disques + rouleaux","Bêche roulante 5.3 m + disques + rouleaux","Bêche roulante 5.3 m + disques + rouleaux","Bêche roulante 5.3 m + disques + rouleaux","Bêche roulante 5.3 m + disques + rouleaux","Bêche roulante 5.3 m + disques + rouleaux","Bêche roulante 5.3 m + disques + rouleaux","Bêche roulante 5.3 m + disques + rouleaux","Bêche roulante 5.3 m + disques + rouleaux","Bêche roulante 5.3 m + disques + rouleaux","Bêche roulante 5.3 m + disques + rouleaux","Bêche roulante 5.3 m + disques + rouleaux","Bêche roulante 5.3 m + disques + rouleaux","Bêche roulante 5.3 m + disques + rouleaux","Bêche roulante 5.3 m + disques + rouleaux","Bêche roulante 5.3 m + disques + rouleaux","Bêche roulante 5.3 m + disques + rouleaux","Bêche roulante 5.3 m + disques + rouleaux","Bêche roulante 5.3 m + disques + rouleaux","Bêche roulante 5.3 m + disques + rouleaux","Bêche roulante 5.3 m + disques + rouleaux","Bêche roulante 5.3 m + disques + rouleaux","Bêche roulante 5.3 m + disques + rouleaux","Bêche roulante 5.3 m + disques + rouleaux","Bêche roulante 5.3 m + disques + rouleaux","Bêche roulante 5.3 m + disques + rouleaux","Bêche roulante 5.3 m + disques + rouleaux","Bêche roulante 5.3 m + disques + rouleaux","Bêche roulante 5.3 m + disques + rouleaux","Bêche roulante 5.3 m + disques + rouleaux","Bêche roulante 5.3 m + disques + rouleaux","Bêche roulante 5.3 m + disques + rouleaux","Bêche roulante 5.3 m + disques + rouleaux","Bêche roulante 5.3 m + disques + rouleaux","Bêche roulante 5.3 m + disques + rouleaux","Bêche roulante 5.3 m + disques + rouleaux","Bêche roulante 5.3 m + disques + rouleaux","Bêche roulante 5.3 m + disques + rouleaux","Bêche roulante 5.3 m + disques + rouleaux","Bêche roulante 5.3 m + disques + rouleaux","Bêche roulante 5.3 m + disques + rouleaux","Bêche roulante 5.3 m + disques + rouleaux","Bêche roulante 5.3 m + disques + rouleaux","Bêche roulante 5.3 m + disques + rouleaux","Bêche roulante 5.3 m + disques + rouleaux","Bêche roulante 5.3 m + disques + rouleaux","Bêche roulante 5.3 m + disques + rouleaux","Bêche roulante 5.3 m + disques + rouleaux","Bêche roulante 5.3 m + disques + rouleaux","Bêche roulante 5.3 m + disques + rouleaux","Bêche roulante 5.3 m + disques + rouleaux","Bêche roulante 5.3 m + disques + rouleaux","Bêche roulante 5.3 m + disques + rouleaux","Bêche roulante 5.3 m + disques + rouleaux","Bêche roulante 5.3 m + disques + rouleaux","Bêche roulante 5.3 m + disques + rouleaux","Bêche roulante 5.3 m + disques + rouleaux","Bêche roulante 5.3 m + disques + rouleaux","Bêche roulante 5.3 m + disques + rouleaux","Bêche roulante 5.3 m + disques + rouleaux","Bêche roulante 5.3 m + disques + rouleaux","Bêche roulante 5.3 m + disques + rouleaux","Bêche roulante 5.3 m + disques + rouleaux","Bêche roulante 5.3 m + disques + rouleaux","Bêche roulante 5.3 m + disques + rouleaux","Bêche roulante 5.3 m + disques + rouleaux","Bêche roulante 5.3 m + disques + rouleaux","Bêche roulante 5.3 m + disques + rouleaux","Bêche roulante 5.3 m + disques + rouleaux","Bêche roulante 5.3 m + disques + rouleaux","Bêche roulante 5.3 m + disques + rouleaux","Bêche roulante 5.3 m + disques + rouleaux","Bêche roulante 5.3 m + disques + rouleaux","Bêche roulante 5.3 m + disques + rouleaux","Bêche roulante 5.3 m + disques + rouleaux","Bêche roulante 5.3 m + disques + rouleaux","Bêche roulante 5.3 m + disques + rouleaux","Bêche roulante 5.3 m + disques + rouleaux","Bêche roulante 5.3 m + disques + rouleaux","Bêche roulante 5.3 m + disques + rouleaux","Bêche roulante 5.3 m + disques + rouleaux","Bêche roulante 5.3 m + disques + rouleaux","Bêche roulante 5.3 m + disques + rouleaux","Bêche roulante 5.3 m + disques + rouleaux","Bêche roulante 5.3 m + disques + rouleaux","Bêche roulante 5.3 m + disques + rouleaux","Bêche roulante 5.3 m + disques + rouleaux","Bêche roulante 5.3 m + disques + rouleaux","Bêche roulante 5.3 m + disques + rouleaux","Bêche roulante 5.3 m + disques + rouleaux","Bêche roulante 5.3 m + disques + rouleaux","Bêche roulante 5.3 m + disques + rouleaux","Bêche roulante 5.3 m + disques + rouleaux","Bêche roulante 5.3 m + disques + rouleaux","Bêche roulante 5.3 m + disques + rouleaux","Bêche roulante 5.3 m + disques + rouleaux","Bêche roulante 5.3 m + disques + rouleaux","Bêche roulante 5.3 m + disques + rouleaux","Bêche roulante 5.3 m + disques + rouleaux","Bêche roulante 5.3 m + disques + rouleaux","Bêche roulante 5.3 m + disques + rouleaux","Bêche roulante 5.3 m + disques + rouleaux","Bêche roulante 5.3 m + disques + rouleaux","Bêche roulante 5.3 m + disques + rouleaux","Bêche roulante 5.3 m + disques + rouleaux","Bêche roulante 5.3 m + disques + rouleaux","Bêche roulante 5.3 m + disques + rouleaux","Bêche roulante 5.3 m + disques + rouleaux","Bêche roulante 5.3 m + disques + rouleaux","Bêche roulante 5.3 m + disques + rouleaux","Bêche roulante 5.3 m + disques + rouleaux","Bêche roulante 5.3 m + disques + rouleaux","Bêche roulante 5.3 m + disques + rouleaux","Bêche roulante 5.3 m + disques + rouleaux","Bêche roulante 5.3 m + disques + rouleaux","Bêche roulante 5.3 m + disques + rouleaux","Bêche roulante 5.3 m + disques + rouleaux","Bêche roulante 5.3 m + disques + rouleaux","Bêche roulante 5.3 m + disques + rouleaux","Bêche roulante 5.3 m + disques + rouleaux","Bêche roulante 5.3 m + disques + rouleaux","Bêche roulante 5.3 m + disques + rouleaux","Bêche roulante 5.3 m + disques + rouleaux","Bêche roulante 5.3 m + disques + rouleaux","Bêche roulante 5.3 m + disques + rouleaux","Bêche roulante 5.3 m + disques + rouleaux","Bêche roulante 5.3 m + disques + rouleaux","Bêche roulante 5.3 m + disques + rouleaux","Bêche roulante 5.3 m + disques + rouleaux","Bêche roulante 5.3 m + disques + rouleaux","Bêche roulante 5.3 m + disques + rouleaux","Bêche roulante 5.3 m + disques + rouleaux","Bêche roulante 5.3 m + disques + rouleaux","Bêche roulante 5.3 m + disques + rouleaux","Bêche roulante 5.3 m + disques + rouleaux","Bêche roulante 5.3 m + disques + rouleaux","Bêche roulante 5.3 m + disques + rouleaux","Bêche roulante 5.3 m + disques + rouleaux","Bêche roulante 5.3 m + disques + rouleaux","Bêche roulante 5.3 m + disques + rouleaux","Bêche roulante 5.3 m + disques + rouleaux","Bêche roulante 5.3 m + disques + rouleaux","Bêche roulante 5.3 m + disques + rouleaux","Bêche roulante 5.3 m + disques + rouleaux","Bêche roulante 5.3 m + disques + rouleaux","Bêche roulante 5.3 m + disques + rouleaux","Bêche roulante 5.3 m + disques + rouleaux","Bêche roulante 5.3 m + disques + rouleaux","Bêche roulante 5.3 m + disques + rouleaux","Bêche roulante 5.3 m + disques + rouleaux","Bêche roulante 5.3 m + disques + rouleaux","Bêche roulante 5.3 m + disques + rouleaux","Bêche roulante 5.3 m + disques + rouleaux","Bêche roulante 5.3 m + disques + rouleaux","Bêche roulante 5.3 m + disques + rouleaux","Bêche roulante 5.3 m + disques + rouleaux","Bêche roulante 5.3 m + disques + rouleaux","Bêche roulante 5.3 m + disques + rouleaux","Bêche roulante 5.3 m + disques + rouleaux","Bêche roulante 5.3 m + disques + rouleaux","Bêche roulante 5.3 m + disques + rouleaux","Bêche roulante 5.3 m + disques + rouleaux","Bêche roulante 5.3 m + disques + rouleaux","Bêche roulante 5.3 m + disques + rouleaux","Bêche roulante 5.3 m + disques + rouleaux","Bêche roulante 5.3 m + disques + rouleaux","Bêche roulante 5.3 m + disques + rouleaux","Bêche roulante 5.3 m + disques + rouleaux","Bêche roulante 5.3 m + disques + rouleaux","Bêche roulante 5.3 m + disques + rouleaux","Bêche roulante 5.3 m + disques + rouleaux","Bêche roulante 5.3 m + disques + rouleaux","Bêche roulante 5.3 m + disques + rouleaux","Bêche roulante 5.3 m + disques + rouleaux","Bêche roulante 5.3 m + disques + rouleaux","Bêche roulante 5.3 m + disques + rouleaux","Bêche roulante 5.3 m + disques + rouleaux","Bêche roulante 5.3 m + disques + rouleaux","Bêche roulante 5.3 m + disques + rouleaux","Bêche roulante 5.3 m + disques + rouleaux","Bêche roulante 5.3 m + disques + rouleaux","Bêche roulante 5.3 m + disques + rouleaux","Bêche roulante 5.3 m + disques + rouleaux","Bêche roulante 5.3 m + disques + rouleaux","Bêche roulante 5.3 m + disques + rouleaux","Bêche roulante 5.3 m + disques + rouleaux","Bêche roulante 5.3 m + disques + rouleaux","Bêche roulante 5.3 m + disques + rouleaux","Bêche roulante 5.3 m + disques + rouleaux","Bêche roulante 5.3 m + disques + rouleaux","Bêche roulante 5.3 m + disques + rouleaux","Bêche roulante 5.3 m + disques + rouleaux","Bêche roulante 5.3 m + disques + rouleaux","Bêche roulante 5.3 m + disques + rouleaux","Bêche roulante 5.3 m + disques + rouleaux","Bêche roulante 5.3 m + disques + rouleaux","Bêche roulante 5.3 m + disques + rouleaux","Bêche roulante 5.3 m + disques + rouleaux","Bêche roulante 5.3 m + disques + rouleaux","Bêche roulante 5.3 m + disques + rouleaux","Bêche roulante 5.3 m + disques + rouleaux","Bêche roulante 5.3 m + disques + rouleaux","Bêche roulante 5.3 m + disques + rouleaux","Bêche roulante 5.3 m + disques + rouleaux","Bêche roulante 5.3 m + disques + rouleaux","Bêche roulante 5.3 m + disques + rouleaux","Bêche roulante 5.3 m + disques + rouleaux","Bêche roulante 5.3 m + disques + rouleaux","Bêche roulante 5.3 m + disques + rouleaux","Bêche roulante 5.3 m + disques + rouleaux","Bêche roulante 5.3 m + disques + rouleaux","Bêche roulante 5.3 m + disques + rouleaux","Bêche roulante 5.3 m + disques + rouleaux","Bêche roulante 5.3 m + disques + rouleaux","Bêche roulante 5.3 m + disques + rouleaux","Bêche roulante 5.3 m + disques + rouleaux","Bêche roulante 5.3 m + disques + rouleaux","Bêche roulante 5.3 m + disques + rouleaux","Bêche roulante 5.3 m + disques + rouleaux","Bêche roulante 5.3 m + disques + rouleaux","Bêche roulante 5.3 m + disques + rouleaux","Bêche roulante 5.3 m + disques + rouleaux","Bêche roulante 5.3 m + disques + rouleaux","Bêche roulante 5.3 m + disques + rouleaux","Bêche roulante 5.3 m + disques + rouleaux","Bêche roulante 5.3 m + disques + rouleaux","Bêche roulante 5.3 m + disques + rouleaux","Bêche roulante 5.3 m + disques + rouleaux","Bêche roulante 5.3 m + disques + rouleaux","Bêche roulante 5.3 m + disques + rouleaux","Bêche roulante 5.3 m + disques + rouleaux","Bêche roulante 5.3 m + disques + rouleaux","Bêche roulante 5.3 m + disques + rouleaux","Bêche roulante 5.3 m + disques + rouleaux","Bêche roulante 5.3 m + disques + rouleaux","Bêche roulante 5.3 m + disques + rouleaux","Bêche roulante 5.3 m + disques + rouleaux","Bêche roulante 5.3 m + disques + rouleaux","Bêche roulante 5.3 m + disques + rouleaux","Bêche roulante 5.3 m + disques + rouleaux","Bêche roulante 5.3 m + disques + rouleaux","Bêche roulante 5.3 m + disques + rouleaux","Bêche roulante 5.3 m + disques + rouleaux","Bêche roulante 5.3 m + disques + rouleaux","Bêche roulante 5.3 m + disques + rouleaux","Bêche roulante 5.3 m + disques + rouleaux","Bêche roulante 5.3 m + disques + rouleaux","Bêche roulante 5.3 m + disques + rouleaux","Bêche roulante 5.3 m + disques + rouleaux","Bêche roulante 5.3 m + disques + rouleaux","Bêche roulante 5.3 m + disques + rouleaux","Bêche roulante 5.3 m + disques + rouleaux","Bêche roulante 5.3 m + disques + rouleaux","Bêche roulante 5.3 m + disques + rouleaux","Bêche roulante 5.3 m + disques + rouleaux","Bêche roulante 5.3 m + disques + rouleaux","Bêche roulante 5.3 m + disques + rouleaux","Bêche roulante 5.3 m + disques + rouleaux","Bêche roulante 5.3 m + disques + rouleaux","Bêche roulante 5.3 m + disques + rouleaux","Bêche roulante 5.3 m + disques + rouleaux","Bêche roulante 5.3 m + disques + rouleaux","Bêche roulante 5.3 m + disques + rouleaux","Bêche roulante 5.3 m + disques + rouleaux","Bêche roulante 5.3 m + disques + rouleaux","Bêche roulante 5.3 m + disques + rouleaux","Bêche roulante 5.3 m + disques + rouleaux","Bêche roulante 5.3 m + disques + rouleaux","Bêche roulante 5.3 m + disques + rouleaux","Bêche roulante 5.3 m + disques + rouleaux","Bêche roulante 5.3 m + disques + rouleaux","Bêche roulante 5.3 m + disques + rouleaux","Bêche roulante 5.3 m + disques + rouleaux","Bêche roulante 5.3 m + disques + rouleaux","Bêche roulante 5.3 m + disques + rouleaux","Bêche roulante 5.3 m + disques + rouleaux","Bêche roulante 5.3 m + disques + rouleaux","Bêche roulante 5.3 m + disques + rouleaux","Bêche roulante 5.3 m + disques + rouleaux","Bêche roulante 5.3 m + disques + rouleaux","Bêche roulante 5.3 m + disques + rouleaux","Bêche roulante 5.3 m + disques + rouleaux","Bêche roulante 5.3 m + disques + rouleaux","Bêche roulante 5.3 m + disques + rouleaux","Bêche roulante 5.3 m + disques + rouleaux","Bêche roulante 5.3 m + disques + rouleaux","Bêche roulante 5.3 m + disques + rouleaux","Bêche roulante 5.3 m + disques + rouleaux","Bêche roulante 5.3 m + disques + rouleaux","Bêche roulante 5.3 m + disques + rouleaux","Bêche roulante 5.3 m + disques + rouleaux","Bêche roulante 5.3 m + disques + rouleaux","Bêche roulante 5.3 m + disques + rouleaux","Bêche roulante 5.3 m + disques + rouleaux","Bêche roulante 5.3 m + disques + rouleaux","Bêche roulante 5.3 m + disques + rouleaux","Bêche roulante 5.3 m + disques + rouleaux","Bêche roulante 5.3 m + disques + rouleaux","Bêche roulante 5.3 m + disques + rouleaux","Bêche roulante 5.3 m + disques + rouleaux","Bêche roulante 5.3 m + disques + rouleaux","Bêche roulante 5.3 m + disques + rouleaux","Bêche roulante 5.3 m + disques + rouleaux","Bêche roulante 5.3 m + disques + rouleaux","Bêche roulante 5.3 m + disques + rouleaux","Bêche roulante 5.3 m + disques + rouleaux","Bêche roulante 5.3 m + disques + rouleaux","Bêche roulante 5.3 m + disques + rouleaux","Bêche roulante 5.3 m + disques + rouleaux","Bêche roulante 5.3 m + disques + rouleaux","Bêche roulante 5.3 m + disques + rouleaux","Bêche roulante 5.3 m + disques + rouleaux","Bêche roulante 5.3 m + disques + rouleaux","Bêche roulante 5.3 m + disques + rouleaux","Bêche roulante 5.3 m + disques + rouleaux","Bêche roulante 5.3 m + disques + rouleaux","Bêche roulante 5.3 m + disques + rouleaux","Bêche roulante 5.3 m + disques + rouleaux","Bêche roulante 5.3 m + disques + rouleaux","Bêche roulante 5.3 m + disques + rouleaux","Bêche roulante 5.3 m + disques + rouleaux","Bêche roulante 5.3 m + disques + rouleaux","Bêche roulante 5.3 m + disques + rouleaux","Bêche roulante 5.3 m + disques + rouleaux","Bêche roulante 5.3 m + disques + rouleaux","Bêche roulante 5.3 m + disques + rouleaux","Bêche roulante 5.3 m + disques + rouleaux","Bêche roulante 5.3 m + disques + rouleaux","Bêche roulante 5.3 m + disques + rouleaux","Bêche roulante 5.3 m + disques + rouleaux","Bêche roulante 5.3 m + disques + rouleaux","Bêche roulante 5.3 m + disques + rouleaux","Bêche roulante 5.3 m + disques + rouleaux","Bêche roulante 5.3 m + disques + rouleaux","Bêche roulante 5.3 m + disques + rouleaux","Bêche roulante 5.3 m + disques + rouleaux","Bêche roulante 5.3 m + disques + rouleaux","Bêche roulante 5.3 m + disques + rouleaux","Bêche roulante 5.3 m + disques + rouleaux","Bêche roulante 5.3 m + disques + rouleaux","Bêche roulante 5.3 m + disques + rouleaux","Bêche roulante 5.3 m + disques + rouleaux","Bêche roulante 5.3 m + disques + rouleaux","Bêche roulante 5.3 m + disques + rouleaux","Bêche roulante 5.3 m + disques + rouleaux","Bêche roulante 5.3 m + disques + rouleaux","Bêche roulante 5.3 m + disques + rouleaux","Bêche roulante 5.3 m + disques + rouleaux","Bêche roulante 5.3 m + disques + rouleaux","Bêche roulante 5.3 m + disques + rouleaux","Bêche roulante 5.3 m + disques + rouleaux","Bêche roulante 5.3 m + disques + rouleaux","Bêche roulante 5.3 m + disques + rouleaux","Bêche roulante 5.3 m + disques + rouleaux","Bêche roulante 5.3 m + disques + rouleaux","Bêche roulante 5.3 m + disques + rouleaux","Bêche roulante 5.3 m + disques + rouleaux","Bêche roulante 5.3 m + disques + rouleaux","Bêche roulante 5.3 m + disques + rouleaux","Bêche roulante 5.3 m + disques + rouleaux","Bêche roulante 5.3 m + disques + rouleaux","Bêche roulante 5.3 m + disques + rouleaux","Bêche roulante 5.3 m + disques + rouleaux","Bêche roulante 5.3 m + disques + rouleaux","Bêche roulante 5.3 m + disques + rouleaux","Bêche roulante 5.3 m + disques + rouleaux","Bêche roulante 5.3 m + disques + rouleaux","Bêche roulante 5.3 m + disques + rouleaux","Bêche roulante 5.3 m + disques + rouleaux","Bêche roulante 5.3 m + disques + rouleaux","Bêche roulante 5.3 m + disques + rouleaux","Bêche roulante 5.3 m + disques + rouleaux","Bêche roulante 5.3 m + disques + rouleaux","Bêche roulante 5.3 m + disques + rouleaux","Bêche roulante 5.3 m + disques + rouleaux","Bêche roulante 5.3 m + disques + rouleaux","Bêche roulante 5.3 m + disques + rouleaux","Bêche roulante 5.3 m + disques + rouleaux","Bêche roulante 5.3 m + disques + rouleaux","Bêche roulante 5.3 m + disques + rouleaux","Bêche roulante 5.3 m + disques + rouleaux","Bêche roulante 5.3 m + disques + rouleaux","Bêche roulante 5.3 m + disques + rouleaux","Bêche roulante 5.3 m + disques + rouleaux","Bêche roulante 5.3 m + disques + rouleaux","Bêche roulante 5.3 m + disques + rouleaux","Bêche roulante 5.3 m + disques + rouleaux","Bêche roulante 5.3 m + disques + rouleaux","Bêche roulante 5.3 m + disques + rouleaux","Bêche roulante 5.3 m + disques + rouleaux","Bêche roulante 5.3 m + disques + rouleaux","Bêche roulante 5.3 m + disques + rouleaux","Bêche roulante 5.3 m + disques + rouleaux","Bêche roulante 5.3 m + disques + rouleaux","Bêche roulante 5.3 m + disques + rouleaux","Bêche roulante 5.3 m + disques + rouleaux","Bêche roulante 5.3 m + disques + rouleaux","Bêche roulante 5.3 m + disques + rouleaux","Bêche roulante 5.3 m + disques + rouleaux","Bêche roulante 5.3 m + disques + rouleaux","Bêche roulante 5.3 m + disques + rouleaux","Bêche roulante 5.3 m + disques + rouleaux","Bêche roulante 5.3 m + disques + rouleaux","Bêche roulante 5.3 m + disques + rouleaux","Bêche roulante 5.3 m + disques + rouleaux","Bêche roulante 5.3 m + disques + rouleaux","Bêche roulante 5.3 m + disques + rouleaux","Bêche roulante 5.3 m + disques + rouleaux","Bêche roulante 5.3 m + disques + rouleaux","Bêche roulante 5.3 m + disques + rouleaux","Bêche roulante 5.3 m + disques + rouleaux","Bêche roulante 5.3 m + disques + rouleaux","Bêche roulante 5.3 m + disques + rouleaux","Bêche roulante 5.3 m + disques + rouleaux","Bêche roulante 5.3 m + disques + rouleaux","Bêche roulante 5.3 m + disques + rouleaux","Bêche roulante 5.3 m + disques + rouleaux","Bêche roulante 5.3 m + disques + rouleaux","Bêche roulante 5.3 m + disques + rouleaux","Bêche roulante 5.3 m + disques + rouleaux","Bêche roulante 5.3 m + disques + rouleaux","Bêche roulante 5.3 m + disques + rouleaux","Bêche roulante 5.3 m + disques + rouleaux","Bêche roulante 5.3 m + disques + rouleaux","Bêche roulante 5.3 m + disques + rouleaux","Bêche roulante 5.3 m + disques + rouleaux","Bêche roulante 5.3 m + disques + rouleaux","Bêche roulante 5.3 m + disques + rouleaux","Bêche roulante 5.3 m + disques + rouleaux","Bêche roulante 5.3 m + disques + rouleaux","Bêche roulante 5.3 m + disques + rouleaux","Bêche roulante 5.3 m + disques + rouleaux","Bêche roulante 5.3 m + disques + rouleaux","Bêche roulante 5.3 m + disques + rouleaux","Bêche roulante 5.3 m + disques + rouleaux","Bêche roulante 5.3 m + disques + rouleaux","Bêche roulante 5.3 m + disques + rouleaux","Bêche roulante 5.3 m + disques + rouleaux","Bêche roulante 5.3 m + disques + rouleaux","Bêche roulante 5.3 m + disques + rouleaux","Bêche roulante 5.3 m + disques + rouleaux","Bêche roulante 5.3 m + disques + rouleaux","Bêche roulante 5.3 m + disques + rouleaux","Bêche roulante 5.3 m + disques + rouleaux","Bêche roulante 5.3 m + disques + rouleaux","Bêche roulante 5.3 m + disques + rouleaux","Bêche roulante 5.3 m + disques + rouleaux","Bêche roulante 5.3 m + disques + rouleaux","Bêche roulante 5.3 m + disques + rouleaux","Bêche roulante 5.3 m + disques + rouleaux","Bêche roulante 5.3 m + disques + rouleaux","Bêche roulante 5.3 m + disques + rouleaux","Bêche roulante 5.3 m + disques + rouleaux","Bêche roulante 5.3 m + disques + rouleaux","Bêche roulante 5.3 m + disques + rouleaux","Bêche roulante 5.3 m + disques + rouleaux","Bêche roulante 5.3 m + disques + rouleaux","Bêche roulante 5.3 m + disques + rouleaux","Bêche roulante 5.3 m + disques + rouleaux","Bêche roulante 5.3 m + disques + rouleaux","Bêche roulante 5.3 m + disques + rouleaux","Bêche roulante 5.3 m + disques + rouleaux","Bêche roulante 5.3 m + disques + rouleaux","Bêche roulante 5.3 m + disques + rouleaux","Bêche roulante 5.3 m + disques + rouleaux","Bêche roulante 5.3 m + disques + rouleaux","Bêche roulante 5.3 m + disques + rouleaux","Bêche roulante 5.3 m + disques + rouleaux","Bêche roulante 5.3 m + disques + rouleaux","Bêche roulante 5.3 m + disques + rouleaux","Bêche roulante 5.3 m + disques + rouleaux","Bêche roulante 5.3 m + disques + rouleaux","Bêche roulante 5.3 m + disques + rouleaux","Bêche roulante 5.3 m + disques + rouleaux","Bêche roulante 5.3 m + disques + rouleaux","Bêche roulante 5.3 m + disques + rouleaux","Bêche roulante 5.3 m + disques + rouleaux","Bêche roulante 5.3 m + disques + rouleaux","Bêche roulante 5.3 m + disques + rouleaux","Bêche roulante 5.3 m + disques + rouleaux","Bêche roulante 5.3 m + disques + rouleaux","Bêche roulante 5.3 m + disques + rouleaux","Bêche roulante 5.3 m + disques + rouleaux","Bêche roulante 5.3 m + disques + rouleaux","Bêche roulante 5.3 m + disques + rouleaux","Bêche roulante 5.3 m + disques + rouleaux","Bêche roulante 5.3 m + disques + rouleaux","Bêche roulante 5.3 m + disques + rouleaux","Bêche roulante 5.3 m + disques + rouleaux","Bêche roulante 5.3 m + disques + rouleaux","Bêche roulante 5.3 m + disques + rouleaux","Bêche roulante 5.3 m + disques + rouleaux","Bêche roulante 5.3 m + disques + rouleaux","Bêche roulante 5.3 m + disques + rouleaux","Bêche roulante 5.3 m + disques + rouleaux","Bêche roulante 5.3 m + disques + rouleaux","Bêche roulante 5.3 m + disques + rouleaux","Bêche roulante 5.3 m + disques + rouleaux","Bêche roulante 5.3 m + disques + rouleaux","Bêche roulante 5.3 m + disques + rouleaux","Bêche roulante 5.3 m + disques + rouleaux","Bêche roulante 5.3 m + disques + rouleaux","Bêche roulante 5.3 m + disques + rouleaux","Bêche roulante 5.3 m + disques + rouleaux","Bêche roulante 5.3 m + disques + rouleaux","Bêche roulante 5.3 m + disques + rouleaux","Bêche roulante 5.3 m + disques + rouleaux","Bêche roulante 5.3 m + disques + rouleaux","Bêche roulante 5.3 m + disques + rouleaux","Bêche roulante 5.3 m + disques + rouleaux","Bêche roulante 5.3 m + disques + rouleaux","Bêche roulante 5.3 m + disques + rouleaux","Bêche roulante 5.3 m + disques + rouleaux","Bêche roulante 5.3 m + disques + rouleaux","Bêche roulante 5.3 m + disques + rouleaux","Bêche roulante 5.3 m + disques + rouleaux","Bêche roulante 5.3 m + disques + rouleaux","Bêche roulante 5.3 m + disques + rouleaux","Bêche roulante 5.3 m + disques + rouleaux","Bêche roulante 5.3 m + disques + rouleaux","Bêche roulante 5.3 m + disques + rouleaux","Bêche roulante 5.3 m + disques + rouleaux","Bêche roulante 5.3 m + disques + rouleaux","Bêche roulante 5.3 m + disques + rouleaux","Bêche roulante 5.3 m + disques + rouleaux","Bêche roulante 5.3 m + disques + rouleaux","Bêche roulante 5.3 m + disques + rouleaux","Bêche roulante 5.3 m + disques + rouleaux","Bêche roulante 5.3 m + disques + rouleaux","Bêche roulante 5.3 m + disques + rouleaux","Bêche roulante 5.3 m + disques + rouleaux","Bêche roulante 5.3 m + disques + rouleaux","Bêche roulante 5.3 m + disques + rouleaux","Bêche roulante 5.3 m + disques + rouleaux","Bêche roulante 5.3 m + disques + rouleaux","Bêche roulante 5.3 m + disques + rouleaux","Bêche roulante 5.3 m + disques + rouleaux","Bêche roulante 5.3 m + disques + rouleaux","Bêche roulante 5.3 m + disques + rouleaux","Bêche roulante 5.3 m + disques + rouleaux","Bêche roulante 5.3 m + disques + rouleaux","Bêche roulante 5.3 m + disques + rouleaux","Bêche roulante 5.3 m + disques + rouleaux","Bêche roulante 5.3 m + disques + rouleaux","Bêche roulante 5.3 m + disques + rouleaux","Bêche roulante 5.3 m + disques + rouleaux","Bêche roulante 5.3 m + disques + rouleaux","Bêche roulante 5.3 m + disques + rouleaux","Bêche roulante 5.3 m + disques + rouleaux","Bêche roulante 5.3 m + disques + rouleaux","Bêche roulante 5.3 m + disques + rouleaux","Bêche roulante 5.3 m + disques + rouleaux","Bêche roulante 5.3 m + disques + rouleaux","Bêche roulante 5.3 m + disques + rouleaux","Bêche roulante 5.3 m + disques + rouleaux","Bêche roulante 5.3 m + disques + rouleaux","Bêche roulante 5.3 m + disques + rouleaux","Bêche roulante 5.3 m + disques + rouleaux","Bêche roulante 5.3 m + disques + rouleaux","Bêche roulante 5.3 m + disques + rouleaux","Bêche roulante 5.3 m + disques + rouleaux","Bêche roulante 5.3 m + disques + rouleaux","Bêche roulante 5.3 m + disques + rouleaux","Bêche roulante 5.3 m + disques + rouleaux","Bêche roulante 5.3 m + disques + rouleaux","Bêche roulante 5.3 m + disques + rouleaux","Bêche roulante 5.3 m + disques + rouleaux","Bêche roulante 5.3 m + disques + rouleaux","Bêche roulante 5.3 m + disques + rouleaux","Bêche roulante 5.3 m + disques + rouleaux","Bêche roulante 5.3 m + disques + rouleaux","Bêche roulante 5.3 m + disques + rouleaux","Bêche roulante 5.3 m + disques + rouleaux","Bêche roulante 5.3 m + disques + rouleaux","Bêche roulante 5.3 m + disques + rouleaux","Bêche roulante 5.3 m + disques + rouleaux","Bêche roulante 5.3 m + disques + rouleaux","Bêche roulante 5.3 m + disques + rouleaux","Bêche roulante 5.3 m + disques + rouleaux","Bêche roulante 5.3 m + disques + rouleaux","Bêche roulante 5.3 m + disques + rouleaux","Bêche roulante 5.3 m + disques + rouleaux","Bêche roulante 5.3 m + disques + rouleaux","Bêche roulante 5.3 m + disques + rouleaux","Bêche roulante 5.3 m + disques + rouleaux","Bêche roulante 5.3 m + disques + rouleaux","Bêche roulante 5.3 m + disques + rouleaux","Bêche roulante 5.3 m + disques + rouleaux","Bêche roulante 5.3 m + disques + rouleaux","Bêche roulante 5.3 m + disques + rouleaux","Bêche roulante 5.3 m + disques + rouleaux","Bêche roulante 5.3 m + disques + rouleaux","Bêche roulante 5.3 m + disques + rouleaux","Bêche roulante 5.3 m + disques + rouleaux","Bêche roulante 5.3 m + disques + rouleaux","Bêche roulante 5.3 m + disques + rouleaux","Bêche roulante 5.3 m + disques + rouleaux","Bêche roulante 5.3 m + disques + rouleaux","Bêche roulante 5.3 m + disques + rouleaux","Bêche roulante 5.3 m + disques + rouleaux","Bêche roulante 5.3 m + disques + rouleaux","Bêche roulante 5.3 m + disques + rouleaux","Bêche roulante 5.3 m + disques + rouleaux","Bêche roulante 5.3 m + disques + rouleaux","Bêche roulante 5.3 m + disques + rouleaux","Bêche roulante 5.3 m + disques + rouleaux","Bêche roulante 5.3 m + disques + rouleaux","Bêche roulante 5.3 m + disques + rouleaux","Bêche roulante 5.3 m + disques + rouleaux","Bêche roulante 5.3 m + disques + rouleaux","Bêche roulante 5.3 m + disques + rouleaux","Bêche roulante 5.3 m + disques + rouleaux","Bêche roulante 5.3 m + disques + rouleaux","Bêche roulante 5.3 m + disques + rouleaux","Bêche roulante 5.3 m + disques + rouleaux","Bêche roulante 5.3 m + disques + rouleaux","Bêche roulante 5.3 m + disques + rouleaux","Bêche roulante 5.3 m + disques + rouleaux","Bêche roulante 5.3 m + disques + rouleaux","Bêche roulante 5.3 m + disques + rouleaux","Bêche roulante 5.3 m + disques + rouleaux","Bêche roulante 5.3 m + disques + rouleaux","Bêche roulante 5.3 m + disques + rouleaux","Bêche roulante 5.3 m + disques + rouleaux","Bêche roulante 5.3 m + disques + rouleaux","Bêche roulante 5.3 m + disques + rouleaux","Bêche roulante 5.3 m + disques + rouleaux","Bêche roulante 5.3 m + disques + rouleaux","Bêche roulante 5.3 m + disques + rouleaux","Bêche roulante 5.3 m + disques + rouleaux","Bêche roulante 5.3 m + disques + rouleaux","Bêche roulante 5.3 m + disques + rouleaux","Bêche roulante 5.3 m + disques + rouleaux","Bêche roulante 5.3 m + disques + rouleaux","Bêche roulante 5.3 m + disques + rouleaux","Bêche roulante 5.3 m + disques + rouleaux","Bêche roulante 5.3 m + disques + rouleaux","Bêche roulante 5.3 m + disques + rouleaux","Bêche roulante 5.3 m + disques + rouleaux","Bêche roulante 5.3 m + disques + rouleaux","Bêche roulante 5.3 m + disques + rouleaux","Bêche roulante 5.3 m + disques + rouleaux","Bêche roulante 5.3 m + disques + rouleaux","Bêche roulante 5.3 m + disques + rouleaux","Bêche roulante 5.3 m + disques + rouleaux","Bêche roulante 5.3 m + disques + rouleaux","Bêche roulante 5.3 m + disques + rouleaux","Bêche roulante 5.3 m + disques + rouleaux","Bêche roulante 5.3 m + disques + rouleaux","Bêche roulante 5.3 m + disques + rouleaux","Bêche roulante 5.3 m + disques + rouleaux","Bêche roulante 5.3 m + disques + rouleaux","Bêche roulante 5.3 m + disques + rouleaux","Bêche roulante 5.3 m + disques + rouleaux","Bêche roulante 5.3 m + disques + rouleaux","Bêche roulante 5.3 m + disques + rouleaux","Bêche roulante 5.3 m + disques + rouleaux","Bêche roulante 5.3 m + disques + rouleaux","Bêche roulante 5.3 m + disques + rouleaux","Bêche roulante 5.3 m + disques + rouleaux","Bêche roulante 5.3 m + disques + rouleaux","Bêche roulante 5.3 m + disques + rouleaux","Bêche roulante 5.3 m + disques + rouleaux","Bêche roulante 5.3 m + disques + rouleaux","Bêche roulante 5.3 m + disques + rouleaux","Bêche roulante 5.3 m + disques + rouleaux","Bêche roulante 5.3 m + disques + rouleaux","Bêche roulante 5.3 m + disques + rouleaux","Bêche roulante 5.3 m + disques + rouleaux","Bêche roulante 5.3 m + disques + rouleaux","Bêche roulante 5.3 m + disques + rouleaux","Bêche roulante 5.3 m + disques + rouleaux","Bêche roulante 5.3 m + disques + rouleaux","Bêche roulante 5.3 m + disques + rouleaux","Bêche roulante 5.3 m + disques + rouleaux","Bêche roulante 5.3 m + disques + rouleaux","Bêche roulante 5.3 m + disques + rouleaux","Bêche roulante 5.3 m + disques + rouleaux","Bêche roulante 5.3 m + disques + rouleaux","Bêche roulante 5.3 m + disques + rouleaux","Bêche roulante 5.3 m + disques + rouleaux","Bêche roulante 5.3 m + disques + rouleaux","Bêche roulante 5.3 m + disques + rouleaux","Bêche roulante 5.3 m + disques + rouleaux","Bêche roulante 5.3 m + disques + rouleaux","Bêche roulante 5.3 m + disques + rouleaux","Bêche roulante 5.3 m + disques + rouleaux","Bêche roulante 5.3 m + disques + rouleaux","Bêche roulante 5.3 m + disques + rouleaux","Bêche roulante 5.3 m + disques + rouleaux","Bêche roulante 5.3 m + disques + rouleaux","Bêche roulante 5.3 m + disques + rouleaux","Bêche roulante 5.3 m + disques + rouleaux","Bêche roulante 5.3 m + disques + rouleaux","Bêche roulante 5.3 m + disques + rouleaux","Bêche roulante 5.3 m + disques + rouleaux","Bêche roulante 5.3 m + disques + rouleaux","Bêche roulante 5.3 m + disques + rouleaux","Bêche roulante 5.3 m + disques + rouleaux","Bêche roulante 5.3 m + disques + rouleaux","Bêche roulante 5.3 m + disques + rouleaux","Bêche roulante 5.3 m + disques + rouleaux","Bêche roulante 5.3 m + disques + rouleaux","Bêche roulante 5.3 m + disques + rouleaux","Bêche roulante 5.3 m + disques + rouleaux","Bêche roulante 5.3 m + disques + rouleaux","Bêche roulante 5.3 m + disques + rouleaux","Bêche roulante 5.3 m + disques + rouleaux","Bêche roulante 5.3 m + disques + rouleaux","Bêche roulante 5.3 m + disques + rouleaux","Bêche roulante 5.3 m + disques + rouleaux","Bêche roulante 5.3 m + disques + rouleaux","Bêche roulante 5.3 m + disques + rouleaux","Bêche roulante 5.3 m + disques + rouleaux","Bêche roulante 5.3 m + disques + rouleaux","Bêche roulante 5.3 m + disques + rouleaux","Bêche roulante 5.3 m + disques + rouleaux","Bêche roulante 5.3 m + disques + rouleaux","Bêche roulante 5.3 m + disques + rouleaux","Bêche roulante 5.3 m + disques + rouleaux","Bêche roulante 5.3 m + disques + rouleaux","Bêche roulante 5.3 m + disques + rouleaux","Bêche roulante 5.3 m + disques + rouleaux","Bêche roulante 5.3 m + disques + rouleaux","Bêche roulante 5.3 m + disques + rouleaux","Bêche roulante 5.3 m + disques + rouleaux","Bêche roulante 5.3 m + disques + rouleaux","Bêche roulante 5.3 m + disques + rouleaux","Bêche roulante 5.3 m + disques + rouleaux","Bêche roulante 5.3 m + disques + rouleaux","Bêche roulante 5.3 m + disques + rouleaux","Bêche roulante 5.3 m + disques + rouleaux","Bêche roulante 5.3 m + disques + rouleaux","Bêche roulante 5.3 m + disques + rouleaux","Bêche roulante 5.3 m + disques + rouleaux","Bêche roulante 5.3 m + disques + rouleaux","Bêche roulante 5.3 m + disques + rouleaux","Bêche roulante 5.3 m + disques + rouleaux","Bêche roulante 5.3 m + disques + rouleaux","Bêche roulante 5.3 m + disques + rouleaux","Bêche roulante 5.3 m + disques + rouleaux","Bêche roulante 5.3 m + disques + rouleaux","Bêche roulante 5.3 m + disques + rouleaux","Bêche roulante 5.3 m + disques + rouleaux","Bêche roulante 5.3 m + disques + rouleaux","Bêche roulante 5.3 m + disques + rouleaux","Bêche roulante 5.3 m + disques + rouleaux","Bêche roulante 5.3 m + disques + rouleaux","Bêche roulante 5.3 m + disques + rouleaux","Bêche roulante 5.3 m + disques + rouleaux","Bêche roulante 5.3 m + disques + rouleaux","Bêche roulante 5.3 m + disques + rouleaux","Bêche roulante 5.3 m + disques + rouleaux","Bêche roulante 5.3 m + disques + rouleaux","Bêche roulante 5.3 m + disques + rouleaux","Bêche roulante 5.3 m + disques + rouleaux","Bêche roulante 5.3 m + disques + rouleaux","Bêche roulante 5.3 m + disques + rouleaux","Bêche roulante 5.3 m + disques + rouleaux","Bêche roulante 5.3 m + disques + rouleaux","Bêche roulante 5.3 m + disques + rouleaux","Bêche roulante 5.3 m + disques + rouleaux","Bêche roulante 5.3 m + disques + rouleaux","Bêche roulante 5.3 m + disques + rouleaux","Bêche roulante 5.3 m + disques + rouleaux","Bêche roulante 5.3 m + disques + rouleaux","Bêche roulante 5.3 m + disques + rouleaux","Bêche roulante 5.3 m + disques + rouleaux","Bêche roulante 5.3 m + disques + rouleaux","Bêche roulante 5.3 m + disques + rouleaux","Bêche roulante 5.3 m + disques + rouleaux","Bêche roulante 5.3 m + disques + rouleaux","Bêche roulante 5.3 m + disques + rouleaux","Bêche roulante 5.3 m + disques + rouleaux","Bêche roulante 5.3 m + disques + rouleaux","Bêche roulante 5.3 m + disques + rouleaux","Bêche roulante 5.3 m + disques + rouleaux","Bêche roulante 5.3 m + disques + rouleaux","Bêche roulante 5.3 m + disques + rouleaux","Bêche roulante 5.3 m + disques + rouleaux","Bêche roulante 5.3 m + disques + rouleaux","Bêche roulante 5.3 m + disques + rouleaux","Bêche roulante 5.3 m + disques + rouleaux","Bêche roulante 5.3 m + disques + rouleaux","Bêche roulante 5.3 m + disques + rouleaux","Bêche roulante 5.3 m + disques + rouleaux","Bêche roulante 5.3 m + disques + rouleaux","Bêche roulante 5.3 m + disques + rouleaux","Bêche roulante 5.3 m + disques + rouleaux","Bêche roulante 5.3 m + disques + rouleaux","Bêche roulante 5.3 m + disques + rouleaux","Bêche roulante 5.3 m + disques + rouleaux","Bêche roulante 5.3 m + disques + rouleaux","Bêche roulante 5.3 m + disques + rouleaux","Bêche roulante 5.3 m + disques + rouleaux","Bêche roulante 5.3 m + disques + rouleaux","Bêche roulante 5.3 m + disques + rouleaux","Bêche roulante 5.3 m + disques + rouleaux","Bêche roulante 5.3 m + disques + rouleaux","Bêche roulante 5.3 m + disques + rouleaux","Bêche roulante 5.3 m + disques + rouleaux","Bêche roulante 5.3 m + disques + rouleaux","Bêche roulante 5.3 m + disques + rouleaux","Bêche roulante 5.3 m + disques + rouleaux","Bêche roulante 5.3 m + disques + rouleaux","Bêche roulante 5.3 m + disques + rouleaux","Bêche roulante 5.3 m + disques + rouleaux","Bêche roulante 5.3 m + disques + rouleaux","Bêche roulante 5.3 m + disques + rouleaux","Bêche roulante 5.3 m + disques + rouleaux","Bêche roulante 5.3 m + disques + rouleaux","Bêche roulante 5.3 m + disques + rouleaux","Bêche roulante 5.3 m + disques + rouleaux","Bêche roulante 5.3 m + disques + rouleaux","Bêche roulante 5.3 m + disques + rouleaux","Bêche roulante 5.3 m + disques + rouleaux","Bêche roulante 5.3 m + disques + rouleaux","Bêche roulante 5.3 m + disques + rouleaux","Bêche roulante 5.3 m + disques + rouleaux","Bêche roulante 5.3 m + disques + rouleaux","Bêche roulante 5.3 m + disques + rouleaux","Bêche roulante 5.3 m + disques + rouleaux","Bêche roulante 5.3 m + disques + rouleaux","Bêche roulante 5.3 m + disques + rouleaux","Bêche roulante 5.3 m + disques + rouleaux","Bêche roulante 5.3 m + disques + rouleaux","Bêche roulante 5.3 m + disques + rouleaux","Bêche roulante 5.3 m + disques + rouleaux","Bêche roulante 5.3 m + disques + rouleaux","Bêche roulante 5.3 m + disques + rouleaux","Bêche roulante 5.3 m + disques + rouleaux","Bêche roulante 5.3 m + disques + rouleaux","Bêche roulante 5.3 m + disques + rouleaux","Bêche roulante 5.3 m + disques + rouleaux","Bêche roulante 5.3 m + disques + rouleaux","Bêche roulante 5.3 m + disques + rouleaux","Bêche roulante 5.3 m + disques + rouleaux","Bêche roulante 5.3 m + disques + rouleaux","Bêche roulante 5.3 m + disques + rouleaux","Bêche roulante 5.3 m + disques + rouleaux","Bêche roulante 5.3 m + disques + rouleaux","Bêche roulante 5.3 m + disques + rouleaux","Bêche roulante 5.3 m + disques + rouleaux","Bêche roulante 5.3 m + disques + rouleaux","Bêche roulante 5.3 m + disques + rouleaux","Bêche roulante 5.3 m + disques + rouleaux","Bêche roulante 5.3 m + disques + rouleaux","Bêche roulante 5.3 m + disques + rouleaux","Bêche roulante 5.3 m + disques + rouleaux","Bêche roulante 5.3 m + disques + rouleaux","Bêche roulante 5.3 m + disques + rouleaux","Bêche roulante 5.3 m + disques + rouleaux","Bêche roulante 5.3 m + disques + rouleaux","Bêche roulante 5.3 m + disques + rouleaux","Bêche roulante 5.3 m + disques + rouleaux","Bêche roulante 5.3 m + disques + rouleaux","Bêche roulante 5.3 m + disques + rouleaux","Bêche roulante 5.3 m + disques + rouleaux","Bêche roulante 5.3 m + disques + rouleaux","Bêche roulante 5.3 m + disques + rouleaux","Bêche roulante 5.3 m + disques + rouleaux","Bêche roulante 5.3 m + disques + rouleaux","Bêche roulante 5.3 m + disques + rouleaux","Bêche roulante 5.3 m + disques + rouleaux","Bêche roulante 5.3 m + disques + rouleaux","Bêche roulante 5.3 m + disques + rouleaux","Bêche roulante 5.3 m + disques + rouleaux","Bêche roulante 5.3 m + disques + rouleaux","Bêche roulante 5.3 m + disques + rouleaux","Bêche roulante 5.3 m + disques + rouleaux","Bêche roulante 5.3 m + disques + rouleaux","Bêche roulante 5.3 m + disques + rouleaux","Bêche roulante 5.3 m + disques + rouleaux","Bêche roulante 5.3 m + disques + rouleaux","Bêche roulante 5.3 m + disques + rouleaux","Bêche roulante 5.3 m + disques + rouleaux","Bêche roulante 5.3 m + disques + rouleaux","Bêche roulante 5.3 m + disques + rouleaux","Bêche roulante 5.3 m + disques + rouleaux","Bêche roulante 5.3 m + disques + rouleaux","Bêche roulante 5.3 m + disques + rouleaux","Bêche roulante 5.3 m + disques + rouleaux","Bêche roulante 5.3 m + disques + rouleaux","Bêche roulante 5.3 m + disques + rouleaux","Bêche roulante 5.3 m + disques + rouleaux","Bêche roulante 5.3 m + disques + rouleaux","Bêche roulante 5.3 m + disques + rouleaux","Bêche roulante 5.3 m + disques + rouleaux","Bêche roulante 5.3 m + disques + rouleaux","Bêche roulante 5.3 m + disques + rouleaux","Bêche roulante 5.3 m + disques + rouleaux","Bêche roulante 5.3 m + disques + rouleaux","Bêche roulante 5.3 m + disques + rouleaux","Bêche roulante 5.3 m + disques + rouleaux","Bêche roulante 5.3 m + disques + rouleaux","Bêche roulante 5.3 m + disques + rouleaux","Bêche roulante 5.3 m + disques + rouleaux","Bêche roulante 5.3 m + disques + rouleaux","Bêche roulante 5.3 m + disques + rouleaux","Bêche roulante 5.3 m + disques + rouleaux","Bêche roulante 5.3 m + disques + rouleaux","Bêche roulante 5.3 m + disques + rouleaux","Bêche roulante 5.3 m + disques + rouleaux","Bêche roulante 5.3 m + disques + rouleaux","Bêche roulante 5.3 m + disques + rouleaux","Bêche roulante 5.3 m + disques + rouleaux","Bêche roulante 5.3 m + disques + rouleaux","Bêche roulante 5.3 m + disques + rouleaux","Bêche roulante 5.3 m + disques + rouleaux","Bêche roulante 5.3 m + disques + rouleaux","Bêche roulante 5.3 m + disques + rouleaux","Bêche roulante 5.3 m + disques + rouleaux","Bêche roulante 5.3 m + disques + rouleaux","Bêche roulante 5.3 m + disques + rouleaux","Bêche roulante 5.3 m + disques + rouleaux","Bêche roulante 5.3 m + disques + rouleaux","Bêche roulante 5.3 m + disques + rouleaux","Bêche roulante 5.3 m + disques + rouleaux","Bêche roulante 5.3 m + disques + rouleaux","Bêche roulante 5.3 m + disques + rouleaux","Bêche roulante 5.3 m + disques + rouleaux","Bêche roulante 5.3 m + disques + rouleaux","Bêche roulante 5.3 m + disques + rouleaux","Bêche roulante 5.3 m + disques + rouleaux","Bêche roulante 5.3 m + disques + rouleaux","Bêche roulante 5.3 m + disques + rouleaux","Bêche roulante 5.3 m + disques + rouleaux","Bêche roulante 5.3 m + disques + rouleaux","Bêche roulante 5.3 m + disques + rouleaux","Bêche roulante 5.3 m + disques + rouleaux","Bêche roulante 5.3 m + disques + rouleaux","Bêche roulante 5.3 m + disques + rouleaux","Bêche roulante 5.3 m + disques + rouleaux","Bêche roulante 5.3 m + disques + rouleaux","Bêche roulante 5.3 m + disques + rouleaux","Bêche roulante 5.3 m + disques + rouleaux","Bêche roulante 5.3 m + disques + rouleaux","Bêche roulante 5.3 m + disques + rouleaux","Bêche roulante 5.3 m + disques + rouleaux","Bêche roulante 5.3 m + disques + rouleaux","Bêche roulante 5.3 m + disques + rouleaux","Bêche roulante 5.3 m + disques + rouleaux","Bêche roulante 5.3 m + disques + rouleaux","Bêche roulante 5.3 m + disques + rouleaux","Bêche roulante 5.3 m + disques + rouleaux","Bêche roulante 5.3 m + disques + rouleaux","Bêche roulante 5.3 m + disques + rouleaux","Bêche roulante 5.3 m + disques + rouleaux","Bêche roulante 5.3 m + disques + rouleaux","Bêche roulante 5.3 m + disques + rouleaux","Bêche roulante 5.3 m + disques + rouleaux","Bêche roulante 5.3 m + disques + rouleaux","Bêche roulante 5.3 m + disques + rouleaux","Bêche roulante 5.3 m + disques + rouleaux","Bêche roulante 5.3 m + disques + rouleaux","Bêche roulante 5.3 m + disques + rouleaux","Bêche roulante 5.3 m + disques + rouleaux","Bêche roulante 5.3 m + disques + rouleaux","Bêche roulante 5.3 m + disques + rouleaux","Bêche roulante 5.3 m + disques + rouleaux","Bêche roulante 5.3 m + disques + rouleaux","Bêche roulante 5.3 m + disques + rouleaux","Bêche roulante 5.3 m + disques + rouleaux","Bêche roulante 5.3 m + disques + rouleaux","Bêche roulante 5.3 m + disques + rouleaux","Bêche roulante 5.3 m + disques + rouleaux","Bêche roulante 5.3 m + disques + rouleaux","Bêche roulante 5.3 m + disques + rouleaux","Bêche roulante 5.3 m + disques + rouleaux","Bêche roulante 5.3 m + disques + rouleaux","Bêche roulante 5.3 m + disques + rouleaux","Bêche roulante 5.3 m + disques + rouleaux","Bêche roulante 5.3 m + disques + rouleaux","Bêche roulante 5.3 m + disques + rouleaux","Bêche roulante 5.3 m + disques + rouleaux","Bêche roulante 5.3 m + disques + rouleaux","Bêche roulante 5.3 m + disques + rouleaux","Bêche roulante 5.3 m + disques + rouleaux","Bêche roulante 5.3 m + disques + rouleaux","Bêche roulante 5.3 m + disques + rouleaux","Bêche roulante 5.3 m + disques + rouleaux","Bêche roulante 5.3 m + disques + rouleaux","Bêche roulante 5.3 m + disques + rouleaux","Bêche roulante 5.3 m + disques + rouleaux","Bêche roulante 5.3 m + disques + rouleaux","Bêche roulante 5.3 m + disques + rouleaux","Bêche roulante 5.3 m + disques + rouleaux","Bêche roulante 5.3 m + disques + rouleaux","Bêche roulante 5.3 m + disques + rouleaux","Bêche roulante 5.3 m + disques + rouleaux","Bêche roulante 5.3 m + disques + rouleaux","Bêche roulante 5.3 m + disques + rouleaux","Bêche roulante 5.3 m + disques + rouleaux","Bêche roulante 5.3 m + disques + rouleaux","Bêche roulante 5.3 m + disques + rouleaux","Bêche roulante 5.3 m + disques + rouleaux","Bêche roulante 5.3 m + disques + rouleaux","Bêche roulante 5.3 m + disques + rouleaux","Bêche roulante 5.3 m + disques + rouleaux","Bêche roulante 5.3 m + disques + rouleaux","Bêche roulante 5.3 m + disques + rouleaux","Bêche roulante 5.3 m + disques + rouleaux","Bêche roulante 5.3 m + disques + rouleaux","Bêche roulante 5.3 m + disques + rouleaux","Bêche roulante 5.3 m + disques + rouleaux","Bêche roulante 5.3 m + disques + rouleaux","Bêche roulante 5.3 m + disques + rouleaux","Bêche roulante 5.3 m + disques + rouleaux","Bêche roulante 5.3 m + disques + rouleaux","Bêche roulante 5.3 m + disques + rouleaux","Bêche roulante 5.3 m + disques + rouleaux","Bêche roulante 5.3 m + disques + rouleaux","Bêche roulante 5.3 m + disques + rouleaux","Bêche roulante 5.3 m + disques + rouleaux","Bêche roulante 5.3 m + disques + rouleaux","Bêche roulante 5.3 m + disques + rouleaux","Bêche roulante 5.3 m + disques + rouleaux","Bêche roulante 5.3 m + disques + rouleaux","Bêche roulante 5.3 m + disques + rouleaux","Bêche roulante 5.3 m + disques + rouleaux","Bêche roulante 5.3 m + disques + rouleaux","Bêche roulante 5.3 m + disques + rouleaux","Bêche roulante 5.3 m + disques + rouleaux","Bêche roulante 5.3 m + disques + rouleaux","Bêche roulante 5.3 m + disques + rouleaux","Bêche roulante 5.3 m + disques + rouleaux","Bêche roulante 5.3 m + disques + rouleaux","Bêche roulante 5.3 m + disques + rouleaux","Bêche roulante 5.3 m + disques + rouleaux","Bêche roulante 5.3 m + disques + rouleaux","Bêche roulante 5.3 m + disques + rouleaux","Bêche roulante 5.3 m + disques + rouleaux","Bêche roulante 5.3 m + disques + rouleaux","Bêche roulante 5.3 m + disques + rouleaux","Bêche roulante 5.3 m + disques + rouleaux","Bêche roulante 5.3 m + disques + rouleaux","Bêche roulante 5.3 m + disques + rouleaux","Bêche roulante 5.3 m + disques + rouleaux","Bêche roulante 5.3 m + disques + rouleaux","Bêche roulante 5.3 m + disques + rouleaux","Bêche roulante 5.3 m + disques + rouleaux","Bêche roulante 5.3 m + disques + rouleaux","Bêche roulante 5.3 m + disques + rouleaux","Bêche roulante 5.3 m + disques + rouleaux","Bêche roulante 5.3 m + disques + rouleaux","Bêche roulante 5.3 m + disques + rouleaux","Bêche roulante 5.3 m + disques + rouleaux","Bêche roulante 5.3 m + disques + rouleaux","Bêche roulante 5.3 m + disques + rouleaux","Bêche roulante 5.3 m + disques + rouleaux","Bêche roulante 5.3 m + disques + rouleaux","Bêche roulante 5.3 m + disques + rouleaux","Bêche roulante 5.3 m + disques + rouleaux","Bêche roulante 5.3 m + disques + rouleaux","Bêche roulante 5.3 m + disques + rouleaux","Bêche roulante 5.3 m + disques + rouleaux","Bêche roulante 5.3 m + disques + rouleaux","Bêche roulante 5.3 m + disques + rouleaux","Bêche roulante 5.3 m + disques + rouleaux","Bêche roulante 5.3 m + disques + rouleaux","Bêche roulante 5.3 m + disques + rouleaux","Bêche roulante 5.3 m + disques + rouleaux","Bêche roulante 5.3 m + disques + rouleaux","Bêche roulante 5.3 m + disques + rouleaux","Bêche roulante 5.3 m + disques + rouleaux","Bêche roulante 5.3 m + disques + rouleaux","Bêche roulante 5.3 m + disques + rouleaux","Bêche roulante 5.3 m + disques + rouleaux","Bêche roulante 5.3 m + disques + rouleaux","Bêche roulante 5.3 m + disques + rouleaux","Bêche roulante 5.3 m + disques + rouleaux","Bêche roulante 5.3 m + disques + rouleaux","Bêche roulante 5.3 m + disques + rouleaux","Bêche roulante 5.3 m + disques + rouleaux","Bêche roulante 5.3 m + disques + rouleaux","Bêche roulante 5.3 m + disques + rouleaux","Bêche roulante 5.3 m + disques + rouleaux","Bêche roulante 5.3 m + disques + rouleaux","Bêche roulante 5.3 m + disques + rouleaux","Bêche roulante 5.3 m + disques + rouleaux","Bêche roulante 5.3 m + disques + rouleaux","Bêche roulante 5.3 m + disques + rouleaux","Bêche roulante 5.3 m + disques + rouleaux","Bêche roulante 5.3 m + disques + rouleaux","Bêche roulante 5.3 m + disques + rouleaux","Bêche roulante 5.3 m + disques + rouleaux","Bêche roulante 5.3 m + disques + rouleaux","Bêche roulante 5.3 m + disques + rouleaux","Bêche roulante 5.3 m + disques + rouleaux","Bêche roulante 5.3 m + disques + rouleaux","Bêche roulante 5.3 m + disques + rouleaux","Bêche roulante 5.3 m + disques + rouleaux","Bêche roulante 5.3 m + disques + rouleaux","Bêche roulante 5.3 m + disques + rouleaux","Bêche roulante 5.3 m + disques + rouleaux","Bêche roulante 5.3 m + disques + rouleaux","Bêche roulante 5.3 m + disques + rouleaux","Bêche roulante 5.3 m + disques + rouleaux","Bêche roulante 5.3 m + disques + rouleaux","Bêche roulante 5.3 m + disques + rouleaux","Bêche roulante 5.3 m + disques + rouleaux","Bêche roulante 5.3 m + disques + rouleaux","Bêche roulante 5.3 m + disques + rouleaux","Bêche roulante 5.3 m + disques + rouleaux","Bêche roulante 5.3 m + disques + rouleaux","Bêche roulante 5.3 m + disques + rouleaux","Bêche roulante 5.3 m + disques + rouleaux","Bêche roulante 5.3 m + disques + rouleaux","Bêche roulante 5.3 m + disques + rouleaux","Bêche roulante 5.3 m + disques + rouleaux","Bêche roulante 5.3 m + disques + rouleaux","Bêche roulante 5.3 m + disques + rouleaux","Bêche roulante 5.3 m + disques + rouleaux","Bêche roulante 5.3 m + disques + rouleaux","Bêche roulante 5.3 m + disques + rouleaux","Bêche roulante 5.3 m + disques + rouleaux","Bêche roulante 5.3 m + disques + rouleaux","Bêche roulante 5.3 m + disques + rouleaux","Bêche roulante 5.3 m + disques + rouleaux","Bêche roulante 5.3 m + disques + rouleaux","Bêche roulante 5.3 m + disques + rouleaux","Bêche roulante 5.3 m + disques + rouleaux","Bêche roulante 5.3 m + disques + rouleaux","Bêche roulante 5.3 m + disques + rouleaux","Bêche roulante 5.3 m + disques + rouleaux","Bêche roulante 5.3 m + disques + rouleaux","Bêche roulante 5.3 m + disques + rouleaux","Bêche roulante 5.3 m + disques + rouleaux","Bêche roulante 5.3 m + disques + rouleaux","Bêche roulante 5.3 m + disques + rouleaux","Bêche roulante 5.3 m + disques + rouleaux","Bêche roulante 5.3 m + disques + rouleaux","Bêche roulante 5.3 m + disques + rouleaux","Bêche roulante 5.3 m + disques + rouleaux","Bêche roulante 5.3 m + disques + rouleaux","Bêche roulante 5.3 m + disques + rouleaux","Bêche roulante 5.3 m + disques + rouleaux","Bêche roulante 5.3 m + disques + rouleaux","Bêche roulante 5.3 m + disques + rouleaux","Bêche roulante 5.3 m + disques + rouleaux","Bêche roulante 5.3 m + disques + rouleaux","Bêche roulante 5.3 m + disques + rouleaux","Bêche roulante 5.3 m + disques + rouleaux","Bêche roulante 5.3 m + disques + rouleaux","Bêche roulante 5.3 m + disques + rouleaux","Bêche roulante 5.3 m + disques + rouleaux","Bêche roulante 5.3 m + disques + rouleaux","Bêche roulante 5.3 m + disques + rouleaux","Bêche roulante 5.3 m + disques + rouleaux","Bêche roulante 5.3 m + disques + rouleaux","Bêche roulante 5.3 m + disques + rouleaux","Bêche roulante 5.3 m + disques + rouleaux","Bêche roulante 5.3 m + disques + rouleaux","Bêche roulante 5.3 m + disques + rouleaux","Bêche roulante 5.3 m + disques + rouleaux","Bêche roulante 5.3 m + disques + rouleaux","Bêche roulante 5.3 m + disques + rouleaux","Bêche roulante 5.3 m + disques + rouleaux","Bêche roulante 5.3 m + disques + rouleaux","Bêche roulante 5.3 m + disques + rouleaux","Bêche roulante 5.3 m + disques + rouleaux","Bêche roulante 5.3 m + disques + rouleaux","Bêche roulante 5.3 m + disques + rouleaux","Bêche roulante 5.3 m + disques + rouleaux","Bêche roulante 5.3 m + disques + rouleaux","Bêche roulante 5.3 m + disques + rouleaux","Bêche roulante 5.3 m + disques + rouleaux","Bêche roulante 5.3 m + disques + rouleaux","Bêche roulante 5.3 m + disques + rouleaux","Bêche roulante 5.3 m + disques + rouleaux","Bêche roulante 5.3 m + disques + rouleaux","Bêche roulante 5.3 m + disques + rouleaux","Bêche roulante 5.3 m + disques + rouleaux","Bêche roulante 5.3 m + disques + rouleaux","Bêche roulante 5.3 m + disques + rouleaux","Bêche roulante 5.3 m + disques + rouleaux","Bêche roulante 5.3 m + disques + rouleaux","Bêche roulante 5.3 m + disques + rouleaux","Bêche roulante 5.3 m + disques + rouleaux","Bêche roulante 5.3 m + disques + rouleaux","Bêche roulante 5.3 m + disques + rouleaux","Bêche roulante 5.3 m + disques + rouleaux","Bêche roulante 5.3 m + disques + rouleaux","Bêche roulante 5.3 m + disques + rouleaux","Bêche roulante 5.3 m + disques + rouleaux","Bêche roulante 5.3 m + disques + rouleaux","Bêche roulante 5.3 m + disques + rouleaux","Bêche roulante 5.3 m + disques + rouleaux","Bêche roulante 5.3 m + disques + rouleaux","Bêche roulante 5.3 m + disques + rouleaux","Bêche roulante 5.3 m + disques + rouleaux","Bêche roulante 5.3 m + disques + rouleaux","Bêche roulante 5.3 m + disques + rouleaux","Bêche roulante 5.3 m + disques + rouleaux","Bêche roulante 5.3 m + disques + rouleaux","Bêche roulante 5.3 m + disques + rouleaux","Bêche roulante 5.3 m + disques + rouleaux","Bêche roulante 5.3 m + disques + rouleaux","Bêche roulante 5.3 m + disques + rouleaux","Bêche roulante 5.3 m + disques + rouleaux","Bêche roulante 5.3 m + disques + rouleaux","Bêche roulante 5.3 m + disques + rouleaux","Bêche roulante 5.3 m + disques + rouleaux","Bêche roulante 5.3 m + disques + rouleaux","Bêche roulante 5.3 m + disques + rouleaux","Bêche roulante 5.3 m + disques + rouleaux","Bêche roulante 5.3 m + disques + rouleaux","Bêche roulante 5.3 m + disques + rouleaux","Bêche roulante 5.3 m + disques + rouleaux","Bêche roulante 5.3 m + disques + rouleaux","Bêche roulante 5.3 m + disques + rouleaux","Bêche roulante 5.3 m + disques + rouleaux","Bêche roulante 5.3 m + disques + rouleaux","Bêche roulante 5.3 m + disques + rouleaux","Bêche roulante 5.3 m + disques + rouleaux","Bêche roulante 5.3 m + disques + rouleaux","Bêche roulante 5.3 m + disques + rouleaux","Bêche roulante 5.3 m + disques + rouleaux","Bêche roulante 5.3 m + disques + rouleaux","Bêche roulante 5.3 m + disques + rouleaux","Bêche roulante 5.3 m + disques + rouleaux","Bêche roulante 5.3 m + disques + rouleaux","Bêche roulante 5.3 m + disques + rouleaux","Bêche roulante 5.3 m + disques + rouleaux","Bêche roulante 5.3 m + disques + rouleaux","Bêche roulante 5.3 m + disques + rouleaux","Bêche roulante 5.3 m + disques + rouleaux","Bêche roulante 5.3 m + disques + rouleaux","Bêche roulante 5.3 m + disques + rouleaux","Bêche roulante 5.3 m + disques + rouleaux","Bêche roulante 5.3 m + disques + rouleaux","Bêche roulante 5.3 m + disques + rouleaux","Bêche roulante 5.3 m + disques + rouleaux","Bêche roulante 5.3 m + disques + rouleaux","Bêche roulante 5.3 m + disques + rouleaux","Bêche roulante 5.3 m + disques + rouleaux","Bêche roulante 5.3 m + disques + rouleaux","Bêche roulante 5.3 m + disques + rouleaux","Bêche roulante 5.3 m + disques + rouleaux","Bêche roulante 5.3 m + disques + rouleaux","Bêche roulante 5.3 m + disques + rouleaux","Bêche roulante 5.3 m + disques + rouleaux","Bêche roulante 5.3 m + disques + rouleaux","Bêche roulante 5.3 m + disques + rouleaux","Bêche roulante 5.3 m + disques + rouleaux","Bêche roulante 5.3 m + disques + rouleaux","Bêche roulante 5.3 m + disques + rouleaux","Bêche roulante 5.3 m + disques + rouleaux","Bêche roulante 5.3 m + disques + rouleaux","Bêche roulante 5.3 m + disques + rouleaux","Bêche roulante 5.3 m + disques + rouleaux","Bêche roulante 5.3 m + disques + rouleaux","Bêche roulante 5.3 m + disques + rouleaux","Bêche roulante 5.3 m + disques + rouleaux","Bêche roulante 5.3 m + disques + rouleaux","Bêche roulante 5.3 m + disques + rouleaux","Bêche roulante 5.3 m + disques + rouleaux","Bêche roulante 5.3 m + disques + rouleaux","Bêche roulante 5.3 m + disques + rouleaux","Bêche roulante 5.3 m + disques + rouleaux","Bêche roulante 5.3 m + disques + rouleaux","Bêche roulante 5.3 m + disques + rouleaux","Bêche roulante 5.3 m + disques + rouleaux","Bêche roulante 5.3 m + disques + rouleaux","Bêche roulante 5.3 m + disques + rouleaux","Bêche roulante 5.3 m + disques + rouleaux","Bêche roulante 5.3 m + disques + rouleaux","Bêche roulante 5.3 m + disques + rouleaux","Bêche roulante 5.3 m + disques + rouleaux","Bêche roulante 5.3 m + disques + rouleaux","Bêche roulante 5.3 m + disques + rouleaux","Bêche roulante 5.3 m + disques + rouleaux","Bêche roulante 5.3 m + disques + rouleaux","Bêche roulante 5.3 m + disques + rouleaux","Bêche roulante 5.3 m + disques + rouleaux","Bêche roulante 5.3 m + disques + rouleaux","Bêche roulante 5.3 m + disques + rouleaux","Bêche roulante 5.3 m + disques + rouleaux","Bêche roulante 5.3 m + disques + rouleaux","Bêche roulante 5.3 m + disques + rouleaux","Bêche roulante 5.3 m + disques + rouleaux","Bêche roulante 5.3 m + disques + rouleaux","Bêche roulante 5.3 m + disques + rouleaux","Bêche roulante 5.3 m + disques + rouleaux","Bêche roulante 5.3 m + disques + rouleaux","Bêche roulante 5.3 m + disques + rouleaux","Bêche roulante 5.3 m + disques + rouleaux","Bêche roulante 5.3 m + disques + rouleaux","Bêche roulante 5.3 m + disques + rouleaux","Bêche roulante 5.3 m + disques + rouleaux","Bêche roulante 5.3 m + disques + rouleaux","Bêche roulante 5.3 m + disques + rouleaux","Bêche roulante 5.3 m + disques + rouleaux","Bêche roulante 5.3 m + disques + rouleaux","Bêche roulante 5.3 m + disques + rouleaux","Bêche roulante 5.3 m + disques + rouleaux","Bêche roulante 5.3 m + disques + rouleaux","Bêche roulante 5.3 m + disques + rouleaux","Bêche roulante 5.3 m + disques + rouleaux","Bêche roulante 5.3 m + disques + rouleaux","Bêche roulante 5.3 m + disques + rouleaux","Bêche roulante 5.3 m + disques + rouleaux","Bêche roulante 5.3 m + disques + rouleaux","Bêche roulante 5.3 m + disques + rouleaux","Bêche roulante 5.3 m + disques + rouleaux","Bêche roulante 5.3 m + disques + rouleaux","Bêche roulante 5.3 m + disques + rouleaux","Bêche roulante 5.3 m + disques + rouleaux","Bêche roulante 5.3 m + disques + rouleaux","Bêche roulante 5.3 m + disques + rouleaux","Bêche roulante 5.3 m + disques + rouleaux","Bêche roulante 5.3 m + disques + rouleaux","Bêche roulante 5.3 m + disques + rouleaux","Bêche roulante 5.3 m + disques + rouleaux","Bêche roulante 5.3 m + disques + rouleaux","Bêche roulante 5.3 m + disques + rouleaux","Bêche roulante 5.3 m + disques + rouleaux","Bêche roulante 5.3 m + disques + rouleaux","Bêche roulante 5.3 m + disques + rouleaux","Bêche roulante 5.3 m + disques + rouleaux","Bêche roulante 5.3 m + disques + rouleaux","Bêche roulante 5.3 m + disques + rouleaux","Bêche roulante 5.3 m + disques + rouleaux","Bêche roulante 5.3 m + disques + rouleaux","Bêche roulante 5.3 m + disques + rouleaux","Bêche roulante 5.3 m + disques + rouleaux","Bêche roulante 5.3 m + disques + rouleaux","Bêche roulante 5.3 m + disques + rouleaux","Bêche roulante 5.3 m + disques + rouleaux","Bêche roulante 5.3 m + disques + rouleaux","Bêche roulante 5.3 m + disques + rouleaux","Bêche roulante 5.3 m + disques + rouleaux","Bêche roulante 5.3 m + disques + rouleaux","Bêche roulante 5.3 m + disques + rouleaux","Bêche roulante 5.3 m + disques + rouleaux","Bêche roulante 5.3 m + disques + rouleaux","Bêche roulante 5.3 m + disques + rouleaux","Bêche roulante 5.3 m + disques + rouleaux","Bêche roulante 5.3 m + disques + rouleaux","Bêche roulante 5.3 m + disques + rouleaux","Bêche roulante 5.3 m + disques + rouleaux","Bêche roulante 5.3 m + disques + rouleaux","Bêche roulante 5.3 m + disques + rouleaux","Bêche roulante 5.3 m + disques + rouleaux","Bêche roulante 5.3 m + disques + rouleaux","Bêche roulante 5.3 m + disques + rouleaux","Bêche roulante 5.3 m + disques + rouleaux","Bêche roulante 5.3 m + disques + rouleaux","Bêche roulante 5.3 m + disques + rouleaux","Bêche roulante 5.3 m + disques + rouleaux","Bêche roulante 5.3 m + disques + rouleaux","Bêche roulante 5.3 m + disques + rouleaux","Bêche roulante 5.3 m + disques + rouleaux","Bêche roulante 5.3 m + disques + rouleaux","Bêche roulante 5.3 m + disques + rouleaux","Bêche roulante 5.3 m + disques + rouleaux","Bêche roulante 5.3 m + disques + rouleaux","Bêche roulante 5.3 m + disques + rouleaux","Bêche roulante 5.3 m + disques + rouleaux","Bêche roulante 5.3 m + disques + rouleaux","Bêche roulante 5.3 m + disques + rouleaux","Bêche roulante 5.3 m + disques + rouleaux","Bêche roulante 5.3 m + disques + rouleaux","Bêche roulante 5.3 m + disques + rouleaux","Bêche roulante 5.3 m + disques + rouleaux","Bêche roulante 5.3 m + disques + rouleaux","Bêche roulante 5.3 m + disques + rouleaux","Bêche roulante 5.3 m + disques + rouleaux","Bêche roulante 5.3 m + disques + rouleaux","Bêche roulante 5.3 m + disques + rouleaux","Bêche roulante 5.3 m + disques + rouleaux","Bêche roulante 5.3 m + disques + rouleaux","Bêche roulante 5.3 m + disques + rouleaux","Bêche roulante 5.3 m + disques + rouleaux","Bêche roulante 5.3 m + disques + rouleaux","Bêche roulante 5.3 m + disques + rouleaux","Bêche roulante 5.3 m + disques + rouleaux","Bêche roulante 5.3 m + disques + rouleaux","Bêche roulante 5.3 m + disques + rouleaux","Bêche roulante 5.3 m + disques + rouleaux","Bêche roulante 5.3 m + disques + rouleaux","Bêche roulante 5.3 m + disques + rouleaux","Bêche roulante 5.3 m + disques + rouleaux","Bêche roulante 5.3 m + disques + rouleaux","Bêche roulante 5.3 m + disques + rouleaux","Bêche roulante 5.3 m + disques + rouleaux","Bêche roulante 5.3 m + disques + rouleaux","Bêche roulante 5.3 m + disques + rouleaux","Bêche roulante 5.3 m + disques + rouleaux","Bêche roulante 5.3 m + disques + rouleaux","Bêche roulante 5.3 m + disques + rouleaux","Bêche roulante 5.3 m + disques + rouleaux","Bêche roulante 5.3 m + disques + rouleaux","Bêche roulante 5.3 m + disques + rouleaux","Bêche roulante 5.3 m + disques + rouleaux","Bêche roulante 5.3 m + disques + rouleaux","Bêche roulante 5.3 m + disques + rouleaux","Bêche roulante 5.3 m + disques + rouleaux","Bêche roulante 5.3 m + disques + rouleaux","Bêche roulante 5.3 m + disques + rouleaux","Bêche roulante 5.3 m + disques + rouleaux","Bêche roulante 5.3 m + disques + rouleaux","Bêche roulante 5.3 m + disques + rouleaux","Bêche roulante 5.3 m + disques + rouleaux","Bêche roulante 5.3 m + disques + rouleaux","Bêche roulante 5.3 m + disques + rouleaux","Bêche roulante 5.3 m + disques + rouleaux","Bêche roulante 5.3 m + disques + rouleaux","Bêche roulante 5.3 m + disques + rouleaux","Bêche roulante 5.3 m + disques + rouleaux","Bêche roulante 5.3 m + disques + rouleaux","Bêche roulante 5.3 m + disques + rouleaux","Bêche roulante 5.3 m + disques + rouleaux","Bêche roulante 5.3 m + disques + rouleaux","Bêche roulante 5.3 m + disques + rouleaux","Bêche roulante 5.3 m + disques + rouleaux","Bêche roulante 5.3 m + disques + rouleaux","Bêche roulante 5.3 m + disques + rouleaux","Bêche roulante 5.3 m + disques + rouleaux","Bêche roulante 5.3 m + disques + rouleaux","Bêche roulante 5.3 m + disques + rouleaux","Bêche roulante 5.3 m + disques + rouleaux","Bêche roulante 5.3 m + disques + rouleaux","Bêche roulante 5.3 m + disques + rouleaux","Bêche roulante 5.3 m + disques + rouleaux","Bêche roulante 5.3 m + disques + rouleaux","Bêche roulante 5.3 m + disques + rouleaux","Bêche roulante 5.3 m + disques + rouleaux","Bêche roulante 5.3 m + disques + rouleaux","Bêche roulante 5.3 m + disques + rouleaux","Bêche roulante 5.3 m + disques + rouleaux","Bêche roulante 5.3 m + disques + rouleaux","Bêche roulante 5.3 m + disques + rouleaux","Bêche roulante 5.3 m + disques + rouleaux","Bêche roulante 5.3 m + disques + rouleaux","Bêche roulante 5.3 m + disques + rouleaux","Bêche roulante 5.3 m + disques + rouleaux","Bêche roulante 5.3 m + disques + rouleaux","Bêche roulante 5.3 m + disques + rouleaux","Bêche roulante 5.3 m + disques + rouleaux","Bêche roulante 5.3 m + disques + rouleaux","Bêche roulante 5.3 m + disques + rouleaux","Bêche roulante 5.3 m + disques + rouleaux","Bêche roulante 5.3 m + disques + rouleaux","Bêche roulante 5.3 m + disques + rouleaux","Bêche roulante 5.3 m + disques + rouleaux","Bêche roulante 5.3 m + disques + rouleaux","Bêche roulante 5.3 m + disques + rouleaux","Bêche roulante 5.3 m + disques + rouleaux","Bêche roulante 5.3 m + disques + rouleaux","Bêche roulante 5.3 m + disques + rouleaux","Bêche roulante 5.3 m + disques + rouleaux","Bêche roulante 5.3 m + disques + rouleaux","Bêche roulante 5.3 m + disques + rouleaux","Bêche roulante 5.3 m + disques + rouleaux","Bêche roulante 5.3 m + disques + rouleaux","Bêche roulante 5.3 m + disques + rouleaux","Bêche roulante 5.3 m + disques + rouleaux","Bêche roulante 5.3 m + disques + rouleaux","Bêche roulante 5.3 m + disques + rouleaux","Bêche roulante 5.3 m + disques + rouleaux","Bêche roulante 5.3 m + disques + rouleaux","Bêche roulante 5.3 m + disques + rouleaux","Bêche roulante 5.3 m + disques + rouleaux","Bêche roulante 5.3 m + disques + rouleaux","Bêche roulante 5.3 m + disques + rouleaux","Bêche roulante 5.3 m + disques + rouleaux","Bêche roulante 5.3 m + disques + rouleaux","Bêche roulante 5.3 m + disques + rouleaux","Bêche roulante 5.3 m + disques + rouleaux","Bêche roulante 5.3 m + disques + rouleaux","Bêche roulante 5.3 m + disques + rouleaux","Bêche roulante 5.3 m + disques + rouleaux","Bêche roulante 5.3 m + disques + rouleaux","Bêche roulante 5.3 m + disques + rouleaux","Bêche roulante 5.3 m + disques + rouleaux","Bêche roulante 5.3 m + disques + rouleaux","Bêche roulante 5.3 m + disques + rouleaux","Bêche roulante 5.3 m + disques + rouleaux","Bêche roulante 5.3 m + disques + rouleaux","Bêche roulante 5.3 m + disques + rouleaux","Bêche roulante 5.3 m + disques + rouleaux","Bêche roulante 5.3 m + disques + rouleaux","Bêche roulante 5.3 m + disques + rouleaux","Bêche roulante 5.3 m + disques + rouleaux","Bêche roulante 5.3 m + disques + rouleaux","Bêche roulante 5.3 m + disques + rouleaux","Bêche roulante 5.3 m + disques + rouleaux","Bêche roulante 5.3 m + disques + rouleaux","Bêche roulante 5.3 m + disques + rouleaux","Bêche roulante 5.3 m + disques + rouleaux","Bêche roulante 5.3 m + disques + rouleaux","Bêche roulante 5.3 m + disques + rouleaux","Bêche roulante 5.3 m + disques + rouleaux","Bêche roulante 5.3 m + disques + rouleaux","Bêche roulante 5.3 m + disques + rouleaux","Bêche roulante 5.3 m + disques + rouleaux","Bêche roulante 5.3 m + disques + rouleaux","Bêche roulante 5.3 m + disques + rouleaux","Bêche roulante 5.3 m + disques + rouleaux","Bêche roulante 5.3 m + disques + rouleaux","Bêche roulante 5.3 m + disques + rouleaux","Bêche roulante 5.3 m + disques + rouleaux","Bêche roulante 5.3 m + disques + rouleaux","Bêche roulante 5.3 m + disques + rouleaux","Bêche roulante 5.3 m + disques + rouleaux","Bêche roulante 5.3 m + disques + rouleaux","Bêche roulante 5.3 m + disques + rouleaux","Bêche roulante 5.3 m + disques + rouleaux","Bêche roulante 5.3 m + disques + rouleaux","Bêche roulante 5.3 m + disques + rouleaux","Bêche roulante 5.3 m + disques + rouleaux","Bêche roulante 5.3 m + disques + rouleaux","Bêche roulante 5.3 m + disques + rouleaux","Bêche roulante 5.3 m + disques + rouleaux","Bêche roulante 5.3 m + disques + rouleaux","Bêche roulante 5.3 m + disques + rouleaux","Bêche roulante 5.3 m + disques + rouleaux","Bêche roulante 5.3 m + disques + rouleaux","Bêche roulante 5.3 m + disques + rouleaux","Bêche roulante 5.3 m + disques + rouleaux","Bêche roulante 5.3 m + disques + rouleaux","Bêche roulante 5.3 m + disques + rouleaux","Bêche roulante 5.3 m + disques + rouleaux","Bêche roulante 5.3 m + disques + rouleaux","Bêche roulante 5.3 m + disques + rouleaux","Bêche roulante 5.3 m + disques + rouleaux","Bêche roulante 5.3 m + disques + rouleaux","Bêche roulante 5.3 m + disques + rouleaux","Bêche roulante 5.3 m + disques + rouleaux","Bêche roulante 5.3 m + disques + rouleaux","Bêche roulante 5.3 m + disques + rouleaux","Bêche roulante 5.3 m + disques + rouleaux","Bêche roulante 5.3 m + disques + rouleaux","Bêche roulante 5.3 m + disques + rouleaux","Bêche roulante 5.3 m + disques + rouleaux","Bêche roulante 5.3 m + disques + rouleaux","Bêche roulante 5.3 m + disques + rouleaux","Bêche roulante 5.3 m + disques + rouleaux","Bêche roulante 5.3 m + disques + rouleaux","Bêche roulante 5.3 m + disques + rouleaux","Bêche roulante 5.3 m + disques + rouleaux","Bêche roulante 5.3 m + disques + rouleaux","Bêche roulante 5.3 m + disques + rouleaux","Bêche roulante 5.3 m + disques + rouleaux","Bêche roulante 5.3 m + disques + rouleaux","Bêche roulante 5.3 m + disques + rouleaux","Bêche roulante 5.3 m + disques + rouleaux","Bêche roulante 5.3 m + disques + rouleaux","Bêche roulante 5.3 m + disques + rouleaux","Bêche roulante 5.3 m + disques + rouleaux","Bêche roulante 5.3 m + disques + rouleaux","Bêche roulante 5.3 m + disques + rouleaux","Bêche roulante 5.3 m + disques + rouleaux","Bêche roulante 5.3 m + disques + rouleaux","Bêche roulante 5.3 m + disques + rouleaux","Bêche roulante 5.3 m + disques + rouleaux","Bêche roulante 5.3 m + disques + rouleaux","Bêche roulante 5.3 m + disques + rouleaux","Bêche roulante 5.3 m + disques + rouleaux","Bêche roulante 5.3 m + disques + rouleaux","Bêche roulante 5.3 m + disques + rouleaux","Bêche roulante 5.3 m + disques + rouleaux","Bêche roulante 5.3 m + disques + rouleaux","Bêche roulante 5.3 m + disques + rouleaux","Bêche roulante 5.3 m + disques + rouleaux","Bêche roulante 5.3 m + disques + rouleaux","Bêche roulante 5.3 m + disques + rouleaux","Bêche roulante 5.3 m + disques + rouleaux","Bêche roulante 5.3 m + disques + rouleaux","Bêche roulante 5.3 m + disques + rouleaux","Bêche roulante 5.3 m + disques + rouleaux","Bêche roulante 5.3 m + disques + rouleaux","Bêche roulante 5.3 m + disques + rouleaux","Bêche roulante 5.3 m + disques + rouleaux","Bêche roulante 5.3 m + disques + rouleaux","Bêche roulante 5.3 m + disques + rouleaux","Bêche roulante 5.3 m + disques + rouleaux","Bêche roulante 5.3 m + disques + rouleaux","Bêche roulante 5.3 m + disques + rouleaux","Bêche roulante 5.3 m + disques + rouleaux","Bêche roulante 5.3 m + disques + rouleaux","Bêche roulante 5.3 m + disques + rouleaux","Bêche roulante 5.3 m + disques + rouleaux","Bêche roulante 5.3 m + disques + rouleaux","Bêche roulante 5.3 m + disques + rouleaux","Bêche roulante 5.3 m + disques + rouleaux","Bêche roulante 5.3 m + disques + rouleaux","Bêche roulante 5.3 m + disques + rouleaux","Bêche roulante 5.3 m + disques + rouleaux","Bêche roulante 5.3 m + disques + rouleaux","Bêche roulante 5.3 m + disques + rouleaux","Bêche roulante 5.3 m + disques + rouleaux","Bêche roulante 5.3 m + disques + rouleaux","Bêche roulante 5.3 m + disques + rouleaux","Bêche roulante 5.3 m + disques + rouleaux","Bêche roulante 5.3 m + disques + rouleaux","Bêche roulante 5.3 m + disques + rouleaux","Bêche roulante 5.3 m + disques + rouleaux","Bêche roulante 5.3 m + disques + rouleaux","Bêche roulante 5.3 m + disques + rouleaux","Bêche roulante 5.3 m + disques + rouleaux","Bêche roulante 5.3 m + disques + rouleaux","Bêche roulante 5.3 m + disques + rouleaux","Bêche roulante 5.3 m + disques + rouleaux","Bêche roulante 5.3 m + disques + rouleaux","Bêche roulante 5.3 m + disques + rouleaux","Bêche roulante 5.3 m + disques + rouleaux","Bêche roulante 5.3 m + disques + rouleaux","Bêche roulante 5.3 m + disques + rouleaux","Bêche roulante 5.3 m + disques + rouleaux","Bêche roulante 5.3 m + disques + rouleaux","Bêche roulante 5.3 m + disques + rouleaux","Bêche roulante 5.3 m + disques + rouleaux","Bêche roulante 5.3 m + disques + rouleaux","Bêche roulante 5.3 m + disques + rouleaux","Bêche roulante 5.3 m + disques + rouleaux","Bêche roulante 5.3 m + disques + rouleaux","Bêche roulante 5.3 m + disques + rouleaux","Bêche roulante 5.3 m + disques + rouleaux","Bêche roulante 5.3 m + disques + rouleaux","Bêche roulante 5.3 m + disques + rouleaux","Bêche roulante 5.3 m + disques + rouleaux","Bêche roulante 5.3 m + disques + rouleaux","Bêche roulante 5.3 m + disques + rouleaux","Bêche roulante 5.3 m + disques + rouleaux","Bêche roulante 5.3 m + disques + rouleaux","Bêche roulante 5.3 m + disques + rouleaux","Bêche roulante 5.3 m + disques + rouleaux","Bêche roulante 5.3 m + disques + rouleaux","Bêche roulante 5.3 m + disques + rouleaux","Bêche roulante 5.3 m + disques + rouleaux","Bêche roulante 5.3 m + disques + rouleaux","Bêche roulante 5.3 m + disques + rouleaux","Bêche roulante 5.3 m + disques + rouleaux","Bêche roulante 5.3 m + disques + rouleaux","Bêche roulante 5.3 m + disques + rouleaux","Bêche roulante 5.3 m + disques + rouleaux","Bêche roulante 5.3 m + disques + rouleaux","Bêche roulante 5.3 m + disques + rouleaux","Bêche roulante 5.3 m + disques + rouleaux","Bêche roulante 5.3 m + disques + rouleaux","Bêche roulante 5.3 m + disques + rouleaux","Bêche roulante 5.3 m + disques + rouleaux","Bêche roulante 5.3 m + disques + rouleaux","Bêche roulante 5.3 m + disques + rouleaux","Bêche roulante 5.3 m + disques + rouleaux","Bêche roulante 5.3 m + disques + rouleaux","Bêche roulante 5.3 m + disques + rouleaux","Bêche roulante 5.3 m + disques + rouleaux","Bêche roulante 5.3 m + disques + rouleaux","Bêche roulante 5.3 m + disques + rouleaux","Bêche roulante 5.3 m + disques + rouleaux","Bêche roulante 5.3 m + disques + rouleaux","Bêche roulante 5.3 m + disques + rouleaux","Bêche roulante 5.3 m + disques + rouleaux","Bêche roulante 5.3 m + disques + rouleaux","Bêche roulante 5.3 m + disques + rouleaux","Bêche roulante 5.3 m + disques + rouleaux","Bêche roulante 5.3 m + disques + rouleaux","Bêche roulante 5.3 m + disques + rouleaux","Bêche roulante 5.3 m + disques + rouleaux","Bêche roulante 5.3 m + disques + rouleaux","Bêche roulante 5.3 m + disques + rouleaux","Bêche roulante 5.3 m + disques + rouleaux","Bêche roulante 5.3 m + disques + rouleaux","Bêche roulante 5.3 m + disques + rouleaux","Bêche roulante 5.3 m + disques + rouleaux","Bêche roulante 5.3 m + disques + rouleaux","Bêche roulante 5.3 m + disques + rouleaux","Bêche roulante 5.3 m + disques + rouleaux","Bêche roulante 5.3 m + disques + rouleaux","Bêche roulante 5.3 m + disques + rouleaux","Bêche roulante 5.3 m + disques + rouleaux","Bêche roulante 5.3 m + disques + rouleaux","Bêche roulante 5.3 m + disques + rouleaux","Bêche roulante 5.3 m + disques + rouleaux","Bêche roulante 5.3 m + disques + rouleaux","Bêche roulante 5.3 m + disques + rouleaux","Bêche roulante 5.3 m + disques + rouleaux","Bêche roulante 5.3 m + disques + rouleaux","Bêche roulante 5.3 m + disques + rouleaux","Bêche roulante 5.3 m + disques + rouleaux","Bêche roulante 5.3 m + disques + rouleaux","Bêche roulante 5.3 m + disques + rouleaux","Bêche roulante 5.3 m + disques + rouleaux","Bêche roulante 5.3 m + disques + rouleaux","Bêche roulante 5.3 m + disques + rouleaux","Bêche roulante 5.3 m + disques + rouleaux","Bêche roulante 5.3 m + disques + rouleaux","Bêche roulante 5.3 m + disques + rouleaux","Bêche roulante 5.3 m + disques + rouleaux","Bêche roulante 5.3 m + disques + rouleaux","Bêche roulante 5.3 m + disques + rouleaux","Bêche roulante 5.3 m + disques + rouleaux","Bêche roulante 5.3 m + disques + rouleaux","Bêche roulante 5.3 m + disques + rouleaux","Bêche roulante 5.3 m + disques + rouleaux","Bêche roulante 5.3 m + disques + rouleaux","Bêche roulante 5.3 m + disques + rouleaux","Bêche roulante 5.3 m + disques + rouleaux","Bêche roulante 5.3 m + disques + rouleaux","Bêche roulante 5.3 m + disques + rouleaux","Bêche roulante 5.3 m + disques + rouleaux","Bêche roulante 5.3 m + disques + rouleaux","Bêche roulante 5.3 m + disques + rouleaux","Bêche roulante 5.3 m + disques + rouleaux","Bêche roulante 5.3 m + disques + rouleaux","Bêche roulante 5.3 m + disques + rouleaux","Bêche roulante 5.3 m + disques + rouleaux","Bêche roulante 5.3 m + disques + rouleaux","Bêche roulante 5.3 m + disques + rouleaux","Bêche roulante 5.3 m + disques + rouleaux","Bêche roulante 5.3 m + disques + rouleaux","Bêche roulante 5.3 m + disques + rouleaux","Bêche roulante 5.3 m + disques + rouleaux","Bêche roulante 5.3 m + disques + rouleaux","Bêche roulante 5.3 m + disques + rouleaux","Bêche roulante 5.3 m + disques + rouleaux","Bêche roulante 5.3 m + disques + rouleaux","Bêche roulante 5.3 m + disques + rouleaux","Bêche roulante 5.3 m + disques + rouleaux","Bêche roulante 5.3 m + disques + rouleaux","Bêche roulante 5.3 m + disques + rouleaux","Bêche roulante 5.3 m + disques + rouleaux","Bêche roulante 5.3 m + disques + rouleaux","Bêche roulante 5.3 m + disques + rouleaux","Bêche roulante 5.3 m + disques + rouleaux","Bêche roulante 5.3 m + disques + rouleaux","Bêche roulante 5.3 m + disques + rouleaux","Bêche roulante 5.3 m + disques + rouleaux","Bêche roulante 5.3 m + disques + rouleaux","Bêche roulante 5.3 m + disques + rouleaux","Bêche roulante 5.3 m + disques + rouleaux","Bêche roulante 5.3 m + disques + rouleaux","Bêche roulante 5.3 m + disques + rouleaux","Bêche roulante 5.3 m + disques + rouleaux","Bêche roulante 5.3 m + disques + rouleaux","Bêche roulante 5.3 m + disques + rouleaux","Bêche roulante 5.3 m + disques + rouleaux","Bêche roulante 5.3 m + disques + rouleaux","Bêche roulante 5.3 m + disques + rouleaux","Bêche roulante 5.3 m + disques + rouleaux","Bêche roulante 5.3 m + disques + rouleaux","Bêche roulante 5.3 m + disques + rouleaux","Bêche roulante 5.3 m + disques + rouleaux","Bêche roulante 5.3 m + disques + rouleaux","Bêche roulante 5.3 m + disques + rouleaux","Bêche roulante 5.3 m + disques + rouleaux","Bêche roulante 5.3 m + disques + rouleaux","Bêche roulante 5.3 m + disques + rouleaux","Bêche roulante 5.3 m + disques + rouleaux","Bêche roulante 5.3 m + disques + rouleaux","Bêche roulante 5.3 m + disques + rouleaux","Bêche roulante 5.3 m + disques + rouleaux","Bêche roulante 5.3 m + disques + rouleaux","Bêche roulante 5.3 m + disques + rouleaux","Bêche roulante 5.3 m + disques + rouleaux","Bêche roulante 5.3 m + disques + rouleaux","Bêche roulante 5.3 m + disques + rouleaux","Bêche roulante 5.3 m + disques + rouleaux","Bêche roulante 5.3 m + disques + rouleaux","Bêche roulante 5.3 m + disques + rouleaux","Bêche roulante 5.3 m + disques + rouleaux","Bêche roulante 5.3 m + disques + rouleaux","Bêche roulante 5.3 m + disques + rouleaux","Bêche roulante 5.3 m + disques + rouleaux","Bêche roulante 5.3 m + disques + rouleaux","Bêche roulante 5.3 m + disques + rouleaux","Bêche roulante 5.3 m + disques + rouleaux","Bêche roulante 5.3 m + disques + rouleaux","Bêche roulante 5.3 m + disques + rouleaux","Bêche roulante 5.3 m + disques + rouleaux","Bêche roulante 5.3 m + disques + rouleaux","Bêche roulante 5.3 m + disques + rouleaux","Bêche roulante 5.3 m + disques + rouleaux","Bêche roulante 5.3 m + disques + rouleaux","Bêche roulante 5.3 m + disques + rouleaux","Bêche roulante 5.3 m + disques + rouleaux","Bêche roulante 5.3 m + disques + rouleaux","Bêche roulante 5.3 m + disques + rouleaux","Bêche roulante 5.3 m + disques + rouleaux","Bêche roulante 5.3 m + disques + rouleaux","Bêche roulante 5.3 m + disques + rouleaux","Bêche roulante 5.3 m + disques + rouleaux","Bêche roulante 5.3 m + disques + rouleaux","Bêche roulante 5.3 m + disques + rouleaux","Bêche roulante 5.3 m + disques + rouleaux","Bêche roulante 5.3 m + disques + rouleaux","Bêche roulante 5.3 m + disques + rouleaux","Bêche roulante 5.3 m + disques + rouleaux","Bêche roulante 5.3 m + disques + rouleaux","Bêche roulante 5.3 m + disques + rouleaux","Bêche roulante 5.3 m + disques + rouleaux","Bêche roulante 5.3 m + disques + rouleaux","Bêche roulante 5.3 m + disques + rouleaux","Bêche roulante 5.3 m + disques + rouleaux","Bêche roulante 5.3 m + disques + rouleaux","Bêche roulante 5.3 m + disques + rouleaux","Bêche roulante 5.3 m + disques + rouleaux","Bêche roulante 5.3 m + disques + rouleaux","Bêche roulante 5.3 m + disques + rouleaux","Bêche roulante 5.3 m + disques + rouleaux","Bêche roulante 5.3 m + disques + rouleaux","Bêche roulante 5.3 m + disques + rouleaux","Bêche roulante 5.3 m + disques + rouleaux","Bêche roulante 5.3 m + disques + rouleaux","Bêche roulante 5.3 m + disques + rouleaux","Bêche roulante 5.3 m + disques + rouleaux","Bêche roulante 5.3 m + disques + rouleaux","Bêche roulante 5.3 m + disques + rouleaux","Bêche roulante 5.3 m + disques + rouleaux","Bêche roulante 5.3 m + disques + rouleaux","Bêche roulante 5.3 m + disques + rouleaux","Bêche roulante 5.3 m + disques + rouleaux","Bêche roulante 5.3 m + disques + rouleaux","Bêche roulante 5.3 m + disques + rouleaux","Bêche roulante 5.3 m + disques + rouleaux","Bêche roulante 5.3 m + disques + rouleaux","Bêche roulante 5.3 m + disques + rouleaux","Bêche roulante 5.3 m + disques + rouleaux","Bêche roulante 5.3 m + disques + rouleaux","Bêche roulante 5.3 m + disques + rouleaux","Bêche roulante 5.3 m + disques + rouleaux","Bêche roulante 5.3 m + disques + rouleaux","Bêche roulante 5.3 m + disques + rouleaux","Bêche roulante 5.3 m + disques + rouleaux","Bêche roulante 5.3 m + disques + rouleaux","Bêche roulante 5.3 m + disques + rouleaux","Bêche roulante 5.3 m + disques + rouleaux","Bêche roulante 5.3 m + disques + rouleaux","Bêche roulante 5.3 m + disques + rouleaux","Bêche roulante 5.3 m + disques + rouleaux","Bêche roulante 5.3 m + disques + rouleaux","Bêche roulante 5.3 m + disques + rouleaux","Bêche roulante 5.3 m + disques + rouleaux","Bêche roulante 5.3 m + disques + rouleaux","Bêche roulante 5.3 m + disques + rouleaux","Bêche roulante 5.3 m + disques + rouleaux","Bêche roulante 5.3 m + disques + rouleaux","Bêche roulante 5.3 m + disques + rouleaux","Bêche roulante 5.3 m + disques + rouleaux","Bêche roulante 5.3 m + disques + rouleaux","Bêche roulante 5.3 m + disques + rouleaux","Bêche roulante 5.3 m + disques + rouleaux","Bêche roulante 5.3 m + disques + rouleaux","Bêche roulante 5.3 m + disques + rouleaux","Bêche roulante 5.3 m + disques + rouleaux","Bêche roulante 5.3 m + disques + rouleaux","Bêche roulante 5.3 m + disques + rouleaux","Bêche roulante 5.3 m + disques + rouleaux","Bêche roulante 5.3 m + disques + rouleaux","Bêche roulante 5.3 m + disques + rouleaux","Bêche roulante 5.3 m + disques + rouleaux","Bêche roulante 5.3 m + disques + rouleaux","Bêche roulante 5.3 m + disques + rouleaux","Bêche roulante 5.3 m + disques + rouleaux","Bêche roulante 5.3 m + disques + rouleaux","Bêche roulante 5.3 m + disques + rouleaux","Bêche roulante 5.3 m + disques + rouleaux","Bêche roulante 5.3 m + disques + rouleaux","Bêche roulante 5.3 m + disques + rouleaux","Bêche roulante 5.3 m + disques + rouleaux","Bêche roulante 5.3 m + disques + rouleaux","Bêche roulante 5.3 m + disques + rouleaux","Bêche roulante 5.3 m + disques + rouleaux","Bêche roulante 5.3 m + disques + rouleaux","Bêche roulante 5.3 m + disques + rouleaux","Bêche roulante 5.3 m + disques + rouleaux","Bêche roulante 5.3 m + disques + rouleaux","Bêche roulante 5.3 m + disques + rouleaux","Bêche roulante 5.3 m + disques + rouleaux","Bêche roulante 5.3 m + disques + rouleaux","Bêche roulante 5.3 m + disques + rouleaux","Bêche roulante 5.3 m + disques + rouleaux","Bêche roulante 5.3 m + disques + rouleaux","Bêche roulante 5.3 m + disques + rouleaux","Bêche roulante 5.3 m + disques + rouleaux","Bêche roulante 5.3 m + disques + rouleaux","Bêche roulante 5.3 m + disques + rouleaux","Bêche roulante 5.3 m + disques + rouleaux","Bêche roulante 5.3 m + disques + rouleaux","Bêche roulante 5.3 m + disques + rouleaux","Bêche roulante 5.3 m + disques + rouleaux","Bêche roulante 5.3 m + disques + rouleaux","Bêche roulante 5.3 m + disques + rouleaux","Bêche roulante 5.3 m + disques + rouleaux","Bêche roulante 5.3 m + disques + rouleaux","Bêche roulante 5.3 m + disques + rouleaux","Bêche roulante 5.3 m + disques + rouleaux","Bêche roulante 5.3 m + disques + rouleaux","Bêche roulante 5.3 m + disques + rouleaux","Bêche roulante 5.3 m + disques + rouleaux","Bêche roulante 5.3 m + disques + rouleaux","Bêche roulante 5.3 m + disques + rouleaux","Bêche roulante 5.3 m + disques + rouleaux","Bêche roulante 5.3 m + disques + rouleaux","Bêche roulante 5.3 m + disques + rouleaux","Bêche roulante 5.3 m + disques + rouleaux","Bêche roulante 5.3 m + disques + rouleaux","Bêche roulante 5.3 m + disques + rouleaux","Bêche roulante 5.3 m + disques + rouleaux","Bêche roulante 5.3 m + disques + rouleaux","Bêche roulante 5.3 m + disques + rouleaux","Bêche roulante 5.3 m + disques + rouleaux","Bêche roulante 5.3 m + disques + rouleaux","Bêche roulante 5.3 m + disques + rouleaux","Bêche roulante 5.3 m + disques + rouleaux","Bêche roulante 5.3 m + disques + rouleaux","Bêche roulante 5.3 m + disques + rouleaux","Bêche roulante 5.3 m + disques + rouleaux","Bêche roulante 5.3 m + disques + rouleaux","Bêche roulante 5.3 m + disques + rouleaux","Bêche roulante 5.3 m + disques + rouleaux","Bêche roulante 5.3 m + disques + rouleaux","Bêche roulante 5.3 m + disques + rouleaux","Bêche roulante 5.3 m + disques + rouleaux","Bêche roulante 5.3 m + disques + rouleaux","Bêche roulante 5.3 m + disques + rouleaux","Bêche roulante 5.3 m + disques + rouleaux","Bêche roulante 5.3 m + disques + rouleaux","Bêche roulante 5.3 m + disques + rouleaux","Bêche roulante 5.3 m + disques + rouleaux","Bêche roulante 5.3 m + disques + rouleaux","Bêche roulante 5.3 m + disques + rouleaux","Bêche roulante 5.3 m + disques + rouleaux","Bêche roulante 5.3 m + disques + rouleaux","Bêche roulante 5.3 m + disques + rouleaux","Bêche roulante 5.3 m + disques + rouleaux","Bêche roulante 5.3 m + disques + rouleaux","Bêche roulante 5.3 m + disques + rouleaux","Bêche roulante 5.3 m + disques + rouleaux","Bêche roulante 5.3 m + disques + rouleaux","Bêche roulante 5.3 m + disques + rouleaux","Bêche roulante 5.3 m + disques + rouleaux","Bêche roulante 5.3 m + disques + rouleaux","Bêche roulante 5.3 m + disques + rouleaux","Bêche roulante 5.3 m + disques + rouleaux","Bêche roulante 5.3 m + disques + rouleaux","Bêche roulante 5.3 m + disques + rouleaux","Bêche roulante 5.3 m + disques + rouleaux","Bêche roulante 5.3 m + disques + rouleaux","Bêche roulante 5.3 m + disques + rouleaux","Bêche roulante 5.3 m + disques + rouleaux","Bêche roulante 5.3 m + disques + rouleaux","Bêche roulante 5.3 m + disques + rouleaux","Bêche roulante 5.3 m + disques + rouleaux","Bêche roulante 5.3 m + disques + rouleaux","Bêche roulante 5.3 m + disques + rouleaux","Bêche roulante 5.3 m + disques + rouleaux","Bêche roulante 5.3 m + disques + rouleaux","Bêche roulante 5.3 m + disques + rouleaux","Bêche roulante 5.3 m + disques + rouleaux","Bêche roulante 5.3 m + disques + rouleaux","Bêche roulante 5.3 m + disques + rouleaux","Bêche roulante 5.3 m + disques + rouleaux","Bêche roulante 5.3 m + disques + rouleaux","Bêche roulante 5.3 m + disques + rouleaux","Bêche roulante 5.3 m + disques + rouleaux","Bêche roulante 5.3 m + disques + rouleaux","Bêche roulante 5.3 m + disques + rouleaux","Bêche roulante 5.3 m + disques + rouleaux","Bêche roulante 5.3 m + disques + rouleaux","Bêche roulante 5.3 m + disques + rouleaux","Bêche roulante 5.3 m + disques + rouleaux","Bêche roulante 5.3 m + disques + rouleaux","Bêche roulante 5.3 m + disques + rouleaux","Bêche roulante 5.3 m + disques + rouleaux","Bêche roulante 5.3 m + disques + rouleaux","Bêche roulante 5.3 m + disques + rouleaux","Bêche roulante 5.3 m + disques + rouleaux","Bêche roulante 5.3 m + disques + rouleaux","Bêche roulante 5.3 m + disques + rouleaux","Bêche roulante 5.3 m + disques + rouleaux","Bêche roulante 5.3 m + disques + rouleaux","Bêche roulante 5.3 m + disques + rouleaux","Bêche roulante 5.3 m + disques + rouleaux","Bêche roulante 5.3 m + disques + rouleaux","Bêche roulante 5.3 m + disques + rouleaux","Bêche roulante 5.3 m + disques + rouleaux","Bêche roulante 5.3 m + disques + rouleaux","Bêche roulante 5.3 m + disques + rouleaux","Bêche roulante 5.3 m + disques + rouleaux","Bêche roulante 5.3 m + disques + rouleaux","Bêche roulante 5.3 m + disques + rouleaux","Bêche roulante 5.3 m + disques + rouleaux","Bêche roulante 5.3 m + disques + rouleaux","Bêche roulante 5.3 m + disques + rouleaux","Bêche roulante 5.3 m + disques + rouleaux","Bêche roulante 5.3 m + disques + rouleaux","Bêche roulante 5.3 m + disques + rouleaux","Bêche roulante 5.3 m + disques + rouleaux","Bêche roulante 5.3 m + disques + rouleaux","Bêche roulante 5.3 m + disques + rouleaux","Bêche roulante 5.3 m + disques + rouleaux","Bêche roulante 5.3 m + disques + rouleaux","Bêche roulante 5.3 m + disques + rouleaux","Bêche roulante 5.3 m + disques + rouleaux","Bêche roulante 5.3 m + disques + rouleaux","Bêche roulante 5.3 m + disques + rouleaux","Bêche roulante 5.3 m + disques + rouleaux","Bêche roulante 5.3 m + disques + rouleaux","Bêche roulante 5.3 m + disques + rouleaux","Bêche roulante 5.3 m + disques + rouleaux","Bêche roulante 5.3 m + disques + rouleaux","Bêche roulante 5.3 m + disques + rouleaux","Bêche roulante 5.3 m + disques + rouleaux","Bêche roulante 5.3 m + disques + rouleaux","Bêche roulante 5.3 m + disques + rouleaux","Bêche roulante 5.3 m + disques + rouleaux","Bêche roulante 5.3 m + disques + rouleaux","Bêche roulante 5.3 m + disques + rouleaux","Bêche roulante 5.3 m + disques + rouleaux","Bêche roulante 5.3 m + disques + rouleaux","Bêche roulante 5.3 m + disques + rouleaux","Bêche roulante 5.3 m + disques + rouleaux","Bêche roulante 5.3 m + disques + rouleaux","Bêche roulante 5.3 m + disques + rouleaux","Bêche roulante 5.3 m + disques + rouleaux","Bêche roulante 5.3 m + disques + rouleaux","Bêche roulante 5.3 m + disques + rouleaux","Bêche roulante 5.3 m + disques + rouleaux","Bêche roulante 5.3 m + disques + rouleaux","Bêche roulante 5.3 m + disques + rouleaux","Bêche roulante 5.3 m + disques + rouleaux","Bêche roulante 5.3 m + disques + rouleaux","Bêche roulante 5.3 m + disques + rouleaux","Bêche roulante 5.3 m + disques + rouleaux","Bêche roulante 5.3 m + disques + rouleaux","Bêche roulante 5.3 m + disques + rouleaux","Bêche roulante 5.3 m + disques + rouleaux","Bêche roulante 5.3 m + disques + rouleaux","Bêche roulante 5.3 m + disques + rouleaux","Bêche roulante 5.3 m + disques + rouleaux","Bêche roulante 5.3 m + disques + rouleaux","Bêche roulante 5.3 m + disques + rouleaux","Bêche roulante 5.3 m + disques + rouleaux","Bêche roulante 5.3 m + disques + rouleaux","Bêche roulante 5.3 m + disques + rouleaux","Bêche roulante 5.3 m + disques + rouleaux","Bêche roulante 5.3 m + disques + rouleaux","Bêche roulante 5.3 m + disques + rouleaux","Bêche roulante 5.3 m + disques + rouleaux","Bêche roulante 5.3 m + disques + rouleaux","Bêche roulante 5.3 m + disques + rouleaux","Bêche roulante 5.3 m + disques + rouleaux","Bêche roulante 5.3 m + disques + rouleaux","Bêche roulante 5.3 m + disques + rouleaux","Bêche roulante 5.3 m + disques + rouleaux","Bêche roulante 5.3 m + disques + rouleaux","Bêche roulante 5.3 m + disques + rouleaux","Bêche roulante 5.3 m + disques + rouleaux","Bêche roulante 5.3 m + disques + rouleaux","Bêche roulante 5.3 m + disques + rouleaux","Bêche roulante 5.3 m + disques + rouleaux","Bêche roulante 5.3 m + disques + rouleaux","Bêche roulante 5.3 m + disques + rouleaux","Bêche roulante 5.3 m + disques + rouleaux","Bêche roulante 5.3 m + disques + rouleaux","Bêche roulante 5.3 m + disques + rouleaux","Bêche roulante 5.3 m + disques + rouleaux","Bêche roulante 5.3 m + disques + rouleaux","Bêche roulante 5.3 m + disques + rouleaux","Bêche roulante 5.3 m + disques + rouleaux","Bêche roulante 5.3 m + disques + rouleaux","Bêche roulante 5.3 m + disques + rouleaux","Bêche roulante 5.3 m + disques + rouleaux","Bêche roulante 5.3 m + disques + rouleaux","Bêche roulante 5.3 m + disques + rouleaux","Bêche roulante 5.3 m + disques + rouleaux","Bêche roulante 5.3 m + disques + rouleaux","Bêche roulante 5.3 m + disques + rouleaux","Bêche roulante 5.3 m + disques + rouleaux","Bêche roulante 5.3 m + disques + rouleaux","Bêche roulante 5.3 m + disques + rouleaux","Bêche roulante 5.3 m + disques + rouleaux","Bêche roulante 5.3 m + disques + rouleaux","Bêche roulante 5.3 m + disques + rouleaux","Bêche roulante 5.3 m + disques + rouleaux","Bêche roulante 5.3 m + disques + rouleaux","Bêche roulante 5.3 m + disques + rouleaux","Bêche roulante 5.3 m + disques + rouleaux","Bêche roulante 5.3 m + disques + rouleaux","Bêche roulante 5.3 m + disques + rouleaux","Bêche roulante 5.3 m + disques + rouleaux","Bêche roulante 5.3 m + disques + rouleaux","Bêche roulante 5.3 m + disques + rouleaux","Bêche roulante 5.3 m + disques + rouleaux","Bêche roulante 5.3 m + disques + rouleaux","Bêche roulante 5.3 m + disques + rouleaux","Bêche roulante 5.3 m + disques + rouleaux","Bêche roulante 5.3 m + disques + rouleaux","Bêche roulante 5.3 m + disques + rouleaux","Bêche roulante 5.3 m + disques + rouleaux","Bêche roulante 5.3 m + disques + rouleaux","Bêche roulante 5.3 m + disques + rouleaux","Bêche roulante 5.3 m + disques + rouleaux","Bêche roulante 5.3 m + disques + rouleaux","Bêche roulante 5.3 m + disques + rouleaux","Bêche roulante 5.3 m + disques + rouleaux","Bêche roulante 5.3 m + disques + rouleaux","Bêche roulante 5.3 m + disques + rouleaux","Bêche roulante 5.3 m + disques + rouleaux","Bêche roulante 5.3 m + disques + rouleaux","Bêche roulante 5.3 m + disques + rouleaux","Bêche roulante 5.3 m + disques + rouleaux","Bêche roulante 5.3 m + disques + rouleaux","Bêche roulante 5.3 m + disques + rouleaux","Bêche roulante 5.3 m + disques + rouleaux","Bêche roulante 5.3 m + disques + rouleaux","Bêche roulante 5.3 m + disques + rouleaux","Bêche roulante 5.3 m + disques + rouleaux","Bêche roulante 5.3 m + disques + rouleaux","Bêche roulante 5.3 m + disques + rouleaux","Bêche roulante 5.3 m + disques + rouleaux","Bêche roulante 5.3 m + disques + rouleaux","Bêche roulante 5.3 m + disques + rouleaux","Bêche roulante 5.3 m + disques + rouleaux","Bêche roulante 5.3 m + disques + rouleaux","Bêche roulante 5.3 m + disques + rouleaux","Bêche roulante 5.3 m + disques + rouleaux","Bêche roulante 5.3 m + disques + rouleaux","Bêche roulante 5.3 m + disques + rouleaux","Bêche roulante 5.3 m + disques + rouleaux","Bêche roulante 5.3 m + disques + rouleaux","Bêche roulante 5.3 m + disques + rouleaux","Bêche roulante 5.3 m + disques + rouleaux","Bêche roulante 5.3 m + disques + rouleaux","Bêche roulante 5.3 m + disques + rouleaux","Bêche roulante 5.3 m + disques + rouleaux","Bêche roulante 5.3 m + disques + rouleaux","Bêche roulante 5.3 m + disques + rouleaux","Bêche roulante 5.3 m + disques + rouleaux","Bêche roulante 5.3 m + disques + rouleaux","Bêche roulante 5.3 m + disques + rouleaux","Bêche roulante 5.3 m + disques + rouleaux","Bêche roulante 5.3 m + disques + rouleaux","Bêche roulante 5.3 m + disques + rouleaux","Bêche roulante 5.3 m + disques + rouleaux","Bêche roulante 5.3 m + disques + rouleaux","Bêche roulante 5.3 m + disques + rouleaux","Bêche roulante 5.3 m + disques + rouleaux","Bêche roulante 5.3 m + disques + rouleaux","Bêche roulante 5.3 m + disques + rouleaux","Bêche roulante 5.3 m + disques + rouleaux","Bêche roulante 5.3 m + disques + rouleaux","Bêche roulante 5.3 m + disques + rouleaux","Bêche roulante 5.3 m + disques + rouleaux","Bêche roulante 5.3 m + disques + rouleaux","Bêche roulante 5.3 m + disques + rouleaux","Bêche roulante 5.3 m + disques + rouleaux","Bêche roulante 5.3 m + disques + rouleaux","Bêche roulante 5.3 m + disques + rouleaux","Bêche roulante 5.3 m + disques + rouleaux","Bêche roulante 5.3 m + disques + rouleaux","Bêche roulante 5.3 m + disques + rouleaux","Bêche roulante 5.3 m + disques + rouleaux","Bêche roulante 5.3 m + disques + rouleaux","Bêche roulante 5.3 m + disques + rouleaux","Bêche roulante 5.3 m + disques + rouleaux","Bêche roulante 5.3 m + disques + rouleaux","Bêche roulante 5.3 m + disques + rouleaux","Bêche roulante 5.3 m + disques + rouleaux","Bêche roulante 5.3 m + disques + rouleaux","Bêche roulante 5.3 m + disques + rouleaux","Bêche roulante 5.3 m + disques + rouleaux","Bêche roulante 5.3 m + disques + rouleaux","Bêche roulante 5.3 m + disques + rouleaux","Bêche roulante 5.3 m + disques + rouleaux","Bêche roulante 5.3 m + disques + rouleaux","Bêche roulante 5.3 m + disques + rouleaux","Bêche roulante 5.3 m + disques + rouleaux","Bêche roulante 5.3 m + disques + rouleaux","Bêche roulante 5.3 m + disques + rouleaux","Bêche roulante 5.3 m + disques + rouleaux","Bêche roulante 5.3 m + disques + rouleaux","Bêche roulante 5.3 m + disques + rouleaux","Bêche roulante 5.3 m + disques + rouleaux","Bêche roulante 5.3 m + disques + rouleaux","Bêche roulante 5.3 m + disques + rouleaux","Bêche roulante 5.3 m + disques + rouleaux","Bêche roulante 5.3 m + disques + rouleaux","Bêche roulante 5.3 m + disques + rouleaux","Bêche roulante 5.3 m + disques + rouleaux","Bêche roulante 5.3 m + disques + rouleaux","Bêche roulante 5.3 m + disques + rouleaux","Bêche roulante 5.3 m + disques + rouleaux","Bêche roulante 5.3 m + disques + rouleaux","Bêche roulante 5.3 m + disques + rouleaux","Bêche roulante 5.3 m + disques + rouleaux","Bêche roulante 5.3 m + disques + rouleaux","Bêche roulante 5.3 m + disques + rouleaux","Bêche roulante 5.3 m + disques + rouleaux","Bêche roulante 5.3 m + disques + rouleaux","Bêche roulante 5.3 m + disques + rouleaux","Bêche roulante 5.3 m + disques + rouleaux","Bêche roulante 5.3 m + disques + rouleaux","Bêche roulante 5.3 m + disques + rouleaux","Bêche roulante 5.3 m + disques + rouleaux","Bêche roulante 5.3 m + disques + rouleaux","Bêche roulante 5.3 m + disques + rouleaux","Bêche roulante 5.3 m + disques + rouleaux","Bêche roulante 5.3 m + disques + rouleaux","Bêche roulante 5.3 m + disques + rouleaux","Bêche roulante 5.3 m + disques + rouleaux","Bêche roulante 5.3 m + disques + rouleaux","Bêche roulante 5.3 m + disques + rouleaux","Bêche roulante 5.3 m + disques + rouleaux","Bêche roulante 5.3 m + disques + rouleaux","Bêche roulante 5.3 m + disques + rouleaux","Bêche roulante 5.3 m + disques + rouleaux","Bêche roulante 5.3 m + disques + rouleaux","Bêche roulante 5.3 m + disques + rouleaux","Bêche roulante 5.3 m + disques + rouleaux","Bêche roulante 5.3 m + disques + rouleaux","Bêche roulante 5.3 m + disques + rouleaux","Bêche roulante 5.3 m + disques + rouleaux","Bêche roulante 5.3 m + disques + rouleaux","Bêche roulante 5.3 m + disques + rouleaux","Bêche roulante 5.3 m + disques + rouleaux","Bêche roulante 5.3 m + disques + rouleaux","Bêche roulante 5.3 m + disques + rouleaux","Bêche roulante 5.3 m + disques + rouleaux","Bêche roulante 5.3 m + disques + rouleaux","Bêche roulante 5.3 m + disques + rouleaux","Bêche roulante 5.3 m + disques + rouleaux","Bêche roulante 5.3 m + disques + rouleaux","Bêche roulante 5.3 m + disques + rouleaux","Bêche roulante 5.3 m + disques + rouleaux","Bêche roulante 5.3 m + disques + rouleaux","Bêche roulante 5.3 m + disques + rouleaux","Bêche roulante 5.3 m + disques + rouleaux","Bêche roulante 5.3 m + disques + rouleaux","Bêche roulante 5.3 m + disques + rouleaux","Bêche roulante 5.3 m + disques + rouleaux","Bêche roulante 5.3 m + disques + rouleaux","Bêche roulante 5.3 m + disques + rouleaux","Bêche roulante 5.3 m + disques + rouleaux","Bêche roulante 5.3 m + disques + rouleaux","Bêche roulante 5.3 m + disques + rouleaux","Bêche roulante 5.3 m + disques + rouleaux","Bêche roulante 5.3 m + disques + rouleaux","Bêche roulante 5.3 m + disques + rouleaux","Bêche roulante 5.3 m + disques + rouleaux","Bêche roulante 5.3 m + disques + rouleaux","Bêche roulante 5.3 m + disques + rouleaux","Bêche roulante 5.3 m + disques + rouleaux","Bêche roulante 5.3 m + disques + rouleaux","Bêche roulante 5.3 m + disques + rouleaux","Bêche roulante 5.3 m + disques + rouleaux","Bêche roulante 5.3 m + disques + rouleaux","Bêche roulante 5.3 m + disques + rouleaux","Bêche roulante 5.3 m + disques + rouleaux","Bêche roulante 5.3 m + disques + rouleaux","Bêche roulante 5.3 m + disques + rouleaux","Bêche roulante 5.3 m + disques + rouleaux","Bêche roulante 5.3 m + disques + rouleaux","Bêche roulante 5.3 m + disques + rouleaux","Bêche roulante 5.3 m + disques + rouleaux","Bêche roulante 5.3 m + disques + rouleaux","Bêche roulante 5.3 m + disques + rouleaux","Bêche roulante 5.3 m + disques + rouleaux","Bêche roulante 5.3 m + disques + rouleaux","Bêche roulante 5.3 m + disques + rouleaux","Bêche roulante 5.3 m + disques + rouleaux","Bêche roulante 5.3 m + disques + rouleaux","Bêche roulante 5.3 m + disques + rouleaux","Bêche roulante 5.3 m + disques + rouleaux","Bêche roulante 5.3 m + disques + rouleaux","Bêche roulante 5.3 m + disques + rouleaux","Bêche roulante 5.3 m + disques + rouleaux","Bêche roulante 5.3 m + disques + rouleaux","Bêche roulante 5.3 m + disques + rouleaux","Bêche roulante 5.3 m + disques + rouleaux","Bêche roulante 5.3 m + disques + rouleaux","Bêche roulante 5.3 m + disques + rouleaux","Bêche roulante 5.3 m + disques + rouleaux","Bêche roulante 5.3 m + disques + rouleaux","Bêche roulante 5.3 m + disques + rouleaux","Bêche roulante 5.3 m + disques + rouleaux","Bêche roulante 5.3 m + disques + rouleaux","Bêche roulante 5.3 m + disques + rouleaux","Bêche roulante 5.3 m + disques + rouleaux","Bêche roulante 5.3 m + disques + rouleaux","Bêche roulante 5.3 m + disques + rouleaux","Bêche roulante 5.3 m + disques + rouleaux","Bêche roulante 5.3 m + disques + rouleaux","Bêche roulante 5.3 m + disques + rouleaux","Bêche roulante 5.3 m + disques + rouleaux","Bêche roulante 5.3 m + disques + rouleaux","Bêche roulante 5.3 m + disques + rouleaux","Bêche roulante 5.3 m + disques + rouleaux","Bêche roulante 5.3 m + disques + rouleaux","Bêche roulante 5.3 m + disques + rouleaux","Bêche roulante 5.3 m + disques + rouleaux","Bêche roulante 5.3 m + disques + rouleaux","Bêche roulante 5.3 m + disques + rouleaux","Bêche roulante 5.3 m + disques + rouleaux","Bêche roulante 5.3 m + disques + rouleaux","Bêche roulante 5.3 m + disques + rouleaux","Bêche roulante 5.3 m + disques + rouleaux","Bêche roulante 5.3 m + disques + rouleaux","Bêche roulante 5.3 m + disques + rouleaux","Bêche roulante 5.3 m + disques + rouleaux","Bêche roulante 5.3 m + disques + rouleaux","Bêche roulante 5.3 m + disques + rouleaux","Bêche roulante 5.3 m + disques + rouleaux","Bêche roulante 5.3 m + disques + rouleaux","Bêche roulante 5.3 m + disques + rouleaux","Bêche roulante 5.3 m + disques + rouleaux","Bêche roulante 5.3 m + disques + rouleaux","Bêche roulante 5.3 m + disques + rouleaux","Bêche roulante 5.3 m + disques + rouleaux","Bêche roulante 5.3 m + disques + rouleaux","Bêche roulante 5.3 m + disques + rouleaux","Bêche roulante 5.3 m + disques + rouleaux","Bêche roulante 5.3 m + disques + rouleaux","Bêche roulante 5.3 m + disques + rouleaux","Bêche roulante 5.3 m + disques + rouleaux","Bêche roulante 5.3 m + disques + rouleaux","Bêche roulante 5.3 m + disques + rouleaux","Bêche roulante 5.3 m + disques + rouleaux","Bêche roulante 5.3 m + disques + rouleaux","Bêche roulante 5.3 m + disques + rouleaux","Bêche roulante 5.3 m + disques + rouleaux","Bêche roulante 5.3 m + disques + rouleaux","Bêche roulante 5.3 m + disques + rouleaux","Bêche roulante 5.3 m + disques + rouleaux","Bêche roulante 5.3 m + disques + rouleaux","Bêche roulante 5.3 m + disques + rouleaux","Bêche roulante 5.3 m + disques + rouleaux","Bêche roulante 5.3 m + disques + rouleaux","Bêche roulante 5.3 m + disques + rouleaux","Bêche roulante 5.3 m + disques + rouleaux","Bêche roulante 5.3 m + disques + rouleaux","Bêche roulante 5.3 m + disques + rouleaux","Bêche roulante 5.3 m + disques + rouleaux","Bêche roulante 5.3 m + disques + rouleaux","Bêche roulante 5.3 m + disques + rouleaux","Bêche roulante 5.3 m + disques + rouleaux","Bêche roulante 5.3 m + disques + rouleaux","Bêche roulante 5.3 m + disques + rouleaux","Bêche roulante 5.3 m + disques + rouleaux","Bêche roulante 5.3 m + disques + rouleaux","Bêche roulante 5.3 m + disques + rouleaux","Bêche roulante 5.3 m + disques + rouleaux","Bêche roulante 5.3 m + disques + rouleaux","Bêche roulante 5.3 m + disques + rouleaux","Bêche roulante 5.3 m + disques + rouleaux","Bêche roulante 5.3 m + disques + rouleaux","Bêche roulante 5.3 m + disques + rouleaux","Bêche roulante 5.3 m + disques + rouleaux","Bêche roulante 5.3 m + disques + rouleaux","Bêche roulante 5.3 m + disques + rouleaux","Bêche roulante 5.3 m + disques + rouleaux","Bêche roulante 5.3 m + disques + rouleaux","Bêche roulante 5.3 m + disques + rouleaux","Bêche roulante 5.3 m + disques + rouleaux","Bêche roulante 5.3 m + disques + rouleaux","Bêche roulante 5.3 m + disques + rouleaux","Bêche roulante 5.3 m + disques + rouleaux","Bêche roulante 5.3 m + disques + rouleaux","Bêche roulante 5.3 m + disques + rouleaux","Bêche roulante 5.3 m + disques + rouleaux","Bêche roulante 5.3 m + disques + rouleaux","Bêche roulante 5.3 m + disques + rouleaux","Bêche roulante 5.3 m + disques + rouleaux","Bêche roulante 5.3 m + disques + rouleaux","Bêche roulante 5.3 m + disques + rouleaux","Bêche roulante 5.3 m + disques + rouleaux","Bêche roulante 5.3 m + disques + rouleaux","Bêche roulante 5.3 m + disques + rouleaux","Bêche roulante 5.3 m + disques + rouleaux","Bêche roulante 5.3 m + disques + rouleaux","Bêche roulante 5.3 m + disques + rouleaux","Bêche roulante 5.3 m + disques + rouleaux","Bêche roulante 5.3 m + disques + rouleaux","Bêche roulante 5.3 m + disques + rouleaux","Bêche roulante 5.3 m + disques + rouleaux","Bêche roulante 5.3 m + disques + rouleaux","Bêche roulante 5.3 m + disques + rouleaux","Bêche roulante 5.3 m + disques + rouleaux","Bêche roulante 5.3 m + disques + rouleaux","Bêche roulante 5.3 m + disques + rouleaux","Bêche roulante 5.3 m + disques + rouleaux","Bêche roulante 5.3 m + disques + rouleaux","Bêche roulante 5.3 m + disques + rouleaux","Bêche roulante 5.3 m + disques + rouleaux","Bêche roulante 5.3 m + disques + rouleaux","Bêche roulante 5.3 m + disques + rouleaux","Bêche roulante 5.3 m + disques + rouleaux","Bêche roulante 5.3 m + disques + rouleaux","Bêche roulante 5.3 m + disques + rouleaux","Bêche roulante 5.3 m + disques + rouleaux","Bêche roulante 5.3 m + disques + rouleaux","Bêche roulante 5.3 m + disques + rouleaux","Bêche roulante 5.3 m + disques + rouleaux","Bêche roulante 5.3 m + disques + rouleaux","Bêche roulante 5.3 m + disques + rouleaux","Bêche roulante 5.3 m + disques + rouleaux","Bêche roulante 5.3 m + disques + rouleaux","Bêche roulante 5.3 m + disques + rouleaux","Bêche roulante 5.3 m + disques + rouleaux","Bêche roulante 5.3 m + disques + rouleaux","Bêche roulante 5.3 m + disques + rouleaux","Bêche roulante 5.3 m + disques + rouleaux","Bêche roulante 5.3 m + disques + rouleaux","Bêche roulante 5.3 m + disques + rouleaux","Bêche roulante 5.3 m + disques + rouleaux","Bêche roulante 5.3 m + disques + rouleaux","Bêche roulante 5.3 m + disques + rouleaux","Bêche roulante 5.3 m + disques + rouleaux","Bêche roulante 5.3 m + disques + rouleaux","Bêche roulante 5.3 m + disques + rouleaux","Bêche roulante 5.3 m + disques + rouleaux","Bêche roulante 5.3 m + disques + rouleaux","Bêche roulante 5.3 m + disques + rouleaux","Bêche roulante 5.3 m + disques + rouleaux","Bêche roulante 5.3 m + disques + rouleaux","Bêche roulante 5.3 m + disques + rouleaux","Bêche roulante 5.3 m + disques + rouleaux","Bêche roulante 5.3 m + disques + rouleaux","Bêche roulante 5.3 m + disques + rouleaux","Bêche roulante 5.3 m + disques + rouleaux","Bêche roulante 5.3 m + disques + rouleaux","Bêche roulante 5.3 m + disques + rouleaux","Bêche roulante 5.3 m + disques + rouleaux","Bêche roulante 5.3 m + disques + rouleaux","Bêche roulante 5.3 m + disques + rouleaux","Bêche roulante 5.3 m + disques + rouleaux","Bêche roulante 5.3 m + disques + rouleaux","Bêche roulante 5.3 m + disques + rouleaux","Bêche roulante 5.3 m + disques + rouleaux","Bêche roulante 5.3 m + disques + rouleaux","Bêche roulante 5.3 m + disques + rouleaux","Bêche roulante 5.3 m + disques + rouleaux","Bêche roulante 5.3 m + disques + rouleaux","Bêche roulante 5.3 m + disques + rouleaux","Bêche roulante 5.3 m + disques + rouleaux","Bêche roulante 5.3 m + disques + rouleaux","Bêche roulante 5.3 m + disques + rouleaux","Bêche roulante 5.3 m + disques + rouleaux","Bêche roulante 5.3 m + disques + rouleaux","Bêche roulante 5.3 m + disques + rouleaux","Bêche roulante 5.3 m + disques + rouleaux","Bêche roulante 5.3 m + disques + rouleaux","Bêche roulante 5.3 m + disques + rouleaux","Bêche roulante 5.3 m + disques + rouleaux","Bêche roulante 5.3 m + disques + rouleaux","Bêche roulante 5.3 m + disques + rouleaux","Bêche roulante 5.3 m + disques + rouleaux","Bêche roulante 5.3 m + disques + rouleaux","Bêche roulante 5.3 m + disques + rouleaux","Bêche roulante 5.3 m + disques + rouleaux","Bêche roulante 5.3 m + disques + rouleaux","Bêche roulante 5.3 m + disques + rouleaux","Bêche roulante 5.3 m + disques + rouleaux","Bêche roulante 5.3 m + disques + rouleaux","Bêche roulante 5.3 m + disques + rouleaux","Bêche roulante 5.3 m + disques + rouleaux","Bêche roulante 5.3 m + disques + rouleaux","Bêche roulante 5.3 m + disques + rouleaux","Bêche roulante 5.3 m + disques + rouleaux","Bêche roulante 5.3 m + disques + rouleaux","Bêche roulante 5.3 m + disques + rouleaux","Bêche roulante 5.3 m + disques + rouleaux","Bêche roulante 5.3 m + disques + rouleaux","Bêche roulante 5.3 m + disques + rouleaux","Bêche roulante 5.3 m + disques + rouleaux","Bêche roulante 5.3 m + disques + rouleaux","Bêche roulante 5.3 m + disques + rouleaux","Bêche roulante 5.3 m + disques + rouleaux","Bêche roulante 5.3 m + disques + rouleaux","Bêche roulante 5.3 m + disques + rouleaux","Bêche roulante 5.3 m + disques + rouleaux","Bêche roulante 5.3 m + disques + rouleaux","Bêche roulante 5.3 m + disques + rouleaux","Bêche roulante 5.3 m + disques + rouleaux","Bêche roulante 5.3 m + disques + rouleaux","Bêche roulante 5.3 m + disques + rouleaux","Bêche roulante 5.3 m + disques + rouleaux","Bêche roulante 5.3 m + disques + rouleaux","Bêche roulante 5.3 m + disques + rouleaux","Bêche roulante 5.3 m + disques + rouleaux","Bêche roulante 5.3 m + disques + rouleaux","Bêche roulante 5.3 m + disques + rouleaux","Bêche roulante 5.3 m + disques + rouleaux","Bêche roulante 5.3 m + disques + rouleaux","Bêche roulante 5.3 m + disques + rouleaux","Bêche roulante 5.3 m + disques + rouleaux","Bêche roulante 5.3 m + disques + rouleaux","Bêche roulante 5.3 m + disques + rouleaux","Bêche roulante 5.3 m + disques + rouleaux","Bêche roulante 5.3 m + disques + rouleaux","Bêche roulante 5.3 m + disques + rouleaux","Bêche roulante 5.3 m + disques + rouleaux","Bêche roulante 5.3 m + disques + rouleaux","Bêche roulante 5.3 m + disques + rouleaux","Bêche roulante 5.3 m + disques + rouleaux","Bêche roulante 5.3 m + disques + rouleaux","Bêche roulante 5.3 m + disques + rouleaux","Bêche roulante 5.3 m + disques + rouleaux","Bêche roulante 5.3 m + disques + rouleaux","Bêche roulante 5.3 m + disques + rouleaux","Bêche roulante 5.3 m + disques + rouleaux","Bêche roulante 5.3 m + disques + rouleaux","Bêche roulante 5.3 m + disques + rouleaux","Bêche roulante 5.3 m + disques + rouleaux","Bêche roulante 5.3 m + disques + rouleaux","Bêche roulante 5.3 m + disques + rouleaux","Bêche roulante 5.3 m + disques + rouleaux","Bêche roulante 5.3 m + disques + rouleaux","Bêche roulante 5.3 m + disques + rouleaux","Bêche roulante 5.3 m + disques + rouleaux","Bêche roulante 5.3 m + disques + rouleaux","Bêche roulante 5.3 m + disques + rouleaux","Bêche roulante 5.3 m + disques + rouleaux","Bêche roulante 5.3 m + disques + rouleaux","Bêche roulante 5.3 m + disques + rouleaux","Bêche roulante 5.3 m + disques + rouleaux","Bêche roulante 5.3 m + disques + rouleaux","Bêche roulante 5.3 m + disques + rouleaux","Bêche roulante 5.3 m + disques + rouleaux","Bêche roulante 5.3 m + disques + rouleaux","Bêche roulante 5.3 m + disques + rouleaux","Bêche roulante 5.3 m + disques + rouleaux","Bêche roulante 5.3 m + disques + rouleaux","Bêche roulante 5.3 m + disques + rouleaux","Bêche roulante 5.3 m + disques + rouleaux","Bêche roulante 5.3 m + disques + rouleaux","Bêche roulante 5.3 m + disques + rouleaux","Bêche roulante 5.3 m + disques + rouleaux","Bêche roulante 5.3 m + disques + rouleaux","Bêche roulante 5.3 m + disques + rouleaux","Bêche roulante 5.3 m + disques + rouleaux","Bêche roulante 5.3 m + disques + rouleaux","Bêche roulante 5.3 m + disques + rouleaux","Bêche roulante 5.3 m + disques + rouleaux","Bêche roulante 5.3 m + disques + rouleaux","Bêche roulante 5.3 m + disques + rouleaux","Bêche roulante 5.3 m + disques + rouleaux","Bêche roulante 5.3 m + disques + rouleaux","Bêche roulante 5.3 m + disques + rouleaux","Bêche roulante 5.3 m + disques + rouleaux","Bêche roulante 5.3 m + disques + rouleaux","Bêche roulante 5.3 m + disques + rouleaux","Bêche roulante 5.3 m + disques + rouleaux","Bêche roulante 5.3 m + disques + rouleaux","Bêche roulante 5.3 m + disques + rouleaux","Bêche roulante 5.3 m + disques + rouleaux","Bêche roulante 5.3 m + disques + rouleaux","Bêche roulante 5.3 m + disques + rouleaux","Bêche roulante 5.3 m + disques + rouleaux","Bêche roulante 5.3 m + disques + rouleaux","Bêche roulante 5.3 m + disques + rouleaux","Bêche roulante 5.3 m + disques + rouleaux","Bêche roulante 5.3 m + disques + rouleaux","Bêche roulante 5.3 m + disques + rouleaux","Bêche roulante 5.3 m + disques + rouleaux","Bêche roulante 5.3 m + disques + rouleaux","Bêche roulante 5.3 m + disques + rouleaux","Bêche roulante 5.3 m + disques + rouleaux","Bêche roulante 5.3 m + disques + rouleaux","Bêche roulante 5.3 m + disques + rouleaux","Bêche roulante 5.3 m + disques + rouleaux","Bêche roulante 5.3 m + disques + rouleaux","Bêche roulante 5.3 m + disques + rouleaux","Bêche roulante 5.3 m + disques + rouleaux","Bêche roulante 5.3 m + disques + rouleaux","Bêche roulante 5.3 m + disques + rouleaux","Bêche roulante 5.3 m + disques + rouleaux","Bêche roulante 5.3 m + disques + rouleaux","Bêche roulante 5.3 m + disques + rouleaux","Bêche roulante 5.3 m + disques + rouleaux","Bêche roulante 5.3 m + disques + rouleaux","Bêche roulante 5.3 m + disques + rouleaux","Bêche roulante 5.3 m + disques + rouleaux","Bêche roulante 5.3 m + disques + rouleaux","Bêche roulante 5.3 m + disques + rouleaux","Bêche roulante 5.3 m + disques + rouleaux","Bêche roulante 5.3 m + disques + rouleaux","Bêche roulante 5.3 m + disques + rouleaux","Bêche roulante 5.3 m + disques + rouleaux","Bêche roulante 5.3 m + disques + rouleaux","Bêche roulante 5.3 m + disques + rouleaux","Bêche roulante 5.3 m + disques + rouleaux","Bêche roulante 5.3 m + disques + rouleaux","Bêche roulante 5.3 m + disques + rouleaux","Bêche roulante 5.3 m + disques + rouleaux","Bêche roulante 5.3 m + disques + rouleaux","Bêche roulante 5.3 m + disques + rouleaux","Bêche roulante 5.3 m + disques + rouleaux","Bêche roulante 5.3 m + disques + rouleaux","Bêche roulante 5.3 m + disques + rouleaux","Bêche roulante 5.3 m + disques + rouleaux","Bêche roulante 5.3 m + disques + rouleaux","Bêche roulante 5.3 m + disques + rouleaux","Bêche roulante 5.3 m + disques + rouleaux","Bêche roulante 5.3 m + disques + rouleaux","Bêche roulante 5.3 m + disques + rouleaux","Bêche roulante 5.3 m + disques + rouleaux","Bêche roulante 5.3 m + disques + rouleaux","Bêche roulante 5.3 m + disques + rouleaux","Bêche roulante 5.3 m + disques + rouleaux","Bêche roulante 5.3 m + disques + rouleaux","Bêche roulante 5.3 m + disques + rouleaux","Bêche roulante 5.3 m + disques + rouleaux","Bêche roulante 5.3 m + disques + rouleaux","Bêche roulante 5.3 m + disques + rouleaux","Bêche roulante 5.3 m + disques + rouleaux","Bêche roulante 5.3 m + disques + rouleaux","Bêche roulante 5.3 m + disques + rouleaux","Bêche roulante 5.3 m + disques + rouleaux","Bêche roulante 5.3 m + disques + rouleaux","Bêche roulante 5.3 m + disques + rouleaux","Bêche roulante 5.3 m + disques + rouleaux","Bêche roulante 5.3 m + disques + rouleaux","Bêche roulante 5.3 m + disques + rouleaux","Bêche roulante 5.3 m + disques + rouleaux","Bêche roulante 5.3 m + disques + rouleaux","Bêche roulante 5.3 m + disques + rouleaux","Bêche roulante 5.3 m + disques + rouleaux","Bêche roulante 5.3 m + disques + rouleaux","Bêche roulante 5.3 m + disques + rouleaux","Bêche roulante 5.3 m + disques + rouleaux","Bêche roulante 5.3 m + disques + rouleaux","Bêche roulante 5.3 m + disques + rouleaux","Bêche roulante 5.3 m + disques + rouleaux","Bêche roulante 5.3 m + disques + rouleaux","Bêche roulante 5.3 m + disques + rouleaux","Bêche roulante 5.3 m + disques + rouleaux","Bêche roulante 5.3 m + disques + rouleaux","Bêche roulante 5.3 m + disques + rouleaux","Bêche roulante 5.3 m + disques + rouleaux","Bêche roulante 5.3 m + disques + rouleaux","Bêche roulante 5.3 m + disques + rouleaux","Bêche roulante 5.3 m + disques + rouleaux","Bêche roulante 5.3 m + disques + rouleaux","Bêche roulante 5.3 m + disques + rouleaux","Bêche roulante 5.3 m + disques + rouleaux","Bêche roulante 5.3 m + disques + rouleaux","Bêche roulante 5.3 m + disques + rouleaux","Bêche roulante 5.3 m + disques + rouleaux","Bêche roulante 5.3 m + disques + rouleaux","Bêche roulante 5.3 m + disques + rouleaux","Bêche roulante 5.3 m + disques + rouleaux","Bêche roulante 5.3 m + disques + rouleaux","Bêche roulante 5.3 m + disques + rouleaux","Bêche roulante 5.3 m + disques + rouleaux","Bêche roulante 5.3 m + disques + rouleaux","Bêche roulante 5.3 m + disques + rouleaux","Bêche roulante 5.3 m + disques + rouleaux","Bêche roulante 5.3 m + disques + rouleaux","Bêche roulante 5.3 m + disques + rouleaux","Bêche roulante 5.3 m + disques + rouleaux","Bêche roulante 5.3 m + disques + rouleaux","Bêche roulante 5.3 m + disques + rouleaux","Bêche roulante 5.3 m + disques + rouleaux","Bêche roulante 5.3 m + disques + rouleaux","Bêche roulante 5.3 m + disques + rouleaux","Bêche roulante 5.3 m + disques + rouleaux","Bêche roulante 5.3 m + disques + rouleaux","Bêche roulante 5.3 m + disques + rouleaux","Bêche roulante 5.3 m + disques + rouleaux","Bêche roulante 5.3 m + disques + rouleaux","Bêche roulante 5.3 m + disques + rouleaux","Bêche roulante 5.3 m + disques + rouleaux","Bêche roulante 5.3 m + disques + rouleaux","Bêche roulante 5.3 m + disques + rouleaux","Bêche roulante 5.3 m + disques + rouleaux","Bêche roulante 5.3 m + disques + rouleaux","Bêche roulante 5.3 m + disques + rouleaux","Bêche roulante 5.3 m + disques + rouleaux","Bêche roulante 5.3 m + disques + rouleaux","Bêche roulante 5.3 m + disques + rouleaux","Bêche roulante 5.3 m + disques + rouleaux","Bêche roulante 5.3 m + disques + rouleaux","Bêche roulante 5.3 m + disques + rouleaux","Bêche roulante 5.3 m + disques + rouleaux","Bêche roulante 5.3 m + disques + rouleaux","Bêche roulante 5.3 m + disques + rouleaux","Bêche roulante 5.3 m + disques + rouleaux","Bêche roulante 5.3 m + disques + rouleaux","Bêche roulante 5.3 m + disques + rouleaux","Bêche roulante 5.3 m + disques + rouleaux","Bêche roulante 5.3 m + disques + rouleaux","Bêche roulante 5.3 m + disques + rouleaux","Bêche roulante 5.3 m + disques + rouleaux","Bêche roulante 5.3 m + disques + rouleaux","Bêche roulante 5.3 m + disques + rouleaux","Bêche roulante 5.3 m + disques + rouleaux","Bêche roulante 5.3 m + disques + rouleaux","Bêche roulante 5.3 m + disques + rouleaux","Bêche roulante 5.3 m + disques + rouleaux","Bêche roulante 5.3 m + disques + rouleaux","Bêche roulante 5.3 m + disques + rouleaux","Bêche roulante 5.3 m + disques + rouleaux","Bêche roulante 5.3 m + disques + rouleaux","Bêche roulante 5.3 m + disques + rouleaux","Bêche roulante 5.3 m + disques + rouleaux","Bêche roulante 5.3 m + disques + rouleaux","Bêche roulante 5.3 m + disques + rouleaux","Bêche roulante 5.3 m + disques + rouleaux","Bêche roulante 5.3 m + disques + rouleaux","Bêche roulante 5.3 m + disques + rouleaux","Bêche roulante 5.3 m + disques + rouleaux","Bêche roulante 5.3 m + disques + rouleaux","Bêche roulante 5.3 m + disques + rouleaux","Bêche roulante 5.3 m + disques + rouleaux","Bêche roulante 5.3 m + disques + rouleaux","Bêche roulante 5.3 m + disques + rouleaux","Bêche roulante 5.3 m + disques + rouleaux","Bêche roulante 5.3 m + disques + rouleaux","Bêche roulante 5.3 m + disques + rouleaux","Bêche roulante 5.3 m + disques + rouleaux","Bêche roulante 5.3 m + disques + rouleaux","Bêche roulante 5.3 m + disques + rouleaux","Bêche roulante 5.3 m + disques + rouleaux","Bêche roulante 5.3 m + disques + rouleaux","Bêche roulante 5.3 m + disques + rouleaux","Bêche roulante 5.3 m + disques + rouleaux","Bêche roulante 5.3 m + disques + rouleaux","Bêche roulante 5.3 m + disques + rouleaux","Bêche roulante 5.3 m + disques + rouleaux","Bêche roulante 5.3 m + disques + rouleaux","Bêche roulante 5.3 m + disques + rouleaux","Bêche roulante 5.3 m + disques + rouleaux","Bêche roulante 5.3 m + disques + rouleaux","Bêche roulante 5.3 m + disques + rouleaux","Bêche roulante 5.3 m + disques + rouleaux","Bêche roulante 5.3 m + disques + rouleaux","Bêche roulante 5.3 m + disques + rouleaux","Bêche roulante 5.3 m + disques + rouleaux","Bêche roulante 5.3 m + disques + rouleaux","Bêche roulante 5.3 m + disques + rouleaux","Bêche roulante 5.3 m + disques + rouleaux","Bêche roulante 5.3 m + disques + rouleaux","Bêche roulante 5.3 m + disques + rouleaux","Bêche roulante 5.3 m + disques + rouleaux","Bêche roulante 5.3 m + disques + rouleaux","Bêche roulante 5.3 m + disques + rouleaux","Bêche roulante 5.3 m + disques + rouleaux","Bêche roulante 5.3 m + disques + rouleaux","Bêche roulante 5.3 m + disques + rouleaux","Bêche roulante 5.3 m + disques + rouleaux","Bêche roulante 5.3 m + disques + rouleaux","Bêche roulante 5.3 m + disques + rouleaux","Bêche roulante 5.3 m + disques + rouleaux","Bêche roulante 5.3 m + disques + rouleaux","Bêche roulante 5.3 m + disques + rouleaux","Bêche roulante 5.3 m + disques + rouleaux","Bêche roulante 5.3 m + disques + rouleaux","Bêche roulante 5.3 m + disques + rouleaux","Bêche roulante 5.3 m + disques + rouleaux","Bêche roulante 5.3 m + disques + rouleaux","Bêche roulante 5.3 m + disques + rouleaux","Bêche roulante 5.3 m + disques + rouleaux","Bêche roulante 5.3 m + disques + rouleaux","Bêche roulante 5.3 m + disques + rouleaux","Bêche roulante 5.3 m + disques + rouleaux","Bêche roulante 5.3 m + disques + rouleaux","Bêche roulante 5.3 m + disques + rouleaux","Bêche roulante 5.3 m + disques + rouleaux","Bêche roulante 5.3 m + disques + rouleaux","Bêche roulante 5.3 m + disques + rouleaux","Bêche roulante 5.3 m + disques + rouleaux","Bêche roulante 5.3 m + disques + rouleaux","Bêche roulante 5.3 m + disques + rouleaux","Bêche roulante 5.3 m + disques + rouleaux","Bêche roulante 5.3 m + disques + rouleaux","Bêche roulante 5.3 m + disques + rouleaux","Bêche roulante 5.3 m + disques + rouleaux","Bêche roulante 5.3 m + disques + rouleaux","Bêche roulante 5.3 m + disques + rouleaux","Bêche roulante 5.3 m + disques + rouleaux","Bêche roulante 5.3 m + disques + rouleaux","Bêche roulante 5.3 m + disques + rouleaux","Bêche roulante 5.3 m + disques + rouleaux","Bêche roulante 5.3 m + disques + rouleaux","Bêche roulante 5.3 m + disques + rouleaux","Bêche roulante 5.3 m + disques + rouleaux","Bêche roulante 5.3 m + disques + rouleaux","Bêche roulante 5.3 m + disques + rouleaux","Bêche roulante 5.3 m + disques + rouleaux","Bêche roulante 5.3 m + disques + rouleaux","Bêche roulante 5.3 m + disques + rouleaux","Bêche roulante 5.3 m + disques + rouleaux","Bêche roulante 5.3 m + disques + rouleaux","Bêche roulante 5.3 m + disques + rouleaux","Bêche roulante 5.3 m + disques + rouleaux","Bêche roulante 5.3 m + disques + rouleaux","Bêche roulante 5.3 m + disques + rouleaux","Bêche roulante 5.3 m + disques + rouleaux","Bêche roulante 5.3 m + disques + rouleaux","Bêche roulante 5.3 m + disques + rouleaux","Bêche roulante 5.3 m + disques + rouleaux","Bêche roulante 5.3 m + disques + rouleaux","Bêche roulante 5.3 m + disques + rouleaux","Bêche roulante 5.3 m + disques + rouleaux","Bêche roulante 5.3 m + disques + rouleaux","Bêche roulante 5.3 m + disques + rouleaux","Bêche roulante 5.3 m + disques + rouleaux","Bêche roulante 5.3 m + disques + rouleaux","Bêche roulante 5.3 m + disques + rouleaux","Bêche roulante 5.3 m + disques + rouleaux","Bêche roulante 5.3 m + disques + rouleaux","Bêche roulante 5.3 m + disques + rouleaux","Bêche roulante 5.3 m + disques + rouleaux","Bêche roulante 5.3 m + disques + rouleaux","Bêche roulante 5.3 m + disques + rouleaux","Bêche roulante 5.3 m + disques + rouleaux","Bêche roulante 5.3 m + disques + rouleaux","Bêche roulante 5.3 m + disques + rouleaux","Bêche roulante 5.3 m + disques + rouleaux","Bêche roulante 5.3 m + disques + rouleaux","Bêche roulante 5.3 m + disques + rouleaux","Bêche roulante 5.3 m + disques + rouleaux","Bêche roulante 5.3 m + disques + rouleaux","Bêche roulante 5.3 m + disques + rouleaux","Bêche roulante 5.3 m + disques + rouleaux","Bêche roulante 5.3 m + disques + rouleaux","Bêche roulante 5.3 m + disques + rouleaux","Bêche roulante 5.3 m + disques + rouleaux","Bêche roulante 5.3 m + disques + rouleaux","Bêche roulante 5.3 m + disques + rouleaux","Bêche roulante 5.3 m + disques + rouleaux","Bêche roulante 5.3 m + disques + rouleaux","Bêche roulante 5.3 m + disques + rouleaux","Bêche roulante 5.3 m + disques + rouleaux","Bêche roulante 5.3 m + disques + rouleaux","Bêche roulante 5.3 m + disques + rouleaux","Bêche roulante 5.3 m + disques + rouleaux","Bêche roulante 5.3 m + disques + rouleaux","Bêche roulante 5.3 m + disques + rouleaux","Bêche roulante 5.3 m + disques + rouleaux","Bêche roulante 5.3 m + disques + rouleaux","Bêche roulante 5.3 m + disques + rouleaux","Bêche roulante 5.3 m + disques + rouleaux","Bêche roulante 5.3 m + disques + rouleaux","Bêche roulante 5.3 m + disques + rouleaux","Bêche roulante 5.3 m + disques + rouleaux","Bêche roulante 5.3 m + disques + rouleaux","Bêche roulante 5.3 m + disques + rouleaux","Bêche roulante 5.3 m + disques + rouleaux","Bêche roulante 5.3 m + disques + rouleaux","Bêche roulante 5.3 m + disques + rouleaux","Bêche roulante 5.3 m + disques + rouleaux","Bêche roulante 5.3 m + disques + rouleaux","Bêche roulante 5.3 m + disques + rouleaux","Bêche roulante 5.3 m + disques + rouleaux","Bêche roulante 5.3 m + disques + rouleaux","Bêche roulante 5.3 m + disques + rouleaux","Bêche roulante 5.3 m + disques + rouleaux","Bêche roulante 5.3 m + disques + rouleaux","Bêche roulante 5.3 m + disques + rouleaux","Bêche roulante 5.3 m + disques + rouleaux","Bêche roulante 5.3 m + disques + rouleaux","Bêche roulante 5.3 m + disques + rouleaux","Bêche roulante 5.3 m + disques + rouleaux","Bêche roulante 5.3 m + disques + rouleaux","Bêche roulante 5.3 m + disques + rouleaux","Bêche roulante 5.3 m + disques + rouleaux","Bêche roulante 5.3 m + disques + rouleaux","Bêche roulante 5.3 m + disques + rouleaux","Bêche roulante 5.3 m + disques + rouleaux"]
[]
["Travail du sol profond","Coût avec Carburant et MO","Carburant en l/ha","Temps ha/h","Temps h/ha"]
[]
["Décompacteur 3 à 5 lames",49,17,1.5,{"$f":"1/D66","v":0.66666666666666663}]
["Charrue réversible 3 à 7 corps",65,24,1,{"$f":"1/D67","v":1}]
["Cultivateur lourd 4 à 5 m",31,14,1.8,0.55555555555555558]
[]
["Semis","Coût avec Carburant et MO","Carburant en l/ha","Temps ha/h","Temps h/ha"]
[]
["Semoir à soc mécanique céréales 3 à 4 m",25,4,1.8,{"$f":"1/D72","v":0.55555555555555558}]
["Semoir à disques pneumatiques 3 à 6 m",40,9,1.8,{"$f":"1/D73","v":0.55555555555555558}]
["Semoir à dents pneumatique 3 à 6 m",31,5,1.8,0.55555555555555558]
["Combiné Herse rotative et semoir 3 à 6 m",50,14,3.5,0.2857142857142857]
["Semoir à la volée (type DPS12)",7,1.3,10,0.1]
["Semoir sur déchaumeur à disques 3 à 6 m",30,7,3.5,0.2857142857142857]
["Semoir SD 4 à 6 m",55,9,1.5,0.66666666666666663]
[]
[]
[]
["Apport d'engrais et amendement organique","Coût avec Carburant et MO","Carburant en l/ha","Temps ha/h","Temps h/ha"]
[]
["Distributeur d'engrais centrifuge",7,1.3,10,{"$f":"1/D84","v":0.1}]
["Epandeur de fumier herissons verticaux 25 t/ha",48,8,1,{"$f":"1/D85","v":1}]
["Epandeur de fumier herissons verticaux 40 t/ha",77,14,1,1]
[]
["Destruction du couvert","Coût avec Carburant et MO","Carburant en l/ha","Temps ha/h","Temps h/ha"]
[]
["Broyeur axe horizontaux ou giro. 4 à 6 m",31,9,1.3,{"$f":"1/D90","v":0.76923076923076916}]
["Rouleau cambridge 6 à 8 m",16,3,5,{"$f":"1/D91","v":0.2}]
["Pulvérisateur porté 1200 à 1800 l",11,1.5,8,{"$f":"1/D92","v":0.125}]
["Déchaumeur à disques indépendants 3 à 6 m",26,8,4,{"$f":"1/D93","v":0.25}]
["Cover-crop 3 à 6 m",32,11,4,{"$f":"1/D94","v":0.25}]
["Déchaumeur à dents et disques 3 à 6 m",29,11,4,0.25]
["Rouleau 4 à 6 m",16,3,5,0.2]

{"sheet":"Feuil2","index":106,"n_rows":0,"n_cols":0,"rows_kept":0,"cut":false,"hidden":false,"merged":[]}